{"text_format":"1","workbook":"xlsx","n_sheets":8,"sheets":["Innledning","Endringer pr 01.08.2024","Sjekkliste for utfylling","Ikke besvart","Ja-svar","Nei-svar","IA-svar","Veiledning"],"not_rendered":{"charts":0,"images":0,"macros":1,"external_links":0,"defined_names":178,"comments":0,"pivot_tables":0},"unopened":[],"bounds":{"document_bytes":16777216,"sheet_cells":100000,"rows_first":2000,"rows_last":500,"rows_between":2000,"halvings":0,"cell_chars":16384,"cell_head_chars":4096},"cells_cut":0,"cells_raw":0,"read":"whole","date_system":"1900"}

{"sheet":"Innledning","index":0,"n_rows":19,"n_cols":1,"rows_kept":19,"cut":false,"hidden":false,"merged":[]}
[]
["Sjekkliste bokføringsloven:"]
[]
["2024:"]
["For de som har gjennomgått sjekklisten tidligere har vi laget en egen versjon som kun viser endringene fra sist publiserte versjon."]
["Her har vi tatt med både nye krav, endrede krav samt krav som ikke er endret, men hvor det har kommet nye aktuelle uttalelser."]
["Dersom man har gjennomgått full sjekkliste tidligere samt alle etterfølgende endringssjekklister, og det verken har blitt avdekket noen feil eller mangler eller har vært noen endringer i selskapets systemer eller rutiner,  er det tilstrekkelig å gjennomgå endringssjekklisten pr 01.08.2024."]
[]
["Trykk på knapp for å gå til sjekkliste med kun endringer per 1. august 2024:"]
[]
[]
[]
[]
["Trykk på knapp for å gå til full sjekkliste:"]
[]
[]
[]
[]
["For veiledning om de tekniske funksjonene i denne sjekklisten trykk på denne knappen:"]

{"sheet":"Endringer pr 01.08.2024","index":1,"n_rows":32,"n_cols":12,"rows_kept":32,"cut":false,"hidden":false,"merged":[[20,0,20,1],[0,8,0,10],[1,8,1,10],[2,8,2,10],[10,8,10,11],[20,10,20,11],[20,8,20,9],[20,6,20,7],[20,4,20,5],[20,2,20,3]]}
["Sjekkliste bokføringsloven ",null,null,"Utfylt:"]
["Klient:",null,null,"Review:"]
["År:","2024",null,null,null,null,null,null,"Fyll ut med \"X\""]
[null,"Spørsmål",null,"Ref. ",null,null,null,null,"Ja","Nei","I/A","Kommentar"]
["Informasjon om denne endringslisten"]
[null,"Denne listen viser kun endringer fra 15. august 2023 til 1. august 2024."]
[null,"Både nye krav, endrede krav samt krav som ikke er endret, men hvor det har kommet nye uttalelser, er tatt med her. "]
[null,"Endringene vises som \"track changes\", sånn at man lett ser hva som er endret. Det vil si at ny tekst er understreket og skrevet med rødt, mens tekst som er tatt bort er skrevet med rødt og streket over."]
["Spesifikasjoner av pliktig regnskapsrapportering",null,null,null,null,{"$f":"IF(J9<>\"\",1,0)","v":0}]
[null,"Poster kan fremkomme som totaler dersom transaksjoner og andre regnskapsmessige disposisjoner fremkommer enkeltvis og oppsummert i underliggende spesifikasjon, og er kontrollerbare mot totalene. Dette gjelder likevel ikke i kunde- og leverandørspesifikasjoner.",null,"BF § 3-1, 5. ledd"]
[null,"Spesifikasjon av merverdiavgift",null,null,{"$f":"IF(I11<>\"\",1,0)","v":0},0,0,{"$f":"IF(SUM(E11:G11)>1,\"Velg kun et alt.\",\"\")","v":""}]
[null,"Fra 01.01.2017 ble merverdiavgiftsloven endret slik at det stilles krav om at avgiftssubjektet selv skal beregne merverdiavgift ved innførsel av varer. Som en følge av dette ble det foreslått en endring i bokføringsforskriftens krav til spesifikasjon av merverdiavgift og dokumentasjon av grunnlaget for beregning av merverdiavgift ved innførsel av varer. ",null,"Høringsnotat - Endringer i bokføringsforskriften mv. punkt 2.5"]
[null,"Endringene i bokføringsforskriften ble først formelt vedtatt ved forskrift 27.06.2024, med virkning fra 01.03.2025, men GBS 9 \"Spesifikasjon av grunnlaget for inngående merverdiavgift ved innførsel av varer samt dokumentasjons- og oppbevaringskrav\" ble oppdatert allerede i desember 2016 på grunnlag av de foreslåtte endringene. Vi har tidligere valgt å innarbeide forskriftstekst fra høringsforslaget fra 2016 i sjekklisten, dette er nå oppdatert til vedtatt forskriftstekst, selv om endringene først formelt trer i kraft fra 01.03.2025. \n\nHer vises de formelle forskriftsendringene fra forskrift 27.06.2024 som track changes:",null,"GBS 9"]
[{"$f":"+'Sjekkliste for utfylling'!A81","v":33},"Inneholder spesifikasjonen grunnlaget for utgående merverdiavgift, fradragsberettiget innenlands inngående merverdiavgift og fradragsberettiget innførselsmerverdiavgift, fordelt på de forskjellige avgiftssatsene spesifisert pr. termin?",null,"BF § 3-1, 1. ledd nr. 8 pkt a"]
[{"$f":"+'Sjekkliste for utfylling'!A82","v":34},"Viser spesifikasjonen også innenlands omsetning og uttak fritatt for merverdiavgift,  innenlands omsetning med omvendt avgiftsplikt, omsetning av varer og tjenester til utlandet fritatt for merverdiavgift, samt omsetning og uttak som faller utenfor avgiftsområdet?",null,"BF § 3-1, 1. ledd nr. 8 pkt b"]
[{"$f":"+'Sjekkliste for utfylling'!A83","v":35},"Viser spesifikasjonen også kjøp med omvendt avgiftsplikt, fordelt på tjenester kjøpt fra utlandet og innenlands kjøp av varer og tjenester?",null,"BF § 3-1, 1. ledd nr. 8 pkt c"]
[{"$f":"+'Sjekkliste for utfylling'!A84","v":36},"Er beløpene i spesifikasjonene i pkt a-c vist pr konto og totalt?",null,"BF § 3-1, 1. ledd nr. 8 pkt d"]
[{"$f":"+'Sjekkliste for utfylling'!A85","v":37},"Kan avgiftsgrunnlaget for utgående merverdiavgift spesifiseres pr. transaksjon?",null,"BF § 3-1, 1. ledd nr. 8 pkt d"]
[{"$f":"+'Sjekkliste for utfylling'!A86","v":38},"Viser spesifikasjonen eventuelle forskjeller mellom beregnet grunnlag i henhold til kontospesifikasjonen og innberettet avgiftsgrunnlag, spesifisert pr transaksjon for hver avgiftssats ?",null,"BF § 3-1, 1. ledd nr. 8 pkt d"]
[{"$f":"+'Sjekkliste for utfylling'!A87","v":39},"Viser spesifikasjonen i tillegg grunnlaget for beregning av merverdiavgift ved innførsel av varer fordelt på de forskjellige avgiftssatsene, samt grunnlag knyttet til innførsel av varer som det ikke skal beregnes merverdiavgift av?",null,"BF § 3-1, 1. ledd nr. 8 pkt e"]
["Dokumentasjon av bokførte opplysninger"]
[null,"Forbud mot forskuddsfakturering"]
[{"$f":"+'Sjekkliste for utfylling'!A202","v":118},"Er salgsdokument for alle leveranser, med unntak som nevnt nedenfor, først utstedt inklusive merverdiavgift etter at den avgiftspliktige varen eller tjenesten er levert? \n",null,"BF § 5-2-6\nGBS 13\nSkds uttalelse 18. mai 2006, 3. mai 2007, 23. mai 2007, 9. februar 2010 og 20. juni 2011"]
[null,"Unntak fra forbudet mot forskuddsfakturering:"]
[null,"Salgsdokument for persontransport, servering, abonnementer, leier, avgifter og lignende, adgang til museer, gallerier, fornøyelsesparker, opplevelsessentre og rett til å overvære idrettsarrangementer kan utstedes før levering har funnet sted, begrenset til en periode på ett år. Salgsdokumentet skal så vidt mulig utstedes innenfor det kalenderår levering finner sted. ",null,"BF § 5-2-6, 1. ledd"]
[null,"Varer og tjenester som er unntatt fra merverdiavgiftsloven kan forskuddsfaktureres.",null,"BF § 5-2-6, 2. ledd"]
[null,"Varer og tjenester som er fritatt for merverdiavgift kan forskuddsfaktureres dersom avgiftsfritaket kan dokumenteres etter bestemmelene i merverdiavgiftsforskriften kapittel 6 på det tidspunktet salgsdokumentet utstedes.",null,"BF § 5-2-6, 2. ledd"]
[null,"Skattedirektoratet kan etter søknad i særlige tilfelle tillate at det utstedes salgsdokument inklusiv merverdiavgift for andre typer leveranser før den avgiftpliktige varen eller tjenesten er levert.",null,"BF § 5-2-8, 2. ledd"]
[null,"Dokumentasjon av lønn mv."]
[{"$f":"+'Sjekkliste for utfylling'!A326","v":192},"Inneholder dokumentasjonen av lønn følgende opplysninger pr. ansatt:\nb. Navn og stilling?",null,"BF § 5-6, 1. ledd"]
["Bygge- og anleggsvirksomhet og verftsindustri"]
[{"$f":"+'Sjekkliste for utfylling'!A543","v":330},"Prosjektregnskap\nKan det, for hver periode med pliktig regnskapsrapportering, og ikke sjeldnere enn hver fjerde måned, utarbeides egne spesifikasjoner (prosjektregnskap) etter § 8-1-4 for prosjekter der anbudspris eller anslått omsetningsverdi overstiger 5 ganger folketrygdens grunnbeløp kr 300 000 ekskl mva?",null,"BF § 8-1-3"]

{"sheet":"Sjekkliste for utfylling","index":2,"n_rows":698,"n_cols":20,"rows_kept":698,"cut":false,"hidden":false,"merged":[[78,8,78,11],[617,0,617,1],[458,3,458,7],[162,8,162,11],[93,8,93,11],[90,8,90,11],[120,0,120,1],[120,8,120,11],[160,8,160,11],[111,8,111,11],[79,8,79,11],[128,10,128,11],[87,8,87,11],[123,2,123,3],[123,4,123,5],[123,6,123,7],[43,8,43,11],[77,8,77,11],[64,8,64,11],[67,8,67,11],[53,8,53,11],[73,8,73,11],[292,1,293,1],[96,8,96,11],[123,8,123,9],[123,10,123,11],[128,0,128,1],[128,2,128,3],[128,4,128,5],[128,6,128,7],[128,8,128,9],[123,0,123,1]]}
["Sjekkliste bokføringsloven ",null,null,"Utfylt:",null,null,null,null,null,null,null,null,null,null,"Ordinær","Bransje","Sum"]
["Klient:",null,null,"Review:",null,null,null,null,null,null,null,null,null,"Ikke besvart:",{"$f":"+'Ikke besvart'!E1","v":300},{"$f":"+'Ikke besvart'!F1","v":0},{"$f":"SUM(O2:P2)","v":300}]
["År:","2024",null,null,null,null,null,null,null,null,null,null,null,"Ja-svar:",{"$f":"+'Ja-svar'!C1","v":0},{"$f":"+'Ja-svar'!D1","v":0},{"$f":"SUM(O3:P3)","v":0},null,"Endringer 2024 - til engelsk oversettelse","intern henvisning"]
[null,null,null,null,null,null,null,null,null,null,null,null,null,"Nei-svar:",{"$f":"+'Nei-svar'!C1","v":0},{"$f":"+'Nei-svar'!D1","v":0},{"$f":"SUM(O4:P4)","v":0}]
[null,null,null,null,null,null,null,null,"Fyll ut med \"X\"",null,null,null,null,"IA-svar:",{"$f":"+'IA-svar'!C1","v":0},{"$f":"+'IA-svar'!D1","v":152},{"$f":"SUM(O5:P5)","v":152}]
[null,"Spørsmål",null,"Ref. ",null,null,null,null,"Ja","Nei","IA","Kommentar",null,"Sum:",{"$f":"SUM(O2:O5)","v":300},{"$f":"SUM(P2:P5)","v":152},{"$f":"SUM(Q2:Q5)","v":452}]
["Generelt"]
[null,"I denne sjekklisten brukes følgende forkortelser:"]
[null,"• bkfl. - Lov av 19.11.2004 nr 73 Lov om bokføring"]
[null,"• BF - Forskrift av 01.12.2004 nr 1558 Forskrift om bokføring"]
[null,"Følgende foretak er bokføringspliktige etter bokføringsloven:",null,"bkfl. § 2"]
[null,"• Regnskapspliktige etter regnskapsloven"]
[null,"• Alle som driver virksomhet og har plikt til å levere skattemelding for formues- og inntektsskatt etter skatteforvaltningsloven § 8-2"]
[null,"• Alle som må levere skattemelding for merverdiavgift etter skatteforvaltningsloven § 8-3, med unntak av tilbydere som leverer skattemelding for merverdiavgift som nevnt i skatteforvaltningsloven § 8-3 første ledd bokstav e, og som er bokføringspliktig utelukkende på grunnlag av plikten til å levere skattemelding etter denne bestemmelsen. "]
[null,"Bokføringsplikten for de to nederste gjelder \"for den virksomhet som drives\". Det innebærer at aktiviteter/virksomhetsområder som ikke er av betydning for den pliktige regnskapsrapporteringen ikke er omfattet av bokføringsplikten. ",null,"Prinsipp-uttalelse av 19.02.2020",null,null,null,null,null,null,null,null,null,null,null,null,null,null,"tatt inn ny setning nr 2"]
[null,"For de to nederste kan det gis unntak for noen særlige tilfeller. Følgende er delvis unntatt fra bokføringsplikt:",null,"BF § 1-1",null,null,null,null,null,null,null,null,null,null,null,null,null,null,"Lagt inn setning fra gamle linje 16 her + tatt inn \"delvis\" unntatt fra bokføringsplikt"]
[null,"• Konkursbo som ikke er næringsdrivende og som plikter å levere skattemelding for merverdiavgift etter skatteforvaltningsloven, unntas fra bokføringsloven § 5 første ledd nr 2-7 (utarbeidelse av spesifikasjoner)"]
[null,"Pliktig regnskapsrapportering etter bokføringsloven § 3 omfatter regnskapsrapportering fastsatt med hjemmel i:",null,"BF § 2-1"]
[null,"• Regnskapsloven"]
[null,"• Skatteforvaltningsloven, med følgende unntak:"]
[null,"  - tilbydere i forenklet registreringsordning etter merverdiavgiftsloven - § 8-3, første ledd bokstav e"]
[null,"  - skattemelding for særavgifter - § 8-4"]
[null,"  - motorkjøretøyavgifter - § 8-5"]
[null,"  - merverdiavgiftskompensasjon - § 8-7"]
[null,"• Skattebetalingsloven"]
[]
["Bokføring",null,null,null,null,null,null,null,null,null,null,null,null,{"$f":"IF(J27<>\"\",\"Du har satt X for at forholdet ikke er avklart. Gi en nærmere foklaring i kommentarfeltet.\",\"\")","v":""}]
[1,"Er alle opplysninger bokført som er nødvendige for å kunne utarbeide:\n• Pliktig regnskapsrapportering?",null,"bkfl. § 7, 1. ledd",{"$f":"IF(I28<>\"\",1,0)","v":0},{"$f":"IF(J28<>\"\",1,0)","v":0},{"$f":"IF(K28<>\"\",1,0)","v":0},{"$f":"IF(SUM(E28:G28)>1,\"Velg kun et alt.\",\"\")","v":""},null,null,null,null,null,""]
[{"$f":"+A28+1","v":2},"• Spesifikasjoner av pliktig regnskapsrapportering (se spørsmålene 5 – 46)?",null,null,0,0,0,"",null,null,null,null,null,"",null,null,null,null,null,"intern henvisning"]
[{"$f":"1+A29","v":3},"• Andre pliktige spesifikasjoner - se også under \"Bransjemessige forhold\" for hver bransje",null,null,0,0,0,"",null,null,null,null,null,""]
[{"$f":"1+A30","v":4},"Er bilagene fortløpende nummerert?",null,"Skds uttalelse \n30. mars 2006",0,0,0,"",null,null,null,null,null,""]
["Spesifikasjoner av pliktig regnskapsrapportering",null,null,null,null,0,null,null,null,null,null,null,null,""]
[null,"Det er ikke et krav om at spesifikasjoner av pliktig regnskapsrapportering skal utarbeides, men at den bokføringspliktige skal være i stand til å kunne utarbeide det. \n\nDette forutsetter følgende:\n- Spesifikasjoner må kunne utarbeides like lenge som de skal lagres. Opplysninger som er nødvendige for utarbeidelsen må derfor oppbevares like lenge som spesifikasjonene skal lagres. \n- Dato for utarbeidelse må fremgå av spesifikasjonene\n- Lukking av regnskapsperioder må skje på en måte som gir tilstrekkelig sikkerhet mot endring eller sletting av bokførte opplysninger.",null,"bkfl. § 5\n\n\n\n\nbkfl. § 13, 1. ledd pkt 2\nBF § 3-1, 2. ledd\nBF § 7-6","Denne endringen gjelder for regnskapsår påbegynt etter 31.12.2012, og for tidligere regnskapsår hvor den bokføringspliktige hadde regnskapssystem som oppfylte kravene til stenging. "]
[null,"Skattedirektoratet har uttalt at spesifikasjoner av pliktig regnskapsrapportering kan utarbeides i et regnearkprogram når de bokførte opplysningene hentes direkte fra regnskapssystemet, forutsatt tilstrekkelige sikringstiltak.",null,"Prinsipputtalelse 01.07.2021"]
[null,"Poster kan fremkomme som totaler dersom transaksjoner og andre regnskapsmessige disposisjoner fremkommer enkeltvis og oppsummert i underliggende spesifikasjon, og er kontrollerbare mot totalene. ",null,"BF § 3-1, 5. ledd",null,null,null,null,null,null,null,null,null,null,null,null,null,null,"unntak for kunde- og leverandørspesifikasjoner er fjernet ved forskriftsendring"]
[{"$f":"1+A31","v":5},"Bokføringsspesifikasjon\nInneholder spesifikasjonen alle bokførte opplysninger pr. periode?",null,"bkfl. § 5, 1. ledd nr. 1\nNBS 8",0,0,0,"",null,null,null,null,null,""]
[{"$f":"+A36+1","v":6},"Fremgår postene i ordnet rekkefølge med dokumentasjonsdato, dokumentasjonshenvisning, tilordningskoder, mva-koder og andre relevante behandlingskoder?",null,"BF § 3-1, \n1. ledd nr. 1\n",{"$f":"IF(I37<>\"\",1,0)","v":0},{"$f":"IF(J37<>\"\",1,0)","v":0},{"$f":"IF(K37<>\"\",1,0)","v":0},{"$f":"IF(SUM(E37:G37)>1,\"Velg kun et alt.\",\"\")","v":""},null,null,null,null,null,""]
[7,"Er systemgenererte poster lett kontrollerbare?",null,null,0,0,0,"",null,null,null,null,null,""]
[8,"Kontospesifikasjon\nInneholder spesifikasjonen alle kontoer pr. periode?",null,"bkfl. § 5, 1. ledd nr. 2",0,0,0,"",null,null,null,null,null,""]
[9,"Er det for hver konto angitt:\n• Kontokode og kontonavn?",null,"BF § 3-1, \n1. ledd nr. 2",0,0,0,"",null,null,null,null,null,""]
[10,"• Alle poster i ordnet rekkefølge med  dokumentasjonsdato og dokumentasjonshenvisning samt andre relevante behandlingskoder?",null,null,0,0,0,"",null,null,null,null,null,""]
[11,"• Inn- og utgående saldo?"]
[12,"• Kan inngående og utgående merverdiavgift spesifiseres pr transaksjon?",null,"BF § 3-1, 1. ledd nr. 2",0,0,0,"",null,null,null,null,null,""]
[null,"Kundespesifikasjon"]
[{"$f":"+A43+1","v":13},"Inneholder spesifikasjonen alle transaksjoner med kunder pr. periode?",null,"bkfl. § 5, 1. ledd nr. 3\nBF § 3-1, 1. ledd nr. 3\n",{"$f":"IF(I45<>\"\",1,0)","v":0},{"$f":"IF(J45<>\"\",1,0)","v":0},{"$f":"IF(K45<>\"\",1,0)","v":0},{"$f":"IF(SUM(E45:G45)>1,\"Velg kun et alt.\",\"\")","v":""},null,null,null,null,null,""]
[{"$f":"+A45+1","v":14},"Fremgår følgende av spesifikasjonen:\n• Kundens kode og navn?",null,null,0,0,0,"",null,null,null,null,null,""]
[15,"• Alle poster i ordnet rekkefølge med dokumentasjonsdato og dokumentasjonshenvisning?",null,null,0,0,0,"",null,null,null,null,null,""]
[16,"• Inn- og utgående saldo?",null,null,0,0,0,"",null,null,null,null,null,""]
[17,"Inneholder spesifikasjonen også kontantsalg av varer og tjenester\n• som er beregnet for videresalg?",null,"BF § 3-1, 2. ledd",0,0,0,"",null,null,null,null,null,""]
[18,"• som skal brukes som direkte innsatsfaktor i produksjon eller tjenesteleveranse?",null,null,0,0,0,"",null,null,null,null,null,""]
[19,"• der vederlaget utgjør mer enn kr 40 000 inkl mva?",null,null,0,0,0,"",null,null,null,null,null,""]
[null,"Bokføringspliktige som i hovedsak selger kontant, kan spesifisere slike salg og unntaksvise kredittsalg ved fremleggelse av kopier av salgsdokumentasjonen ordnet pr. kunde.",null,null,0,0,0,"",null,null,null,null,null,""]
[null,"Tilfeldige salg kan spesifiseres på felles kundekonto med relevante identifikasjonskoder slik at opplysningsplikten kan ivaretas."]
[null,"Leverandørspesifikasjon",null,null,0,0,0,"",null,null,null,null,null,{"$f":"IF(J54<>\"\",\"Du har satt X for at forholdet ikke er avklart. Gi en nærmere foklaring i kommentarfeltet.\",\"\")","v":""}]
[{"$f":"+A51+1","v":20},"Inneholder spesifikasjonen alle transaksjoner med leverandører pr. periode?",null,"bkfl. § 5, 1. ledd nr. 4\nBF § 3-1, 1. ledd nr. 4",{"$f":"IF(I55<>\"\",1,0)","v":0},{"$f":"IF(J55<>\"\",1,0)","v":0},{"$f":"IF(K55<>\"\",1,0)","v":0},{"$f":"IF(SUM(E55:G55)>1,\"Velg kun et alt.\",\"\")","v":""},null,null,null,null,null,""]
[{"$f":"+A55+1","v":21},"Fremgår følgende av spesifikasjonen:\n• Leverandørens kode, navn og organisasjonsnummer?\n(Org.nr. må bare fremkomme dersom det er levert varer/tjenester etter at loven er tatt i bruk) ",null,null,0,0,0,"",null,null,null,null,null,""]
[{"$f":"+A56+1","v":22},"• Alle poster i ordnet rekkefølge med dokumentasjonsdato og dokumentasjonshenvisning?",null,null,0,0,0,"",null,null,null,null,null,""]
[{"$f":"+A57+1","v":23},"• Inn- og utgående saldo?",null,null,0,0,0,"",null,null,null,null,null,""]
[null,"Når det er utstedt felles salgsdokument etter § 8-15-1 (felles fakturering av nettjenester og elektrisk energi), kan transaksjonene registreres i leverandørspesifikasjonen over fakturautsteders konto. "]
[null,"Inneholder spesifikasjonen også kontantkjøp av varer og tjenester",null,"BF § 3-1, 2. ledd",0,0,0,"",null,null,null,null,null,""]
[{"$f":"+A58+1","v":24},"• som er beregnet for videresalg?",null,null,0,0,0,"",null,null,null,null,null,""]
[{"$f":"+A61+1","v":25},"• som skal brukes som direkte innsatsfaktor i produksjon eller tjenestelevaranse?",null,null,0,0,0,"",null,null,null,null,null,""]
[{"$f":"+A62+1","v":26},"• der vederlaget utgjør mer enn kr 40 000 inkl mva?",null,null,0,0,0,"",null,null,null,null,null,""]
[null,"Tilfeldige kjøp kan spesifiseres på felles leverandørkonto med relevante identifikasjonskoder slik at opplysningsplikten kan ivaretas."]
[null,"Spesifikasjon av uttak til eiere, deltakere og egen virksomhet"]
[{"$f":"+A63+1","v":27},"Inneholder spesifikasjonen alle uttak av eiendeler og tjenester spesifisert pr. eier, deltaker eller på egen virksomhet?",null,"bkfl. § 5, 1. ledd nr. 5",0,0,0,"",null,null,null,null,null,""]
[{"$f":"+A66+1","v":28},"Vises uttakene i ordnet rekkefølge til virkelig verdi med dokumentasjonsdato og dokumentasjonshenvisning?",null,"BF § 3-1, 1. ledd nr. 5",0,0,0,"",null,null,null,null,null,""]
[null,"Spesifikasjon av salg til eiere og deltakere i foretak med færre enn 10 eiere eller deltakere"]
[{"$f":"+A67+1","v":29},"Inneholder spesifikasjonen alle salg av varer og tjenester spesifisert pr. eier eller deltaker?",null,"bkfl. § 5, 1. ledd nr. 6",{"$f":"IF(I69<>\"\",1,0)","v":0},0,0,{"$f":"IF(SUM(E69:G69)>1,\"Velg kun et alt.\",\"\")","v":""},null,null,null,null,null,""]
[{"$f":"+A69+1","v":30},"Vises salget i ordnet rekkefølge til virkelig verdi med dokumentasjonsdato og dokumentasjonshenvisning?",null,"BF § 3-1, 1. ledd nr. 6",0,0,0,{"$f":"IF(SUM(E70:G70)>1,\"Velg kun et alt.\",\"\")","v":""},null,null,null,null,null,""]
[null,"(Kravet gjelder selv om eier eller deltaker opptrer som forbruker.)",null,null,null,{"$f":"IF(J71<>\"\",1,0)","v":0},null,null,null,null,null,null,null,""]
[]
[]
[null,"Spesifikasjon av salg og andre ytelser til ledende ansatte"]
[null,"Med ledende ansatte forstås daglig leder, butikksjefer, avdelingssjefer og andre som har bestemmende myndighet over prisfastsettelsen knyttet til eget kjøp av varer og tjenester. \nKravet gjelder selv om den ledende ansatte opptrer som forbruker.\nBokføringspliktige som i hovedsak selger kontant, kan spesifisere slike salg og unntaksvise kredittsalg til ledende ansatte ved fremleggelse av kopier av salgsdokumentasjonen spesifisert pr kunde (dvs pr ledende ansatt). ",null,"BF § 3-1, 1. ledd nr. 7\n\nBF § 3-1, 2. ledd\n"]
[{"$f":"+A70+1","v":31},"Inneholder spesifikasjonen alle salg av varer og tjenester spesifisert pr. ansatt?",null,"bkfl. § 5, 1. ledd nr. 7",{"$f":"IF(I76<>\"\",1,0)","v":0},0,0,{"$f":"IF(SUM(E76:G76)>1,\"Velg kun et alt.\",\"\")","v":""},null,null,null,null,null,""]
[{"$f":"+A76+1","v":32},"Vises salget i ordnet rekkefølge til virkelig verdi med dokumentasjonsdato og dokumentasjonshenvisning?",null,"BF § 3-1, 1. ledd nr. 7",0,0,0,{"$f":"IF(SUM(E77:G77)>1,\"Velg kun et alt.\",\"\")","v":""},null,null,null,null,null,""]
[null,"Spesifikasjon av merverdiavgift",null,null,0,0,0,{"$f":"IF(SUM(E78:G78)>1,\"Velg kun et alt.\",\"\")","v":""},null,null,null,null,null,{"$f":"IF(J78<>\"\",\"Du har satt X for at forholdet ikke er avklart. Gi en nærmere foklaring i kommentarfeltet.\",\"\")","v":""}]
[null,"Fra 01.01.2017 ble merverdiavgiftsloven endret slik at det stilles krav om at avgiftssubjektet selv skal beregne merverdiavgift ved innførsel av varer. Som en følge av dette ble det foreslått en endring i bokføringsforskriftens krav til spesifikasjon av merverdiavgift og dokumentasjon av grunnlaget for beregning av merverdiavgift ved innførsel av varer. ",null,"Høringsnotat - Endringer i bokføringsforskriften mv. punkt 2.5",null,null,null,null,null,null,null,null,null,null,null,null,null,null,"Tatt med dette som endringer, men skrevet inn innledningsvis hvorfor det er tatt med og fra hvilket tidspunkt det gjelder"]
[null,"Endringene i bokføringsforskriften ble først formelt vedtatt ved forskrift 27.06.2024, med virkning fra 01.03.2025, men GBS 9 \"Spesifikasjon av grunnlaget for inngående merverdiavgift ved innførsel av varer samt dokumentasjons- og oppbevaringskrav\" ble oppdatert allerede i desember 2016 på grunnlag av de foreslåtte endringene. Vi har tidligere valgt å innarbeide forskriftstekst fra høringsforslaget fra 2016 i sjekklisten, dette er nå oppdatert til vedtatt forskriftstekst, selv om endringene først formelt trer i kraft fra 01.03.2025. ",null,"GBS 9"]
[{"$f":"+A77+1","v":33},"Inneholder spesifikasjonen grunnlaget for utgående merverdiavgift, fradragsberettiget innenlands inngående merverdiavgift og fradragsberettiget innførselsmerverdiavgift, fordelt på de forskjellige avgiftssatsene spesifisert pr. termin etter beløp per konto og totalt i regnskapssystemet?",null,"BF § 3-1, 1. ledd nr. 8 a",null,null,null,null,null,null,null,null,null,""]
[{"$f":"+A81+1","v":34},"Viser spesifikasjonen også innenlands omsetning og uttak fritatt for merverdiavgift, utførsel av varer og tjenester fritatt for merverdiavgift, innenlands omsetning med omvendt avgiftsplikt, samt omsetning og uttak som faller utenfor avgiftsområdet?",null,"BF § 3-1, 1. ledd nr. 8 b",{"$f":"IF(I82<>\"\",1,0)","v":0},{"$f":"IF(J82<>\"\",1,0)","v":0},{"$f":"IF(K82<>\"\",1,0)","v":0},{"$f":"IF(SUM(E82:G82)>1,\"Velg kun et alt.\",\"\")","v":""},null,null,null,null,null,""]
[35,"Viser spesifikasjonen også kjøp med omvendt avgiftsplikt, fordelt på tjenester kjøpt fra utlandet og innenlands kjøp av varer og tjenester?",null,"BF § 3-1, 1. ledd nr. 8 c"]
[36,"Er beløpene i spesifikasjonene i pkt a-c vist pr konto og totalt?",null,"BF § 3-1, 1. ledd nr. 8 pkt d",null,null,null,null,null,null,null,null,null,null,null,null,null,null,"Denne er lagt inn på egen linje (sto tidligere under spørsmål 33)"]
[37,"Kan avgiftsgrunnlaget for utgående merverdiavgift spesifiseres pr. transaksjon?",null,"BF § 3-1, 1. ledd nr. 8 d",{"$f":"IF(I85<>\"\",1,0)","v":0},{"$f":"IF(J85<>\"\",1,0)","v":0},{"$f":"IF(K85<>\"\",1,0)","v":0},{"$f":"IF(SUM(E85:G85)>1,\"Velg kun et alt.\",\"\")","v":""},null,null,null,null,null,""]
[38,"Viser spesifikasjonen eventuelle forskjeller mellom beregnet grunnlag i henhold til kontospesifikasjonen og innberettet avgiftsgrunnlag, spesifisert pr transaksjon for hver avgiftssats ?",null,"BF § 3-1, 1. ledd nr. 8 d"]
[39,"Viser spesifikasjonen i tillegg grunnlaget for beregning av merverdiavgift ved innførsel av varer fordelt på de forskjellige avgiftssatsene, samt grunnlag knyttet til innførsel av varer som det ikke skal beregnes merverdiavgift av?",null,"BF § 3-1, 1. ledd nr. 8 e"]
[null,"Spesifikasjon av lønnsopplysningspliktige ytelser"]
[{"$f":"+A87+1","v":40},"Inneholder spesifikasjonen lønnsopplysningspliktige ytelser spesifisert pr. periode etter kontoene i regnskapssystemet?",null,"bkfl. § 5, 2. ledd nr. 2",{"$f":"IF(I89<>\"\",1,0)","v":0},0,0,{"$f":"IF(SUM(E89:G89)>1,\"Velg kun et alt.\",\"\")","v":""},null,null,null,null,null,""]
[{"$f":"+A89+1","v":41},"Kan arbeidsgiveravgiftspliktige ytelser gjengis samlet, pr. avgiftssats og kommune?",null,"BF § 3-1, 1. ledd nr. 9",0,0,0,{"$f":"IF(SUM(E90:G90)>1,\"Velg kun et alt.\",\"\")","v":""},null,null,null,null,null,""]
[null,"Elimineringer og andre posteringer ved utarbeidelse av konsernregnskap"]
[{"$f":"+A90+1","v":42},"Er alle elimineringer og andre posteringer ved utarbeidelse av konsernregnskap spesifisert?",null,"bkfl. § 5, 2. ledd nr 3"]
[{"$f":"+A92+1","v":43},"Er alle poster spesifisert enkeltvis med dokumentasjonshenvisning?",null,"BF § 3-1, nr 10"]
[null,"Underspesifikasjoner"]
[{"$f":"+A93+1","v":44},"Dersom poster fremkommer som totaler i bokførings- eller kontospesifikasjoner, fremkommer da transaksjonene og andre regnskapsmessige disposisjoner enkeltvis og oppsummert i underliggende spesifikasjon?",null,"Artikkel i R&R nr 5>2010, jf. BSS sin gjennomgang delrapport II punkt 12"]
[{"$f":"+A95+1","v":45},"Er underspesifikasjonene kontrollerbare mot totalene?"]
[null,"Dato for utarbeidelse av spesifikasjoner"]
[{"$f":"+A96+1","v":46},"Fremgår dato for utarbeidelse av spesifikasjoner av pliktig regnskapsrapportering direkte av spesifikasjonene?",null,"BF § 3-1, 7. ledd"]
["Sporbarhet",null,null,null,null,null,null,null,null,null,null,null,null,""]
[{"$f":"+A98+1","v":47},"Kan bokførte opplysninger lett følges fra dokumentasjon via spesifikasjoner frem til pliktig regnskapsrapportering?",null,"bkfl. § 6, 1. ledd\n",null,null,null,{"$f":"IF(SUM(E100:G100)>1,\"Velg kun et alt.\",\"\")","v":""}]
[{"$f":"+A100+1","v":48},"Er det mulig med utgangspunkt i pliktig regnskapsrapportering på en lett kontrollerbar måte å finne tilbake til dokumentasjonen av de enkelte bokførte opplysningene?",null,"bkfl. § 6, 1. ledd",null,null,null,{"$f":"IF(SUM(E101:G101)>1,\"Velg kun et alt.\",\"\")","v":""}]
[{"$f":"+A101+1","v":49},"I de tilfellene det er nødvendig for å kunne kontrollere bokførte opplysninger på en enkel måte, foreligger det dokumentasjon av kontrollsporet, herunder hvordan systemgenererte poster kan etterprøves?",null,null,null,null,null,{"$f":"IF(SUM(E102:G102)>1,\"Velg kun et alt.\",\"\")","v":""}]
[{"$f":"+A102+1","v":50},"Er dokumentasjonen nummerert eller identifisert på annen måte som gjør det mulig å kontrollere at den er fullstendig?\nDepartementet kan ved enkeltvedtak gjøre unntak fra kravet i annet ledd om nummerering av dokumentasjon.",null,"bkfl. § 6, 2. ledd\n\nbkfl. § 6, 4. ledd"]
[{"$f":"+A103+1","v":51},"Når foretaket har dokumentasjon både elektronisk og på papir, foreligger det en redegjørelse for hva som er originaldokumentasjonen?",null,null,{"$f":"IF(I104<>\"\",1,0)","v":0},0,0,{"$f":"IF(SUM(E104:G104)>1,\"Velg kun et alt.\",\"\")","v":""},null,null,null,null,null,""]
[{"$f":"+A104+1","v":52},"Dersom den bokføringspliktige har eget lønnsystem, foreligger det en lettfattelig systembeskrivelse av lønnssystemets oppbygging og funksjoner?",null,"bkfl. § 6, 2. ledd\nBF § 5-6, 7. ledd\n",0,0,0,{"$f":"IF(SUM(E105:G105)>1,\"Velg kun et alt.\",\"\")","v":""},null,null,null,null,null,""]
["Ajourhold",null,null,null,null,null,null,null,null,null,null,null,null,""]
[{"$f":"+A105+1","v":53},"Er bokføringen tilfredsstillende à jour sett hen til virksomhetens og transaksjonenes art og omfang?",null,"bkfl. § 7, 2. ledd",{"$f":"IF(I107<>\"\",1,0)","v":0},0,0,{"$f":"IF(SUM(E107:G107)>1,\"Velg kun et alt.\",\"\")","v":""},null,null,null,null,null,""]
[{"$f":"+A107+1","v":54},"Er bokføringen à jour innen fristene for pliktig regnskapsrapportering?",null,null,0,0,0,{"$f":"IF(SUM(E108:G108)>1,\"Velg kun et alt.\",\"\")","v":""},null,null,null,null,null,""]
[null,"Pliktig regnskapsrapportering på lønnsområdet medfører ikke plikt til å ajourføre bokføringen, med mindre det er annen pliktig regnskapsrapportering i perioden."]
[{"$f":"+A108+1","v":55},"For bokføringspliktige som ikke har pliktig regnskapsrapportering gjennom året, men har mer enn 600 bilag, er bokføringen à jour hver fjerde måned?\n\nVed kjøp og salg av verdipapirer skal hvert enkelt kjøp og salg medregnes som bilag ifht denne bestemmelsen. ",null,"BF § 4-1",{"$f":"IF(I110<>\"\",1,0)","v":0},0,0,{"$f":"IF(SUM(E110:G110)>1,\"Velg kun et alt.\",\"\")","v":""},null,null,null,null,null,""]
[{"$f":"+A110+1","v":56},"Er kontanttransaksjoner registrert daglig, med mindre det benyttes fast kasse?",null,"bkfl. § 7, 3. ledd",0,0,0,{"$f":"IF(SUM(E111:G111)>1,\"Velg kun et alt.\",\"\")","v":""},null,null,null,null,null,""]
["Bokføring i annen valuta enn norske kroner",null,null,null,null,null,null,null,null,null,null,null,null,""]
[{"$f":"+A111+1","v":57},"Dersom bokføringen skjer i annen valuta enn norske kroner, \ner vilkårene for å benytte funksjonell valuta oppfylt?\n",null,"bkfl. § 8\nBF § 4-2, 1. ledd",{"$f":"IF(I113<>\"\",1,0)","v":0},{"$f":"IF(J113<>\"\",1,0)","v":0},{"$f":"IF(K113<>\"\",1,0)","v":0},{"$f":"IF(SUM(E113:G113)>1,\"Velg kun et alt.\",\"\")","v":""},null,null,null,null,null,""]
[null,"(Funksjonell valuta er den valuta som den bokføringspliktiges økonomiske virksomhet i hovedsak er knyttet til.) ",null,null,null,null,null,null,null,null,null,null,null,""]
[{"$f":"+A113+1","v":58},"Har foretaket filialer i utlandet, benyttes da fremmed valuta ved bokføringen?",null,null,{"$f":"IF(I115<>\"\",1,0)","v":0},0,0,{"$f":"IF(SUM(E115:G115)>1,\"Velg kun et alt.\",\"\")","v":""},null,null,null,null,null,""]
[{"$f":"+A115+1","v":59},"Ved bokføring i utenlandsk valuta, er\n• beløp som inngår i pliktig rapportering knyttet til merverdiavgift fastlåst i norske kroner til kursen på fakturatidspunktet?",null,null,0,0,0,"",null,null,null,null,null,""]
[{"$f":"+A116+1","v":60},"• beløp som inngår i pliktig rapportering knyttet til lønn fastlåst i norske kroner til kursen på utbetalingstidspunktet?",null,null,{"$f":"IF(I117<>\"\",1,0)","v":0},0,0,"",null,null,null,null,null,""]
[{"$f":"+A117+1","v":61},"• beløp knyttet til eiendeler og gjeld hvor skatteloven har egne vurderingsregler om valuta, fastlåst i norske kroner til transaksjonsdagens kurs?",null,null,0,0,0,"",null,null,null,null,null,""]
[{"$f":"+A118+1","v":62},"Omregnes beløp som inngår i pliktig regnskapsrapportering til norske kroner minst en gang i året ved bruk av gjennomsnittskurser?",null,"BF § 4-2, 3. ledd",{"$f":"IF(I119<>\"\",1,0)","v":0},0,0,"",null,null,null,null,null,""]
[{"$f":"+A119+1","v":63},"Er det dokumentert hvordan omregningen har skjedd og hvilke kurser som er benyttet?",null,null,0,0,0,"",null,null,null,null,null,{"$f":"IF(J120<>\"\",\"Du har satt X for at forholdet ikke er avklart. Gi en nærmere foklaring i kommentarfeltet.\",\"\")","v":""}]
["Bokføringspliktige som ikke utarbeider balanse ved pliktig regnskapsrapportering til skattemyndighetene",null,null,null,null,null,null,null,null,null,null,null,null,""]
[{"$f":"+A120+1","v":64},"Er kursen på transaksjonstidspunktet benyttet ved omregning til norske kroner?",null,"BF § 4-2, 4. ledd",{"$f":"IF(I122<>\"\",1,0)","v":0},0,0,{"$f":"IF(SUM(E122:G122)>1,\"Velg kun et alt.\",\"\")","v":""},null,null,null,null,null,""]
[{"$f":"+A122+1","v":65},"Dersom månedens offisielle gjennomsnittskurs er benyttet fordi kursen i perioden ikke har avvik på mer enn 5 %, er store enkelttransaksjoner likevel omregnet til transaksjonsdagens kurs?",null,null,0,0,0,{"$f":"IF(SUM(E123:G123)>1,\"Velg kun et alt.\",\"\")","v":""},null,null,null,null,null,""]
["Retting av bokførte opplysninger",null,null,null,null,null,null,null,null,null,null,null,null,""]
[{"$f":"+A123+1","v":66},"Etter at bokføringen er ajourført, er retting skjedd med ny dokumentert postering?",null,"bkfl. § 9, 1. ledd",{"$f":"IF(I125<>\"\",1,0)","v":0},0,0,{"$f":"IF(SUM(E125:G125)>1,\"Velg kun et alt.\",\"\")","v":""},null,null,null,null,null,""]
[{"$f":"+A125+1","v":67},"Er hele den opprinnelige posteringen reversert?",null,null,0,0,0,{"$f":"IF(SUM(E126:G126)>1,\"Velg kun et alt.\",\"\")","v":""},null,null,null,null,null,""]
[{"$f":"+A126+1","v":68},"Er det praktisk mulig å påføre en gjensidig referanse mellom den nye og den opprinnelige dokumentasjonen? ",null,"BF § 5-12",0,0,0,{"$f":"IF(SUM(E127:G127)>1,\"Velg kun et alt.\",\"\")","v":""},null,null,null,null,null,""]
[{"$f":"+A127+1","v":69},"Fremgår det av dokumentasjonen eller spesifikasjonen når en bokført opplysning er slettet?",null,"bkfl. § 9, 2. ledd",0,0,0,{"$f":"IF(SUM(E128:G128)>1,\"Velg kun et alt.\",\"\")","v":""},null,null,null,null,null,""]
["Dokumentasjon av bokførte opplysninger",null,null,null,null,null,null,null,null,null,null,null,null,""]
[{"$f":"+A128+1","v":70},"Er bokførte opplysninger dokumentert?",null,"bkfl. § 10, 1. ledd",0,0,0,{"$f":"IF(SUM(E130:G130)>1,\"Velg kun et alt.\",\"\")","v":""},null,null,null,null,null,""]
[{"$f":"+A130+1","v":71},"Er dokumentasjonen utstedt med et korrekt og fullstendig innhold som viser de bokførte opplysningenes berettigelse?",null,null,{"$f":"IF(I131<>\"\",1,0)","v":0},{"$f":"IF(J131<>\"\",1,0)","v":0},{"$f":"IF(K131<>\"\",1,0)","v":0},{"$f":"IF(SUM(E131:G131)>1,\"Velg kun et alt.\",\"\")","v":""},null,null,null,null,null,""]
[{"$f":"+A131+1","v":72},"Er dokumentasjonen sikret mot endringer etter utstedelse?",null,null,0,0,0,"",null,null,null,null,null,""]
[{"$f":"+A132+1","v":73},"Dersom dokumentasjonen består av flere dokumenter, er det referanser fra primærdokumentet til de øvrige dokumentene?",null,null,0,0,0,"",null,null,null,null,null,""]
[null,"Dokumentasjon av salg av varer og tjenester"]
[null,"Inneholder dokumentasjonen minst:",null,"BF § 5-1-1"]
[{"$f":"+A133+1","v":74},"1. Nummer og dokumentasjonsdato?\nPlikten til nummerering av salgsdokument, jfr §5-1-1 nr 1, gjelder ikke konkursbo.",null,"BF § 5-1-1\nBF § 5-1-3, 5. ledd",0,0,0,"",null,null,null,null,null,{"$f":"IF(J136<>\"\",\"Du har satt X for at forholdet ikke er avklart. Gi en nærmere foklaring i kommentarfeltet.\",\"\")","v":""}]
[{"$f":"+A136+1","v":75},"2. Angivelse av partene?\nSalgsdokument skal utstedes til det subjektet som inngår avtale/kontrakt om kjøp av varer eller tjenester, eventuelt den fysiske eller juridiske personen vedkommende opptrer på vegne av på avtaletidspunktet etter fullmakt.",null,"\nSkds uttalelse 23.05.2023",0,0,0,"",null,null,null,null,null,{"$f":"IF(J137<>\"\",\"Du har satt X for at forholdet ikke er avklart. Gi en nærmere foklaring i kommentarfeltet.\",\"\")","v":""}]
[{"$f":"+A137+1","v":76},"3. Ytelsens art og omfang?",null,"Skds uttalelser 21. juni 2006 og 1. nov 2007",0,0,0,"",null,null,null,null,null,{"$f":"IF(J138<>\"\",\"Du har satt X for at forholdet ikke er avklart. Gi en nærmere foklaring i kommentarfeltet.\",\"\")","v":""}]
[null,"Ved kontantsalg fra detaljist kan enkeltinnslag angis per varegruppe dersom detaljert beskrivelse av art vanskelig lar seg gjennomføre. Selger plikter i slike tilfeller å utstede ytterligere spesifikasjon dersom kjøper ber om dette.",null,"BF § 5-3-12, 4. ledd"]
[null,"Merverdiavgiftskompensasjonsloven - dokumentasjonskrav for organisasjoner og private virksomheter som fakturerer kommunene for omsorgstjenester eller sosiale tjenester/barnevernstjenester: For at salgsdokumentet skal kunne dokumentere at det ikke skal beregnes merverdiavgift på salget må salgsdoumentet kunne kobles mot kommunenes vedtak eller annen dokumentasjon som gir tilsvarende informasjon",null,"Prinsipputtalelse 08.04.2022"]
[{"$f":"+A138+1","v":77},"4. Tidspunkt og sted for leving av ytelsen?\n(Plikt til å angi leveringsdato gjelder ikke når varen ekspederes gjennom speditør, ved postordre og lignende og salgsdokument følger forsendelsen.)",null,"\nBF § 5-1-4",0,0,0,"",null,null,null,null,null,{"$f":"IF(J141<>\"\",\"Du har satt X for at forholdet ikke er avklart. Gi en nærmere foklaring i kommentarfeltet.\",\"\")","v":""}]
[78,"5. Vederlag og betalingsforfall?",null,null,0,0,0,"",null,null,null,null,null,{"$f":"IF(J142<>\"\",\"Du har satt X for at forholdet ikke er avklart. Gi en nærmere foklaring i kommentarfeltet.\",\"\")","v":""}]
[null,"Vederlaget i salgsdokumentet skal ikke avrundes ved elektronisk betaling. Ved kontant betaling med sedler og mynter skal totalvederlaget avrundes til nærmeste hele krone. ",null,"Skds uttalelse 13. juni 2019"]
[{"$f":"+A142+1","v":79},"6. Eventuell merverdiavgift og andre avgifter knyttet til transaksjonen som kreves spesifisert i lov eller forskrift?",null,null,0,0,0,"",null,null,null,null,null,{"$f":"IF(J144<>\"\",\"Du har satt X for at forholdet ikke er avklart. Gi en nærmere foklaring i kommentarfeltet.\",\"\")","v":""}]
[80,"Er merverdiavgift angitt i norske kroner?",null,"Skds uttalelse 25. sept 2006",0,0,0,"",null,null,null,null,null,{"$f":"IF(J145<>\"\",\"Du har satt X for at forholdet ikke er avklart. Gi en nærmere foklaring i kommentarfeltet.\",\"\")","v":""}]
[{"$f":"+A145+1","v":81},"Har kjøpere som skal beregne og betale merverdiavgift etter mval. §11-1 annet ledd, og merket salgsdokumentet ”Omvendt avgiftsplikt – Merverdiavgift ikke beregnet”?",null,"BF § 5-1-1 nr. 7\n",{"$f":"IF(I146<>\"\",1,0)","v":0},{"$f":"IF(J146<>\"\",1,0)","v":0},{"$f":"IF(K146<>\"\",1,0)","v":0},{"$f":"IF(SUM(E146:G146)>1,\"Velg kun et alt.\",\"\")","v":""},null,null,null,null,null,{"$f":"IF(J146<>\"\",\"Du har satt X for at forholdet ikke er avklart. Gi en nærmere foklaring i kommentarfeltet.\",\"\")","v":""}]
[{"$f":"+A146+1","v":82},"Er salgsdokumentet utstedt på norsk, svensk, dansk eller engelsk?\nBokføringspliktige med filialer i utlandet kan utstede filialens salgsdokument på det lokale språket.",null,"BF § 5-1-1a"]
[{"$f":"+A147+1","v":83},"Er kjøper angitt med navn, og adresse eller organisasjonsnummer?",null,"BF § 5-1-2, 1. ledd\nSkds uttalelse 2. mars 2010\nSkds uttalelse 19.01.2015",{"$f":"IF(I148<>\"\",1,0)","v":0},0,0,{"$f":"IF(SUM(E148:G148)>1,\"Velg kun et alt.\",\"\")","v":""},null,null,null,null,null,{"$f":"IF(J148<>\"\",\"Du har satt X for at forholdet ikke er avklart. Gi en nærmere foklaring i kommentarfeltet.\",\"\")","v":""}]
[null,"Ved kontant salg fra detaljist kan kjøpers navn unnlates påført dokumentasjonen.  Dette gjelder likevel ikke når kjøper er bokføringspliktig, herunder når en ansatt kjøper på vegne av sin bokføringspliktige arbeidsgiver og:\n• Vederlaget er over kr 1000 inkl mva og varen eller tjenesten er beregnet for videresalg\n• Vederlaget er over kr 1000 inkl mva og varen eller tjenesten skal brukes som direkte innsatsfaktor i produksjon eller tjenesteleveranse\n• Kjøpet gjelder drivstoff til bruk i person-eller varetransport\n• Blir betalt med kontanter for et beløp på kr 40 000 eller mer inkl mva",null,"BF § 5-3-12, 3. ledd ",0,0,0,{"$f":"IF(SUM(E149:G149)>1,\"Velg kun et alt.\",\"\")","v":""},null,null,null,null,null,{"$f":"IF(J149<>\"\",\"Du har satt X for at forholdet ikke er avklart. Gi en nærmere foklaring i kommentarfeltet.\",\"\")","v":""}]
[{"$f":"+A148+1","v":84},"Har selger rutiner for å angi kjøper på dennes dokumentasjon, med signatur og stempel, dersom kjøper anmoder om det?",null,null,0,0,0,{"$f":"IF(SUM(E150:G150)>1,\"Velg kun et alt.\",\"\")","v":""},null,null,null,null,null,{"$f":"IF(J150<>\"\",\"Du har satt X for at forholdet ikke er avklart. Gi en nærmere foklaring i kommentarfeltet.\",\"\")","v":""}]
[{"$f":"+A150+1","v":85},"Omfatter angivelse av selger minst navn og organisasjonsnummer, samt MVA dersom selger er registrert i merverdiavgiftsmanntallet?",null,"BF § 5-1-2, 2. ledd\nSkds uttalelse 25. sept 2006\n",0,0,0,{"$f":"IF(SUM(E151:G151)>1,\"Velg kun et alt.\",\"\")","v":""},null,null,null,null,null,{"$f":"IF(J151<>\"\",\"Du har satt X for at forholdet ikke er avklart. Gi en nærmere foklaring i kommentarfeltet.\",\"\")","v":""}]
[null,"Dersom selger er aksjeselskap, allmennaksjeselskap eller filial av utenlandsk selskap, fremgår følgende av salgsdokumentet:",null,"BF § 5-1-2, 2. ledd jf Foretaks-registerloven § 10-2"]
[{"$f":"+A151+1","v":86},"• Ordet \"Foretaksregisteret\"?"]
[{"$f":"+A153+1","v":87},"• Hovedkontorets adresse?"]
[88,"• Når det er aktuelt, at selger er under avvikling?"]
[89,"Er salgsdokumentet merket på en av følgende måter:\n• Forhåndsnummerert på trykte blanketter? (kvitteringsblokker fra bokhandler el. kan kun benyttes dersom det er tilstrekkelig med én blokk innenfor et år eller over flere år)\n• Nummerert ved maskinelt tildelte nummer med en kontrollerbar sekvens?\n• Merket på en annen måte slik at fullstendig registrering av utfakturerte salg kan etterprøves på en enkel måte?",null,"BF § 5-1-3, 1. ledd\nSkds uttalelse 30.11.2012\nSkds uttalelse 26. okt 2006, 5. febr 2007 og 24. april 2007",{"$f":"IF(I156<>\"\",1,0)","v":0},{"$f":"IF(J156<>\"\",1,0)","v":0},{"$f":"IF(K156<>\"\",1,0)","v":0},{"$f":"IF(SUM(E156:G156)>1,\"Velg kun et alt.\",\"\")","v":""},null,null,null,null,null,{"$f":"IF(J156<>\"\",\"Du har satt X for at forholdet ikke er avklart. Gi en nærmere foklaring i kommentarfeltet.\",\"\")","v":""}]
[90,"Har bokføringspliktige kjøpere som utsteder salgsdokumentasjon på vegne av selger etter BF § 5-2-1 tredje ledd, i stedet for fortløpende nummerering av hver enkelt selgers salgsdokument, anført hvor mye som er avregnet hittil i regnskapsåret?",null,"BF § 5-1-3, 2. ledd",0,0,0,"",null,null,null,null,null,{"$f":"IF(J157<>\"\",\"Du har satt X for at forholdet ikke er avklart. Gi en nærmere foklaring i kommentarfeltet.\",\"\")","v":""}]
[91,"Fremgår avgiftspliktig og avgiftsfritt salg, samt salg utenfor avgiftsområdet, hver for seg med særskilt summering?",null,"BF § 5-1-5\nSkds uttalelse 25. sept 2006\n",0,0,0,"",null,null,null,null,null,{"$f":"IF(J158<>\"\",\"Du har satt X for at forholdet ikke er avklart. Gi en nærmere foklaring i kommentarfeltet.\",\"\")","v":""}]
[92,"Er avgiftspliktig salg som avgiftsberegnes etter forskjellige satser spesifisert og summert for seg?",null,"Skds uttalelse 9. februar 2010",0,0,0,"",null,null,null,null,null,{"$f":"IF(J159<>\"\",\"Du har satt X for at forholdet ikke er avklart. Gi en nærmere foklaring i kommentarfeltet.\",\"\")","v":""}]
[93,"Er sykkelens kjennemerke angitt i dokumentasjonen ved salg av beltemotorsykkel, firehjuls terrenggående motorsykkel eller salg av tjenester til vedlikehold, reparasjon, påkostning og ombygging av slike samt omsetning av varer ved utføring av slike tjenester?",null,"BF § 5-1-7",0,0,0,"",null,null,null,null,null,{"$f":"IF(J160<>\"\",\"Du har satt X for at forholdet ikke er avklart. Gi en nærmere foklaring i kommentarfeltet.\",\"\")","v":""}]
[null,"Selger som er registrert med representant"]
[{"$f":"+A160+1","v":94},"Omfatter dokumentasjonen også representantens navn og adresse?",null,"BF § 5-1-2, 2. ledd",0,0,0,"",null,null,null,null,null,{"$f":"IF(J162<>\"\",\"Du har satt X for at forholdet ikke er avklart. Gi en nærmere foklaring i kommentarfeltet.\",\"\")","v":""}]
[null,"Utstedelse av salgsdokument"]
[{"$f":"+A162+1","v":95},"Er salgsdokumentet utstedt av selger, med mindre annet er tillatt etter lov eller forskrift?",null,"BF § 5-2\nBF § 5-2-1, 1. ledd",{"$f":"IF(I164<>\"\",1,0)","v":0},{"$f":"IF(J164<>\"\",1,0)","v":0},{"$f":"IF(K164<>\"\",1,0)","v":0},{"$f":"IF(SUM(E164:G164)>1,\"Velg kun et alt.\",\"\")","v":""},null,null,null,null,null,{"$f":"IF(J164<>\"\",\"Du har satt X for at forholdet ikke er avklart. Gi en nærmere foklaring i kommentarfeltet.\",\"\")","v":""}]
[null,"Følgende bokføringspliktige kjøpere kan utstede salgsdokument på vegne av selger:\n• Kjøpere av varer og tjenester fra ikke bokføringspliktige selgere\n• Foreninger og samvirkelag som hovedsakelig tilvirker eller forhandler produkter fra medlemmenes fiske, skogbruk eller gårdsbruk med binæringer, samt hagebruk, gartneri, husdyrhold og reindrift, og som foretar avregning ved alle sine kjøp av produkter fra medlemmer og ikke-medlemmer \n• Andre tilvirkere eller forhandlere som kjøper opp produkter som nevnt i punktet foran direkte fra produsent og som har tillatelse til å anføre avgift i salgsdokumentet etter § 15-14-1 tredje ledd i forskrift 15. desember 2009 nr. 1540 til merverdiavgiftsloven. \n• Husflidsutsalg som kjøper produkter fra hjemmeprodusenter av håndverks- og husflidsarbeid \n• Andre forretninger som kjøper opp produkter fra hjemmeprodusenter av håndverks- og husflidsarbeid og som har tillatelse til å anføre avgift i salgsdokumentet etter § 15-14-2 tredje ledd i forskrift 15. desember 2009 nr. 1540 til merverdiavgiftsloven .\n• Kjøpere som alene besitter hele eller deler av materialet for beregning av omfang, vekt, kvalitet eller lignende som grunnlag for utbetaling av provisjon eller annet vederlag til selgeren. ",null,"BF § 5-2-1, 1. og 3. ledd",null,null,null,null,null,null,null,null,null,{"$f":"IF(J165<>\"\",\"Du har satt X for at forholdet ikke er avklart. Gi en nærmere foklaring i kommentarfeltet.\",\"\")","v":""}]
[null,"I tillegg kan en av partene i handelen utstede salgsdokumentet når det ved salg av vare mottas innbytte (kjøp). ",null,"BF § 5-2-1, 2. ledd\nGBS 8"]
[null,"Skattedirektoratet kan etter søknad tillate at også andre kjøpere utsteder salgsdokumentasjon på vegne av selger.",null,"\nBF § 5-2-8, 1. ledd"]
[null,"Tidspunkt for utstedelse av salgsdokument og dokumentasjon av uttak"]
[null,"Salgsdokument som utstedes innen de femten første virkedager i måneden, kan angi siste dato i foregående måned som dokumentasjonsdato, forutsatt at varen eller tjenesten er levert på dette tidspunkt.\nGjelder tilsvarende ved utstedelse av dokumentasjon for uttak.\n\nVed utleie av fast eiendom hvor det utstedes salgsdokumenter på papir for flere perioder på samme tidspunkt, kan dokumentasjonsdato settes lik forfallsdato.\n",null,"BF § 5-1-3, 4. ledd\n\n\n\nBF § 5-1-3, 3. ledd"]
[{"$f":"+A164+1","v":96},"Er dokumentasjonen utstedt senest en måned etter levering?\n(Gjelder dersom ikke annet følger av spørsmålene 97 - 104.)",null,"BF § 5-2-2",{"$f":"IF(I170<>\"\",1,0)","v":0},{"$f":"IF(J170<>\"\",1,0)","v":0},{"$f":"IF(K170<>\"\",1,0)","v":0},{"$f":"IF(SUM(E170:G170)>1,\"Velg kun et alt.\",\"\")","v":""},null,null,null,null,null,{"$f":"IF(J170<>\"\",\"Du har satt X for at forholdet ikke er avklart. Gi en nærmere foklaring i kommentarfeltet.\",\"\")","v":""},null,null,null,null,null,"intern henvisning"]
[{"$f":"+A170+1","v":97},"Er dokumentasjonen utstedt snarest mulig etter uttakstidspunktet og senest innen femten virkedager i måneden etter at uttaket fant sted? ",null,"BF § 5-2-2"]
[98,"Dersom den bokføringspliktige leverer årsoppgave eller årsterminoppgave etter skatteforvaltningsforskriften §§ 8-3-3 eller 8-3-7\n- er dokumentasjonen utstedet senest det kalenderåret uttaket fant sted?"]
[99,"Dersom den bokføringspliktige leverer årsoppgave eller årsterminoppgave etter skatteforvaltningsforskriften §§ 8-3-3 eller 8-3-7\n- er uttaket betryggende registert i perioden mellom uttakstidspunkt og dokumentasjonsutstedelse?"]
[100,"Er dokumentasjon utstedt senest i det kalenderår levering finner sted?\n(Gjelder for de som leverer årsoppgave eller årsterminoppgave for merverdiavgift)\n",null,null,{"$f":"IF(I174<>\"\",1,0)","v":0},0,0,{"$f":"IF(SUM(E174:G174)>1,\"Velg kun et alt.\",\"\")","v":""},null,null,null,null,null,{"$f":"IF(J174<>\"\",\"Du har satt X for at forholdet ikke er avklart. Gi en nærmere foklaring i kommentarfeltet.\",\"\")","v":""}]
[101,"Er leveranser som faktureres månedlig, fakturert innen femten virkedager etter leveringsmåneden?",null,"BF § 5-2-3",0,0,0,{"$f":"IF(SUM(E175:G175)>1,\"Velg kun et alt.\",\"\")","v":""},null,null,null,null,null,{"$f":"IF(J175<>\"\",\"Du har satt X for at forholdet ikke er avklart. Gi en nærmere foklaring i kommentarfeltet.\",\"\")","v":""}]
[102,"Er tjenester som leveres løpende og varer som leveres i den forbindelse, fakturert senest en måned etter utløpet av den alminnelige oppgaveterminen, jf skatteforvaltningsforskriften § 8-3-1?\n(Utstedelse av salgsdokumentasjon for ubetydelige leveranser kan utsettes til neste termin.)",null,"BF § 5-2-4",0,0,0,{"$f":"IF(SUM(E176:G176)>1,\"Velg kun et alt.\",\"\")","v":""},null,null,null,null,null,{"$f":"IF(J176<>\"\",\"Du har satt X for at forholdet ikke er avklart. Gi en nærmere foklaring i kommentarfeltet.\",\"\")","v":""}]
[103,"Er tjenester som leveres basert på måling av faktisk forbruk, fakturert minst en gang i året?\n(Salgsdokumentet skal så vidt mulig utstedes innenfor det kalenderår levering finner sted.)",null,"BF § 5-2-5\nGBS 7",0,0,0,{"$f":"IF(SUM(E177:G177)>1,\"Velg kun et alt.\",\"\")","v":""},null,null,null,null,null,{"$f":"IF(J177<>\"\",\"Du har satt X for at forholdet ikke er avklart. Gi en nærmere foklaring i kommentarfeltet.\",\"\")","v":""}]
[104,"Er tjenester som leveres etter anbud eller tilsvarende forhåndsavtalt pris, fakturert i henhold til avtale mellom partene?\n(Kan ikke benyttes dersom avtalt fakturering (betaling) avviker vesentlig fra reell fremdrift.)",null,"BF § 5-2-4",0,0,0,{"$f":"IF(SUM(E178:G178)>1,\"Velg kun et alt.\",\"\")","v":""},null,null,null,null,null,{"$f":"IF(J178<>\"\",\"Du har satt X for at forholdet ikke er avklart. Gi en nærmere foklaring i kommentarfeltet.\",\"\")","v":""}]
[null,"Løpende ytelser"]
[null,"Salg av ikke avgiftspliktige tjenester som leveres løpende til fast beløp per periode, i henhold til skriftlig inngått avtale, kan dokumenteres med betalingsdokumentasjon og avtale.",null,"BF § 5-1-6a"]
[{"$f":"+A178+1","v":105},"Har betalingsdokumentasjon referanse til avtalen? "]
[{"$f":"+A181+1","v":106},"Inneholder avtalen alle opplysninger som nevnt i §5-1-1 (se spm 74 - 81)",null,null,null,null,null,null,null,null,null,null,null,null,null,null,null,null,null,"intern henvisning"]
[null,"Medlemskontingenter"]
[{"$f":"+A182+1","v":107},"Dersom ideelle organisasjoner har ikke avgiftspliktige medlemskontingenter som regnskapsmessig anses opptjent på betalingstidspunktet, og som ikke er dokumentert med salgsdokument ihht § 5-1-1, er medlemskontigentene dokumentert med betalingsdokumentasjon?",null,"BF § 5-1-6b",null,null,null,null,null,null,null,null,null,null,null,null,null,null,"Her var spørsmålsstillingen skrevet feil. Ingen faglig endring, derfor ikke lagt inn som endring"]
[{"$f":"+A184+1","v":108},"Inneholder betalingsdokumentasjonen alle opplysningene som nevnt i §5-1-1 nr 2 - 5?"]
[null,"Utstedelse av salgsdokument ved formidling"]
[{"$f":"+A185+1","v":109},"Har formidler oversendt en gjenpart av salgsdokumentet til selger når formidleren har utstedet ett salgsdokument på vegne av selger? ",null,"BF § 5-2-1a"]
[{"$f":"+A187+1","v":110},"Formidler kan likevel utstede avregning til selger for dennes del av salget.\n- Inneholder slik avregning til den enkelte selger opplysningene som er angitt i salgsdokumentet til kjøper?"]
[null,"Oversendelse av salgsdokument eller avregning til selger kan unnlates dersom selger utsteder et særskilt salgsdokument til formidler, på grunnlag av en skriftlig undertegnet avtale om dette."]
[{"$f":"+A188+1","v":111},"- Fremgår det av avtalen at dette gjelder formidling?"]
[{"$f":"+A190+1","v":112},"- Oppbevares avtalen av både selger og formidler?"]
[{"$f":"+A191+1","v":113},"- Er selgers salgsdokumentasjon tydelig merket \"Formidling - ikke kjøpsdokumentasjon\" og har en henvisnig til avtalen?"]
[null,"Kreditnota - bonus for varekjøp utbetalt via et mellomledd"]
[null,"Bonus for varekjøp utbetalt via et mellomledd (kjedeforening, medlemsforening e.l.) kan avgifts- og bokføringsmessig håndteres på samme måte som formidling av varer og tjenester. Salgsdokumentene (kreditnotaene) mellom partene må da tilpasses iht. Dette. Dersom dette er tilfelle for mellomleddet:",null,"Skds uttalelse\n24.02.2020"]
[{"$f":"+A192+1","v":114},"Når mellomleddet utsteder kreditnota til medlemmene på vegne av leverandørene, fremgår det hvilken leverandør dette gjelder, med angivelse av navn og organisasjonsnummer etterfulgt av bokstavene MVA?"]
[{"$f":"+A195+1","v":115},"Oppbevarer mellomleddet dokumentasjon som viser hvordan mottatt bonus fra leverandørene fordeles på medlemmene, som del av sin dokumentasjon for bokføringen av bonus til medlemmene?"]
[null,"Oversendelse av salgsdokument"]
[{"$f":"+A196+1","v":116},"Oversendes salgsdokumentet uoppfordret til kjøper med mindre annet fremgår av skriftlig, undertegnet avtale mellom partene eller er bestemt i lov eller forskrift?",null,"BF § 5-2-1 4. ledd"]
[null,"Filformat ved elektronisk utstedelse av salgsdokumenter"]
[{"$f":"+A198+1","v":117},"Er elektroniske salgsdokumenter utsted i et filformat som ikke enkelt lar seg redigere i et allment kjent sluttbrukerverktøy for tekstbehandling, regneark, e-post mv uten at endringen fremgår direkte av salgsdokumentet?",null,"BF § 5-2-9"]
[null,"Forbud mot forskuddsfakturering",null,null,null,null,null,null,null,null,null,null,null,null,null,null,null,null,"Overskriften er endret fra \"Forskuddsfakturering\" til \"Forbud mot forskuddsfakturering\" - for å lettere få fram at det finnes unntak fra dette forbudet. Ikke noe faglig endring, derfor ikke lagt inn som endring i endringssjekklisten"]
[{"$f":"+A200+1","v":118},"Er salgsdokument for alle leveranser, med unntak som nevnt nedenfor, først utstedt inklusive merverdiavgift etter at den avgiftspliktige varen eller tjenesten er levert? \n\n ",null,"BF § 5-2-6\nGBS 13\nSkds uttalelse 18. mai 2006, 3. mai 2007, 23. mai 2007, 9. februar 2010 og 20. juni 2011",{"$f":"IF(I202<>\"\",1,0)","v":0},0,0,{"$f":"IF(SUM(E202:G202)>1,\"Velg kun et alt.\",\"\")","v":""},null,null,null,null,null,{"$f":"IF(J202<>\"\",\"Du har satt X for at forholdet ikke er avklart. Gi en nærmere foklaring i kommentarfeltet.\",\"\")","v":""},null,null,null,null,"veiledningstekst fra dette spørsmålet er flyttet ned til egne linjer og omarbeidet ihht forskriftsendring"]
[null,"Unntak fra forbudet mot forskuddsfakturering:",null,null,null,null,null,null,null,null,null,null,null,null,null,null,null,null,"lagt inn ny overskrift for å få fram at dette er unntak fra forbudet"]
[null,"Salgsdokument for persontransport, servering, abonnementer, leier, avgifter og lignende, adgang til museer, gallerier, fornøyelsesparker, opplevelsessentre og rett til å overvære idrettsarrangementer kan utstedes før levering har funnet sted, begrenset til en periode på ett år. Salgsdokumentet skal så vidt mulig utstedes innenfor det kalenderår levering finner sted. ",null,"BF § 5-2-6, 1. ledd",null,null,null,null,null,null,null,null,null,null,null,null,null,null,"Ingen endring i tekst, er kun flyttet fra spørsmål 117"]
[null,"Varer og tjenester som er unntatt fra merverdiavgiftsloven kan forskuddsfaktureres.",null,"BF § 5-2-6, 2. ledd",null,null,null,null,null,null,null,null,null,null,null,null,null,null,"forskriftsendring som presiserer unntak og fritak"]
[null,"Varer og tjenester som er fritatt for merverdiavgift kan forskuddsfaktureres dersom avgiftsfritaket kan dokumenteres etter bestemmelene i merverdiavgiftsforskriften kapittel 6 på det tidspunktet salgsdokumentet utstedes",null,"BF § 5-2-6, 2. ledd",null,null,null,null,null,null,null,null,null,null,null,null,null,null,"forskriftsendring som presiserer unntak og fritak"]
[null,"Skattedirektoratet kan etter søknad i særlige tilfelle tillate at det utstedes salgsdokument inklusiv merverdiavgift for andre typer leveranser før den avgiftpliktige varen eller tjenesten er levert.",null,"BF § 5-2-8, 2. ledd",0,0,0,{"$f":"IF(SUM(E207:G207)>1,\"Velg kun et alt.\",\"\")","v":""},null,null,null,null,null,{"$f":"IF(J207<>\"\",\"Du har satt X for at forholdet ikke er avklart. Gi en nærmere foklaring i kommentarfeltet.\",\"\")","v":""}]
[null,"Kreditnota\n",null,null,0,0,0,{"$f":"IF(SUM(E208:G208)>1,\"Velg kun et alt.\",\"\")","v":""},null,null,null,null,null,{"$f":"IF(J208<>\"\",\"Du har satt X for at forholdet ikke er avklart. Gi en nærmere foklaring i kommentarfeltet.\",\"\")","v":""}]
[{"$f":"+A202+1","v":119},"Er det utstedt kreditnota som reverserer opprinnelig salgsdokument, når det er utstedt nytt salgsdokument til erstatning for allerede avsendt salgsdokument?",null,"BF § 5-2-7\nGBS 1\n",0,0,0,{"$f":"IF(SUM(E209:G209)>1,\"Velg kun et alt.\",\"\")","v":""},null,null,null,null,null,{"$f":"IF(J209<>\"\",\"Du har satt X for at forholdet ikke er avklart. Gi en nærmere foklaring i kommentarfeltet.\",\"\")","v":""}]
[null,"Dokumentasjon av kontantsalg"]
[null,"Definisjoner:\nKontantsalg: salg av varer og tjenester der kjøpers betalingsforpliktelse overfor selger gjøres opp ved levering, ved bruk av betalingskort eller kontanter som betalingsmiddel. Salg over internett eller ved oppkrav anses ikke som kontantsalg.\nBetalingskort: debetkort, kredittkort og faktureringskort\nKontanter: andre betalingsmidler enn betalingskort"]
[null,"Kassasystem: kassaapparat eller annet elektronisk system for registrering av kontantsalg og utskrift av salgskvittering.\nKassaskuff: oppbevaringsplass for betalingsmiddel som registreres i et kassasystem,\nKassapunkt: en enhet innen et kassasystem som kan avslutte et kontantsalg ved å beordre utskrift av en salgskvittering,"]
[null,"Kassasystemets ID-nummer: en unik identifikator for kassasystemet,\nSkuffeåpning (nullinnslag): integrert kassaskuff åpnes uten at det har skjedd noen registrering av kontantsalg eller tilbakebetaling,"]
[null,"Salgskvittering: utskrift fra kassasystem som viser gjennomført kontantsalgstransaksjon,\nReturkvittering: utskrift fra kassasystemet som viser at tidligere utskrevet salgskvittering inneholder feilaktige opplysninger eller opplysninger om tilbakebetaling for prisjusterte eller returnerte varer eller tjenester,\nUtleveringskvittering: bekreftelse for kredittsalg,"]
[null,"Løpende anvendelse: all bruk av kassasystemet, blant annet registrering av salg mv. og utskrift av kvitteringer som nevnt i bokstavene i til k, endring av priser, korreksjoner, skuffeåpninger (nullinnslag), utskrift av rapporter og lignende, samt endringer av programvare og midlertidig tilkobling av ekstern programvare,\nElektronisk journal: dokumentasjon av den løpende anvendelsen av kassasystemet i elektronisk form."]
[null,"Z-rapport: sammenstilling av dagens registreringer i kassasystemet,\nX-rapport: sammenstilling av registreringer i kassasystemet siden forrige Z-rapport."]
[null,"Integrert betalingsløsning: løsninger hvor informasjon om salget, beløp mv sendes fra kassasystemet til betalingsløsningen, betalingen registreres automatisk i kassasystemet og betalingsmiddelet er annet enn sedler og mynter."]
[{"$f":"+A209+1","v":120},"Blir det kun benyttet kassasystemer som det foreligger produkterklæring for etter kassasystemlova § 5?",null,"BL § 10 a\nBF § 5-3-3",{"$f":"IF(I218<>\"\",1,0)","v":0},0,0,{"$f":"IF(SUM(E218:G218)>1,\"Velg kun et alt.\",\"\")","v":""}]
[null,"Skattedirektoratet kan i særlige tilfeller etter søknad gi unntak fra kravet til kassasystem.",null,"BF § 5-4-7",0,0,0,{"$f":"IF(SUM(E219:G219)>1,\"Velg kun et alt.\",\"\")","v":""},null,null,null,null,null,{"$f":"IF(J219<>\"\",\"Du har satt X for at forholdet ikke er avklart. Gi en nærmere foklaring i kommentarfeltet.\",\"\")","v":""}]
[null,"Bruk av kassaskuff",null,"BF § 5-3-4"]
[{"$f":"+A218+1","v":121},"Oppbevares kontanter i interert kassaskuff, så lenge ingen av unntakene omtalt nedenfor er aktuelle?",null,"BF § 5-3-4"]
[null,"Unntak 1: Dersom kontantsalget blir registrert i kassasystemet på den enkelte operatør, og betaling ikke skjer ved et fast kassapunkt, kan operatøren likevel benytte pengebelte eller lignende for å oppbevare kontanter fra virksomheten. \nUnntak 2: Dersom beordring av salgskvittering ikke skjer fra et fast kassapunkt og salget blir registrert på den enkelte operatør, kan det benyttes et kassasystem der kassapunktet ikke har integrert kassaskuff.\nUnntak 3: For kassapunkt der det ikke er mulig å betale med sedler og mynter, kan det benyttes et kassasystem der kassapunktet ikke har integrert kassaskuff."]
[{"$f":"+A221+1","v":122},"Blir integrert kassaskuff lukket umiddelbart etter at betaling for kontantsalget er mottatt, samt etter at kassaskuffen har vært åpnet for andre formål som veksling eller inn- og utbetalinger?",null,"BF § 5-3-4"]
[{"$f":"+A223+1","v":123},"Dersom flere bokføringspliktige bruker felles kassasystem, jf. § 5-3-9, bruker minst en av dem integrert kassaskuff for oppbevaring av betalingsmidlene?",null,"BF § 5-3-4"]
[{"$f":"+A224+1","v":124},"Dersom det ikke er mulig å holde betalingsmidlene fra flere bokføringspliktige brukere adskilt i kassaskuffen, oppbevarer øvrige brukere betalingsmidlene i egne kassaskuffer?",null,"BF § 5-3-4"]
[null,"Registreringer i kassasystemet"]
[{"$f":"+A225+1","v":125},"Er kontantsalg (dersom ikke unntakene under spørsmål 171-180 gjelder) registrert fortløpende i et kassasystem med produkterklæring som tilfredsstiller kravene i kassasystemlova og kassasystemforskrifta?",null,"BF § 5-3\nBF § 5-3-2, 1.ledd\nGBS 2\nGBS 16\nGBS 17",{"$f":"IF(I227<>\"\",1,0)","v":0},{"$f":"IF(J227<>\"\",1,0)","v":0},{"$f":"IF(K227<>\"\",1,0)","v":0},{"$f":"IF(SUM(E227:G227)>1,\"Velg kun et alt.\",\"\")","v":""},null,null,null,null,null,{"$f":"IF(J227<>\"\",\"Du har satt X for at forholdet ikke er avklart. Gi en nærmere foklaring i kommentarfeltet.\",\"\")","v":""},null,null,null,null,null,"intern henvisning"]
[{"$f":"+A227+1","v":126},"Er også all annen løpende anvendelse av kassasystemet registrert fortløpende i kassasystemet?",null,"BF § 5-3-2"]
[{"$f":"+A228+1","v":127},"Omfatter registreringen i kassasystemet all den informasjon som kreves spesifisert på X-rapport, Z-rapport og kvitteringer etter kassasystemforskrifta § 2-8?",null,"BF § 5-3-2"]
[{"$f":"+A229+1","v":128},"Hvis systemet har funksjon for å registrere kontantsalget på den enkelte operatør, og operatøren oppbevarer kontantene i eget pengebelte eller lignende, er kontantsalget registrert på den enkelte operatør?",null,"BF § 5-3-2"]
[null,"Tips"]
[{"$f":"+A230+1","v":129},"Alt. 1: Hvis kassasystemet har funksjonalitet for det kan tips registreres særskilt i kassasystemet, og kontanttips oppbevares i kassaskuffen:\n- Omfatter registreringen også tips betalt med betalingskort?",null,"BF § 5-3-2, 3. ledd"]
[{"$f":"+A232+1","v":130},"Alt 2: Hvis tips ikke registreres særskilt på kassasystemet:\n- Oppbevares kontanttips utenom kassaskuffen?",null,"BF § 5-3-2, 3. ledd"]
[null,"Utskrift av salgskvittering"]
[{"$f":"+A233+1","v":131},"Dersom det ikke benyttes en integrert betalingsløsning i forbindelse med salget og/eller kunden ikke ønsker kvittering:\nSkrives det ved hvert salg ut en salgskvittering fra kassasystemet som fremlegges for kunden?",null,"BF 5-3-5"]
[null,"Kravet til utskrift av salgskvittering gjelder ikke ved salg fra automater hvor automaten har en funksjon som gjør det frivillig for kunden å ta ut salgskvittering.",null,"BF 5-4-3, 2. ledd"]
[{"$f":"+A235+1","v":132},"Dersom kassasystemet også brukes til å registrere kredittsalg som blir fakturert på et senere tidspunkt, skrives det ut en utleveringskvittering?",null,"BF 5-3-5"]
[null,"Salgskvittering og utleveringskvittering kan sendes kunden elektronisk. ",null,"BF 5-3-5"]
[null,"Krav til dokumentasjon av returer"]
[{"$f":"+A237+1","v":133},"Skrives det ut en særskilt returkvittering ved returer?",null,"BF 5-3-6"]
[null,"Ved returer hvor det samtidig skjer en ny salgstransaksjon kan returen fremgå av salgskvitteringen. "]
[{"$f":"+A240+1","v":134},"Dersom det er registrert feil betalingsmiddel på salgskvittering, er det enten;\n- tatt ut returkvittering som korrigerer feilen og ny salgskvittering med angivelse av rett betalingsmiddel, eller\n- tatt ut en kvittering som har referanse til salgskvitteringens nummer og som kun viser endringen av betalingsmiddel. "]
[{"$f":"+A242+1","v":135},"Blir dokumentasjonen vedrørende feil betalingsmiddel skrevet ut og tilbydt kunden?"]
[null,"Krav til dokumentasjon av andre korreksjonsposter",null,"BF § 5-3-7"]
[{"$f":"+A243+1","v":136},"Foreligger det dokumentasjon av korreksjonsposter med angivelse av beløp og årsak?"]
[{"$f":"+A245+1","v":137},"Dersom korreksjonen gjelder tidligere registrert salg, foreligger det ytterligere dokumentasjon som underbygger korreksjonen?\nDersom korreksjonen gjelder tidligere salg foreligger det  også signatur fra kunden ved tilbakebetaling?"]
[{"$f":"+A246+1","v":138},"Er tilbakebetaling til kunde, herunder ved returer, dokumentert med kundens signatur og telefonnummer?"]
[null,"Registrering av vekselkasse og krav til dokumentasjon ved uttak av kontanter",null,"BF § 5-3-8"]
[{"$f":"+A247+1","v":139},"Blir vekselkasser registrert i kassasystemet ved salgsdagens begynnelse?"]
[{"$f":"+A249+1","v":140},"Blir uttak av kontanter fra kassaskuffen i løpet av dagen dokumentert særskilt?"]
[{"$f":"+A250+1","v":141},"Inneholder dokumentasjonen minst følgende opplysninger:\na) Dato og klokkeslett\nb) Beløp\nc) Hvem som har gjort uttaket"]
[{"$f":"+A251+1","v":142},"Blir dokumentasjonen oppbevart i kassaskuffen?"]
[null,"Bruk av felles kassasystem",null,"BF § 5-3-9"]
[null,"Flere bokføringspliktige kan benytte felles kassasystem hvis kassasystemet er tilrettelagt for dette, jf. Kassasystemforskrifta § 2-5, 5. ledd."]
[{"$f":"+A252+1","v":143},"Dersom flere bokføringspliktige benytter felles kassasystem, er betalingsmidlene holdt adskilt?"]
[{"$f":"+A255+1","v":144},"Er det foretatt individuelle dagsoppgjør?"]
[null,"Overføring av opplysninger til annet oppbevaringsmedium",null,"BF § 5-3-10"]
[{"$f":"+A256+1","v":145},"Dersom lagringsminnet på kassasystemet er fullt, blir opplysningene i elektronisk journal umiddelbart overført til annet elektronisk lagringsmedium, jf. Kassasystemforskrifta § 2-7, 1. ledd?"]
[null,"Reserveløsninger",null,"BF § 5-3-11"]
[{"$f":"+A258+1","v":146},"Dersom det oppstår feil i et kassasystem, og feilen medfører at kravene i kassasystemlova § 3 eller kassassystemforskrifta §§ 2-1 til 2-8 ikke oppfylles, blir feilen rettet uten ugrunnet opphold?"]
[{"$f":"+A260+1","v":147},"Inntil feilen blir rettet, tar den bokføringspliktige i bruk hensiktsmessige reserveløsninger?"]
[null,"Krav til innhold i salgsdokumentet mv."]
[{"$f":"+A261+1","v":148},"Kan kassasystemet skrive salgsdokumentasjon (kvittering) til kunden for hvert salg?",null,"BF § 5-3-12",null,{"$f":"IF(I263<>\"\",1,0)","v":0},{"$f":"IF(J263<>\"\",1,0)","v":0},{"$f":"IF(SUM(E263:G263)>1,\"Velg kun et alt.\",\"\")","v":""}]
[{"$f":"+A263+1","v":149},"Er beløpet som registreres på kassasystem med display lett synlig for kunden, med mindre det er vanskelig gjennomførbart?"]
[null,"Inneholder salgskvitteringen, med de unntak som er nevnt nedenfor, de opplysninger som følger av;"]
[{"$f":"+A264+1","v":150},"- delkapittel § 5-1 (se spørsmål 74 til 94)",null,null,null,null,null,null,null,null,null,null,null,null,null,null,null,null,null,"intern henvisning"]
[{"$f":"+A266+1","v":151},"- kassasystemforskrifta § 2-8-4:\n* type betalingsmiddel \n* ID-nummeret til kassapunktet\n* ordet \"Salgskvittering\", evt. \"Elektronisk salgskvittering\"øverst på kvitteringen\n* Dersom betalingsløsningen er integrert med kassasystemet; transaksjons-ID"]
[null,"Plikten til nummering av salgsbilag ved kontantsalg gjelder ikke for konkursbo nevnt i § 1-1.",null,"BF § 5-4-6",{"$f":"IF(I268<>\"\",1,0)","v":0},{"$f":"IF(J268<>\"\",1,0)","v":0},{"$f":"IF(K268<>\"\",1,0)","v":0},{"$f":"IF(SUM(E268:G268)>1,\"Velg kun et alt.\",\"\")","v":""},null,null,null,null,null,{"$f":"IF(J268<>\"\",\"Du har satt X for at forholdet ikke er avklart. Gi en nærmere foklaring i kommentarfeltet.\",\"\")","v":""}]
[{"$f":"+A267+1","v":152},"Angir salgskvitteringen klokkeslett for salget?",null,"BF § 5-3-12"]
[null,"Dokumentasjon av hver enkelt salgstransaksjon mv. ",null,"BF § 5-3-13"]
[{"$f":"+A269+1","v":153},"Blir registrert kontantsalg og annen løpende anvendelse av kassasystemet dokumentert med elektronisk journal?"]
[null,"Dagsoppgjør"]
[{"$f":"+A271+1","v":154},"Blir det ved dagens slutt utarbeidet en Z-rapport fra hvert enkelt kassapunkt?",null,"BF 5-3-14\nSkds uttalelse 24. febr 2009",{"$f":"IF(I273<>\"\",1,0)","v":0},{"$f":"IF(J273<>\"\",1,0)","v":0},{"$f":"IF(K273<>\"\",1,0)","v":0},{"$f":"IF(SUM(E273:G273)>1,\"Velg kun et alt.\",\"\")","v":""},null,null,null,null,null,{"$f":"IF(J273<>\"\",\"Du har satt X for at forholdet ikke er avklart. Gi en nærmere foklaring i kommentarfeltet.\",\"\")","v":""}]
[{"$f":"+A273+1","v":155},"Er Z-rapporten enten skrevet ut på papir eller lagret elektronisk i kassasystemet slik at den til enhver tid kan skrives ut på papir?",null,"BF 5-3-14"]
[{"$f":"+A274+1","v":156},"Blir det ved dagens slutt utarbeidet rapport fra hver enkelt betalingsterminal over de betalinger og uttak som er registrert?",null,"BF 5-3-14, 2. ledd"]
[157,"I rapporten fra hver enkelt betalingsterminal, fremgår tips særskilt?",null,"BF 5-3-14, 2. ledd"]
[158,"Er rapportene fra hver enkelt betalingsterminal nummerert fortløpende med maskinelt tildelte nummer?",null,"BF 5-3-14, 2. ledd"]
[159,"Blir kontantbeholdningen opptelt daglig og sammenholdt med opplysningene på Z-rapportene?",null,"BF § 5-3-14, 3. ledd"]
[160,"Blir opplysningene fra betalingsterminal om betalinger ved bruk av betalingskort sammenholdt med tilsvarende opplysninger på Z-rapport?",null,"BF § 5-3-14, 3. ledd"]
[{"$f":"+A279+1","v":161},"Er eventuelle differanser mellom rapport fra betalingsterminal og Z-rapport forklart?",null,"BF § 5-3-14, 3. ledd",{"$f":"IF(I280<>\"\",1,0)","v":0},{"$f":"IF(J280<>\"\",1,0)","v":0},{"$f":"IF(K280<>\"\",1,0)","v":0},{"$f":"IF(SUM(E280:G280)>1,\"Velg kun et alt.\",\"\")","v":""},null,null,null,null,null,{"$f":"IF(J280<>\"\",\"Du har satt X for at forholdet ikke er avklart. Gi en nærmere foklaring i kommentarfeltet.\",\"\")","v":""}]
[162,"Er avstemmingen foretatt for det enkelte kassapunkt?",null,"BF § 5-3-14, 3. ledd",{"$f":"IF(I281<>\"\",1,0)","v":0},0,0,"",null,null,null,null,null,{"$f":"IF(J281<>\"\",\"Du har satt X for at forholdet ikke er avklart. Gi en nærmere foklaring i kommentarfeltet.\",\"\")","v":""}]
[163,"Dersom kassapunktene betjenes av flere operatører som har egen kassaskuff, er avstemmingen foretatt for hver enkelt operatør?",null,"BF § 5-3-14, 3. ledd",{"$f":"IF(I282<>\"\",1,0)","v":0},0,0,"",null,null,null,null,null,{"$f":"IF(J282<>\"\",\"Du har satt X for at forholdet ikke er avklart. Gi en nærmere foklaring i kommentarfeltet.\",\"\")","v":""}]
[164,"Dersom tips ikke registreres på kassasystemet, telles kontanttips opp særskilt, og fremgår det av dagsoppgjøret?",null,"BF § 5-3-14, 4. ledd"]
[165,"Er dagsoppgjørene datert, og fremgår det hvem som har foretatt opptelling av kontantbeholdningen og avstemt kontantsalget?",null,"BF § 5-3-14, 5. ledd",{"$f":"IF(I284<>\"\",1,0)","v":0},0,0,"",null,null,null,null,null,{"$f":"IF(J284<>\"\",\"Du har satt X for at forholdet ikke er avklart. Gi en nærmere foklaring i kommentarfeltet.\",\"\")","v":""}]
[null,"Oppbevaring og tilgjengelighet",null,"BF § 5-3-15"]
[{"$f":"+A284+1","v":166},"Oppbevares Z-rapporter og rapporter fra betalingsterminal sammen med avstemmingen av kontantsalget?"]
[{"$f":"+A286+1","v":167},"Befinner kassasystemet seg i sin helhet i Norge?"]
[{"$f":"+A287+1","v":168},"Oppbevares elektronisk journal seg til enhver tid i Norge?"]
[null,"Kassasystemet kan bringes midlertidig ut av Norge når dette skjer som ledd i registrering av kontantsalg mv. om bord på et transportmiddel til eller fra utlandet."]
[{"$f":"+A288+1","v":169},"Er opplysningene tilgjengelige elektronisk i hele oppbevaringstiden?"]
[{"$f":"+A290+1","v":170},"Er systembeskrivelse som nevnt i kassasystemlova § 3, 2. ledd oppbevart slik at den er lett tilgjengelig for offentlige myndigheter?"]
[null,"Ambulerende og sporadisk kontantsalg"]
[null,"For bokføringspliktig som driver ambulerende eller sporadisk kontantsalg under 3 G, samt andre bokføringspliktige med kontantsalg fra fast driftssted som ikke overstiger kr 50.000 eksklusive merverdiavgift i løpet av et regnskapsår, gjelder ikke kravene til registrering i kassasystem i BF § 5-3-2. ",null,"BF § 5-4-1 "]
[null,null,null,"Skds uttalelse 11.11.2020"]
[{"$f":"+A291+1","v":171},"Har bokføringspliktig som driver ambulerende eller sporadisk kontantsalg under 3 G, eller bokføringspliktige med kontantsalg som ikke overstiger kr 50.000 eksklusive merverdiavgift i løpet av et regnskapsår, dokumentert kontantsalget på en av følgende måter:\n• Fortløpende i innbundet bok der sidene er forhåndsnummerert?\n• Ved gjenpart av daterte forhåndsnummererte salgsbilag?\n• Ved bruk av forhåndsnummererte billetter?\n• Ved oppstilling over ut og innleverte varer og kontanter, der oppstillingen er datert og signert?",null,"BF § 5-4-1\nSkds uttalelser 4. og 10. jan 2006",{"$f":"IF(I295<>\"\",1,0)","v":0},0,0,"",null,null,null,null,null,{"$f":"IF(J295<>\"\",\"Du har satt X for at forholdet ikke er avklart. Gi en nærmere foklaring i kommentarfeltet.\",\"\")","v":""}]
[{"$f":"+A295+1","v":172},"Er det foretatt en daglig opptelling av kassabeholdningen som er sammenholdt mot salgsdokumentasjonen?",null,"BF § 5-4-5"]
[{"$f":"+A296+1","v":173},"Viser dokumentasjonen ut- og innleverte kontanter, og er oppgjørene opptelt, det foreligger forklaring på avvik og oppgjørene signert av to personer?",null,"\nBF § 5-4-1 \nBF § 5-4-5",{"$f":"IF(I297<>\"\",1,0)","v":0},0,0,"",null,null,null,null,null,{"$f":"IF(J297<>\"\",\"Du har satt X for at forholdet ikke er avklart. Gi en nærmere foklaring i kommentarfeltet.\",\"\")","v":""}]
[null,"Bruk av kontantfaktura"]
[null,"Kontantsalg kreves ikke registrert i et kassasystem dersom den bokføringspliktige utsteder salgsdokument (kontantfaktura) i samsvar med delkapittel 5-1.",null,"§ 5-4-1, 3. ledd"]
[null,"For veiledning om hvem som kan benytte unntaket om kontantfaktura, se Skattedirektoratets prinsipputtalelse 07.01.2019.",null,"Uttalelse 2019-01-07"]
[{"$f":"+A297+1","v":174},"Dersom den bokføringspliktige utsteder kontantfaktura istedenfor å registrere kontantsalget i et kassasystem, er kontantfakturaen utstedt i samsvar med bestemmelsene i bokføringsforskriften delkapittel 5-1?",null,"§ 5-4-1, 3. ledd"]
[null," Idrettsarrangementer, konserter og lignende"]
[{"$f":"+A301+1","v":175},"Ved oppsøkende salg til publikum på idrettsarrangementer, konserter og lignende, er daglig salg fra hver enkelt selger registrert som ett beløp på kassasystemet?",null,"BF § 5-4-2",{"$f":"IF(I303<>\"\",1,0)","v":0},0,0,{"$f":"IF(SUM(E303:G303)>1,\"Velg kun et alt.\",\"\")","v":""},null,null,null,null,null,{"$f":"IF(J303<>\"\",\"Du har satt X for at forholdet ikke er avklart. Gi en nærmere foklaring i kommentarfeltet.\",\"\")","v":""}]
[{"$f":"+A303+1","v":176},"Viser dokumentasjonen ut- og innleverte varer og kontanter, og er oppgjørene opptelt, det foreligger forklaring på avvik og oppgjørene signert av to personer?",null,"BF § 5-4-2 \nBF § 5-4-5",0,0,0,{"$f":"IF(SUM(E304:G304)>1,\"Velg kun et alt.\",\"\")","v":""},null,null,null,null,null,{"$f":"IF(J304<>\"\",\"Du har satt X for at forholdet ikke er avklart. Gi en nærmere foklaring i kommentarfeltet.\",\"\")","v":""}]
[null,"Ubetjente salgssteder"]
[null,"Salg fra automater kan dokumenteres etter unntaksregel i BF § 5-4-3, se spørsmål nedenfor, dette gjelder imidlertid ikke for drivstoff-, parkering- og billettautomater og andre automater med funksjonalitet til å skrive salgskvittering. \nKravet til utskrift av salgskvittering i § 5-3-5 gjelder likevel ikke dersom automaten har en funksjon som gjør det frivillig for kunden å ta ut salgskvittering."]
[{"$f":"+A304+1","v":177},"Ved salg fra automater er det utført avstemming mellom opptelte kontanter og registert salg fra automatens telleverk eller beregnet salg fra andre registerte opplysninger i automaten?",null,"BF § 5-4-3"]
[{"$f":"+A307+1","v":178},"Dersom automaten ikke registerer salgsopplysninger kan salget dokumenteres med lister som viser beregnet salg ut fra endring i varebeholdning?"]
[{"$f":"+A308+1","v":179},"Ved salg fra andre ubetjente salgsteder enn automater, er kontantsalget dokumentert på en av følgende måter:\n•  forhåndsnummererte konvolutter\n•  elektronisk salgsrapport som viser alle transaksjoner enkeltvis\n•  Forløpende i innbudet bok der sidene er forhåndsnummerert?\n•  Lister som viser beregnet salg ut fra endring i varebeholdningen?",null,"BF § 5-4-4"]
[{"$f":"+A309+1","v":180},"Inneholder dokumentasjon opplysninger om ytelsens art og omfang, dato og vederlag?\nDette kravet gjelder ikke dersom det er dokumentert med lister som viser beregnet salg ut fra endring i varebeholdning."]
[null,"Dokumentasjon av kjøp"]
[{"$f":"+A310+1","v":181},"Er kjøp dokumentert med det salgsdokument som selger har utstedt?",null,"BF § 5-5, 1. ledd\nSkds uttalelse 5. febr 2007",{"$f":"IF(I312<>\"\",1,0)","v":0},0,0,"",null,null,null,null,null,""]
[{"$f":"+A312+1","v":182},"Inneholder dokumentasjonen alle opplysningene som fremgår av delkapittel 5-1 og § 5-3-12, se spørsmål 74-94?",null,null,{"$f":"IF(I313<>\"\",1,0)","v":0},0,0,"",null,null,null,null,null,"",null,null,null,null,null,"intern henvisning"]
[null,"Dersom kjøpet er betalt med den bokføringspliktiges betalingskort gjelder ikke kravet om angivelse av kjøper på kjøp som overstiger kr 1.000 inkl mva.",null,"BF § 5-5-1, 2. ledd"]
[{"$f":"+A313+1","v":183},"Dersom kjøpers navn ikke er angitt (ved salg fra detaljist og vederlaget er lavere enn kr 1 000 inklusiv merverdiavgift) eller kan identifiseres gjennom bruk av betalingskort, har den som har foretatt kjøpet påført formålet eller bruksområdet for varene eller tjenestene?",null,"BF § 5-5-1. 2.ledd",{"$f":"IF(I315<>\"\",1,0)","v":0},0,0,"",null,null,null,null,null,""]
[184,"Når kjøpers navn er utelatt, er dokumentasjonen datert og signert?",null,null,{"$f":"IF(I316<>\"\",1,0)","v":0},0,0,"",null,null,null,null,null,""]
[185,"Hvis en ansatt kjøper på vegne av sin bokføringspliktige arbeidsgiver og:\n• Vederlaget er over kr 1000 inkl mva og varen eller tjenesten er beregnet for videresalg\n• vederlaget er over kr 1000 inkl mva og varen eller tjenesten er direkte innsatsfaktor i vare- eller tjenesteproduksjon,\nInnholder kjøpsdokumentasjonen en avgivelse av kjøper (arbeidsgiver)?\n",null,"BF § 5-5-1. 4.ledd"]
[186,"Ved andre typer kjøp utført av en ansatt har den ansatte i slike tilfeller utarbeidet og signert en datert oppstilling som viser hvilke kjøp som er foretatt og formålet eller bruksområdet for varene og tjenestene?"]
[187,"Er dokumentasjonen ved slike kjøp i samsvar med aktuelle regler i kapittel 5 i forskrift 21. desember 2007 nr. 1766 til utfylling og gjennomføring mv. av skattebetalingsloven?",null,"BF § 5-5-1. 4.ledd"]
[null,"Dokumentasjon av merverdiavgift, toll og særavgifter ved innførsel av varer"]
[{"$f":"+A319+1","v":188},"Er grunnlaget for beregning av merverdiavgift ved innførsel av varer, grunnlaget for varer det ikke skal beregnes merverdiavgift av, tollavgift og særavgifter dokumentert med innførselsdeklarasjon og grunnlagsdokumenter knyttet til slik deklarasjon, jf. § 7-5-1 første ledd i forskrift 27.10.2022 nr 1901 om inn- og utførsel av varer?",null,"BF § 5-5-2",null,null,null,null,null,null,null,null,null,null,null,null,null,null,"Disse endringene var allerede hensyntatt ihht høringen fra 2016 samt ny forskrift om vareførsel fra 2022. Har kun justert litt på rekkefølgen ihht rekkefølgen i oppdatert høringsforslag. Altså ingen faglig endring, så legger ikke inn dette som endring"]
[{"$f":"+A321+1","v":189},"Foreligger det særskilt dokumentasjon som viser hvilke beløp som inngår i grunnlaget for beregning av merverdiavgift ved innførsel av varer og selve avgiften?",null,"BF § 5-5-2"]
[null,"Dokumentasjon av lønn mv."]
[{"$f":"+A322+1","v":190},"Viser dokumentasjonen lønn og andre oppgavepliktige ytelser, samt forskuddstrekk og utleggstrekk, pr. ansatt?",null,"BF § 5-6, 1. ledd",{"$f":"IF(I324<>\"\",1,0)","v":0},0,0,"",null,null,null,null,null,""]
[{"$f":"+A324+1","v":191},"Inneholder dokumentasjonen følgende opplysninger pr. ansatt:\na. Fødselsnummer?",null,null,0,0,0,"",null,null,null,null,null,""]
[{"$f":"+A325+1","v":192},"b. Navn?",null,null,0,0,0,"",null,null,null,null,null,"",null,null,null,null,"krav om å opplyse om stilling er fjernet ved forskriftsendring"]
[193,"c. Skattekommune?",null,null,0,0,0,"",null,null,null,null,null,""]
[194,"d. Tabellnummer og/eller den trekkprosent som står på skattekortet?",null,null,0,0,0,"",null,null,null,null,null,""]
[195,"Dersom skattekort ikke er gjort tilgjengelig for arbeidsgiver, viser dokumentasjonen navn og nummer på den kommunen hvor mottakeren av ytelsen oppgir at vedkommende var bosatt 1. november i året før trekkåret?",null,"BF § 5-6, 2. ledd",0,0,0,"",null,null,null,null,null,""]
[196,"Dersom mottaker av ytelsen er utenlandsk og ikke var bosatt i Norge 1. november i året før trekkåret, viser dokumentasjonen hvilken kommune vedkommende bosatte seg i ved ankomsten til Norge?",null,null,0,0,0,"",null,null,null,null,null,""]
[197,"Dersom arbeidsgiver har mottatt pålegg om trekk, viser dokumentasjonen:\na. Hvem som har utferdiget pålegget?",null,"BF § 5-6, 3. ledd",0,0,0,"",null,null,null,null,null,""]
[198,"b. Når pålegget er mottatt?",null,null,0,0,0,"",null,null,null,null,null,""]
[199,"c. Det beløp som skal dekkes ved trekket?",null,null,0,0,0,"",null,null,null,null,null,""]
[200,"d. Inntektsåret som pålegget om trekk gjelder? ",null,null,0,0,0,"",null,null,null,null,null,""]
[201,"e. Trekkprosenten eller det beløp som skal trekkes for hver utbetalingsperiode?",null,null,0,0,0,"",null,null,null,null,null,""]
[202,"For hver periode med pliktig regnskapsrapportering av forskuddstrekk og utleggstrekk, viser dokumentasjonen følgende opplysninger pr. ansatt:\na. Dato for utbetaling av ytelser og om mulig det tidsrom ytelsen knytter seg til?",null,"BF § 5-6, 4. ledd",0,0,0,"",null,null,null,null,null,""]
[{"$f":"+A336+1","v":203},"b. Brutto ytelse, hvis aktuelt med angivelse av antall godtgjorte timer?",null,null,0,0,0,"",null,null,null,null,null,""]
[204,"c. Eventuelt tillegg for naturalytelser som det skal foretas trekk i?",null,null,0,0,0,"",null,null,null,null,null,""]
[205,"d. Fradrag etter skattebetalingsloven § 5-9?",null,null,0,0,0,"",null,null,null,null,null,""]
[206,"e. Trekkgrunnlaget? ",null,null,0,0,0,"",null,null,null,null,null,""]
[207,"f. Størrelsen av det foretatte forskuddstrekk og utleggstrekk?",null,null,0,0,0,"",null,null,null,null,null,""]
[208,"Inneholder dokumentasjonen følgende opplysninger for ansatte som helt eller delvis godtgjøres basert på antall arbeidede timer:\na. Dato for utført arbeid?",null,"BF § 5-6, 5. ledd",0,0,0,"",null,null,null,null,null,""]
[209,"b. Antall timer den aktuelle dato?",null,null,0,0,0,"",null,null,null,null,null,""]
[210,"c. Sum timer for den aktuelle perioden?",null,null,0,0,0,"",null,null,null,null,null,""]
[211,"Er dokumentasjon av lønn mv. utstedt senest på det tidspunkt det er anledning til å få de aktuelle ytelsene utbetalt?",null,"BF § 5-6, 6. ledd",0,0,0,"",null,null,null,null,null,""]
[null,"Dokumentasjon av medgått tid"]
[{"$f":"+A345+1","v":212},"Har bokføringspliktige som utfører tjenester dokumentert utførte timer for hver eier og ansatt når det er en direkte sammenheng mellom vederlaget og tidsforbruket?",null,"BF § 5-14\nGBS 10\nSkds uttalelser 4. jan 2006, 21. mars 2006 og 15. september 2010",null,0,0,"",null,null,null,null,null,""]
[{"$f":"+A347+1","v":213},"Er timene spesifisert:\n- pr dag?\n- fordelt på intern tid og de enkelte kunder og oppdrag?"]
[{"$f":"+A348+1","v":214},"Er dokumentasjonen utarbeidet senest innen utløpet av den etterfølgende måned?"]
[null,"Med intern tid menes timer brukt på arbeidsoppgaver som ikke kan henføres til kunder eller oppdrag.\nBestemmelsene gjelder også i tilfeller hvor det er avtalt fast pris.\n\nIntern tid kan unnlates spesifisert dersom omfanget av tjenester hvor vederlaget er basert på timeforbruk, er ubetydelig. Dersom intern tid ikke spesifiseres, skal det dokumenteres at tjenestene hvor vederlaget er basert på medgått tid, er ubetydelig.\n\nBestemmelsene gjelder ikke eiere og ansatte som kun utfører internt, administrative hjelpeoppgaver. Gjelder heller ikke administrative enhter i konsern, ideelle organisasjoner og foreninger uten økonomisk formål som utelukkende leverer tjenester internt, og hvor vederlaget fastsettes på grunnlag av kostnadsfordeling. Slike skal dokumentere prisfastsettelsen på annen tilfredsstillende måte, og herunder dokumentere de vurderinger som er gjort med hensyn til hvilke kostnader som skal fordeles samt fordelingsnøkler og fordelingsmetode."]
[{"$f":"+A349+1","v":215},"Oppbevares dokumentasjonen i 3 år og 6 måneder etter regnskapsårets slutt?",null,"BF § 7-3, 2. ledd"]
[null,"Timebestillinger"]
[{"$f":"+A351+1","v":216},"Har bokføringspliktige som utfører tjenester etter bestilling, dokumentert timebestillingene?",null,"BF § 5-15\nGBS 2\n",{"$f":"IF(I353<>\"\",1,0)","v":0},0,0,"",null,null,null,null,null,""]
[{"$f":"+A353+1","v":217},"Omfatter dokumentasjonen tidspunkt for utførelsen av tjenesten og kundens navn, og dersom mulig hvem som skal utføre tjenesten?",null,null,{"$f":"IF(I354<>\"\",1,0)","v":0},0,0,"",null,null,null,null,null,""]
[{"$f":"+A354+1","v":218},"Fremgår det av dokumentasjonen hvilke timer som ikke er gjennomført?\nDersom en avbestilt time erstattes av en ny bestilling, skal den nye bestillingen fremgå av dokumentasjonen og den tidligere bestillingen kan fjernes.",null,null,{"$f":"IF(I355<>\"\",1,0)","v":0},0,0,"",null,null,null,null,null,""]
[null,"For bokføringspliktige som tar imot timebestillinger gjelder spørsmål 216 - 218 også timer som ikke er forhåndsbestilte",null,null,null,null,null,null,null,null,null,null,null,null,null,null,null,null,null,"intern henvisning"]
[{"$f":"+A355+1","v":219},"Oppbevares dokumentasjonen i 5 år  etter regnskapsårets slutt?",null,"BF § 7-3, 3. ledd"]
[null,"Uttak av eiendeler og tjenester til veldedige og allmennyttige institusjoner og organisasjoner"]
[{"$f":"+A357+1","v":220},"Ved uttak av eiendeler og tjenester til bruk som gave til veldedige og allmennyttige institusjoner og organisasjoner, inneholder dokumentasjonen alle opplysninger som angitt i spørsmål 74 -81?",null,"BF § 5-7",{"$f":"IF(I359<>\"\",1,0)","v":0},0,0,"",null,null,null,null,null,"",null,null,null,null,null,"intern henvisning"]
[{"$f":"+A359+1","v":221},"Inneholder dokumentasjonen i tillegg angivelse av virkelig verdi av eiendelen eller tjenesten og eventuelle kostnadsrefusjoner mottatt fra institusjonen eller organisasjonen?",null,null,{"$f":"IF(I360<>\"\",1,0)","v":0},0,0,"",null,null,null,null,null,""]
[{"$f":"+A360+1","v":222},"Er dokumentasjonen utarbeidet senest en måned etter at uttaket fant sted, eventuelt for avgiftspliktige som leverer årsoppgave senest i det kalenderåret uttaket fant sted?",null,"Skds uttalelse 25. febr 2009",{"$f":"IF(I361<>\"\",1,0)","v":0},0,0,"",null,null,null,null,null,""]
[null,"Dersom virkelig verdi av eiendelen eller tjenesten overstiger 2 G skal dokumentasjonen attesteres av revisor. Dersom virksomheten ikke er revisjonspliktig, skal dokumentasjonen attesteres av styrets leder eller annet medlem av styret eller tilsvarende ledelsesorgan.",null,null,{"$f":"IF(I362<>\"\",1,0)","v":0},0,0,"",null,null,null,null,null,""]
[null,"Uttak av eiendeler og tjenester til eiere, deltakere eller anvendelse i egen virksomhet"]
[{"$f":"+A361+1","v":223},"Ved uttak til eiere, deltakere eller anvendelse i egen virksomhet, inneholder dokumentasjonen alle opplysninger som angitt i spørsmål 74 - 81 så langt de passer?",null,"BF § 5-8, 1. ledd",{"$f":"IF(I364<>\"\",1,0)","v":0},0,0,"",null,null,null,null,null,"",null,null,null,null,null,"intern henvisning"]
[{"$f":"+A364+1","v":224},"Inneholder dokumentasjonen i tillegg angivelse av virkelig verdi av eiendelen eller tjenesten?",null,null,{"$f":"IF(I365<>\"\",1,0)","v":0},0,0,"",null,null,null,null,null,""]
[{"$f":"+A365+1","v":225},"Ved anvendelse av varer og tjenester til reparasjon av brukte kjøretøyer, jf. merverdiavgiftsloven § 6-7, er det dokumentert på hvilket objekt varene og tjenestene er benyttet? ",null,"BF 5-8, 2. ledd",{"$f":"IF(I366<>\"\",1,0)","v":0},0,0,"",null,null,null,null,null,"",null,null,null,null,"Dette er kun en endring i henvisning til mval § 6-7 istedenfor 6-6, vises derfor ikke som reell endring"]
[{"$f":"+A366+1","v":226},"Er dokumentasjonen utarbeidet senest en måned etter at uttaket fant sted, eventuelt for avgiftspliktige som leverer årsoppgave senest i det kalenderåret uttaket fant sted?",null,"Skds uttalelse 25. febr 2009",{"$f":"IF(I367<>\"\",1,0)","v":0},0,0,"",null,null,null,null,null,""]
[null,"Reise- og oppholdsutgifter"]
[null,"Scanning av bilag og elektronisk levering tillates fra 1. juli 2014.\nReisebeskrivelse fra reiseselskapet erstatter kvittering/billett ved tog- og flyreiser.",null,"Skattebetalings-forskriften § 5-6-11\nSKD 20.6.14"]
[{"$f":"+A367+1","v":227},"Inneholder dokumentasjon av reise- og oppholdsutgifter:\n• Hvem utgiftene omfatter?",null,"BF § 5-9\nSkds uttalelse 22. febr 2007\n",{"$f":"IF(I370<>\"\",1,0)","v":0},0,0,"",null,null,null,null,null,""]
[{"$f":"+A370+1","v":228},"• Hva formålet med reisen har vært?",null,null,{"$f":"IF(I371<>\"\",1,0)","v":0},0,0,"",null,null,null,null,null,""]
[{"$f":"+A371+1","v":229},"• Hvilke arrangement den reisende har deltatt på?",null,null,{"$f":"IF(I372<>\"\",1,0)","v":0},0,0,"",null,null,null,null,null,""]
[{"$f":"+A372+1","v":230},"Er det gjensidig henvisning mellom reisedokumentene dersom dokumentasjonen består av flere reisedokumenter?"]
[{"$f":"+A373+1","v":231},"Er dokumentasjonen i samsvar med aktuelle regler i kapittel 5 i forskrift 21. desember 2007 nr. 1766 til utfylling og gjennomføring mv. av skattebetalingsloven (skattebetalingsforskriften)?",null,null,{"$f":"IF(I374<>\"\",1,0)","v":0},0,0,"",null,null,null,null,null,""]
[null,"Bevertningsutgifter mv."]
[{"$f":"+A374+1","v":232},"Angir dokumentasjon av bevertningsutgifter formålet og hvem bevertningen omfatter? ",null,"BF § 5-10",{"$f":"IF(I376<>\"\",1,0)","v":0},0,0,"",null,null,null,null,null,""]
[null,"Dokumentasjon av betalingstransaksjoner"]
[{"$f":"+A376+1","v":233},"Viser dokumentasjon av betalingstransaksjoner betaler og mottaker, samt beløp og dokumentasjonsdato av betalingen?\n(Gjelder ikke betalinger vedrørende kontante kjøp og salg.)",null,"BF § 5-11\nNBS 7",{"$f":"IF(I378<>\"\",1,0)","v":0},0,0,"",null,null,null,null,null,""]
[null,"Papir- og trykkvalitet"]
[{"$f":"+A378+1","v":234},"Er dokumentasjonen utstedt med en papir- og trykkvalitet som sikrer lesbarheten i hele oppbevaringsperioden?",null,"BF § 5-13"]
[null,"Dokumentasjon av andre regnskapsmessige disposisjoner"]
[{"$f":"+A380+1","v":235},"Viser dokumentasjon av andre regnskapsmessige disposisjoner årsaken til at disposisjonen gjennomføres og bokføres?",null,"BF § 5-12",{"$f":"IF(I382<>\"\",1,0)","v":0},0,0,null,null,null,null,null,null,""]
["Dokumentasjon av balansen",null,null,"BF Kap. 6 \nNBS 5",null,null,null,null,null,null,null,null,null,{"$f":"IF(J383<>\"\",\"Du har satt X for at forholdet ikke er avklart. Gi en nærmere foklaring i kommentarfeltet.\",\"\")","v":""}]
[{"$f":"+A382+1","v":236},"Foreligger det dokumentasjon av alle balanseposter i både årsregnskap og næringsoppgave,  med mindre de er ubetydelige?",null,"bkfl. § 11, 1. ledd",{"$f":"IF(I384<>\"\",1,0)","v":0},{"$f":"IF(J384<>\"\",1,0)","v":0},{"$f":"IF(K384<>\"\",1,0)","v":0},{"$f":"IF(SUM(E384:G384)>1,\"Velg kun et alt.\",\"\")","v":""},null,null,null,null,null,""]
[{"$f":"+A384+1","v":237},"Foreligger det tilsvarende dokumentasjon for alle skattemessige verdier som ikke er dokumentert i øvrige skattemeldinger etter skatteforvaltningsloven?",null,"bkfl. § 11, 1. ledd",{"$f":"IF(I385<>\"\",1,0)","v":0},{"$f":"IF(J385<>\"\",1,0)","v":0},{"$f":"IF(K385<>\"\",1,0)","v":0},{"$f":"IF(SUM(E385:G385)>1,\"Velg kun et alt.\",\"\")","v":""},null,null,null,null,null,""]
[null,"Dokumentasjon av varelager"]
[{"$f":"+A385+1","v":238},"Er det foretatt varetelling ved årets slutt?",null,"BF § 6-1",0,0,0,"",null,null,null,null,null,""]
[{"$f":"+A387+1","v":239},"Når det er foretatt opptelling i løpet av året fordi det føres et betryggende lagerregnskap, kan tilgang og avgang fra opptellingstidspunktet til regnskapsårets slutt dokumenteres på en tilfredsstillende måte?",null,null,0,0,0,"",null,null,null,null,null,""]
[{"$f":"+A388+1","v":240},"Inneholder dokumentasjon av varelager en spesifisert oppstilling over:\n• Varens art?",null,null,0,0,0,"",null,null,null,null,null,""]
[241,"• Kvantum (med angivelse av måleenhet)?",null,null,0,0,0,"",null,null,null,null,null,""]
[242,"• Verdi for hver enkelt vare?",null,null,0,0,0,"",null,null,null,null,null,""]
[243,"• En summeringskolonne for de spesifiserte verdiene?",null,null,0,0,0,"",null,null,null,null,null,""]
[244,"Fremgår beregningsmåten for de spesifiserte verdiene av dokumentasjonen?",null,null,{"$f":"IF(I393<>\"\",1,0)","v":0},{"$f":"IF(J393<>\"\",1,0)","v":0},{"$f":"IF(K393<>\"\",1,0)","v":0},{"$f":"IF(SUM(E393:G393)>1,\"Velg kun et alt.\",\"\")","v":""},null,null,null,null,null,""]
[245,"Er verdien for hver enkelt vare beregnet til ett av to: \n1. Anskaffelseskost\n2. Varens kalkulerte utsalgsverdi (forutsatt at varelagerets anskaffelseskost på tilfredsstillende måte kan beregnes på grunnlag av denne verdien)?",null,"BF § 6-1, 3. ledd",{"$f":"IF(I394<>\"\",1,0)","v":0},{"$f":"IF(J394<>\"\",1,0)","v":0},{"$f":"IF(K394<>\"\",1,0)","v":0},{"$f":"IF(SUM(E394:G394)>1,\"Velg kun et alt.\",\"\")","v":""},null,null,null,null,null,""]
[246,"Dersom varene er oppført til varenes kalkulerte utsalgsverdi\n• fremgår det av dokumentasjonen hvordan anskaffelseskosten er beregnet? ",null,null,0,0,0,"",null,null,null,null,null,""]
[{"$f":"+A395+1","v":247},"• er varer som etter sin art er fritatt for merverdiavgift ved salg eller avgiftsberegnes med forskjellige satser, utskilt og vist som egne grupper?",null,null,0,0,0,"",null,null,null,null,null,{"$f":"IF(J396<>\"\",\"Du har satt X for at forholdet ikke er avklart. Gi en nærmere foklaring i kommentarfeltet.\",\"\")","v":""}]
[248,"• er varer med forskjellig bruttofortjeneste, utskilt og vist som egne grupper?",null,null,0,0,0,"",null,null,null,null,null,""]
[249,"Fremgår både den regnskapsmessige og skattemessige verdien av varelageret av dokumentasjonen? ",null,"BF § 6-1, 4. ledd",0,0,0,"",null,null,null,null,null,""]
[250,"Vises varer verdsatt til virkelig verdi som egen gruppe? ",null,null,0,0,0,"",null,null,null,null,null,""]
[251,"Er dokumentasjonen ordentlig og oversiktlig?",null,"BF § 6-1, 5. ledd",0,0,0,"",null,null,null,null,null,""]
[252,"Er eventuelle tellelister på papir nummerert før tellingen foretas?",null,null,0,0,0,"",null,null,null,null,null,""]
[253,"Er dokumentasjonen datert og fremgår det hvem som har foretatt opptellingen? ",null,null,0,0,0,"",null,null,null,null,null,""]
[254,"Er tellelister på papir oppbevart som en del av dokumentasjonen, eventuelt skannet for elektronisk oppbevaring?",null,null,{"$f":"IF(I403<>\"\",1,0)","v":0},{"$f":"IF(J403<>\"\",1,0)","v":0},{"$f":"IF(K403<>\"\",1,0)","v":0},{"$f":"IF(SUM(E403:G403)>1,\"Velg kun et alt.\",\"\")","v":""},null,null,null,null,null,""]
[null,"Dokumentasjon av bankinnskudd, lånegjeld, kontanter og lignende"]
[{"$f":"+A403+1","v":255},"Inneholder dokumentasjon av bankinnskudd og lånegjeld oppgaver fra finansinstitusjoner over mellomværende?",null,"BF § 6-2, 1. ledd",{"$f":"IF(I405<>\"\",1,0)","v":0},{"$f":"IF(J405<>\"\",1,0)","v":0},{"$f":"IF(K405<>\"\",1,0)","v":0},{"$f":"IF(SUM(E405:G405)>1,\"Velg kun et alt.\",\"\")","v":""},null,null,null,null,null,{"$f":"IF(J405<>\"\",\"Du har satt X for at forholdet ikke er avklart. Gi en nærmere foklaring i kommentarfeltet.\",\"\")","v":""}]
[{"$f":"+A405+1","v":256},"Er kontantbeholdning opptelt ved årets slutt?",null,"BF § 6-2, 2. ledd",0,0,0,"",null,null,null,null,null,{"$f":"IF(J406<>\"\",\"Du har satt X for at forholdet ikke er avklart. Gi en nærmere foklaring i kommentarfeltet.\",\"\")","v":""}]
[{"$f":"+A406+1","v":257},"Er opptellingen dokumentert med hvem som har foretatt opptellingen og på hvilket tidspunkt? ",null,null,0,0,0,"",null,null,null,null,null,{"$f":"IF(J407<>\"\",\"Du har satt X for at forholdet ikke er avklart. Gi en nærmere foklaring i kommentarfeltet.\",\"\")","v":""}]
[{"$f":"+A407+1","v":258},"Er eventuelle differanser forklart?",null,null,0,0,0,"",null,null,null,null,null,{"$f":"IF(J408<>\"\",\"Du har satt X for at forholdet ikke er avklart. Gi en nærmere foklaring i kommentarfeltet.\",\"\")","v":""}]
[null,"Dokumentasjon av finansielle instrumenter"]
[{"$f":"+A408+1","v":259},"Er finansielle instrumenter som er registrert i et verdipapirregister dokumentert med oppgaver fra et verdipapirregister over verdipapirbeholdning?",null,"BF § 6-3",0,0,0,"",null,null,null,null,null,{"$f":"IF(J410<>\"\",\"Du har satt X for at forholdet ikke er avklart. Gi en nærmere foklaring i kommentarfeltet.\",\"\")","v":""}]
[null,"Dokumentasjon av avsetninger, nedskrivninger mv."]
[{"$f":"+A410+1","v":260},"Omfatter dokumentasjon av poster som er verdsatt etter vurdering minst opplysninger om beregningsmetode og de forutsetninger som beregningen bygger på?",null,"BF § 6-4",0,0,0,"",null,null,null,null,null,{"$f":"IF(J412<>\"\",\"Du har satt X for at forholdet ikke er avklart. Gi en nærmere foklaring i kommentarfeltet.\",\"\")","v":""}]
["Språk",null,null,null,null,null,null,null,null,null,null,null,null,{"$f":"IF(J413<>\"\",\"Du har satt X for at forholdet ikke er avklart. Gi en nærmere foklaring i kommentarfeltet.\",\"\")","v":""}]
[{"$f":"+A412+1","v":261},"Foreligger følgende som er utarbeidet av den bokføringspliktige, på norsk, svensk, dansk eller engelsk?\n• spesifikasjoner av pliktig regnskapsrapportering \n• dokumentasjon av bokførte opplysninger og slettede opplysninger \n• dokumentasjon av kontrollsporet \n• dokumentasjon av balansen regnskapssystemet ",null,"bkfl. § 12",{"$f":"IF(I414<>\"\",1,0)","v":0},0,0,{"$f":"IF(SUM(E414:G414)>1,\"Velg kun et alt.\",\"\")","v":""},null,null,null,null,null,{"$f":"IF(J414<>\"\",\"Du har satt X for at forholdet ikke er avklart. Gi en nærmere foklaring i kommentarfeltet.\",\"\")","v":""}]
[null,"Departementet kan i forskrift eller ved enkeltvedtak bestemme noe annet.",null,null,0,0,0,{"$f":"IF(SUM(E415:G415)>1,\"Velg kun et alt.\",\"\")","v":""},null,null,null,null,null,{"$f":"IF(J415<>\"\",\"Du har satt X for at forholdet ikke er avklart. Gi en nærmere foklaring i kommentarfeltet.\",\"\")","v":""}]
[null,"Kontrollmyndighetene kan kreve at regnskapsmateriale som ikke er på norsk, svensk, dansk eller engelsk oversatt til et av disse språkene.",null,"bkfl. § 14"]
["Oppbevaring ",null,null,null,null,null,null,null,null,null,null,null,null,{"$f":"IF(J417<>\"\",\"Du har satt X for at forholdet ikke er avklart. Gi en nærmere foklaring i kommentarfeltet.\",\"\")","v":""}]
[null,"Kravet til oppbevaringstid etter bokføringsforskriften er fra 1. januar 2015 redusert fra ti til fem år etter regnskapsårets slutt, med unntak for enkelte områder innen\n- bygg og anlegg\n- banker og finansieringsforetak\n- fast eiendom\n- petroleumsutvinning eller rørledningstransport m.m.\n\nFor de aller fleste bokføringspliktige innebærer dette at alt regnskapsmateriale eldre enn fem år, regnet fra utløpet av regnskapsåret, kan makuleres/fjernes fra regnskapsystemet. Man må likevel være oppmerksom på eventuelle særkrav, se nedenfor.\n\nKravet til fem års oppbevaring innebærer at oppbevaringsplikten for eksempel pr 1. januar 2023 omfatter regnskapsmateriale fra 1. januar 2018 til 31. desember 2022 for alle som har regnskapsår som følger kalenderåret."]
[null,"Kravet til fem års oppbevaring etter bokføringsloven § 13 omfatter følgende materiale:\n\n1. årsregnskap og annen pliktig regnskapsrapportering, årsberetning og revisjonsberetning,\n2. spesifikasjoner av pliktig regnskapsrapportering som nevn i § 5, eller bokførte opplysninger som er nødvendig for å kunne utarbeide slike spesifikasjoner av pliktig regnskapsrapportering, \n3. dokumentasjon av bokførte opplysninger og slettede opplysninger, dokumentasjon av kontrollsporet mv. og dokumentasjon av balansen,\n4. revisors skriftlige kommunikasjon med styret etter revisorloven § 9-5"]
[null,"Nærmere om unntakene til oppbevaringstid i bokføringsforskriften:"]
[null,"Bygg og anlegg\nDe nye reglene viderefører krav om oppbevaring i ti år for prosjektregnskap i bygge- og anleggsvirksomhet etter bokføringsforskriften § 8-1-4 eller bokførte opplysninger som er nødvendige for å kunne utarbeide slike prosjektregnskap, samt tilhørende dokumentasjon."]
[null,"Banker og finansieringsforetak\n10 års oppbevaring etter regnskapsåret slutt gjelder for bankers og finansieringsforetaks kunde- og leverandørspesifikasjoner (reskontro) samt dokumentasjon av bokførte opplysninger som inngår i slike spesifikasjoner. "]
[null,"Fast eiendom \nPå grunn av justeringsreglene i merverdiavgiftsloven er det fortsatt et krav om at kjøpsdokumentasjon av kapitalvaren fast eiendom oppbevares i ti år etter regnskapsårets slutt. "]
[null,"Petroleumsutvinning eller rørledningstransport mm\nKravene om oppbevaring i minst 15 år for bokføringspliktige som driver virksomhet med petroleumsutvinning eller rørledningstransport, samt om oppbevaring i minst 10 år for utenlandske selskaper og personer som driver virksomhet på norsk sokkel, gjelder fortsatt."]
[null,"Unntak fra 5 års oppbevaring etter annen lovgivning"]
[null,"Vær oppmerksom på at det finnes enkelte oppbevaringsregler utenom bokføringslov og -forskrift, for eksempel:"]
[null,"Økonomiforskriften til privatskolelova\nDokumentasjon som blir krevd etter økonomiforskriften til privatskoleloven § 8-6 skal oppbevares i minst ti år etter utgangen av det skoleåret det gjelder. Dette omfatter blant annet regnskapsdokumentasjon jr forskriftens § 8-1. ",null,"Økonomi-forskrift til privatskolelova § 8-6"]
[null,"Økonomiforskriften til barnehageloven\nBarnehagen skal oppbevare regnskapsmateriale og annen dokumentasjon etter økonomiforskriften til barnehageloven i minst ti år etter regnskapsårets slutt.",null,"Økonomi-forskrift til barnehageloven § 9"]
[null,"Skatteforvaltningsloven §8-11 vedrørende melding og annen dokumentasjon for kontrollerte transaksjoner mv\nDet er krav om 10 års oppbevaring for internprisdokumentasjonen etter skatteforvaltningsloven § 8-11 (2), men ikke for transaksjonsdokumentasjon og mellomværender etter  § 8-11 (1). Dette er «skriftlig dokumentasjon som gir grunnlag for å vurdere om priser og vilkår i deres transaksjoner og mellomværender med nærstående selskaper og innretninger samsvarer med det som ville vært fastsatt i transaksjoner og mellomværender inngått mellom uavhengige parter under sammenlignbare forhold og omstendigheter»."]
[null,"De amerikanske SOX-reglene\nDisse reglene krever 7 års oppbevaring for alt materiale."]
[null,"Justeringsdokumentasjon mva: \nI tillegg til særregelen for kjøpsdokumentasjon for fast eiendom, er det egne dokumentasjonsregler knyttet til justeringsreglene for kapitalvarer i merverdiavgiftsloven. Oppbevaringstiden er riktignok også der redusert fra 10 til 5 år, men siden oppbevaringsperioden regnes 5 år fra siste år i justeringsperioden, gir det likevel avvik fra bokføringslovens regler. Dette er ikke noe nytt, samme utfordring gjaldt også ved tidligere 10 års oppbevaringstid. Hva som kreves oppbevart finnes i merverdiavgiftsforskriften kapittel 9, nærmere bestemt i § 9-1-2 (kapitalvareregister) for anskaffelse og fremstilling, § 9-1-3 (dokumentasjon av andel avgiftspliktig bruk), samt § 9-3-3 (justeringsavtale ved overføring av justeringsplikt) og § 9-3-5 (justeringsavtale ved overføring av justeringsrett) ved overdragelse av kapitalvaren. For § 9-3-3 og § 9-3-5 påhviler det både overdrageren og mottakeren separat oppbevaringsplikt.  Det er med andre ord viktig at denne dokumentasjonen holdes adskilt, slik at den ikke risikerer å bli makulert for tidlig.  "]
[null,"Kreditfradrag: \nDet er fortsatt adgang til å kunne kreve kreditfradrag i inntil 10 år etter utløpet av det året inntekten fra utlandet er skattepliktig i Norge (skatteloven § 16-25 andre setning. Det krever i tilfelle at det kan fremlegges nødvendig dokumentasjon. "]
[null,"Er følgende regnskapsmateriale oppbevart i Norge i 5 år etter regnskapsårets slutt:"]
[{"$f":"+A414+1","v":262},"• Årsregnskap og annen pliktig regnskapsrapportering, årsberetning og revisjonsberetning?",null,"bkfl. § 13, 1. og 2. ledd",{"$f":"IF(I434<>\"\",1,0)","v":0},0,0,{"$f":"IF(SUM(E434:G434)>1,\"Velg kun et alt.\",\"\")","v":""},null,null,null,null,null,{"$f":"IF(J434<>\"\",\"Du har satt X for at forholdet ikke er avklart. Gi en nærmere foklaring i kommentarfeltet.\",\"\")","v":""}]
[null,"Merk at oppbevaringskravet for pliktig regnskapsrapportering, årsberetning og revisjonsberetning ikke er oppfylt ved rapportering gjennom Altinn. Den bokføringspliktige må sørge for egen oppbevaring i samsvar med lov, forskrift og god bokføringsskikk.",null,"GBS 15",0,0,0,{"$f":"IF(SUM(E435:G435)>1,\"Velg kun et alt.\",\"\")","v":""}]
[{"$f":"+A434+1","v":263},"• Spesifikasjoner av pliktig regnskapsrapportering, eller bokførte opplysninger som er nødvendige for å kunne utarbeide slike spesifikasjoner av pliktig regnskapsrapportering?",null,"bkfl. § 13, 1. ledd nr 2",{"$f":"IF(I436<>\"\",1,0)","v":0},{"$f":"IF(J436<>\"\",1,0)","v":0},{"$f":"IF(K436<>\"\",1,0)","v":0},{"$f":"IF(SUM(E436:G436)>1,\"Velg kun et alt.\",\"\")","v":""},null,null,null,null,null,{"$f":"IF(J436<>\"\",\"Du har satt X for at forholdet ikke er avklart. Gi en nærmere foklaring i kommentarfeltet.\",\"\")","v":""}]
[{"$f":"+A436+1","v":264},"• Dokumentasjon av bokførte og slettede opplysninger, dokumentasjon av regnskapssystemet kontrollsporet mv. og dokumentasjon av balansen?",null,"Skds uttalelse 5. febr 2007 og 4. juli 2008",0,0,0,"",null,null,null,null,null,{"$f":"IF(J437<>\"\",\"Du har satt X for at forholdet ikke er avklart. Gi en nærmere foklaring i kommentarfeltet.\",\"\")","v":""}]
[265,"• Revisors skriftlige kommunikrevisors skriftlige kommunikasjon med styret etter revisorloven § 9-5?",null,null,0,0,0,"",null,null,null,null,null,{"$f":"IF(J438<>\"\",\"Du har satt X for at forholdet ikke er avklart. Gi en nærmere foklaring i kommentarfeltet.\",\"\")","v":""}]
[266,"• Timebestillinger for bokføringspliktige som utfører tjenester etter timebestilling (se spørsmål 216 - 218)?",null,"BF § 5-15",0,0,0,"",null,null,null,null,null,{"$f":"IF(J439<>\"\",\"Du har satt X for at forholdet ikke er avklart. Gi en nærmere foklaring i kommentarfeltet.\",\"\")","v":""},null,null,null,null,null,"intern henvisning"]
[{"$f":"+A439+1","v":267},"• Kjørebok som dokumenterer/underbygger behandling av lønn og naturalytelser?",null,"Skd 28.01.2011",0]
[null,"Er følgende regnskapsmateriale oppbevart i Norge i 10 år etter regnskapsårets slutt:",null,"bkfl. § 13"]
[{"$f":"+A440+1","v":268},"Dokumentasjon på kjøp av kapitalvarer (jfr mval §9-1 (2) pkt b)?",null,"BF § 7-3, 4. ledd"]
[null,"Er følgende regnskapsmateriale oppbevart i Norge i tre år og seks måneder etter regnskapsårets slutt:",null,"bkfl. § 13"]
[{"$f":"+A442+1","v":269},"• Avtaler som gjelder virksomheten, med unntak av avtaler av mindre betydning?",null,"GBS 6",0,0,0,"",null,null,null,null,null,{"$f":"IF(J444<>\"\",\"Du har satt X for at forholdet ikke er avklart. Gi en nærmere foklaring i kommentarfeltet.\",\"\")","v":""}]
[270,"• Korrespondanse som gir vesentlig tilleggsinformasjon i tilknytning til en bokført opplysning?",null,"Skds uttalelse 5. febr 2007",0,0,0,"",null,null,null,null,null,""]
[271,"• Utgående pakksedler eller tilsvarende dokumentasjon som følger varen eller sendes til kjøper på annen måte?",null,"bkfl. § 13, 1. ledd nr 7",0,0,0,"",null,null,null,null,null,""]
[272,"• Prisoversikter som kreves utarbeidet ifølge lov eller forskrift?",null,"bkfl. § 13, 1. ledd nr 8",0,0,0,"",null,null,null,null,null,""]
[{"$f":"+A447+1","v":273},"• Dokumentasjon av lønn for ansatte som helt eller delvis godtgjøres basert på antall arbeidede timer (se spørsmål 208-210)?",null,"BF § 7-3, 2. ledd",0,0,0,"",null,null,null,null,null,"",null,null,null,null,null,"intern henvisning"]
[274,"• Dokumentasjon av medgått tid hvor vederlaget er basert på tidsforbruk (se spørsmål 212)?",null,null,0,0,0,"",null,null,null,null,null,"",null,null,null,null,null,"intern henvisning"]
[275,"Er oppbevaringspliktig regnskapsmateriale oppbevart ordnet og betryggende sikret mot ødeleggelse, tap og endring?",null,"bkfl. § 13, 3. ledd",0,0,0,"",null,null,null,null,null,""]
[276,"Foreligger det sikkerhetskopi, oppbevart adskilt fra originalen, av bokførte opplysninger som holdes elektronisk tilgjengelig?",null,"BF § 7-7 \njf § 7-2",0,0,0,"",null,null,null,null,null,""]
[277,"Gjennomføres sikkerhetskopiering så ofte som virksomhetens og transaksjonenes art og omfang tilsier, og innen ajourholdsfristene i bokføringslovens § 7 ?",null,"BF § 7-2"]
[278,"Gjennomføres testing av sikkerhetskopien minimum en gang pr år?"]
[279,"Foreligger det fortegnelse over regnskapsmaterialet som er sikkerhetskopiert, hvor ofte sikkerhetskopieringen gjennomføres og hvor originalen og sikkerhetskopien oppbevares?"]
[280,"Blir fortegnelsen oppbevart i 5 år?"]
[281,"Dersom regnskapsmateriale er erstattet ved overføring av regnskapsinformasjon til elektronisk medium, oppbevares originalt regnskapsmateriale til det er tatt sikkerhetskopi av det elektroniske regnskapsmaterialet?",null,"BF § 7-2"]
[null,"Oppbevaringsmedium"]
[null,"Originalt regnskapsmateriale kan erstattes ved overføring av regnskapsinformasjon til andre media hvis muligheten til å etterprøve pliktig regnskapsrapportering i regnskapsmaterialets oppbevaringstid ikke svekkes. ",null,"bkfl. § 13, 2. ledd"]
[{"$f":"+A456+1","v":282},"Er regnskapsmaterialet, samt bokførte opplysninger som skal holdes elektronisk tilgjengelige etter bkfl. § 13b, oppbevart på en måte som opprettholder lesekvaliteten i hele oppbevaringsperioden?",null,"bkfl. § 13, 4. ledd \nBF § 7-1\nArtikkel i R&R nr 5>2010, jf. BSS sin gjennomgang delrapport III punkt 18",null,null,null,null,null,null,null,null,null,{"$f":"IF(J459<>\"\",\"Du har satt X for at forholdet ikke er avklart. Gi en nærmere foklaring i kommentarfeltet.\",\"\")","v":""}]
[{"$f":"+A459+1","v":283},"Kan regnskapsmaterialet fremlegges for offentlig kontrollmyndighet i hele oppbevaringstiden i en form som muliggjør etterkontroll?",null,"bkfl. § 13. 3. ledd",0,0,0,"",null,null,null,null,null,{"$f":"IF(J460<>\"\",\"Du har satt X for at forholdet ikke er avklart. Gi en nærmere foklaring i kommentarfeltet.\",\"\")","v":""}]
[284,"Er regnskapsmaterialet og regnskapsdata oppbevart på et medium som opprettholder lesekvaliteten i hele oppbevaringsperioden?",null,"bkfl. § 13, 4. ledd \nBF § 7-1",{"$f":"IF(I461<>\"\",1,0)","v":0},0,0,{"$f":"IF(SUM(E461:G461)>1,\"Velg kun et alt.\",\"\")","v":""},null,null,null,null,null,{"$f":"IF(J461<>\"\",\"Du har satt X for at forholdet ikke er avklart. Gi en nærmere foklaring i kommentarfeltet.\",\"\")","v":""}]
[285,"Kan regnskapsmateriale skrives ut på papir i hele oppbevaringsperioden?",null,"bkfl. § 13, 4. ledd",0,0,0,{"$f":"IF(SUM(E462:G462)>1,\"Velg kun et alt.\",\"\")","v":""},null,null,null,null,null,{"$f":"IF(J462<>\"\",\"Du har satt X for at forholdet ikke er avklart. Gi en nærmere foklaring i kommentarfeltet.\",\"\")","v":""}]
[286,"Ved bokføring ved bruk av regneark, er spesifikasjoner av pliktig regnskapsrapportering oppbevart på papir eller skannet for elektronisk oppbevaring?",null,"NBS 6",0,0,0,{"$f":"IF(SUM(E463:G463)>1,\"Velg kun et alt.\",\"\")","v":""},null,null,null,null,null,{"$f":"IF(J463<>\"\",\"Du har satt X for at forholdet ikke er avklart. Gi en nærmere foklaring i kommentarfeltet.\",\"\")","v":""}]
[null,"Skattedirektoratet har på bakgrunn av en spesifikk henvendelse uttalt at oppbevaring av ferdig produserte spesifikasjoner kan skje i regnearkformat, under forutsetning av tilstrekkelige sikringstiltak. Merk at det i det gitte tilfellet er lagt avgjørende vekt på at regnearkprogrammet ikke benyttes i den løpende bokføringen. Det er også forutsatt at spesifikasjonene kan fremlegges for offentlig kontrollmyndighet i hele oppbevaringstiden, i en form som muliggjør etterkontroll. ",null,"Prinsipputtalelse 01.07.2021",0,0,0,{"$f":"IF(SUM(E464:G464)>1,\"Velg kun et alt.\",\"\")","v":""}]
[null,"Regnskapsføring i utlandet"]
[{"$f":"+A463+1","v":287},"Dersom hele eller deler av regnskapsføringen foregår i utlandet, er regnskapsmaterialet overført til oppbevaring i Norge innen en måned etter fastsetting av årsregnskapet og senest sju måneder etter regnskapsårets slutt?",null,"BF § 7-4, 1. ledd\nUttalelse SKD 26.04.2012",{"$f":"IF(I466<>\"\",1,0)","v":0},{"$f":"IF(J466<>\"\",1,0)","v":0},{"$f":"IF(K466<>\"\",1,0)","v":0},{"$f":"IF(SUM(E466:G466)>1,\"Velg kun et alt.\",\"\")","v":""},null,null,null,null,null,{"$f":"IF(J466<>\"\",\"Du har satt X for at forholdet ikke er avklart. Gi en nærmere foklaring i kommentarfeltet.\",\"\")","v":""}]
[{"$f":"+A466+1","v":288},"Er regnskapsmateriale knyttet til virksomhet i utlandet oppbevart i dette landet fordi det aktuelle lands lovgivning pålegger det?",null,"BF § 7-4, 3. ledd",{"$f":"IF(I467<>\"\",1,0)","v":0},0,0,"",null,null,null,null,null,{"$f":"IF(J467<>\"\",\"Du har satt X for at forholdet ikke er avklart. Gi en nærmere foklaring i kommentarfeltet.\",\"\")","v":""}]
[{"$f":"+A467+1","v":289},"Kan regnskapsmateriale oppbevart i utlandet uten ugrunnet opphold fremlegges for offentlige kontrollmyndigheter i Norge i hele oppbevaringstiden?",null,"BF § 7-4, 4. ledd",0,0,0,"",null,null,null,null,null,{"$f":"IF(J468<>\"\",\"Du har satt X for at forholdet ikke er avklart. Gi en nærmere foklaring i kommentarfeltet.\",\"\")","v":""}]
[null,"Skattedirektoratet kan ved enkeltvedtak pålegge bokføringspliktige å føre og oppbevare regnskapet i Norge dersom den bokføringspliktige vesentlig tilsidesetter bestemmelser i eller i medhold av bokføringsloven.",null,"BF § 7-4, 1. ledd",{"$f":"IF(I469<>\"\",1,0)","v":0},0,0,"",null,null,null,null,null,{"$f":"IF(J469<>\"\",\"Du har satt X for at forholdet ikke er avklart. Gi en nærmere foklaring i kommentarfeltet.\",\"\")","v":""}]
[{"$f":"+A468+1","v":290},"Er det gitt skriftlig informasjon til Skattedirektoratet dersom elektronisk regnskapsmateriale oppbevares i Danmark, Finland, Island eller Sverige?",null,"BF § 7-5\nForskrift 3.6.2010 nr 759\n",0,0,0,"",null,null,null,null,null,{"$f":"IF(J470<>\"\",\"Du har satt X for at forholdet ikke er avklart. Gi en nærmere foklaring i kommentarfeltet.\",\"\")","v":""}]
[{"$f":"+A470+1","v":291},"Er det søkt Skattedirektoratet om dispensasjon dersom elektronisk regnskapsmateriale oppbevares i andre EØS-land enn Danmark, Finland, Island eller Sverige?",null,"BF § 7-5\nSKD 11.05.2011\n"]
[{"$f":"+A471+1","v":292},"Er slikt elektronisk regnskapsmateriale tilgjengelig i lesbar form og kan det skrives ut på papir i Norge?",null,null,0,0,0,"",null,null,null,null,null,{"$f":"IF(J472<>\"\",\"Du har satt X for at forholdet ikke er avklart. Gi en nærmere foklaring i kommentarfeltet.\",\"\")","v":""}]
[null,"Se forøvrig informasjon ovenfor i avsnittet om oppbevaringsmedium, om prinsipputtalelse vedr. oppbevaring av spesifikasjoner av pliktig regnskapsrapportering i regnearkformat. Dette kan være aktuelt for virksomheter hvor hele eller deler av regnskapsføringen foregår i utlandet. ",null,"Prinsipputtalelse 01.07.2021",0,0,0,""]
[null,"Lukking av regnskapsperioder"]
[null,"Følgende gjelder bokføringspliktige som ikke oppbevarer utarbeidede spesifikasjoner av pliktig regnskapsrapportering, jf bkfl. § 13, 1. ledd nr 2:"]
[{"$f":"+A472+1","v":293},"Blir regnskapsperioder lukket innen fristene for pliktig regnskapsrapportering, og ikke sjeldnere enn hver fjerde måned?\nDepartementet kan i forskrift gjøre unntak fra kravet om ajourføring (og herunder lukking) hver fjerde måned for bokføringspliktige med få transaksjoner.\n",null,"BF § 7-6\n\nbkfl. § 7, 2. ledd"]
[{"$f":"+A476+1","v":294},"Skjer lukkingen på en måte som gir betryggende sikring mot endring eller sletting av bokførte opplysninger?",null,"BF § 7-6"]
[{"$f":"+A477+1","v":295},"Foreligger det en beskrivelse av regnskapssystemets funksjonalitet for lukking av regnskapsperioder, herunder hvordan lukkingen gir betryggende sikring mot endring eller sletting av bokførte opplysninger?",null,"BF § 7-6"]
[{"$f":"+A478+1","v":296},"Oppbevares beskrivelsen i 5 år etter regnskapsårets slutt?",null,"BF § 7-6"]
["Elektronisk tilgjengelighet"]
[null,"Med elektronisk tilgjengelighet menes at de bokførte opplysningene er tilgjengelig i regnskapssystemet eller lagret på annen måte. Bokførte opplysninger som holdes elektronisk tilgjengelig skal kunne overføres fra regnskapssystemet eller annen lagringsløsning til ekstern programvare for kontroll og dataanalyse. Det skal ikke være nødvendig med behandling av de bokførte opplysningene for å gjøre disse elektronisk tilgjengelig. ",null,"BF § 7-7\nNBS 3"]
[{"$f":"+A479+1","v":297},"Er bokførte opplysninger som i utgangspunktet er tilgjengelig elektronisk, elektronisk tilgjengelig i tre år og seks måneder etter regnskapsårets slutt?\n\nKravet gjelder ikke for bokføringspliktige som har mindre enn 5 millioner kroner i omsetning eksklusiv merverdiavgift.\nInntekter fra salg av verdipapirer anses som omsetning etter denne bestemmelsen dersom investeringsvirksomheten er hovedaktiviteten i foretaket. ",null,"bkfl. § 13b",{"$f":"IF(I482<>\"\",1,0)","v":0},0,0,{"$f":"IF(SUM(E482:G482)>1,\"Velg kun et alt.\",\"\")","v":""},null,null,null,null,null,{"$f":"IF(J482<>\"\",\"Du har satt X for at forholdet ikke er avklart. Gi en nærmere foklaring i kommentarfeltet.\",\"\")","v":""}]
[{"$f":"+A482+1","v":298},"Foreligger det sikkerhetskopi, oppbevart adskilt fra originalen, av elektronisk regnskapsmateriale?",null,null,0,0,0,{"$f":"IF(SUM(E483:G483)>1,\"Velg kun et alt.\",\"\")","v":""},null,null,null,null,null,{"$f":"IF(J483<>\"\",\"Du har satt X for at forholdet ikke er avklart. Gi en nærmere foklaring i kommentarfeltet.\",\"\")","v":""}]
[{"$f":"+A483+1","v":299},"Ved lagring i utlandet, er de bokførte opplysningene tilgjengelig gjennom terminal eller lignende i Norge?"]
["Gjengivelse av elektronisk bokførte opplysninger i standardisert form (SAF-T)"]
[null,"For bokføringspliktige som skal ha bokførte opplyninger elektronisk tilgjengelig etter bokføringsloven § 13b, samt bokføringspliktige som har mindre enn 5 millioner kroner i omsetning, men som allikevel har bokførte opplysninger elektronisk tilgjengelig:"]
[{"$f":"+A484+1","v":300},"Kan bokførte opplysninger gjengis i standardisert form fastsatt av Skattedirektoratet?",null,"BF § 7-8"]
[null,"Ved vurdering av grensen på 5 millioner kroner i omsetning skal inntekter fra salg av verdipapirer anses som omsetning dersom investeringsvirksomheten er hovedaktiviteten i foretaket. \n\nSkattedirektoratet kan i særlige tilfeller gjøre unntak fra kravet etter første ledd, herunder gi utsettelse med å oppfylle kravet."]
["Bransjemessige forhold",null,null,null,null,null,null,null,null,null,null,null,null,{"$f":"IF(J489<>\"\",\"Du har satt X for at forholdet ikke er avklart. Gi en nærmere foklaring i kommentarfeltet.\",\"\")","v":""}]
["Bokføring ved utkontraktering av porteføljeforvaltning",null,null,null,null,0,null,null,"Ikke aktuelt"]
[null,"Hvem og hva omfattes"]
[null,"Med utkontraktering av porteføljeforvaltning menes i GBS 18 at en bokføringspliktig virksomhet har overlatt til en annen part å forvalte kapital i form av investeringer i aksjer, andeler og andre verdipapirer. ",null,"GBS 18"]
[null,"GBS 18 inneholder detaljert veiledning som skal sikre at bokføringslovens krav blir tilstrekkelig oppfylt. Vi har tatt inn deler av dette som sjekkpunkter nedenfor, men vi anbefaler at dersom dette er aktuelt så må man lese igjennom uttalelsen for å sikre at alle krav er tilstrekkelig oppfylt. "]
[{"$f":"+A487+1","v":301},"Bokføring og ajourhold\nEr bokføringen hos investor (den bokføringspliktige) innrettet for å gi grunnlag for:",null,null,null,null,null,null,null,null,"x"]
[{"$f":"+A494+1","v":302},"- bokføring og kontroll av kjøp og salg av investeringene, herunder transaksjonskostnader",null,null,null,null,null,null,null,null,"x"]
[{"$f":"+A495+1","v":303},"- beregning og kontroll av realiserte gevinster og tap, både regnskaps- og skattemessige",null,null,null,null,null,null,null,null,"x"]
[{"$f":"+A496+1","v":304},"- vurdering av regnskaps- og skattemessige verdier ved regnskapsårets slutt",null,null,null,null,null,null,null,null,"x"]
[{"$f":"+A497+1","v":305},"Er bokføringen av verdipapirinvesteringene innrettet slik at brutto salg og brutto kjøp fremkommer?",null,null,null,null,null,null,null,null,"x"]
[{"$f":"+A498+1","v":306},"Er samtlige opplysninger som er nødvendige for å kunne utarbeide spesifikasjoner av pliktig regnskapsrapportering bokført?",null,null,null,null,null,null,null,null,"x"]
[null,"Dokumentasjon\nDersom sluttseddel brukes som dokumentasjon for kjøp og salg, inneholder sluttseddel følgende:",null,null,null,null,null,null,null,null,"x"]
[{"$f":"+A499+1","v":307},"1. Nummer og dato for utstedelse av dokumentasjonen",null,null,null,null,null,null,null,null,"x"]
[{"$f":"+A501+1","v":308},"2. Angivelse av partene",null,null,null,null,null,null,null,null,"x"]
[{"$f":"+A502+1","v":309},"3. Ytelsens art og omfang",null,null,null,null,null,null,null,null,"x"]
[310,"4. Tidspunkt for levering av ytelsen",null,null,null,null,null,null,null,null,"x"]
[311,"5. Vederlag og betalingsforfall",null,null,null,null,null,null,null,null,"x"]
[312,"Kontrollspor\nDersom kapitalforvalterens systemer benyttes til registrering av transaksjoner eller utarbeidelse av spesifikasjoner, har kapitalforvalteren dokumentert kontrollsporet dersom dette ikke er lett å forstå?",null,null,null,null,null,null,null,null,"x"]
[313,"Oppbevaring og sikring\nDersom underspesifikasjon fra kapitalforvalter utarbeides elektronisk, og den bokføringspliktiges omsetning er fem millioner kroner eller mer, er de bokførte opplysningene elektronisk tilgjengelige i tre år og seks måneder etter regnskapsårets slutt?",null,null,null,null,null,null,null,null,"x"]
[{"$f":"+A507+1","v":314},"Dersom det oppbevaringspliktige regnskapsmaterialet helt eller delvis oppbevares hos kapitalforvalter, har den bokføringsplige inngått skriftlige avtaler som regulerer dette?",null,null,null,null,null,null,null,null,"x"]
[315,"Oppbevares avtaler med kapitalforvalter i henhold til bokføringslovens krav om oppbevaring av sekundærdokumentasjon?",null,null,null,null,null,null,null,null,"x"]
[316,"Ved bruk av en utenlandsk kapitalforvalter utenfor Norden, og den bokføringsplitkige ikke har fått dispensasjon til oppbevaring i utlandet, er den bokføringspliktiges regnskapsmateriale tilbakeført til Norge for oppbevaring etter reglene i bokføringsforskriften?",null,null,null,null,null,null,null,null,"x"]
["Krav til personalliste",null,null,null,null,0,null,null,"Ikke aktuelt"]
[null,"Hvem omfattes",null,"SKD 4/2019",null,null,null,null,null,null,"x"]
[null,"Frisørvirksomhet og skjønnhetspleie",null,"BF § 8-3-4",null,null,null,null,null,null,"x"]
[null,"Serveringssteder - inkludert serveringssted, cateringvirksomhet, gatekjøkken eller annen virksomhet hvor tilberedt mat mv bringes ut til kunden eller hentes",null,"BF § 8-5-6",null,null,null,null,null,null,"x"]
[null,"Bilverksteder og bilpleie",null,"BF § 8-12-1",null,null,null,null,null,null,"x"]
[null,"Unntak\nKrav til personalliste gjelder ikke\n- der personalet kun består av innehavere, dennes ektefelle/samboer eller barn under 16 år\n- der personalet kun består av daglig leder som også er deltaker eller aksjonær i foretaket, dennes ektefelle/samboer eller barn under 16 år\n- dersom den bokføringspliktige i hovedsak driver virksomhet som ikke omfattes av kravet til personalliste",null,"\n\nBF § 8-5-6, 7. ledd",null,null,null,null,null,null,"x"]
[null,"Skattedirektoratet har avgitt flere uttalelser knyttet til de nye kravene om personallister:",null,null,null,null,null,null,null,null,"x"]
[null,"SKD Melding nr 4/2019  - Krav til føring av personalliste i enkelte bransjer",null,null,null,null,null,null,null,null,"x"]
[null,"Prinsipputtalelse av 05.06.2014 - Bruk av arbeidsplan som alternativ til personalliste",null,null,null,null,null,null,null,null,"x"]
[null,"Prinsipputtalelse av 19.02.2014 - Hvordan skal personallisten føres og presenteres på utskrift?",null,null,null,null,null,null,null,null,"x"]
[null,"Prinsipputtalelse av 23.01.2014 - Hvem skal registreres i personallisten?",null,null,null,null,null,null,null,null,"x"]
[null,"Prinsipputtalelse av 11.12.2013 - Krav til personalliste - bilforhandlere",null,null,null,null,null,null,null,null,"x"]
[null,"Innhold i personalliste",null,"BF § 8-5-6 \n1.-4. ledd",null,null,null,null,null,null,"x"]
[{"$f":"+A510+1","v":317},"Føres personallisten på arbeidsstedet?",null,null,null,null,null,null,null,null,"x"]
[{"$f":"+A524+1","v":318},"Inneholder personallisten den bokføringspliktiges navn og organisasjonsnummer?",null,null,null,null,null,null,null,null,"x"]
[{"$f":"+A525+1","v":319},"Inneholder personallisten\n- oversikt over personer som arbeider i virksomheten (også ulønnet og innleid personale)\n- den enkeltes navn og fødselsnummer/D-nummer (Kan erstattes med unike koder, men det skal i så fall utarbeides en oversikt over benyttede koder med tilhørende fødselsnummer/D-nummer. Kodeoversikten anses som en del av personallisten).",null,null,null,null,null,null,null,null,"x"]
[{"$f":"+A526+1","v":320},"Angir personallisten for hver arbeidsdag tidspunktet for arbeidsdagens begynnelse og slutt?",null,null,null,null,null,null,null,null,"x"]
[{"$f":"+A527+1","v":321},"Ajourføres personallisten umiddelbart i tilknytning til at arbeidet påbegynnes og avsluttes?",null,null,null,null,null,null,null,null,"x"]
[{"$f":"+A528+1","v":322},"Kan den bokføringspliktige fremvise pass eller annen gyldig legitimasjon med bilde (eller kopi av slik legitimasjon) for alle tilstedeværende som arbeider i virksomheten?",null,null,null,null,null,null,null,null,"x"]
[null,"Manuelle personallister",null,"BF § 8-5-6 5. ledd",null,null,null,null,null,null,"x"]
[{"$f":"+A529+1","v":323},"Dersom det benyttes  manuelle personallister foreligger de arbeidsstedet i innbundet bok der sidene er forhåndsnummererte?",null,null,null,null,null,null,null,null,"x"]
[null,"Elektroniske personallister",null,"BF § 8-5-6. 5. ledd",null,null,null,null,null,null,"x"]
[{"$f":"+A531+1","v":324},"Kan personallister som føres elektronisk umiddelbart skrives ut på papir?",null,null,null,null,null,null,null,null,"x"]
[{"$f":"+A533+1","v":325},"Ved rettelser, fremgår det hvem som har foretatt rettelsen og tidspunkt for når det er gjort?",null,null,null,null,null,null,null,null,"x"]
[null,"Arbeidsplan",null,"BF § 8-5-6 6. ledd",null,null,null,null,null,null,"x"]
[null,"Bokføringspliktige som plikter å utarbeide arbeidsplan etter arbeidsmiljøloven §10-3 (lov 17.6.05 nr 62), eller som på annet grunnlag utarbeider tilsvarende arbeidsplan, kan benytte denne som alternativ til personaliste. Bestemmelsene om innhold mv i spørsmålene ovenfor gjelder tilsvarende for slik arbeidsplan.",null,null,null,null,null,null,null,null,"x"]
[{"$f":"+A534+1","v":326},"Dersom arbeidsplan benyttes som alternativ til personaliste:\nEr arbeidsplanen oppdatert fortløpende?",null,null,null,null,null,null,null,null,"x"]
[null,"Oppbevaring",null,"BF § 8-5-7",null,null,null,null,null,null,"x"]
[{"$f":"+A537+1","v":327},"Oppbevares personallisten i 3 år og 6 måneder etter regnskapsårets slutt?",null,null,null,null,null,null,null,null,"x"]
["Bygge- og anleggsvirksomhet og verftsindustri",null,null,null,null,null,null,null,"Ikke aktuelt",null,null,null,null,{"$f":"IF(J540<>\"\",\"Du har satt X for at forholdet ikke er avklart. Gi en nærmere foklaring i kommentarfeltet.\",\"\")","v":""}]
[{"$f":"+A539+1","v":328},"Utstedelse av salgsdokument\nEr salgsdokument utstedt senest innen en måned etter utløpet av den alminnelige oppgaveterminen som arbeidet er fullført?\n\nSalgsdokumentet kan utstedes i samsvar med bygge- og anleggsarbeidets fremdrift.",null,"BF § 8-1-2a",null,null,null,null,null,null,"x"]
[{"$f":"+A541+1","v":329},"Når det er mottatt en delbetaling som samsvarer med arbeidets fremdrift, er salgsdokument for delbetalingen utstedt senest innen en måned etter utløpet av den alminnelige oppgaveterminen?\nRene forskudd som ikke er knyttet til arbeidets fremdrift skal forstås som finansielle forskudd, og innebærer ikke betaling for leverte varer og tjenester. Rene forskudd innebærer dermed ingen omsetning hvor det oppstår plikt til å utstede salgsdokument.",null,"\n\n\nSkds uttalelse 29.08.2022",null,null,null,null,null,null,"x"]
[{"$f":"+A542+1","v":330},"Prosjektregnskap\nKan det, for hver periode med pliktig regnskapsrapportering, og ikke sjeldnere enn hver fjerde måned, utarbeides egne spesifikasjoner (prosjektregnskap) etter § 8-1-4 for prosjekter der anbudspris eller anslått omsetningsverdi overstiger 5 ganger folketrygdens grunnbeløp ekskl mva?",null,"BF § 8-1-3",{"$f":"IF(I543<>\"\",1,0)","v":0},{"$f":"IF(J543<>\"\",1,0)","v":0},{"$f":"IF(K543<>\"\",1,0)","v":1},{"$f":"IF(SUM(E543:G543)>1,\"Velg kun et alt.\",\"\")","v":""},null,null,"x",null,null,{"$f":"IF(J543<>\"\",\"Du har satt X for at forholdet ikke er avklart. Gi en nærmere foklaring i kommentarfeltet.\",\"\")","v":""},null,null,null,null,"beløpsgrensen endret fra kr 300.000"]
[{"$f":"+A543+1","v":331},"Inneholder prosjektregnskapet følgende opplysninger:\na. Prosjektkode?",null,"BF § 8-1-4",{"$f":"IF(I544<>\"\",1,0)","v":0},{"$f":"IF(J544<>\"\",1,0)","v":0},{"$f":"IF(K544<>\"\",1,0)","v":1},{"$f":"IF(SUM(E544:G544)>1,\"Velg kun et alt.\",\"\")","v":""},null,null,"x",null,null,{"$f":"IF(J544<>\"\",\"Du har satt X for at forholdet ikke er avklart. Gi en nærmere foklaring i kommentarfeltet.\",\"\")","v":""}]
[{"$f":"+A544+1","v":332},"b. Oppdragsgivers navn og adresse, eventuelt organisasjonsnummer?",null,null,null,null,null,null,null,null,"x"]
[{"$f":"+A545+1","v":333},"c. Oppdragets art?",null,null,0,0,1,"",null,null,"x",null,null,{"$f":"IF(J546<>\"\",\"Du har satt X for at forholdet ikke er avklart. Gi en nærmere foklaring i kommentarfeltet.\",\"\")","v":""}]
[{"$f":"+A546+1","v":334},"d. Oppdragets oppstart?",null,null,0,0,1,"",null,null,"x",null,null,""]
[335,"e. Oppdragets opphør?",null,null,0,0,1,"",null,null,"x",null,null,""]
[336,"f. Alle direkte kostnader?",null,null,0,0,1,"",null,null,"x",null,null,""]
[337,"g. Alle inntekter?",null,null,0,0,1,"",null,null,"x",null,null,""]
[338,"Er kostnadene minst spesifisert på:\n• Lønnskostnader?",null,null,0,0,1,"",null,null,"x",null,null,""]
[339,"• Materialkostnader?",null,null,0,0,1,"",null,null,"x",null,null,""]
[340,"• Kostnader til underentreprenører?",null,null,0,0,1,"",null,null,"x",null,null,""]
[341,"• Andre direkte kostnader?",null,null,0,0,1,"",null,null,"x",null,null,""]
[{"$f":"+A554+1","v":342},"Foreligger det to-veis kontrollspor mellom prosjektregnskapet og dokumentasjonen av de bokførte opplysningene som inngår i prosjektregnskapet?",null,"BF § 8-1-5, 4. ledd",null,null,null,null,null,null,"x"]
[{"$f":"+A555+1","v":343},"Dokumentasjon av medgått tid\nEr utførte timer dokumentert for hver eier og ansatt?",null,"BF § 8-1-2",0,0,1,"",null,null,"x",null,null,{"$f":"IF(J556<>\"\",\"Du har satt X for at forholdet ikke er avklart. Gi en nærmere foklaring i kommentarfeltet.\",\"\")","v":""}]
[344,"Oppbevaring\nBlir prosjektregnskap eller bokførte opplysninger som er nødvendige for å kunne utarbeide slike prosjektregnskap, dokumentasjon av bokførte opplysninger som inngår i prosjektregnskapet, byggekontrakter med anbud/kalkyle, tegninger, kontrakter med underentreprenører, timelister og ordrelister oppbevart i 10 år etter regnskapsårets slutt?",null,"BF § 8-1-5",0,0,1,"",null,null,"x",null,null,{"$f":"IF(J557<>\"\",\"Du har satt X for at forholdet ikke er avklart. Gi en nærmere foklaring i kommentarfeltet.\",\"\")","v":""}]
[{"$f":"+A557+1","v":345},"Blir opprinnelige timelister på papir (eller scannet) oppbevart i tre år og seks måneder?\n\nOppbevaringsplikten av timelister på papir gjelder ikke dersom følgende vilkår er oppfylt:\n•  Den bokføringspliktige har revisjonsplikt\n•  Det er ikke tatt forbehold i fjorårets beretning knyttet til fastsettelse av regnskap eller ordentlig og oversiktelig registering og dokumentasjon av regnskapsopplysninger\n•  Det er ikke mottatt bokføringspålegg i løpet av de foregående 18 månedene",null,null,{"$f":"IF(I558<>\"\",1,0)","v":0},{"$f":"IF(J558<>\"\",1,0)","v":0},{"$f":"IF(K558<>\"\",1,0)","v":1},{"$f":"IF(SUM(E558:G558)>1,\"Velg kun et alt.\",\"\")","v":""},null,null,"x",null,null,{"$f":"IF(J558<>\"\",\"Du har satt X for at forholdet ikke er avklart. Gi en nærmere foklaring i kommentarfeltet.\",\"\")","v":""}]
["Taxinæring",null,null,null,null,{"$f":"IF(J559<>\"\",1,0)","v":0},null,null,"Ikke aktuelt",null,null,null,null,{"$f":"IF(J559<>\"\",\"Du har satt X for at forholdet ikke er avklart. Gi en nærmere foklaring i kommentarfeltet.\",\"\")","v":""}]
[{"$f":"+A558+1","v":346},"Taksameter\nHar bokføringspliktige som driver taxinæring registrert kontant- og kredittsalg ved bruk av taksameter som tilfredsstiller kravene i forskrift 1. oktober 2009 nr. 1226 om krav til taksameter?",null,"BF § 8-2-1",{"$f":"IF(I560<>\"\",1,0)","v":0},{"$f":"IF(J560<>\"\",1,0)","v":0},{"$f":"IF(K560<>\"\",1,0)","v":1},{"$f":"IF(SUM(E560:G560)>1,\"Velg kun et alt.\",\"\")","v":""},null,null,"x",null,null,{"$f":"IF(J560<>\"\",\"Du har satt X for at forholdet ikke er avklart. Gi en nærmere foklaring i kommentarfeltet.\",\"\")","v":""}]
[null,"Kravet om bruk av takstameter gjelder ikke ved transport som skjer i medhold av løyve for transport for funksjonshemmede. Ved slik kjøring, se krav i uttalelse fra Skattedirektoratet 18.01.2012.",null,"Uttalelse fra Skattedirektoratet 18.01.2012",null,null,null,null,null,null,"x"]
[null,"Departementet kan i særlige tilfeller gjøre unntak fra kravet til taksameter. ",null,"§ 8-2-6",null,null,null,null,null,null,"x"]
[{"$f":"+A560+1","v":347},"Krav til innholdet i salgsdokumentet\nVed kontantsalg, skriver taksameteret salgsdokument (salgskvittering) til kunden for hvert salg?",null,"BF § 8-2-2",null,null,null,null,null,null,"x"]
[{"$f":"+A563+1","v":348},"Inneholder kvitteringen alle opplysninger som nevnt i § 5-3-12, samt opplysninger om type betalingsmiddel?",null,"BF § 8-2-2",null,null,null,null,null,null,"x"]
[null,"Dokumentasjon av kontantsalg",null,null,null,null,null,null,null,null,"x"]
[{"$f":"+A564+1","v":349},"Er kontantsalget dokumentert med skiftlapper og rapport fra taksameteret som viser hver enkelt salgstransaksjon, jf § 8-2-2?",null,"BF § 8-2-3, 1. ledd",null,null,null,null,null,null,"x"]
[{"$f":"+A566+1","v":350},"Er skiftlappene som dokumenterer kontantomsetning fortløpende nummerert av systemet og inneholder løyvenummer og taksameterets serienummer?",null,"BF § 8-2-3, 1. ledd",{"$f":"IF(I567<>\"\",1,0)","v":0},{"$f":"IF(J567<>\"\",1,0)","v":0},{"$f":"IF(K567<>\"\",1,0)","v":1},{"$f":"IF(SUM(E567:G567)>1,\"Velg kun et alt.\",\"\")","v":""},null,null,"x",null,null,{"$f":"IF(J567<>\"\",\"Du har satt X for at forholdet ikke er avklart. Gi en nærmere foklaring i kommentarfeltet.\",\"\")","v":""}]
[{"$f":"+A567+1","v":351},"Inneholder skiftlappene for hvert skift følgende opplysninger:\n1. Skiftets dato? ",null,"BF § 8-2-3, 2. ledd",0,0,1,"",null,null,"x",null,null,{"$f":"IF(J568<>\"\",\"Du har satt X for at forholdet ikke er avklart. Gi en nærmere foklaring i kommentarfeltet.\",\"\")","v":""}]
[{"$f":"+A568+1","v":352},"2. Klokkeslett for skiftets begynnelse og slutt?",null,null,0,0,1,"",null,null,"x",null,null,{"$f":"IF(J569<>\"\",\"Du har satt X for at forholdet ikke er avklart. Gi en nærmere foklaring i kommentarfeltet.\",\"\")","v":""}]
[353,"3. Antall turer?",null,null,0,0,1,"",null,null,"x",null,null,{"$f":"IF(J570<>\"\",\"Du har satt X for at forholdet ikke er avklart. Gi en nærmere foklaring i kommentarfeltet.\",\"\")","v":""}]
[354,"4. a - Brutto innkjørt beløp fordelt på kontant og kreditt?",null,null,0,0,1,"",null,null,"x",null,null,""]
[{"$f":"+A571+1","v":355},"4. b - Kontantbeløpet fordelt på ulike betalingsmiddel?",null,null,null,null,1,null,null,null,"x"]
[{"$f":"+A572+1","v":356},"5. Totale og besatte kilometer? ",null,null,0,0,1,"",null,null,"x",null,null,""]
[357,"6. Sjåførens navn og fødselsnummer eller annen identifikasjonskode?",null,null,0,0,1,"",null,null,"x",null,null,""]
[358,"7. Akkumulerte tall for totale kilometer og totalt innkjørt i kroner? (Kilometer og kroner skal oppgis med henholdsvis minimum seks- og nisifrede tall.)",null,null,0,0,1,"",null,null,"x",null,null,""]
[359,"Er skiftlappene signert med fullt navn av skiftets sjåfør?\n\n",null,"BF § 8-2-3, 3. ledd",0,0,1,"",null,null,"x",null,null,""]
[360,"Er årsaken dokumentert dersom skiftlappsystemet har vært midlertidig ute av drift?",null,"BF § 8-2-3, 4. ledd",0,0,1,"",null,null,"x",null,null,""]
[361,"Når skiftlappsystemet har vært midlertidig er ute av drift, er forhåndsnummererte manuelle skiftlapper benyttet?\n(Besatte kilometer kan i slike tilfeller unnlates spesifisert.) ",null,"BF § 8-2-3, 4. ledd",0,0,1,"",null,null,"x",null,null,""]
[{"$f":"+A578+1","v":362},"Kassaavstemming\nForetas det avstemming for hvert skift hvor opptalt kassabeholdning mv. sammenholdes med kontantsalg ifølge skiftlapp?",null,"BF § 8-2-4",null,null,1,null,null,null,"x"]
[{"$f":"+A579+1","v":363},"Blir avstemmingen datert og fremgår det hvem som har foretatt avstemmingen?",null,null,null,null,1,null,null,null,"x"]
[{"$f":"+A580+1","v":364},"Oppbevaring\nBlir skiftlapper, rapport fra taksameter som viser hver enkelt salgstransaksjon samt kassaavstemming oppbevart i 5 år etter regnskapsårets slutt?",null,"BF § 8-2-5",{"$f":"IF(I581<>\"\",1,0)","v":0},{"$f":"IF(J581<>\"\",1,0)","v":0},{"$f":"IF(K581<>\"\",1,0)","v":1},{"$f":"IF(SUM(E581:G581)>1,\"Velg kun et alt.\",\"\")","v":""},null,null,"x",null,null,""]
["Frisørvirksomhet og skjønnhetspleie",null,null,null,null,null,null,null,"Ikke aktuelt",null,null,null,null,""]
[{"$f":"+A581+1","v":365},"Spesifikasjon\nEr kjøp av varer bokført slik at disse kan spesifiseres for salgsvarer og behandlingsvarer?",null,"BF § 8-3-1",{"$f":"IF(I583<>\"\",1,0)","v":0},{"$f":"IF(J583<>\"\",1,0)","v":0},{"$f":"IF(K583<>\"\",1,0)","v":1},{"$f":"IF(SUM(E583:G583)>1,\"Velg kun et alt.\",\"\")","v":""},null,null,"x",null,null,""]
[{"$f":"+A583+1","v":366},"Kan omsetning og uttak spesifiseres for varesalg og salg av behandlingstjenester?",null,null,null,null,null,null,null,null,"x"]
[{"$f":"+A584+1","v":367},"For frisørvirksomhet: er omsetning knyttet til klipp spesifisert og skilt ut fra øvrige behandlingstjenester?",null,"BF § 8-3-1",null,null,null,null,null,null,"x"]
[{"$f":"+A585+1","v":368},"Ved varetelling: er varene gruppert adskilt for salgsvarer og behandlingsvarer",null,null,null,null,null,null,null,null,"x"]
[369,"Dokumentasjon av kontantsalg\nViser z-raportene, som omtalt i delkapittel 5-3, omsetning pr. ansatt fordelt på varesalg og salg av behandlingstjenester?",null,"BF § 8-3-2",{"$f":"IF(I587<>\"\",1,0)","v":0},{"$f":"IF(J587<>\"\",1,0)","v":0},{"$f":"IF(K587<>\"\",1,0)","v":1},{"$f":"IF(SUM(E587:G587)>1,\"Velg kun et alt.\",\"\")","v":""},null,null,"x",null,null,""]
[370,"For frisørvirksomhet, viser z-rapportene også omsetning av klipp adskilt fra øvrige behandlingstjenester?",null,null,null,null,null,null,null,null,"x"]
[371,"Timebestilling\nEr behandlingstype registrert (se også spørsmål 216-218)?",null,"BF § 8-3-3, 2. ledd\nBF § 5-15",0,0,1,"",null,null,"x",null,null,"",null,null,null,null,null,"intern henvisning"]
[372,"Dokumentasjon av priser\nEr det utarbeidet oversikt over de til enhver tid gjeldene priser?",null,"BF § 8-3-3, 1. ledd",0,0,1,"",null,null,"x",null,null,""]
[373,"Er det utarbeidet tilsvarende oversikt over priser som brukes ved uttak til eiere og ansatte?",null,null,0,0,1,"",null,null,"x",null,null,""]
[374,"Er prisoversiktene datert og signert av den som har ansvaret for å fastsette prisene?",null,null,0,0,1,"",null,null,"x",null,null,""]
[375,"Dokumentasjon av varelager\nEr varene gruppert adskilt for salgsvarer og behandlingsvarer?",null,"BF § 8-3-1",0,0,1,"",null,null,"x",null,null,""]
["Serveringssteder der det serveres øl, vin eller brennevin",null,null,null,null,null,null,null,"Ikke aktuelt",null,null,null,null,""]
[null,"Spørsmål 317-327 gjelder også serveringssted, cateringvirksomhet, gatekjøkken eller annen virksomhet hvor tilberedt mat mv bringes ut til kunden eller hentes.",null,"BF § 8-5-1, 3. ledd",null,null,null,null,null,null,"x",null,null,null,null,null,null,null,null,"intern henvisning"]
[{"$f":"+A593+1","v":376},"Spesifikasjon\nEr innkjøpte varer for videresalg, omsetning og uttak bokført slik at disse kan spesifiseres på varegruppene mat, øl, vin, brennevin, rusbrus/cider, mineralvann, annen drikke, tobakk og andre varer?",null,"BF § 8-5-2, 1. ledd",{"$f":"IF(I596<>\"\",1,0)","v":0},{"$f":"IF(J596<>\"\",1,0)","v":0},{"$f":"IF(K596<>\"\",1,0)","v":1},{"$f":"IF(SUM(E596:G596)>1,\"Velg kun et alt.\",\"\")","v":""},null,null,"x",null,null,""]
[{"$f":"+A596+1","v":377},"Er eventuelle garderobeinntekter, inngangspenger (cover charge) og spilleinntekter fra automater spesifisert?",null,"BF § 8-5-2, 2. ledd",{"$f":"IF(I597<>\"\",1,0)","v":0},{"$f":"IF(J597<>\"\",1,0)","v":0},{"$f":"IF(K597<>\"\",1,0)","v":1},{"$f":"IF(SUM(E597:G597)>1,\"Velg kun et alt.\",\"\")","v":""},null,null,"x",null,null,""]
[null,"Dokumentasjon av kontantsalg  / Kassasystem mv",null,null,null,null,null,null,null,null,"x",null,null,""]
[{"$f":"+A597+1","v":378},"Registreres salg av mat og drikke mv fortløpende på kassaapparat, selv om betaling skjer når gjesten forlater serveringsstedet?\n\nSlik registrering skal enten skje ved at salget registreres fortløpende på bordnummer eller lignende, mens kvittering tas ut når gjesten skal betale, eller ved at salget registreres hver gang det serveres mat eller drikke mv med samtidig utskriving av kvittering fra kassaapparatet.",null,"BF § 8-5-3",0,null,null,null,null,null,"x"]
[{"$f":"+A599+1","v":379},"Blir opplysninger om gjester som gis fri adgang eller fri garderobe på grunnlag av medlemsskap eller lignende registrert på kassasystemet?",null,null,null,null,null,null,null,null,"x"]
[{"$f":"+A600+1","v":380},"Blir opplysningene spesifisert i X- og Y-rapport med angivelse av antall for hver tjenestegruppe?",null,null,null,null,null,null,null,null,"x"]
[{"$f":"+A601+1","v":381},"Dokumentasjon av priser\nEr det utarbeidet oversikt over de til enhver tid gjeldene priser?",null,"BF § 8-5-5, 1. ledd",0,0,1,"",null,null,"x",null,null,""]
[{"$f":"+A602+1","v":382},"Er det utarbeidet tilsvarende oversikt over priser som brukes ved uttak til eiere, ansatte, artister og gjester?",null,null,0,0,1,"",null,null,"x",null,null,""]
[{"$f":"+A603+1","v":383},"Er prisoversiktene datert og signert av den som har ansvaret for å fastsette prisene?",null,null,0,0,1,"",null,null,"x",null,null,""]
[null,"(Dersom matmenyen endres oftere enn hver uke, kan det unnlates å dokumentere prisene for denne del av omsetningen.)",null,null,0,0,1,"",null,null,"x",null,null,""]
[{"$f":"+A604+1","v":384},"Dokumentasjon av varelager\nEr varene gruppert i mat, øl, vin, brennevin, rusbrus/cider, mineralvann, annen drikke, tobakk og andre varer?",null,"BF § 8-5-2, 1. ledd",0,0,1,"",null,null,"x",null,null,""]
[{"$f":"+A606+1","v":385},"Oppbevaring\nOppbevares dokumentasjon av priser (spørsmål 372-374) og personalliste med eventuell kodeoversikt (spørsmål 327) i 3 år og 6 måneder etter regnskapsårets slutt?",null,"BF § 8-5-7",null,null,null,null,null,null,"x",null,null,null,null,null,null,null,null,"intern henvisning"]
["Hoteller mv.",null,null,null,null,null,null,null,"Ikke aktuelt",null,null,null,null,""]
[{"$f":"A607+1","v":386},"Spesifikasjon\nEr bokføringen innrettet slik at transaksjoner knyttet til helpensjon, halvpensjon og overnatting med frokost kan spesifiseres hver for seg?",null,"BF § 8-6-2",null,null,null,null,null,null,"x"]
[{"$f":"A609+1","v":387},"Er fordeling av pensjonspriser mellom omsetning som avgiftsberegnes med de ulike satsene eller som er unntatt merverdiavgiftsloven, spesifisert for hver rapportperiode?",null,"BF § 8-6-3",{"$f":"IF(I610<>\"\",1,0)","v":0},0,1,{"$f":"IF(SUM(E610:G610)>1,\"Velg kun et alt.\",\"\")","v":""},null,null,"x",null,null,{"$f":"IF(J610<>\"\",\"Du har satt X for at forholdet ikke er avklart. Gi en nærmere foklaring i kommentarfeltet.\",\"\")","v":""}]
[{"$f":"+A610+1","v":388},"Oppbevaring\nBlir kalkyler som grunnlag for fordelingen av bruttopensjonspriser og kalkyle for frokostverdi oppbevart i 5 år etter regnskapsårets slutt?",null,"BF § 8-6-5",0,0,1,{"$f":"IF(SUM(E611:G611)>1,\"Velg kun et alt.\",\"\")","v":""},null,null,"x",null,null,""]
["Stats- og bygdealmenninger",null,null,null,null,null,null,null,"Ikke aktuelt",null,null,null,null,""]
[{"$f":"A611+1","v":389},"Bokføring\nEr alle leveranser, utbetalt utbytte samt bidrag fra almenningen bokført slik at opplysningene kan spesifiseres for hver enkelt bruksberettiget?",null,"BF § 8-7, 1. ledd",{"$f":"IF(I613<>\"\",1,0)","v":0},{"$f":"IF(J613<>\"\",1,0)","v":0},{"$f":"IF(K613<>\"\",1,0)","v":1},{"$f":"IF(SUM(E613:G613)>1,\"Velg kun et alt.\",\"\")","v":""},null,null,"x",null,null,""]
[{"$f":"A613+1","v":390},"Dokumentasjon\nFremgår det av dokumentasjonen hvilke kvanta som er levert?",null,"BF § 8-7, 2. ledd",null,null,null,null,null,null,"x",null,null,""]
[{"$f":"A614+1","v":391},"Fremgår både verdi beregnet etter vanlige priser ved detaljomsetning i åpent marked, og den betaling som den bruksberettigede har erlagt for leveranser av tømmer, ved, skurlast, høvellast, torv mv.?",null,null,null,null,null,null,null,null,"x",null,null,""]
[{"$f":"A615+1","v":392},"Er virkets antatte rotverdi ved salg i åpent marked anført når den bruksberettigede har fått utvist tømmer og ved på rot?",null,null,null,null,null,null,null,null,"x",null,null,""]
[{"$f":"A616+1","v":393},"Er det anført hvor mye av utbetalt utbytte eller bidrag som tidligere er skattlagt på allmenningens hånd?",null,null,null,null,null,null,null,null,"x",null,null,""]
["Utenlandske foretak som driver virksomhet på norsk sokkel, \nunntatt petroleumsutvinning og rørledningstransport, eller foretak som driver midlertidig virksomhet på land",null,null,null,null,null,null,null,"Ikke aktuelt",null,null,null,null,""]
[null,"Dette delkapittelet gjelder for utenlandsk foretak som utøver eller deltar i virksomhet her i riket eller på norsk kontinentalsokkel, og som er skattepliktig til Norge etter norsk intern lovgivning; \n- som utøver eller deltar i virksomhet som er skattepliktig etter petroleumsskatteloven, med unntak av skattepliktige etter petroleumsskatteloven §3 og §5, og/eller\n- som ikke har varig tilknytning til riket",null,"BF § 8-8-1",null,null,null,null,null,null,"x"]
[{"$f":"A617+1","v":394},"Bokføring\nEr bokføringen innrettet slik at alle økonomiske transaksjoner mellom den bokføringspliktige og foretak med interessefellesskap trer klart frem og slik at disse transaksjoner kan påvises enkeltvis og samlet?",null,"BF § 8-8-2",null,null,null,null,null,null,"x"]
[{"$f":"A620+1","v":395},"Spesifikasjon\nFor bokføringspliktige som har påtatt seg oppdrag som for oppdragsgiveren er rapporteringspliktig i henhold til skatteforvaltningsloven § 7-6, kan inntekter og direkte kostnader spesifiseres for hver kontrakt? ",null,"BF § 8-8-3",null,null,null,null,null,null,"x"]
[{"$f":"+A621+1","v":396},"Er det mulig å kontrollere at all inntekt vedrørende slik virksomhet er tatt med i regnskapet?",null,null,null,null,null,null,null,null,"x"]
[{"$f":"+A622+1","v":397},"Dokumentasjon\nForeligge det en oppstilling som viser hvilke kostnader som inngår i fordelingen av indirekte kostnader, samt anvendte fordelingsnøkler? \n\nSammen med oppstillingen skal det være en forklaring på de anvendte fordelingsprinsipper, herunder hvordan belastninger og godskrivinger er fordelt mellom de enkelte selskapsenheter og/eller foretak med interessefellesskap.",null,"BF § 8-8-4",null,null,null,null,null,null,"x"]
[{"$f":"A623+1","v":398},"Oppbevaring\nBlir oppstilling som viser hvilke kostnader som inngår i fordelingen av indirekte kostnader, oppbevart i 10 år?",null,"BF § 8-8-5",null,null,null,null,null,null,"x"]
["Petroleumsutvinning og rørledningstranspport",null,null,null,null,null,null,null,"Ikke aktuelt",null,null,null,null,{"$f":"IF(J625<>\"\",\"Du har satt X for at forholdet ikke er avklart. Gi en nærmere foklaring i kommentarfeltet.\",\"\")","v":""}]
[{"$f":"A624+1","v":399},"Bokføring\nVed salg og uttak av petroleum, er både fakturerte eller avregnede priser og fastsatte normpriser registreret?",null,"BF § 8-9-2",null,null,null,null,null,null,"x"]
[null,"Dokumentasjon\nInneholder dokumentasjonen av salg og/eller uttak opplysninger om:",null,"BF § 8-9-3",null,null,null,null,null,null,"x"]
[{"$f":"A626+1","v":400},"a) hvem som kjøper?",null,null,null,null,null,null,null,null,"x"]
[{"$f":"A628+1","v":401},"b) når kontrakten er inngått?",null,null,null,null,null,null,null,null,"x"]
[{"$f":"A629+1","v":402},"c) når petroleumen passerte leveringsstedet (det leveringssted som er lagt til grunn for det enkelte normprisvedtak)?",null,null,null,null,null,null,null,null,"x"]
[{"$f":"A630+1","v":403},"d) petroleumens art?  ",null,null,null,null,null,null,null,null,"x"]
[{"$f":"A631+1","v":404},"e) leveringsvilkår? ",null,null,null,null,null,null,null,null,"x"]
[{"$f":"A632+1","v":405},"f) kredittid?",null,null,null,null,null,null,null,null,"x"]
[{"$f":"A633+1","v":406},"g) betalingsvaluta?",null,null,null,null,null,null,null,null,"x"]
[407,"h) fraktbeløp (ved andre leveringsvilkår enn FOB)?",null,null,null,null,null,null,null,null,"x"]
[408,"i) kvantum?",null,null,null,null,null,null,null,null,"x"]
[409,"j) faktura, eller avregningspris pr. enhet?",null,null,null,null,null,null,null,null,"x"]
[410,"k) normpris pr. enhet?",null,null,null,null,null,null,null,null,"x"]
[411,"l) salg eller uttak etter faktura- eller avregningspris?",null,null,null,null,null,null,null,null,"x"]
[412,"m) salg eller uttak etter fastsatt normpris?",null,null,null,null,null,null,null,null,"x"]
[413,"Oppbevaring\nBlir oppbevaringspliktig materiale oppbevart ordnet i minst 15 år etter utløpet av vedkommende inntektsår?",null,"BF § 8-9-4, jf. bkfl. § 13",null,null,null,null,null,null,"x"]
["Videreforhandlere av brukte varer, kunstverk, samleobjekter eller antikviteter",null,null,null,null,null,null,null,"Ikke aktuelt",null,null,null,null,{"$f":"IF(J642<>\"\",\"Du har satt X for at forholdet ikke er avklart. Gi en nærmere foklaring i kommentarfeltet.\",\"\")","v":""}]
[null,"Spesifikasjon av kjøp og salg\nEr alle kjøp og salg spesifisert med følgende opplysninger:",null,"BF § 8-10-2, jf. mval § 4-5, § 4-6 og § 4-10",null,null,null,null,null,null,"x"]
[{"$f":"A641+1","v":414},"a) gjenstandens nr. (gjenstandene skal merkes med samme nr.)?",null,null,null,null,null,null,null,null,"x"]
[{"$f":"A644+1","v":415},"b) kjøpsdato?",null,null,null,null,null,null,null,null,"x"]
[{"$f":"A645+1","v":416},"c) kjøpssum?",null,null,null,null,null,null,null,null,"x"]
[{"$f":"A646+1","v":417},"d) en klar beskrivelse av varen samt antall, størrelse, mengde eller vekt?",null,null,null,null,null,null,null,null,"x"]
[418,"e) navn og adresse til den person gjenstanden er ervervet fra?  ",null,null,null,null,null,null,null,null,"x"]
[419,"f) salgsdato?",null,null,null,null,null,null,null,null,"x"]
[420,"g) salgssum, inkludert avgift?",null,null,null,null,null,null,null,null,"x"]
[421,"h) beregningsgrunnlag utgående avgift?",null,null,null,null,null,null,null,null,"x"]
[422,"Fremgår det av spesifikasjonen om avansen eller de alminnelige regler for avgiftsberegningen er lagt til grunn ved avgiftsberegningen ved videresalget av gjenstanden?",null,null,null,null,null,null,null,null,"x"]
[423,"Ved samlede kjøp hvor prisen på den enkelte vare ikke er kjent, er det under pkt. d) minimum angitt hovedgrupper av varer som er innkjøpt samt en nøyaktig angivelse av det antall gjenstander som er innkjøpt med antatt pris som overstiger kr 300? \n(Gjenstander med pris over kr 300 skal merkes med det nummeret som er benyttet i spesifikasjonen.)\n\nSalg fra samlede kjøp kreves ikke spesifisert.",null,null,null,null,null,null,null,null,"x"]
[424,"Dokumentasjon av kjøp\nForeligger det salgsdokument også når selger av gjenstanden ikke er bokføringspliktig, eventuelt i form av avregningsseddel eller annet bilag som videreforhandleren utsteder?",null,"BF § 8-10-3",null,null,null,null,null,null,"x"]
[null,"Inneholder salgsdokumentet ",null,null,null,null,null,null,null,null,"x"]
[{"$f":"A654+1","v":425},"• videreforhandlerens navn?",null,null,null,null,null,null,null,null,"x"]
[426,"• kjøpsdato?  ",null,null,null,null,null,null,null,null,"x"]
[427,"• kjøpssum?  ",null,null,null,null,null,null,null,null,"x"]
[428,"• en klar beskrivelse av varen samt antall, størrelse, mengde eller vekt?  ",null,null,null,null,null,null,null,null,"x"]
[429,"• navn og adresse til den person gjenstanden er ervervet fra?  ",null,null,null,null,null,null,null,null,"x"]
[430,"Er salgsdokumentet signert av den som avhender gjenstanden?",null,null,null,null,null,null,null,null,"x"]
[431,"Fremgår også samlede innkjøp med enhetspris på mindre enn kr 300 av salgsdokumentet?",null,null,null,null,null,null,null,null,"x"]
[432,"Dokumentasjon av salg\nEr det utstedt særskilt salgsdokument ved videresalg når avansen som beregningsgrunnlag for utgående avgift er benyttet? ",null,"BF § 8-10-4",null,null,null,null,null,null,"x"]
[433,"Er gjenstandens nummer påført salgsdokumentet?",null,null,null,null,null,null,null,null,"x"]
[434,"Fremgår det av salgsdokumentet at avgiftsbeløp som er inkludert i prisen ikke er fradragsberettiget som inngående avgift (MRK: avgiftsbeløpet skal ikke angis i salgsdukumentet)?",null,null,null,null,null,null,null,null,"x"]
[435,"Dokumentasjon når avgiften beregnes terminvis\nEr det opprettet en hjelpekonto eller annen oversikt hvor samlede kjøp utlignes mot \n\n• enkeltsalg fra et samlet kjøp og \n• samlede salg redusert for kjente kjøpsverdier på den enkelte gjenstand som inngår i salget?",null,"BF § 8-10-5, jf. merverdiavgiftsloven § 4-6",null,null,null,null,null,null,"x"]
[436,"Dersom samlet kjøp eller salg utgjør den hovedsakelige del (80 pst. eller mer) av videreforhandlerens kjøp eller salg i terminen, er også positiv avanse fra andre brukte varer ført mot hjelpekontoen? \n(Hvis denne løsningen velges, skal hele salgssummen bokføres som avgiftsfri omsetning, se spørsmål 316.)",null,null,null,null,null,null,null,null,"x"]
[437,"Dersom hjelpekontoen ikke er utlignet, er det overskytende beløp medregnet til verdien av samlede kjøp i de etterfølgende terminer? ",null,null,null,null,null,null,null,null,"x"]
[438,"Dersom hjelpekontoen viser positiv avanse, er avansen bokført på avgiftspliktig salgskonto? ",null,null,null,null,null,null,null,null,"x"]
[439,"Bokføring\nNår det er foretatt samlede innkjøp eller salg hvor prisen på den enkelte vare ikke er kjent, er det enten opprettet egne konti for samlede kjøp og salg, eller ført oversikt over slike kjøp og salg i hjelpebøker eller på annen måte?",null,"BF § 8-10-6, 1. ledd",null,null,null,null,null,null,"x"]
[440,"Er det tilsvarende ført oversikt over kjøp og salg hvor avgiften ved videresalget er beregnet på grunnlag av de alminnelige regler for avgiftsberegningen, jf. merverdiavgiftsloven kapittel 4?",null,null,null,null,null,null,null,null,"x"]
[441,"Er samlede salg og salg av enkeltgjenstander fra et samlet kjøp, ført på en avgiftsfri salgskonto inntil hjelpekontoen er utlignet?",null,"BF § 8-10-6 2.ledd, jf. \n§ 8-10-5",null,null,null,null,null,null,"x"]
[442,"Er avansen for øvrige salg ført på avgiftspliktig salgskonto, mens resten av salgsverdien er ført på en avgiftsfri salgskonto? \n(Gjelder ikke ved bruk av 80 %-regelen, se spørsmål 311.)",null,"BF § 8-10-6 3. ledd, jf.\n§ 8-10-5",null,null,null,null,null,null,"x"]
[443,"Er salgssummen der varen selges med tap i sin helhet bokført på den avgiftsfrie salgskontoen? ",null,"BF § 8-10-6 3. ledd",null,null,null,null,null,null,"x"]
[444,"Dersom fordelingen mellom avgiftspliktig og avgiftsfri omsetning gjennomføres ved utgangen av en termin, fremgår grunnlaget for denne fordelingen av regnskapet eller hjelpeoppstillinger?",null,"BF § 8-10-6, 4. ledd",null,null,null,null,null,null,"x"]
[{"$f":"A675+1","v":445},"Oppbevaring\nBlir spesifikasjon av kjøp og salg oppbevart i 5 år etter at siste gjenstand som inngår i spesifikasjonen er solgt?",null,"BF § 8-10-7",null,null,null,null,null,null,"x"]
[{"$f":"A676+1","v":446},"Blir registreringer på hjelpekonto eller tilsvarende oversikt oppbevart i 5 år etter regnskapsårets slutt?",null,null,null,null,null,null,null,null,"x"]
["Veldedige og allmennyttige institusjoner og organisasjoner ",null,null,null,null,null,null,null,"Ikke aktuelt",null,null,null,null,{"$f":"IF(J678<>\"\",\"Du har satt X for at forholdet ikke er avklart. Gi en nærmere foklaring i kommentarfeltet.\",\"\")","v":""}]
[null,"Dette delkapittelet gjelder for bokføringspliktige veldedige og allmennytige insitusjoner og organisasjoner, som omfattes av mval § 3-12, 1. ledd bokstad b og e om omsetning av varer til betydelig overpris og varer fra enkeltstående og kortvarige salgsarrangementer samt § 3-12, 3. ledd om omsetning av varer fra kiosk og omsetning av serveringssteder. "]
[{"$f":"A677+1","v":447},"Dokumentasjon av inntakskost\nVed bruk av redusert beregningsgrunnlag for merverdiavgift ved salg av gjenstander til betydelig overpris, er inntakskost dokumentert ved salgsdokument, erklæring fra giver eller lignende? ",null,"BF § 8-11-2",{"$f":"IF(I680<>\"\",1,0)","v":0},0,1,{"$f":"IF(SUM(E680:G680)>1,\"Velg kun et alt.\",\"\")","v":""},null,null,"x",null,null,{"$f":"IF(J680<>\"\",\"Du har satt X for at forholdet ikke er avklart. Gi en nærmere foklaring i kommentarfeltet.\",\"\")","v":""}]
[null,"Unntak fra krav til dokumentasjon av kontantsalg\nFor bokføringspliktige som er omfattet av dette delkapittelet, gjelder ikke § 5-3-2 for å dokumentere omsetning som nevnt i merverdiavgiftsloven § 3-12, 1. ledd bokstav e og § 3-12, 3. ledd. Slike bokføringspliktige kan i stedet dokumentere kontantsalget med dagsoppgjør, jf. etter § 5-4-5, 1. og 3. punktum og annen tilgjengelig dokumentasjon, for eksempel elektronisk salgsrapport som viser transaksjonene enkeltvis og rapporter fra betalingsterminal. ",null,"BF § 8-11-3",null,null,null,null,null,null,"x"]
[{"$f":"+A680+1","v":448},"Er dokumentasjonen oppbevart i 5 år etter regnskapsårets slutt?",null,"BF § 8-11-4",0,0,1,{"$f":"IF(SUM(E682:G682)>1,\"Velg kun et alt.\",\"\")","v":""},null,null,"x",null,null,{"$f":"IF(J682<>\"\",\"Du har satt X for at forholdet ikke er avklart. Gi en nærmere foklaring i kommentarfeltet.\",\"\")","v":""}]
["Finansvirksomhet",null,null,null,null,null,null,null,"Ikke aktuelt"]
[null,"Salgsdokument \nVed kjøp og salg av finansielle instrumenter kan finansvirksomhet benytte sluttsedler som salgsdokument.\n\nFinansvirksomhet som har transaksjoner i form av utlån/kreditt/finansiering til eller innskudd/forvaltningsoppdrag fra kunder, og som etter avtale med kundene kan belaste kunden direkte for utførte tjenester via kontoforhold, kan benytte kontoutskrift som salgsdokument.",null,"BF § 8-13-2",null,null,null,null,null,null,"x"]
[{"$f":"+A682+1","v":449},"Inneholder sluttsedler og kontoutskrift opplysninger som nevnt i delkapittel 5-1; \"Dokumentasjon av salg av varer og tjenester\"? \nSe krav til opplysninger i spørsmål 74 flg.  \n\nKravet om fortløpende nummerering av salgdokumentet etter § 5-1-3 kan erstattes av angivelse av kundens kontonummer og et fortløpende nummer på kundenivå.",null,"BF § 8-13-2, 2. ledd",null,null,null,null,null,null,"x",null,null,null,null,null,null,null,null,"intern henvisning"]
[null,"Kunde- og leverandørspesifikasjon\nFinansvirksomhet kan benytte sine fagsystemer for å utarbeide spesifikasjoner som nevnt i spørsmål 13-26 (BF § 3-1 nr. 3 og 4)",null,"BF § 8-13-3",null,null,null,null,null,null,"x",null,null,null,null,null,null,null,null,"intern henvisning"]
[null,"For krav til innholdet i SAF-T fil for opplysninger i kunde- og leverandørspesifikasjonene som håndteres i fagsystemene, se egen prinsipputtalelse fra Skattedirektoratet",null,"Prinsipputtalelse 05.01.2022",null,null,null,null,null,null,"x"]
[{"$f":"+A685+1","v":450},"Kan opplysningene fra fagsystemene spesifiseres i en form som sikrer at opplysningsplikten etter lov og forskrift ivaretas?",null,null,null,null,null,null,null,null,"x"]
[{"$f":"+A688+1","v":451},"Oppbevaring\nFor banker og finansieringsforetak, blir spesifikasjoner etter BF § 8-13-3, samt dokumentasjon av bokførte opplysninger som inngår i slike spesifikasjoner, oppbevart i 10 år etter regnskapsårets slutt?",null,"BF § 8-13-4\nSkddir uttalelse 8. juli 2015",null,null,null,null,null,null,"x"]
["Forsikringsselskaper og pensjonsforetak",null,null,null,null,null,null,null,"Ikke aktuelt"]
[null,"Salgsdokument \nPolisedokument kan benyttes som salgsdokument dersom dokumentasjonen inneholder opplysninger som nevnt i spørsmål 74 flg.\n\nKravet om fortløpende nummerering av salgdokumentet kan likevel erstattes av angivelse polisenummer/forsikringsavtalenummer og termin.",null,"BF § 8-14-2",null,null,null,null,null,null,"x",null,null,null,null,null,null,null,null,"intern henvisning"]
[null,"Kunde- og leverandørspesifikasjon\nForsikringsselskaper og pensjonsforetak kan benytte sine fagsystemer for å utarbeide spesifikasjoner som nevnt i spørsmål 13-26 (BF § 3-1 nr. 3 og 4)",null,"BF § 8-14-3",null,null,null,null,null,null,"x",null,null,null,null,null,null,null,null,"intern henvisning"]
[null,"For krav til innholdet i SAF-T fil for opplysnnger i kunde- og leverandørspesifikasjonene som håndteres i fagsystemene, se egen prinsipputtalelse fra Skattedirektoratet",null,"Prinsipputtalelse 05.01.2022",null,null,null,null,null,null,"x"]
[{"$f":"+A689+1","v":452},"Kan opplysningene fra fagsystemene spesifiseres i en form som sikrer at opplysningsplikten etter lov og forskrift ivaretas?",null,null,null,null,null,null,null,null,"x"]
["Kraftbransjen",null,null,null,null,null,null,null,"Ikke aktuelt"]
[null,"Felles fakturering av nettjenester og elektrisk energi",null,null,null,null,null,null,null,null,"x"]
[null,"Leverandører av nettjenester og elektrisk energi kan utstede felles salgsdokument. Det kan beyttes en felles nummerserie for slike salgsdokument. For øvrig gjelder kravene til salgsdokumentets innhold i bokføringsforskriften delkapittel 5-1 for hver av partenes omsetning. ",null,"BF § 8-15-1",null,null,null,null,null,null,"x"]
[null,"Når det er utstedt felles salgsdokument etter § 8-15-1, kan leverandører som ikke selv har utstedt salgsdokumentet, registrere transaksjonene i kundespesifikasjonen over fakturautsteders konto. ",null,"BF § 8-15-2",null,null,null,null,null,null,"x"]

{"sheet":"Ikke besvart","index":3,"n_rows":453,"n_cols":11,"rows_kept":453,"cut":false,"hidden":true,"merged":[]}
[null,null,null,null,{"$f":"COUNTIF(E2:E507,\"=0\")-F1","v":300},{"$f":"SUM(F2:F507)","v":0},"Ikke besvart",{"$f":"'Sjekkliste for utfylling'!B2","v":0},{"$f":"'Sjekkliste for utfylling'!B3","v":"2024"},null,"Kommentarer"]
[{"$f":"'Sjekkliste for utfylling'!A28","v":1},{"$f":"IF('Sjekkliste for utfylling'!I28<>\"\",1,0)","v":0},{"$f":"IF('Sjekkliste for utfylling'!J28<>\"\",1,0)","v":0},{"$f":"IF('Sjekkliste for utfylling'!K28<>\"\",1,0)","v":0},{"$f":"SUM(B2:D2)","v":0},null,{"$f":"IF($E2=0,'Sjekkliste for utfylling'!A28,\"\")","v":1},{"$f":"IF($E2=0,'Sjekkliste for utfylling'!B28,\"\")","v":"Er alle opplysninger bokført som er nødvendige for å kunne utarbeide:\n• Pliktig regnskapsrapportering?"},null,null,{"$f":"IF(E2=0,'Sjekkliste for utfylling'!L28,\" \")","v":0}]
[{"$f":"'Sjekkliste for utfylling'!A29","v":2},{"$f":"IF('Sjekkliste for utfylling'!I29<>\"\",1,0)","v":0},{"$f":"IF('Sjekkliste for utfylling'!J29<>\"\",1,0)","v":0},{"$f":"IF('Sjekkliste for utfylling'!K29<>\"\",1,0)","v":0},0,null,{"$f":"IF($E3=0,'Sjekkliste for utfylling'!A29,\"\")","v":2},{"$f":"IF($E3=0,'Sjekkliste for utfylling'!B29,\"\")","v":"• Spesifikasjoner av pliktig regnskapsrapportering (se spørsmålene 5 – 46)?"},null,null,{"$f":"IF(E3=0,'Sjekkliste for utfylling'!L29,\" \")","v":0}]
[{"$f":"'Sjekkliste for utfylling'!A30","v":3},{"$f":"IF('Sjekkliste for utfylling'!I30<>\"\",1,0)","v":0},{"$f":"IF('Sjekkliste for utfylling'!J30<>\"\",1,0)","v":0},{"$f":"IF('Sjekkliste for utfylling'!K30<>\"\",1,0)","v":0},0,null,{"$f":"IF($E4=0,'Sjekkliste for utfylling'!A30,\"\")","v":3},{"$f":"IF($E4=0,'Sjekkliste for utfylling'!B30,\"\")","v":"• Andre pliktige spesifikasjoner - se også under \"Bransjemessige forhold\" for hver bransje"},null,null,{"$f":"IF(E4=0,'Sjekkliste for utfylling'!L30,\" \")","v":0}]
[{"$f":"'Sjekkliste for utfylling'!A31","v":4},{"$f":"IF('Sjekkliste for utfylling'!I31<>\"\",1,0)","v":0},{"$f":"IF('Sjekkliste for utfylling'!J31<>\"\",1,0)","v":0},{"$f":"IF('Sjekkliste for utfylling'!K31<>\"\",1,0)","v":0},0,null,{"$f":"IF($E5=0,'Sjekkliste for utfylling'!A31,\"\")","v":4},{"$f":"IF($E5=0,'Sjekkliste for utfylling'!B31,\"\")","v":"Er bilagene fortløpende nummerert?"},null,null,{"$f":"IF(E5=0,'Sjekkliste for utfylling'!L31,\" \")","v":0}]
[{"$f":"'Sjekkliste for utfylling'!A36","v":5},{"$f":"IF('Sjekkliste for utfylling'!I36<>\"\",1,0)","v":0},{"$f":"IF('Sjekkliste for utfylling'!J36<>\"\",1,0)","v":0},{"$f":"IF('Sjekkliste for utfylling'!K36<>\"\",1,0)","v":0},0,null,{"$f":"IF($E6=0,'Sjekkliste for utfylling'!A36,\"\")","v":5},{"$f":"IF($E6=0,'Sjekkliste for utfylling'!B36,\"\")","v":"Bokføringsspesifikasjon\nInneholder spesifikasjonen alle bokførte opplysninger pr. periode?"},null,null,{"$f":"IF(E6=0,'Sjekkliste for utfylling'!L36,\" \")","v":0}]
[{"$f":"'Sjekkliste for utfylling'!A37","v":6},{"$f":"IF('Sjekkliste for utfylling'!I37<>\"\",1,0)","v":0},{"$f":"IF('Sjekkliste for utfylling'!J37<>\"\",1,0)","v":0},{"$f":"IF('Sjekkliste for utfylling'!K37<>\"\",1,0)","v":0},0,null,{"$f":"IF($E7=0,'Sjekkliste for utfylling'!A37,\"\")","v":6},{"$f":"IF($E7=0,'Sjekkliste for utfylling'!B37,\"\")","v":"Fremgår postene i ordnet rekkefølge med dokumentasjonsdato, dokumentasjonshenvisning, tilordningskoder, mva-koder og andre relevante behandlingskoder?"},null,null,{"$f":"IF(E7=0,'Sjekkliste for utfylling'!L37,\" \")","v":0}]
[{"$f":"'Sjekkliste for utfylling'!A38","v":7},{"$f":"IF('Sjekkliste for utfylling'!I38<>\"\",1,0)","v":0},{"$f":"IF('Sjekkliste for utfylling'!J38<>\"\",1,0)","v":0},{"$f":"IF('Sjekkliste for utfylling'!K38<>\"\",1,0)","v":0},0,null,{"$f":"IF($E8=0,'Sjekkliste for utfylling'!A38,\"\")","v":7},{"$f":"IF($E8=0,'Sjekkliste for utfylling'!B38,\"\")","v":"Er systemgenererte poster lett kontrollerbare?"},null,null,{"$f":"IF(E8=0,'Sjekkliste for utfylling'!L38,\" \")","v":0}]
[{"$f":"'Sjekkliste for utfylling'!A39","v":8},{"$f":"IF('Sjekkliste for utfylling'!I39<>\"\",1,0)","v":0},{"$f":"IF('Sjekkliste for utfylling'!J39<>\"\",1,0)","v":0},{"$f":"IF('Sjekkliste for utfylling'!K39<>\"\",1,0)","v":0},0,null,{"$f":"IF($E9=0,'Sjekkliste for utfylling'!A39,\"\")","v":8},{"$f":"IF($E9=0,'Sjekkliste for utfylling'!B39,\"\")","v":"Kontospesifikasjon\nInneholder spesifikasjonen alle kontoer pr. periode?"},null,null,{"$f":"IF(E9=0,'Sjekkliste for utfylling'!L39,\" \")","v":0}]
[{"$f":"'Sjekkliste for utfylling'!A40","v":9},{"$f":"IF('Sjekkliste for utfylling'!I40<>\"\",1,0)","v":0},{"$f":"IF('Sjekkliste for utfylling'!J40<>\"\",1,0)","v":0},{"$f":"IF('Sjekkliste for utfylling'!K40<>\"\",1,0)","v":0},0,null,{"$f":"IF($E10=0,'Sjekkliste for utfylling'!A40,\"\")","v":9},{"$f":"IF($E10=0,'Sjekkliste for utfylling'!B40,\"\")","v":"Er det for hver konto angitt:\n• Kontokode og kontonavn?"},null,null,{"$f":"IF(E10=0,'Sjekkliste for utfylling'!L40,\" \")","v":0}]
[{"$f":"'Sjekkliste for utfylling'!A41","v":10},{"$f":"IF('Sjekkliste for utfylling'!I41<>\"\",1,0)","v":0},{"$f":"IF('Sjekkliste for utfylling'!J41<>\"\",1,0)","v":0},{"$f":"IF('Sjekkliste for utfylling'!K41<>\"\",1,0)","v":0},0,null,{"$f":"IF($E11=0,'Sjekkliste for utfylling'!A41,\"\")","v":10},{"$f":"IF($E11=0,'Sjekkliste for utfylling'!B41,\"\")","v":"• Alle poster i ordnet rekkefølge med  dokumentasjonsdato og dokumentasjonshenvisning samt andre relevante behandlingskoder?"},null,null,{"$f":"IF(E11=0,'Sjekkliste for utfylling'!L41,\" \")","v":0}]
[{"$f":"'Sjekkliste for utfylling'!A42","v":11},{"$f":"IF('Sjekkliste for utfylling'!I42<>\"\",1,0)","v":0},{"$f":"IF('Sjekkliste for utfylling'!J42<>\"\",1,0)","v":0},{"$f":"IF('Sjekkliste for utfylling'!K42<>\"\",1,0)","v":0},0,null,{"$f":"IF($E12=0,'Sjekkliste for utfylling'!A42,\"\")","v":11},{"$f":"IF($E12=0,'Sjekkliste for utfylling'!B42,\"\")","v":"• Inn- og utgående saldo?"},null,null,{"$f":"IF(E12=0,'Sjekkliste for utfylling'!L42,\" \")","v":0}]
[{"$f":"'Sjekkliste for utfylling'!A43","v":12},{"$f":"IF('Sjekkliste for utfylling'!I43<>\"\",1,0)","v":0},{"$f":"IF('Sjekkliste for utfylling'!J43<>\"\",1,0)","v":0},{"$f":"IF('Sjekkliste for utfylling'!K43<>\"\",1,0)","v":0},0,null,{"$f":"IF($E13=0,'Sjekkliste for utfylling'!A43,\"\")","v":12},{"$f":"IF($E13=0,'Sjekkliste for utfylling'!B43,\"\")","v":"• Kan inngående og utgående merverdiavgift spesifiseres pr transaksjon?"},null,null,{"$f":"IF(E13=0,'Sjekkliste for utfylling'!L43,\" \")","v":0}]
[{"$f":"'Sjekkliste for utfylling'!A45","v":13},{"$f":"IF('Sjekkliste for utfylling'!I45<>\"\",1,0)","v":0},{"$f":"IF('Sjekkliste for utfylling'!J45<>\"\",1,0)","v":0},{"$f":"IF('Sjekkliste for utfylling'!K45<>\"\",1,0)","v":0},0,null,{"$f":"IF($E14=0,'Sjekkliste for utfylling'!A45,\"\")","v":13},{"$f":"IF($E14=0,'Sjekkliste for utfylling'!B45,\"\")","v":"Inneholder spesifikasjonen alle transaksjoner med kunder pr. periode?"},null,null,{"$f":"IF(E14=0,'Sjekkliste for utfylling'!L45,\" \")","v":0}]
[{"$f":"'Sjekkliste for utfylling'!A46","v":14},{"$f":"IF('Sjekkliste for utfylling'!I46<>\"\",1,0)","v":0},{"$f":"IF('Sjekkliste for utfylling'!J46<>\"\",1,0)","v":0},{"$f":"IF('Sjekkliste for utfylling'!K46<>\"\",1,0)","v":0},0,null,{"$f":"IF($E15=0,'Sjekkliste for utfylling'!A46,\"\")","v":14},{"$f":"IF($E15=0,'Sjekkliste for utfylling'!B46,\"\")","v":"Fremgår følgende av spesifikasjonen:\n• Kundens kode og navn?"},null,null,{"$f":"IF(E15=0,'Sjekkliste for utfylling'!L46,\" \")","v":0}]
[{"$f":"'Sjekkliste for utfylling'!A47","v":15},{"$f":"IF('Sjekkliste for utfylling'!I47<>\"\",1,0)","v":0},{"$f":"IF('Sjekkliste for utfylling'!J47<>\"\",1,0)","v":0},{"$f":"IF('Sjekkliste for utfylling'!K47<>\"\",1,0)","v":0},0,null,{"$f":"IF($E16=0,'Sjekkliste for utfylling'!A47,\"\")","v":15},{"$f":"IF($E16=0,'Sjekkliste for utfylling'!B47,\"\")","v":"• Alle poster i ordnet rekkefølge med dokumentasjonsdato og dokumentasjonshenvisning?"},null,null,{"$f":"IF(E16=0,'Sjekkliste for utfylling'!L47,\" \")","v":0}]
[{"$f":"'Sjekkliste for utfylling'!A48","v":16},{"$f":"IF('Sjekkliste for utfylling'!I48<>\"\",1,0)","v":0},{"$f":"IF('Sjekkliste for utfylling'!J48<>\"\",1,0)","v":0},{"$f":"IF('Sjekkliste for utfylling'!K48<>\"\",1,0)","v":0},0,null,{"$f":"IF($E17=0,'Sjekkliste for utfylling'!A48,\"\")","v":16},{"$f":"IF($E17=0,'Sjekkliste for utfylling'!B48,\"\")","v":"• Inn- og utgående saldo?"},null,null,{"$f":"IF(E17=0,'Sjekkliste for utfylling'!L48,\" \")","v":0}]
[{"$f":"'Sjekkliste for utfylling'!A49","v":17},{"$f":"IF('Sjekkliste for utfylling'!I49<>\"\",1,0)","v":0},{"$f":"IF('Sjekkliste for utfylling'!J49<>\"\",1,0)","v":0},{"$f":"IF('Sjekkliste for utfylling'!K49<>\"\",1,0)","v":0},0,null,{"$f":"IF($E18=0,'Sjekkliste for utfylling'!A49,\"\")","v":17},{"$f":"IF($E18=0,'Sjekkliste for utfylling'!B49,\"\")","v":"Inneholder spesifikasjonen også kontantsalg av varer og tjenester\n• som er beregnet for videresalg?"},null,null,{"$f":"IF(E18=0,'Sjekkliste for utfylling'!L49,\" \")","v":0}]
[{"$f":"'Sjekkliste for utfylling'!A50","v":18},{"$f":"IF('Sjekkliste for utfylling'!I50<>\"\",1,0)","v":0},{"$f":"IF('Sjekkliste for utfylling'!J50<>\"\",1,0)","v":0},{"$f":"IF('Sjekkliste for utfylling'!K50<>\"\",1,0)","v":0},0,null,{"$f":"IF($E19=0,'Sjekkliste for utfylling'!A50,\"\")","v":18},{"$f":"IF($E19=0,'Sjekkliste for utfylling'!B50,\"\")","v":"• som skal brukes som direkte innsatsfaktor i produksjon eller tjenesteleveranse?"},null,null,{"$f":"IF(E19=0,'Sjekkliste for utfylling'!L50,\" \")","v":0}]
[{"$f":"'Sjekkliste for utfylling'!A51","v":19},{"$f":"IF('Sjekkliste for utfylling'!I51<>\"\",1,0)","v":0},{"$f":"IF('Sjekkliste for utfylling'!J51<>\"\",1,0)","v":0},{"$f":"IF('Sjekkliste for utfylling'!K51<>\"\",1,0)","v":0},0,null,{"$f":"IF($E20=0,'Sjekkliste for utfylling'!A51,\"\")","v":19},{"$f":"IF($E20=0,'Sjekkliste for utfylling'!B51,\"\")","v":"• der vederlaget utgjør mer enn kr 40 000 inkl mva?"},null,null,{"$f":"IF(E20=0,'Sjekkliste for utfylling'!L51,\" \")","v":0}]
[{"$f":"'Sjekkliste for utfylling'!A55","v":20},{"$f":"IF('Sjekkliste for utfylling'!I55<>\"\",1,0)","v":0},{"$f":"IF('Sjekkliste for utfylling'!J55<>\"\",1,0)","v":0},{"$f":"IF('Sjekkliste for utfylling'!K55<>\"\",1,0)","v":0},0,null,{"$f":"IF($E21=0,'Sjekkliste for utfylling'!A55,\"\")","v":20},{"$f":"IF($E21=0,'Sjekkliste for utfylling'!B55,\"\")","v":"Inneholder spesifikasjonen alle transaksjoner med leverandører pr. periode?"},null,null,{"$f":"IF(E21=0,'Sjekkliste for utfylling'!L55,\" \")","v":0}]
[{"$f":"'Sjekkliste for utfylling'!A56","v":21},{"$f":"IF('Sjekkliste for utfylling'!I56<>\"\",1,0)","v":0},{"$f":"IF('Sjekkliste for utfylling'!J56<>\"\",1,0)","v":0},{"$f":"IF('Sjekkliste for utfylling'!K56<>\"\",1,0)","v":0},0,null,{"$f":"IF($E22=0,'Sjekkliste for utfylling'!A56,\"\")","v":21},{"$f":"IF($E22=0,'Sjekkliste for utfylling'!B56,\"\")","v":"Fremgår følgende av spesifikasjonen:\n• Leverandørens kode, navn og organisasjonsnummer?\n(Org.nr. må bare fremkomme dersom det er levert varer/tjenester etter at loven er tatt i bruk) "},null,null,{"$f":"IF(E22=0,'Sjekkliste for utfylling'!L56,\" \")","v":0}]
[{"$f":"'Sjekkliste for utfylling'!A57","v":22},{"$f":"IF('Sjekkliste for utfylling'!I57<>\"\",1,0)","v":0},{"$f":"IF('Sjekkliste for utfylling'!J57<>\"\",1,0)","v":0},{"$f":"IF('Sjekkliste for utfylling'!K57<>\"\",1,0)","v":0},0,null,{"$f":"IF($E23=0,'Sjekkliste for utfylling'!A57,\"\")","v":22},{"$f":"IF($E23=0,'Sjekkliste for utfylling'!B57,\"\")","v":"• Alle poster i ordnet rekkefølge med dokumentasjonsdato og dokumentasjonshenvisning?"},null,null,{"$f":"IF(E23=0,'Sjekkliste for utfylling'!L57,\" \")","v":0}]
[{"$f":"'Sjekkliste for utfylling'!A58","v":23},{"$f":"IF('Sjekkliste for utfylling'!I58<>\"\",1,0)","v":0},{"$f":"IF('Sjekkliste for utfylling'!J58<>\"\",1,0)","v":0},{"$f":"IF('Sjekkliste for utfylling'!K58<>\"\",1,0)","v":0},0,null,{"$f":"IF($E24=0,'Sjekkliste for utfylling'!A58,\"\")","v":23},{"$f":"IF($E24=0,'Sjekkliste for utfylling'!B58,\"\")","v":"• Inn- og utgående saldo?"},null,null,{"$f":"IF(E24=0,'Sjekkliste for utfylling'!L58,\" \")","v":0}]
[{"$f":"'Sjekkliste for utfylling'!A61","v":24},{"$f":"IF('Sjekkliste for utfylling'!I61<>\"\",1,0)","v":0},{"$f":"IF('Sjekkliste for utfylling'!J61<>\"\",1,0)","v":0},{"$f":"IF('Sjekkliste for utfylling'!K61<>\"\",1,0)","v":0},0,null,{"$f":"IF($E25=0,'Sjekkliste for utfylling'!A61,\"\")","v":24},{"$f":"IF($E25=0,'Sjekkliste for utfylling'!B61,\"\")","v":"• som er beregnet for videresalg?"},null,null,{"$f":"IF(E25=0,'Sjekkliste for utfylling'!L61,\" \")","v":0}]
[{"$f":"'Sjekkliste for utfylling'!A62","v":25},{"$f":"IF('Sjekkliste for utfylling'!I62<>\"\",1,0)","v":0},{"$f":"IF('Sjekkliste for utfylling'!J62<>\"\",1,0)","v":0},{"$f":"IF('Sjekkliste for utfylling'!K62<>\"\",1,0)","v":0},0,null,{"$f":"IF($E26=0,'Sjekkliste for utfylling'!A62,\"\")","v":25},{"$f":"IF($E26=0,'Sjekkliste for utfylling'!B62,\"\")","v":"• som skal brukes som direkte innsatsfaktor i produksjon eller tjenestelevaranse?"},null,null,{"$f":"IF(E26=0,'Sjekkliste for utfylling'!L62,\" \")","v":0}]
[{"$f":"'Sjekkliste for utfylling'!A63","v":26},{"$f":"IF('Sjekkliste for utfylling'!I63<>\"\",1,0)","v":0},{"$f":"IF('Sjekkliste for utfylling'!J63<>\"\",1,0)","v":0},{"$f":"IF('Sjekkliste for utfylling'!K63<>\"\",1,0)","v":0},0,null,{"$f":"IF($E27=0,'Sjekkliste for utfylling'!A63,\"\")","v":26},{"$f":"IF($E27=0,'Sjekkliste for utfylling'!B63,\"\")","v":"• der vederlaget utgjør mer enn kr 40 000 inkl mva?"},null,null,{"$f":"IF(E27=0,'Sjekkliste for utfylling'!L63,\" \")","v":0}]
[{"$f":"'Sjekkliste for utfylling'!A66","v":27},{"$f":"IF('Sjekkliste for utfylling'!I66<>\"\",1,0)","v":0},{"$f":"IF('Sjekkliste for utfylling'!J66<>\"\",1,0)","v":0},{"$f":"IF('Sjekkliste for utfylling'!K66<>\"\",1,0)","v":0},0,null,{"$f":"IF($E28=0,'Sjekkliste for utfylling'!A66,\"\")","v":27},{"$f":"IF($E28=0,'Sjekkliste for utfylling'!B66,\"\")","v":"Inneholder spesifikasjonen alle uttak av eiendeler og tjenester spesifisert pr. eier, deltaker eller på egen virksomhet?"},null,null,{"$f":"IF(E28=0,'Sjekkliste for utfylling'!L66,\" \")","v":0}]
[{"$f":"'Sjekkliste for utfylling'!A67","v":28},{"$f":"IF('Sjekkliste for utfylling'!I67<>\"\",1,0)","v":0},{"$f":"IF('Sjekkliste for utfylling'!J67<>\"\",1,0)","v":0},{"$f":"IF('Sjekkliste for utfylling'!K67<>\"\",1,0)","v":0},0,null,{"$f":"IF($E29=0,'Sjekkliste for utfylling'!A67,\"\")","v":28},{"$f":"IF($E29=0,'Sjekkliste for utfylling'!B67,\"\")","v":"Vises uttakene i ordnet rekkefølge til virkelig verdi med dokumentasjonsdato og dokumentasjonshenvisning?"},null,null,{"$f":"IF(E29=0,'Sjekkliste for utfylling'!L67,\" \")","v":0}]
[{"$f":"'Sjekkliste for utfylling'!A69","v":29},{"$f":"IF('Sjekkliste for utfylling'!I69<>\"\",1,0)","v":0},{"$f":"IF('Sjekkliste for utfylling'!J69<>\"\",1,0)","v":0},{"$f":"IF('Sjekkliste for utfylling'!K69<>\"\",1,0)","v":0},0,null,{"$f":"IF($E30=0,'Sjekkliste for utfylling'!A69,\"\")","v":29},{"$f":"IF($E30=0,'Sjekkliste for utfylling'!B69,\"\")","v":"Inneholder spesifikasjonen alle salg av varer og tjenester spesifisert pr. eier eller deltaker?"},null,null,{"$f":"IF(E30=0,'Sjekkliste for utfylling'!L69,\" \")","v":0}]
[{"$f":"'Sjekkliste for utfylling'!A70","v":30},{"$f":"IF('Sjekkliste for utfylling'!I70<>\"\",1,0)","v":0},{"$f":"IF('Sjekkliste for utfylling'!J70<>\"\",1,0)","v":0},{"$f":"IF('Sjekkliste for utfylling'!K70<>\"\",1,0)","v":0},0,null,{"$f":"IF($E31=0,'Sjekkliste for utfylling'!A70,\"\")","v":30},{"$f":"IF($E31=0,'Sjekkliste for utfylling'!B70,\"\")","v":"Vises salget i ordnet rekkefølge til virkelig verdi med dokumentasjonsdato og dokumentasjonshenvisning?"},null,null,{"$f":"IF(E31=0,'Sjekkliste for utfylling'!L70,\" \")","v":0}]
[{"$f":"'Sjekkliste for utfylling'!A76","v":31},{"$f":"IF('Sjekkliste for utfylling'!I76<>\"\",1,0)","v":0},{"$f":"IF('Sjekkliste for utfylling'!J76<>\"\",1,0)","v":0},{"$f":"IF('Sjekkliste for utfylling'!K76<>\"\",1,0)","v":0},0,null,{"$f":"IF($E32=0,'Sjekkliste for utfylling'!A76,\"\")","v":31},{"$f":"IF($E32=0,'Sjekkliste for utfylling'!B76,\"\")","v":"Inneholder spesifikasjonen alle salg av varer og tjenester spesifisert pr. ansatt?"},null,null,{"$f":"IF(E32=0,'Sjekkliste for utfylling'!L76,\" \")","v":0}]
[{"$f":"'Sjekkliste for utfylling'!A77","v":32},{"$f":"IF('Sjekkliste for utfylling'!I77<>\"\",1,0)","v":0},{"$f":"IF('Sjekkliste for utfylling'!J77<>\"\",1,0)","v":0},{"$f":"IF('Sjekkliste for utfylling'!K77<>\"\",1,0)","v":0},0,null,{"$f":"IF($E33=0,'Sjekkliste for utfylling'!A77,\"\")","v":32},{"$f":"IF($E33=0,'Sjekkliste for utfylling'!B77,\"\")","v":"Vises salget i ordnet rekkefølge til virkelig verdi med dokumentasjonsdato og dokumentasjonshenvisning?"},null,null,{"$f":"IF(E33=0,'Sjekkliste for utfylling'!L77,\" \")","v":0}]
[{"$f":"'Sjekkliste for utfylling'!A81","v":33},{"$f":"IF('Sjekkliste for utfylling'!I81<>\"\",1,0)","v":0},{"$f":"IF('Sjekkliste for utfylling'!J81<>\"\",1,0)","v":0},{"$f":"IF('Sjekkliste for utfylling'!K81<>\"\",1,0)","v":0},0,null,{"$f":"IF($E34=0,'Sjekkliste for utfylling'!A81,\"\")","v":33},{"$f":"IF($E34=0,'Sjekkliste for utfylling'!B81,\"\")","v":"Inneholder spesifikasjonen grunnlaget for utgående merverdiavgift, fradragsberettiget innenlands inngående merverdiavgift og fradragsberettiget innførselsmerverdiavgift, fordelt på de forskjellige avgiftssatsene spesifisert pr. termin etter beløp per konto og totalt i regnskapssystemet?"},null,null,{"$f":"IF(E34=0,'Sjekkliste for utfylling'!L81,\" \")","v":0}]
[{"$f":"'Sjekkliste for utfylling'!A82","v":34},{"$f":"IF('Sjekkliste for utfylling'!I82<>\"\",1,0)","v":0},{"$f":"IF('Sjekkliste for utfylling'!J82<>\"\",1,0)","v":0},{"$f":"IF('Sjekkliste for utfylling'!K82<>\"\",1,0)","v":0},0,null,{"$f":"IF($E35=0,'Sjekkliste for utfylling'!A82,\"\")","v":34},{"$f":"IF($E35=0,'Sjekkliste for utfylling'!B82,\"\")","v":"Viser spesifikasjonen også innenlands omsetning og uttak fritatt for merverdiavgift, utførsel av varer og tjenester fritatt for merverdiavgift, innenlands omsetning med omvendt avgiftsplikt, samt omsetning og uttak som faller utenfor avgiftsområdet?"},null,null,{"$f":"IF(E35=0,'Sjekkliste for utfylling'!L82,\" \")","v":0}]
[{"$f":"'Sjekkliste for utfylling'!A83","v":35},{"$f":"IF('Sjekkliste for utfylling'!I83<>\"\",1,0)","v":0},{"$f":"IF('Sjekkliste for utfylling'!J83<>\"\",1,0)","v":0},{"$f":"IF('Sjekkliste for utfylling'!K83<>\"\",1,0)","v":0},0,null,{"$f":"IF($E36=0,'Sjekkliste for utfylling'!A83,\"\")","v":35},{"$f":"IF($E36=0,'Sjekkliste for utfylling'!B83,\"\")","v":"Viser spesifikasjonen også kjøp med omvendt avgiftsplikt, fordelt på tjenester kjøpt fra utlandet og innenlands kjøp av varer og tjenester?"},null,null,{"$f":"IF(E36=0,'Sjekkliste for utfylling'!L83,\" \")","v":0}]
[{"$f":"'Sjekkliste for utfylling'!A84","v":36},{"$f":"IF('Sjekkliste for utfylling'!I84<>\"\",1,0)","v":0},{"$f":"IF('Sjekkliste for utfylling'!J84<>\"\",1,0)","v":0},{"$f":"IF('Sjekkliste for utfylling'!K84<>\"\",1,0)","v":0},0,null,{"$f":"IF($E37=0,'Sjekkliste for utfylling'!A84,\"\")","v":36},{"$f":"IF($E37=0,'Sjekkliste for utfylling'!B84,\"\")","v":"Er beløpene i spesifikasjonene i pkt a-c vist pr konto og totalt?"},null,null,{"$f":"IF(E37=0,'Sjekkliste for utfylling'!L84,\" \")","v":0}]
[{"$f":"'Sjekkliste for utfylling'!A85","v":37},{"$f":"IF('Sjekkliste for utfylling'!I85<>\"\",1,0)","v":0},{"$f":"IF('Sjekkliste for utfylling'!J85<>\"\",1,0)","v":0},{"$f":"IF('Sjekkliste for utfylling'!K85<>\"\",1,0)","v":0},0,null,{"$f":"IF($E38=0,'Sjekkliste for utfylling'!A85,\"\")","v":37},{"$f":"IF($E38=0,'Sjekkliste for utfylling'!B85,\"\")","v":"Kan avgiftsgrunnlaget for utgående merverdiavgift spesifiseres pr. transaksjon?"},null,null,{"$f":"IF(E38=0,'Sjekkliste for utfylling'!L85,\" \")","v":0}]
[{"$f":"'Sjekkliste for utfylling'!A86","v":38},{"$f":"IF('Sjekkliste for utfylling'!I86<>\"\",1,0)","v":0},{"$f":"IF('Sjekkliste for utfylling'!J86<>\"\",1,0)","v":0},{"$f":"IF('Sjekkliste for utfylling'!K86<>\"\",1,0)","v":0},0,null,{"$f":"IF($E39=0,'Sjekkliste for utfylling'!A86,\"\")","v":38},{"$f":"IF($E39=0,'Sjekkliste for utfylling'!B86,\"\")","v":"Viser spesifikasjonen eventuelle forskjeller mellom beregnet grunnlag i henhold til kontospesifikasjonen og innberettet avgiftsgrunnlag, spesifisert pr transaksjon for hver avgiftssats ?"},null,null,{"$f":"IF(E39=0,'Sjekkliste for utfylling'!L86,\" \")","v":0}]
[{"$f":"'Sjekkliste for utfylling'!A87","v":39},{"$f":"IF('Sjekkliste for utfylling'!I87<>\"\",1,0)","v":0},{"$f":"IF('Sjekkliste for utfylling'!J87<>\"\",1,0)","v":0},{"$f":"IF('Sjekkliste for utfylling'!K87<>\"\",1,0)","v":0},0,null,{"$f":"IF($E40=0,'Sjekkliste for utfylling'!A87,\"\")","v":39},{"$f":"IF($E40=0,'Sjekkliste for utfylling'!B87,\"\")","v":"Viser spesifikasjonen i tillegg grunnlaget for beregning av merverdiavgift ved innførsel av varer fordelt på de forskjellige avgiftssatsene, samt grunnlag knyttet til innførsel av varer som det ikke skal beregnes merverdiavgift av?"},null,null,{"$f":"IF(E40=0,'Sjekkliste for utfylling'!L87,\" \")","v":0}]
[{"$f":"'Sjekkliste for utfylling'!A89","v":40},{"$f":"IF('Sjekkliste for utfylling'!I89<>\"\",1,0)","v":0},{"$f":"IF('Sjekkliste for utfylling'!J89<>\"\",1,0)","v":0},{"$f":"IF('Sjekkliste for utfylling'!K89<>\"\",1,0)","v":0},0,null,{"$f":"IF($E41=0,'Sjekkliste for utfylling'!A89,\"\")","v":40},{"$f":"IF($E41=0,'Sjekkliste for utfylling'!B89,\"\")","v":"Inneholder spesifikasjonen lønnsopplysningspliktige ytelser spesifisert pr. periode etter kontoene i regnskapssystemet?"},null,null,{"$f":"IF(E41=0,'Sjekkliste for utfylling'!L89,\" \")","v":0}]
[{"$f":"'Sjekkliste for utfylling'!A90","v":41},{"$f":"IF('Sjekkliste for utfylling'!I90<>\"\",1,0)","v":0},{"$f":"IF('Sjekkliste for utfylling'!J90<>\"\",1,0)","v":0},{"$f":"IF('Sjekkliste for utfylling'!K90<>\"\",1,0)","v":0},0,null,{"$f":"IF($E42=0,'Sjekkliste for utfylling'!A90,\"\")","v":41},{"$f":"IF($E42=0,'Sjekkliste for utfylling'!B90,\"\")","v":"Kan arbeidsgiveravgiftspliktige ytelser gjengis samlet, pr. avgiftssats og kommune?"},null,null,{"$f":"IF(E42=0,'Sjekkliste for utfylling'!L90,\" \")","v":0}]
[{"$f":"'Sjekkliste for utfylling'!A92","v":42},{"$f":"IF('Sjekkliste for utfylling'!I92<>\"\",1,0)","v":0},{"$f":"IF('Sjekkliste for utfylling'!J92<>\"\",1,0)","v":0},{"$f":"IF('Sjekkliste for utfylling'!K92<>\"\",1,0)","v":0},0,null,{"$f":"IF($E43=0,'Sjekkliste for utfylling'!A92,\"\")","v":42},{"$f":"IF($E43=0,'Sjekkliste for utfylling'!B92,\"\")","v":"Er alle elimineringer og andre posteringer ved utarbeidelse av konsernregnskap spesifisert?"},null,null,{"$f":"IF(E43=0,'Sjekkliste for utfylling'!L92,\" \")","v":0}]
[{"$f":"'Sjekkliste for utfylling'!A93","v":43},{"$f":"IF('Sjekkliste for utfylling'!I93<>\"\",1,0)","v":0},{"$f":"IF('Sjekkliste for utfylling'!J93<>\"\",1,0)","v":0},{"$f":"IF('Sjekkliste for utfylling'!K93<>\"\",1,0)","v":0},0,null,{"$f":"IF($E44=0,'Sjekkliste for utfylling'!A93,\"\")","v":43},{"$f":"IF($E44=0,'Sjekkliste for utfylling'!B93,\"\")","v":"Er alle poster spesifisert enkeltvis med dokumentasjonshenvisning?"},null,null,{"$f":"IF(E44=0,'Sjekkliste for utfylling'!L93,\" \")","v":0}]
[{"$f":"'Sjekkliste for utfylling'!A95","v":44},{"$f":"IF('Sjekkliste for utfylling'!I95<>\"\",1,0)","v":0},{"$f":"IF('Sjekkliste for utfylling'!J95<>\"\",1,0)","v":0},{"$f":"IF('Sjekkliste for utfylling'!K95<>\"\",1,0)","v":0},0,null,{"$f":"IF($E45=0,'Sjekkliste for utfylling'!A95,\"\")","v":44},{"$f":"IF($E45=0,'Sjekkliste for utfylling'!B95,\"\")","v":"Dersom poster fremkommer som totaler i bokførings- eller kontospesifikasjoner, fremkommer da transaksjonene og andre regnskapsmessige disposisjoner enkeltvis og oppsummert i underliggende spesifikasjon?"},null,null,{"$f":"IF(E45=0,'Sjekkliste for utfylling'!L95,\" \")","v":0}]
[{"$f":"'Sjekkliste for utfylling'!A96","v":45},{"$f":"IF('Sjekkliste for utfylling'!I96<>\"\",1,0)","v":0},{"$f":"IF('Sjekkliste for utfylling'!J96<>\"\",1,0)","v":0},{"$f":"IF('Sjekkliste for utfylling'!K96<>\"\",1,0)","v":0},0,null,{"$f":"IF($E46=0,'Sjekkliste for utfylling'!A96,\"\")","v":45},{"$f":"IF($E46=0,'Sjekkliste for utfylling'!B96,\"\")","v":"Er underspesifikasjonene kontrollerbare mot totalene?"},null,null,{"$f":"IF(E46=0,'Sjekkliste for utfylling'!L96,\" \")","v":0}]
[{"$f":"'Sjekkliste for utfylling'!A98","v":46},{"$f":"IF('Sjekkliste for utfylling'!I98<>\"\",1,0)","v":0},{"$f":"IF('Sjekkliste for utfylling'!J98<>\"\",1,0)","v":0},{"$f":"IF('Sjekkliste for utfylling'!K98<>\"\",1,0)","v":0},0,null,{"$f":"IF($E47=0,'Sjekkliste for utfylling'!A98,\"\")","v":46},{"$f":"IF($E47=0,'Sjekkliste for utfylling'!B98,\"\")","v":"Fremgår dato for utarbeidelse av spesifikasjoner av pliktig regnskapsrapportering direkte av spesifikasjonene?"},null,null,{"$f":"IF(E47=0,'Sjekkliste for utfylling'!L98,\" \")","v":0}]
[{"$f":"'Sjekkliste for utfylling'!A100","v":47},{"$f":"IF('Sjekkliste for utfylling'!I100<>\"\",1,0)","v":0},{"$f":"IF('Sjekkliste for utfylling'!J100<>\"\",1,0)","v":0},{"$f":"IF('Sjekkliste for utfylling'!K100<>\"\",1,0)","v":0},0,null,{"$f":"IF($E48=0,'Sjekkliste for utfylling'!A100,\"\")","v":47},{"$f":"IF($E48=0,'Sjekkliste for utfylling'!B100,\"\")","v":"Kan bokførte opplysninger lett følges fra dokumentasjon via spesifikasjoner frem til pliktig regnskapsrapportering?"},null,null,{"$f":"IF(E48=0,'Sjekkliste for utfylling'!L100,\" \")","v":0}]
[{"$f":"'Sjekkliste for utfylling'!A101","v":48},{"$f":"IF('Sjekkliste for utfylling'!I101<>\"\",1,0)","v":0},{"$f":"IF('Sjekkliste for utfylling'!J101<>\"\",1,0)","v":0},{"$f":"IF('Sjekkliste for utfylling'!K101<>\"\",1,0)","v":0},0,null,{"$f":"IF($E49=0,'Sjekkliste for utfylling'!A101,\"\")","v":48},{"$f":"IF($E49=0,'Sjekkliste for utfylling'!B101,\"\")","v":"Er det mulig med utgangspunkt i pliktig regnskapsrapportering på en lett kontrollerbar måte å finne tilbake til dokumentasjonen av de enkelte bokførte opplysningene?"},null,null,{"$f":"IF(E49=0,'Sjekkliste for utfylling'!L101,\" \")","v":0}]
[{"$f":"'Sjekkliste for utfylling'!A102","v":49},{"$f":"IF('Sjekkliste for utfylling'!I102<>\"\",1,0)","v":0},{"$f":"IF('Sjekkliste for utfylling'!J102<>\"\",1,0)","v":0},{"$f":"IF('Sjekkliste for utfylling'!K102<>\"\",1,0)","v":0},0,null,{"$f":"IF($E50=0,'Sjekkliste for utfylling'!A102,\"\")","v":49},{"$f":"IF($E50=0,'Sjekkliste for utfylling'!B102,\"\")","v":"I de tilfellene det er nødvendig for å kunne kontrollere bokførte opplysninger på en enkel måte, foreligger det dokumentasjon av kontrollsporet, herunder hvordan systemgenererte poster kan etterprøves?"},null,null,{"$f":"IF(E50=0,'Sjekkliste for utfylling'!L102,\" \")","v":0}]
[{"$f":"'Sjekkliste for utfylling'!A103","v":50},{"$f":"IF('Sjekkliste for utfylling'!I103<>\"\",1,0)","v":0},{"$f":"IF('Sjekkliste for utfylling'!J103<>\"\",1,0)","v":0},{"$f":"IF('Sjekkliste for utfylling'!K103<>\"\",1,0)","v":0},0,null,{"$f":"IF($E51=0,'Sjekkliste for utfylling'!A103,\"\")","v":50},{"$f":"IF($E51=0,'Sjekkliste for utfylling'!B103,\"\")","v":"Er dokumentasjonen nummerert eller identifisert på annen måte som gjør det mulig å kontrollere at den er fullstendig?\nDepartementet kan ved enkeltvedtak gjøre unntak fra kravet i annet ledd om nummerering av dokumentasjon."},null,null,{"$f":"IF(E51=0,'Sjekkliste for utfylling'!L103,\" \")","v":0}]
[{"$f":"'Sjekkliste for utfylling'!A104","v":51},{"$f":"IF('Sjekkliste for utfylling'!I104<>\"\",1,0)","v":0},{"$f":"IF('Sjekkliste for utfylling'!J104<>\"\",1,0)","v":0},{"$f":"IF('Sjekkliste for utfylling'!K104<>\"\",1,0)","v":0},0,null,{"$f":"IF($E52=0,'Sjekkliste for utfylling'!A104,\"\")","v":51},{"$f":"IF($E52=0,'Sjekkliste for utfylling'!B104,\"\")","v":"Når foretaket har dokumentasjon både elektronisk og på papir, foreligger det en redegjørelse for hva som er originaldokumentasjonen?"},null,null,{"$f":"IF(E52=0,'Sjekkliste for utfylling'!L104,\" \")","v":0}]
[{"$f":"'Sjekkliste for utfylling'!A105","v":52},{"$f":"IF('Sjekkliste for utfylling'!I105<>\"\",1,0)","v":0},{"$f":"IF('Sjekkliste for utfylling'!J105<>\"\",1,0)","v":0},{"$f":"IF('Sjekkliste for utfylling'!K105<>\"\",1,0)","v":0},0,null,{"$f":"IF($E53=0,'Sjekkliste for utfylling'!A105,\"\")","v":52},{"$f":"IF($E53=0,'Sjekkliste for utfylling'!B105,\"\")","v":"Dersom den bokføringspliktige har eget lønnsystem, foreligger det en lettfattelig systembeskrivelse av lønnssystemets oppbygging og funksjoner?"},null,null,{"$f":"IF(E53=0,'Sjekkliste for utfylling'!L105,\" \")","v":0}]
[{"$f":"'Sjekkliste for utfylling'!A107","v":53},{"$f":"IF('Sjekkliste for utfylling'!I107<>\"\",1,0)","v":0},{"$f":"IF('Sjekkliste for utfylling'!J107<>\"\",1,0)","v":0},{"$f":"IF('Sjekkliste for utfylling'!K107<>\"\",1,0)","v":0},0,null,{"$f":"IF($E54=0,'Sjekkliste for utfylling'!A107,\"\")","v":53},{"$f":"IF($E54=0,'Sjekkliste for utfylling'!B107,\"\")","v":"Er bokføringen tilfredsstillende à jour sett hen til virksomhetens og transaksjonenes art og omfang?"},null,null,{"$f":"IF(E54=0,'Sjekkliste for utfylling'!L107,\" \")","v":0}]
[{"$f":"'Sjekkliste for utfylling'!A108","v":54},{"$f":"IF('Sjekkliste for utfylling'!I108<>\"\",1,0)","v":0},{"$f":"IF('Sjekkliste for utfylling'!J108<>\"\",1,0)","v":0},{"$f":"IF('Sjekkliste for utfylling'!K108<>\"\",1,0)","v":0},0,null,{"$f":"IF($E55=0,'Sjekkliste for utfylling'!A108,\"\")","v":54},{"$f":"IF($E55=0,'Sjekkliste for utfylling'!B108,\"\")","v":"Er bokføringen à jour innen fristene for pliktig regnskapsrapportering?"},null,null,{"$f":"IF(E55=0,'Sjekkliste for utfylling'!L108,\" \")","v":0}]
[{"$f":"'Sjekkliste for utfylling'!A110","v":55},{"$f":"IF('Sjekkliste for utfylling'!I110<>\"\",1,0)","v":0},{"$f":"IF('Sjekkliste for utfylling'!J110<>\"\",1,0)","v":0},{"$f":"IF('Sjekkliste for utfylling'!K110<>\"\",1,0)","v":0},0,null,{"$f":"IF($E56=0,'Sjekkliste for utfylling'!A110,\"\")","v":55},{"$f":"IF($E56=0,'Sjekkliste for utfylling'!B110,\"\")","v":"For bokføringspliktige som ikke har pliktig regnskapsrapportering gjennom året, men har mer enn 600 bilag, er bokføringen à jour hver fjerde måned?\n\nVed kjøp og salg av verdipapirer skal hvert enkelt kjøp og salg medregnes som bilag ifht denne bestemmelsen. "},null,null,{"$f":"IF(E56=0,'Sjekkliste for utfylling'!L110,\" \")","v":0}]
[{"$f":"'Sjekkliste for utfylling'!A111","v":56},{"$f":"IF('Sjekkliste for utfylling'!I111<>\"\",1,0)","v":0},{"$f":"IF('Sjekkliste for utfylling'!J111<>\"\",1,0)","v":0},{"$f":"IF('Sjekkliste for utfylling'!K111<>\"\",1,0)","v":0},0,null,{"$f":"IF($E57=0,'Sjekkliste for utfylling'!A111,\"\")","v":56},{"$f":"IF($E57=0,'Sjekkliste for utfylling'!B111,\"\")","v":"Er kontanttransaksjoner registrert daglig, med mindre det benyttes fast kasse?"},null,null,{"$f":"IF(E57=0,'Sjekkliste for utfylling'!L111,\" \")","v":0}]
[{"$f":"'Sjekkliste for utfylling'!A113","v":57},{"$f":"IF('Sjekkliste for utfylling'!I113<>\"\",1,0)","v":0},{"$f":"IF('Sjekkliste for utfylling'!J113<>\"\",1,0)","v":0},{"$f":"IF('Sjekkliste for utfylling'!K113<>\"\",1,0)","v":0},0,null,{"$f":"IF($E58=0,'Sjekkliste for utfylling'!A113,\"\")","v":57},{"$f":"IF($E58=0,'Sjekkliste for utfylling'!B113,\"\")","v":"Dersom bokføringen skjer i annen valuta enn norske kroner, \ner vilkårene for å benytte funksjonell valuta oppfylt?\n"},null,null,{"$f":"IF(E58=0,'Sjekkliste for utfylling'!L113,\" \")","v":0}]
[{"$f":"'Sjekkliste for utfylling'!A115","v":58},{"$f":"IF('Sjekkliste for utfylling'!I115<>\"\",1,0)","v":0},{"$f":"IF('Sjekkliste for utfylling'!J115<>\"\",1,0)","v":0},{"$f":"IF('Sjekkliste for utfylling'!K115<>\"\",1,0)","v":0},0,null,{"$f":"IF($E59=0,'Sjekkliste for utfylling'!A115,\"\")","v":58},{"$f":"IF($E59=0,'Sjekkliste for utfylling'!B115,\"\")","v":"Har foretaket filialer i utlandet, benyttes da fremmed valuta ved bokføringen?"},null,null,{"$f":"IF(E59=0,'Sjekkliste for utfylling'!L115,\" \")","v":0}]
[{"$f":"'Sjekkliste for utfylling'!A116","v":59},{"$f":"IF('Sjekkliste for utfylling'!I116<>\"\",1,0)","v":0},{"$f":"IF('Sjekkliste for utfylling'!J116<>\"\",1,0)","v":0},{"$f":"IF('Sjekkliste for utfylling'!K116<>\"\",1,0)","v":0},0,null,{"$f":"IF($E60=0,'Sjekkliste for utfylling'!A116,\"\")","v":59},{"$f":"IF($E60=0,'Sjekkliste for utfylling'!B116,\"\")","v":"Ved bokføring i utenlandsk valuta, er\n• beløp som inngår i pliktig rapportering knyttet til merverdiavgift fastlåst i norske kroner til kursen på fakturatidspunktet?"},null,null,{"$f":"IF(E60=0,'Sjekkliste for utfylling'!L116,\" \")","v":0}]
[{"$f":"'Sjekkliste for utfylling'!A117","v":60},{"$f":"IF('Sjekkliste for utfylling'!I117<>\"\",1,0)","v":0},{"$f":"IF('Sjekkliste for utfylling'!J117<>\"\",1,0)","v":0},{"$f":"IF('Sjekkliste for utfylling'!K117<>\"\",1,0)","v":0},0,null,{"$f":"IF($E61=0,'Sjekkliste for utfylling'!A117,\"\")","v":60},{"$f":"IF($E61=0,'Sjekkliste for utfylling'!B117,\"\")","v":"• beløp som inngår i pliktig rapportering knyttet til lønn fastlåst i norske kroner til kursen på utbetalingstidspunktet?"},null,null,{"$f":"IF(E61=0,'Sjekkliste for utfylling'!L117,\" \")","v":0}]
[{"$f":"'Sjekkliste for utfylling'!A118","v":61},{"$f":"IF('Sjekkliste for utfylling'!I118<>\"\",1,0)","v":0},{"$f":"IF('Sjekkliste for utfylling'!J118<>\"\",1,0)","v":0},{"$f":"IF('Sjekkliste for utfylling'!K118<>\"\",1,0)","v":0},0,null,{"$f":"IF($E62=0,'Sjekkliste for utfylling'!A118,\"\")","v":61},{"$f":"IF($E62=0,'Sjekkliste for utfylling'!B118,\"\")","v":"• beløp knyttet til eiendeler og gjeld hvor skatteloven har egne vurderingsregler om valuta, fastlåst i norske kroner til transaksjonsdagens kurs?"},null,null,{"$f":"IF(E62=0,'Sjekkliste for utfylling'!L118,\" \")","v":0}]
[{"$f":"'Sjekkliste for utfylling'!A119","v":62},{"$f":"IF('Sjekkliste for utfylling'!I119<>\"\",1,0)","v":0},{"$f":"IF('Sjekkliste for utfylling'!J119<>\"\",1,0)","v":0},{"$f":"IF('Sjekkliste for utfylling'!K119<>\"\",1,0)","v":0},0,null,{"$f":"IF($E63=0,'Sjekkliste for utfylling'!A119,\"\")","v":62},{"$f":"IF($E63=0,'Sjekkliste for utfylling'!B119,\"\")","v":"Omregnes beløp som inngår i pliktig regnskapsrapportering til norske kroner minst en gang i året ved bruk av gjennomsnittskurser?"},null,null,{"$f":"IF(E63=0,'Sjekkliste for utfylling'!L119,\" \")","v":0}]
[{"$f":"'Sjekkliste for utfylling'!A120","v":63},{"$f":"IF('Sjekkliste for utfylling'!I120<>\"\",1,0)","v":0},{"$f":"IF('Sjekkliste for utfylling'!J120<>\"\",1,0)","v":0},{"$f":"IF('Sjekkliste for utfylling'!K120<>\"\",1,0)","v":0},0,null,{"$f":"IF($E64=0,'Sjekkliste for utfylling'!A120,\"\")","v":63},{"$f":"IF($E64=0,'Sjekkliste for utfylling'!B120,\"\")","v":"Er det dokumentert hvordan omregningen har skjedd og hvilke kurser som er benyttet?"},null,null,{"$f":"IF(E64=0,'Sjekkliste for utfylling'!L120,\" \")","v":0}]
[{"$f":"'Sjekkliste for utfylling'!A122","v":64},{"$f":"IF('Sjekkliste for utfylling'!I122<>\"\",1,0)","v":0},{"$f":"IF('Sjekkliste for utfylling'!J122<>\"\",1,0)","v":0},{"$f":"IF('Sjekkliste for utfylling'!K122<>\"\",1,0)","v":0},0,null,{"$f":"IF($E65=0,'Sjekkliste for utfylling'!A122,\"\")","v":64},{"$f":"IF($E65=0,'Sjekkliste for utfylling'!B122,\"\")","v":"Er kursen på transaksjonstidspunktet benyttet ved omregning til norske kroner?"},null,null,{"$f":"IF(E65=0,'Sjekkliste for utfylling'!L122,\" \")","v":0}]
[{"$f":"'Sjekkliste for utfylling'!A123","v":65},{"$f":"IF('Sjekkliste for utfylling'!I123<>\"\",1,0)","v":0},{"$f":"IF('Sjekkliste for utfylling'!J123<>\"\",1,0)","v":0},{"$f":"IF('Sjekkliste for utfylling'!K123<>\"\",1,0)","v":0},{"$f":"SUM(B66:D66)","v":0},null,{"$f":"IF($E66=0,'Sjekkliste for utfylling'!A123,\"\")","v":65},{"$f":"IF($E66=0,'Sjekkliste for utfylling'!B123,\"\")","v":"Dersom månedens offisielle gjennomsnittskurs er benyttet fordi kursen i perioden ikke har avvik på mer enn 5 %, er store enkelttransaksjoner likevel omregnet til transaksjonsdagens kurs?"},null,null,{"$f":"IF(E66=0,'Sjekkliste for utfylling'!L123,\" \")","v":0}]
[{"$f":"'Sjekkliste for utfylling'!A125","v":66},{"$f":"IF('Sjekkliste for utfylling'!I125<>\"\",1,0)","v":0},{"$f":"IF('Sjekkliste for utfylling'!J125<>\"\",1,0)","v":0},{"$f":"IF('Sjekkliste for utfylling'!K125<>\"\",1,0)","v":0},0,null,{"$f":"IF($E67=0,'Sjekkliste for utfylling'!A125,\"\")","v":66},{"$f":"IF($E67=0,'Sjekkliste for utfylling'!B125,\"\")","v":"Etter at bokføringen er ajourført, er retting skjedd med ny dokumentert postering?"},null,null,{"$f":"IF(E67=0,'Sjekkliste for utfylling'!L125,\" \")","v":0}]
[{"$f":"'Sjekkliste for utfylling'!A126","v":67},{"$f":"IF('Sjekkliste for utfylling'!I126<>\"\",1,0)","v":0},{"$f":"IF('Sjekkliste for utfylling'!J126<>\"\",1,0)","v":0},{"$f":"IF('Sjekkliste for utfylling'!K126<>\"\",1,0)","v":0},0,null,{"$f":"IF($E68=0,'Sjekkliste for utfylling'!A126,\"\")","v":67},{"$f":"IF($E68=0,'Sjekkliste for utfylling'!B126,\"\")","v":"Er hele den opprinnelige posteringen reversert?"},null,null,{"$f":"IF(E68=0,'Sjekkliste for utfylling'!L126,\" \")","v":0}]
[{"$f":"'Sjekkliste for utfylling'!A127","v":68},{"$f":"IF('Sjekkliste for utfylling'!I127<>\"\",1,0)","v":0},{"$f":"IF('Sjekkliste for utfylling'!J127<>\"\",1,0)","v":0},{"$f":"IF('Sjekkliste for utfylling'!K127<>\"\",1,0)","v":0},0,null,{"$f":"IF($E69=0,'Sjekkliste for utfylling'!A127,\"\")","v":68},{"$f":"IF($E69=0,'Sjekkliste for utfylling'!B127,\"\")","v":"Er det praktisk mulig å påføre en gjensidig referanse mellom den nye og den opprinnelige dokumentasjonen? "},null,null,{"$f":"IF(E69=0,'Sjekkliste for utfylling'!L127,\" \")","v":0}]
[{"$f":"'Sjekkliste for utfylling'!A128","v":69},{"$f":"IF('Sjekkliste for utfylling'!I128<>\"\",1,0)","v":0},{"$f":"IF('Sjekkliste for utfylling'!J128<>\"\",1,0)","v":0},{"$f":"IF('Sjekkliste for utfylling'!K128<>\"\",1,0)","v":0},0,null,{"$f":"IF($E70=0,'Sjekkliste for utfylling'!A128,\"\")","v":69},{"$f":"IF($E70=0,'Sjekkliste for utfylling'!B128,\"\")","v":"Fremgår det av dokumentasjonen eller spesifikasjonen når en bokført opplysning er slettet?"},null,null,{"$f":"IF(E70=0,'Sjekkliste for utfylling'!L128,\" \")","v":0}]
[{"$f":"'Sjekkliste for utfylling'!A130","v":70},{"$f":"IF('Sjekkliste for utfylling'!I130<>\"\",1,0)","v":0},{"$f":"IF('Sjekkliste for utfylling'!J130<>\"\",1,0)","v":0},{"$f":"IF('Sjekkliste for utfylling'!K130<>\"\",1,0)","v":0},0,null,{"$f":"IF($E71=0,'Sjekkliste for utfylling'!A130,\"\")","v":70},{"$f":"IF($E71=0,'Sjekkliste for utfylling'!B130,\"\")","v":"Er bokførte opplysninger dokumentert?"},null,null,{"$f":"IF(E71=0,'Sjekkliste for utfylling'!L130,\" \")","v":0}]
[{"$f":"'Sjekkliste for utfylling'!A131","v":71},{"$f":"IF('Sjekkliste for utfylling'!I131<>\"\",1,0)","v":0},{"$f":"IF('Sjekkliste for utfylling'!J131<>\"\",1,0)","v":0},{"$f":"IF('Sjekkliste for utfylling'!K131<>\"\",1,0)","v":0},0,null,{"$f":"IF($E72=0,'Sjekkliste for utfylling'!A131,\"\")","v":71},{"$f":"IF($E72=0,'Sjekkliste for utfylling'!B131,\"\")","v":"Er dokumentasjonen utstedt med et korrekt og fullstendig innhold som viser de bokførte opplysningenes berettigelse?"},null,null,{"$f":"IF(E72=0,'Sjekkliste for utfylling'!L131,\" \")","v":0}]
[{"$f":"'Sjekkliste for utfylling'!A132","v":72},{"$f":"IF('Sjekkliste for utfylling'!I132<>\"\",1,0)","v":0},{"$f":"IF('Sjekkliste for utfylling'!J132<>\"\",1,0)","v":0},{"$f":"IF('Sjekkliste for utfylling'!K132<>\"\",1,0)","v":0},0,null,{"$f":"IF($E73=0,'Sjekkliste for utfylling'!A132,\"\")","v":72},{"$f":"IF($E73=0,'Sjekkliste for utfylling'!B132,\"\")","v":"Er dokumentasjonen sikret mot endringer etter utstedelse?"},null,null,{"$f":"IF(E73=0,'Sjekkliste for utfylling'!L132,\" \")","v":0}]
[{"$f":"'Sjekkliste for utfylling'!A133","v":73},{"$f":"IF('Sjekkliste for utfylling'!I133<>\"\",1,0)","v":0},{"$f":"IF('Sjekkliste for utfylling'!J133<>\"\",1,0)","v":0},{"$f":"IF('Sjekkliste for utfylling'!K133<>\"\",1,0)","v":0},0,null,{"$f":"IF($E74=0,'Sjekkliste for utfylling'!A133,\"\")","v":73},{"$f":"IF($E74=0,'Sjekkliste for utfylling'!B133,\"\")","v":"Dersom dokumentasjonen består av flere dokumenter, er det referanser fra primærdokumentet til de øvrige dokumentene?"},null,null,{"$f":"IF(E74=0,'Sjekkliste for utfylling'!L133,\" \")","v":0}]
[{"$f":"'Sjekkliste for utfylling'!A136","v":74},{"$f":"IF('Sjekkliste for utfylling'!I136<>\"\",1,0)","v":0},{"$f":"IF('Sjekkliste for utfylling'!J136<>\"\",1,0)","v":0},{"$f":"IF('Sjekkliste for utfylling'!K136<>\"\",1,0)","v":0},0,null,{"$f":"IF($E75=0,'Sjekkliste for utfylling'!A136,\"\")","v":74},{"$f":"IF($E75=0,'Sjekkliste for utfylling'!B136,\"\")","v":"1. Nummer og dokumentasjonsdato?\nPlikten til nummerering av salgsdokument, jfr §5-1-1 nr 1, gjelder ikke konkursbo."},null,null,{"$f":"IF(E75=0,'Sjekkliste for utfylling'!L136,\" \")","v":0}]
[{"$f":"'Sjekkliste for utfylling'!A137","v":75},{"$f":"IF('Sjekkliste for utfylling'!I137<>\"\",1,0)","v":0},{"$f":"IF('Sjekkliste for utfylling'!J137<>\"\",1,0)","v":0},{"$f":"IF('Sjekkliste for utfylling'!K137<>\"\",1,0)","v":0},0,null,{"$f":"IF($E76=0,'Sjekkliste for utfylling'!A137,\"\")","v":75},{"$f":"IF($E76=0,'Sjekkliste for utfylling'!B137,\"\")","v":"2. Angivelse av partene?\nSalgsdokument skal utstedes til det subjektet som inngår avtale/kontrakt om kjøp av varer eller tjenester, eventuelt den fysiske eller juridiske personen vedkommende opptrer på vegne av på avtaletidspunktet etter fullmakt."},null,null,{"$f":"IF(E76=0,'Sjekkliste for utfylling'!L137,\" \")","v":0}]
[{"$f":"'Sjekkliste for utfylling'!A138","v":76},{"$f":"IF('Sjekkliste for utfylling'!I138<>\"\",1,0)","v":0},{"$f":"IF('Sjekkliste for utfylling'!J138<>\"\",1,0)","v":0},{"$f":"IF('Sjekkliste for utfylling'!K138<>\"\",1,0)","v":0},0,null,{"$f":"IF($E77=0,'Sjekkliste for utfylling'!A138,\"\")","v":76},{"$f":"IF($E77=0,'Sjekkliste for utfylling'!B138,\"\")","v":"3. Ytelsens art og omfang?"},null,null,{"$f":"IF(E77=0,'Sjekkliste for utfylling'!L138,\" \")","v":0}]
[{"$f":"'Sjekkliste for utfylling'!A141","v":77},{"$f":"IF('Sjekkliste for utfylling'!I141<>\"\",1,0)","v":0},{"$f":"IF('Sjekkliste for utfylling'!J141<>\"\",1,0)","v":0},{"$f":"IF('Sjekkliste for utfylling'!K141<>\"\",1,0)","v":0},0,null,{"$f":"IF($E78=0,'Sjekkliste for utfylling'!A141,\"\")","v":77},{"$f":"IF($E78=0,'Sjekkliste for utfylling'!B141,\"\")","v":"4. Tidspunkt og sted for leving av ytelsen?\n(Plikt til å angi leveringsdato gjelder ikke når varen ekspederes gjennom speditør, ved postordre og lignende og salgsdokument følger forsendelsen.)"},null,null,{"$f":"IF(E78=0,'Sjekkliste for utfylling'!L141,\" \")","v":0}]
[{"$f":"'Sjekkliste for utfylling'!A142","v":78},{"$f":"IF('Sjekkliste for utfylling'!I142<>\"\",1,0)","v":0},{"$f":"IF('Sjekkliste for utfylling'!J142<>\"\",1,0)","v":0},{"$f":"IF('Sjekkliste for utfylling'!K142<>\"\",1,0)","v":0},0,null,{"$f":"IF($E79=0,'Sjekkliste for utfylling'!A142,\"\")","v":78},{"$f":"IF($E79=0,'Sjekkliste for utfylling'!B142,\"\")","v":"5. Vederlag og betalingsforfall?"},null,null,{"$f":"IF(E79=0,'Sjekkliste for utfylling'!L142,\" \")","v":0}]
[{"$f":"'Sjekkliste for utfylling'!A144","v":79},{"$f":"IF('Sjekkliste for utfylling'!I144<>\"\",1,0)","v":0},{"$f":"IF('Sjekkliste for utfylling'!J144<>\"\",1,0)","v":0},{"$f":"IF('Sjekkliste for utfylling'!K144<>\"\",1,0)","v":0},0,null,{"$f":"IF($E80=0,'Sjekkliste for utfylling'!A144,\"\")","v":79},{"$f":"IF($E80=0,'Sjekkliste for utfylling'!B144,\"\")","v":"6. Eventuell merverdiavgift og andre avgifter knyttet til transaksjonen som kreves spesifisert i lov eller forskrift?"},null,null,{"$f":"IF(E80=0,'Sjekkliste for utfylling'!L144,\" \")","v":0}]
[{"$f":"'Sjekkliste for utfylling'!A145","v":80},{"$f":"IF('Sjekkliste for utfylling'!I145<>\"\",1,0)","v":0},{"$f":"IF('Sjekkliste for utfylling'!J145<>\"\",1,0)","v":0},{"$f":"IF('Sjekkliste for utfylling'!K145<>\"\",1,0)","v":0},0,null,{"$f":"IF($E81=0,'Sjekkliste for utfylling'!A145,\"\")","v":80},{"$f":"IF($E81=0,'Sjekkliste for utfylling'!B145,\"\")","v":"Er merverdiavgift angitt i norske kroner?"},null,null,{"$f":"IF(E81=0,'Sjekkliste for utfylling'!L145,\" \")","v":0}]
[{"$f":"'Sjekkliste for utfylling'!A146","v":81},{"$f":"IF('Sjekkliste for utfylling'!I146<>\"\",1,0)","v":0},{"$f":"IF('Sjekkliste for utfylling'!J146<>\"\",1,0)","v":0},{"$f":"IF('Sjekkliste for utfylling'!K146<>\"\",1,0)","v":0},0,null,{"$f":"IF($E82=0,'Sjekkliste for utfylling'!A146,\"\")","v":81},{"$f":"IF($E82=0,'Sjekkliste for utfylling'!B146,\"\")","v":"Har kjøpere som skal beregne og betale merverdiavgift etter mval. §11-1 annet ledd, og merket salgsdokumentet ”Omvendt avgiftsplikt – Merverdiavgift ikke beregnet”?"},null,null,{"$f":"IF(E82=0,'Sjekkliste for utfylling'!L146,\" \")","v":0}]
[{"$f":"'Sjekkliste for utfylling'!A147","v":82},{"$f":"IF('Sjekkliste for utfylling'!I147<>\"\",1,0)","v":0},{"$f":"IF('Sjekkliste for utfylling'!J147<>\"\",1,0)","v":0},{"$f":"IF('Sjekkliste for utfylling'!K147<>\"\",1,0)","v":0},0,null,{"$f":"IF($E83=0,'Sjekkliste for utfylling'!A147,\"\")","v":82},{"$f":"IF($E83=0,'Sjekkliste for utfylling'!B147,\"\")","v":"Er salgsdokumentet utstedt på norsk, svensk, dansk eller engelsk?\nBokføringspliktige med filialer i utlandet kan utstede filialens salgsdokument på det lokale språket."},null,null,{"$f":"IF(E83=0,'Sjekkliste for utfylling'!L147,\" \")","v":0}]
[{"$f":"'Sjekkliste for utfylling'!A148","v":83},{"$f":"IF('Sjekkliste for utfylling'!I148<>\"\",1,0)","v":0},{"$f":"IF('Sjekkliste for utfylling'!J148<>\"\",1,0)","v":0},{"$f":"IF('Sjekkliste for utfylling'!K148<>\"\",1,0)","v":0},0,null,{"$f":"IF($E84=0,'Sjekkliste for utfylling'!A148,\"\")","v":83},{"$f":"IF($E84=0,'Sjekkliste for utfylling'!B148,\"\")","v":"Er kjøper angitt med navn, og adresse eller organisasjonsnummer?"},null,null,{"$f":"IF(E84=0,'Sjekkliste for utfylling'!L148,\" \")","v":0}]
[{"$f":"'Sjekkliste for utfylling'!A150","v":84},{"$f":"IF('Sjekkliste for utfylling'!I150<>\"\",1,0)","v":0},{"$f":"IF('Sjekkliste for utfylling'!J150<>\"\",1,0)","v":0},{"$f":"IF('Sjekkliste for utfylling'!K150<>\"\",1,0)","v":0},0,null,{"$f":"IF($E85=0,'Sjekkliste for utfylling'!A150,\"\")","v":84},{"$f":"IF($E85=0,'Sjekkliste for utfylling'!B150,\"\")","v":"Har selger rutiner for å angi kjøper på dennes dokumentasjon, med signatur og stempel, dersom kjøper anmoder om det?"},null,null,{"$f":"IF(E85=0,'Sjekkliste for utfylling'!L150,\" \")","v":0}]
[{"$f":"'Sjekkliste for utfylling'!A151","v":85},{"$f":"IF('Sjekkliste for utfylling'!I151<>\"\",1,0)","v":0},{"$f":"IF('Sjekkliste for utfylling'!J151<>\"\",1,0)","v":0},{"$f":"IF('Sjekkliste for utfylling'!K151<>\"\",1,0)","v":0},0,null,{"$f":"IF($E86=0,'Sjekkliste for utfylling'!A151,\"\")","v":85},{"$f":"IF($E86=0,'Sjekkliste for utfylling'!B151,\"\")","v":"Omfatter angivelse av selger minst navn og organisasjonsnummer, samt MVA dersom selger er registrert i merverdiavgiftsmanntallet?"},null,null,{"$f":"IF(E86=0,'Sjekkliste for utfylling'!L151,\" \")","v":0}]
[{"$f":"'Sjekkliste for utfylling'!A153","v":86},{"$f":"IF('Sjekkliste for utfylling'!I153<>\"\",1,0)","v":0},{"$f":"IF('Sjekkliste for utfylling'!J153<>\"\",1,0)","v":0},{"$f":"IF('Sjekkliste for utfylling'!K153<>\"\",1,0)","v":0},0,null,{"$f":"IF($E87=0,'Sjekkliste for utfylling'!A153,\"\")","v":86},{"$f":"IF($E87=0,'Sjekkliste for utfylling'!B153,\"\")","v":"• Ordet \"Foretaksregisteret\"?"},null,null,{"$f":"IF(E87=0,'Sjekkliste for utfylling'!L153,\" \")","v":0}]
[{"$f":"'Sjekkliste for utfylling'!A154","v":87},{"$f":"IF('Sjekkliste for utfylling'!I154<>\"\",1,0)","v":0},{"$f":"IF('Sjekkliste for utfylling'!J154<>\"\",1,0)","v":0},{"$f":"IF('Sjekkliste for utfylling'!K154<>\"\",1,0)","v":0},0,null,{"$f":"IF($E88=0,'Sjekkliste for utfylling'!A154,\"\")","v":87},{"$f":"IF($E88=0,'Sjekkliste for utfylling'!B154,\"\")","v":"• Hovedkontorets adresse?"},null,null,{"$f":"IF(E88=0,'Sjekkliste for utfylling'!L154,\" \")","v":0}]
[{"$f":"'Sjekkliste for utfylling'!A155","v":88},{"$f":"IF('Sjekkliste for utfylling'!I155<>\"\",1,0)","v":0},{"$f":"IF('Sjekkliste for utfylling'!J155<>\"\",1,0)","v":0},{"$f":"IF('Sjekkliste for utfylling'!K155<>\"\",1,0)","v":0},0,null,{"$f":"IF($E89=0,'Sjekkliste for utfylling'!A155,\"\")","v":88},{"$f":"IF($E89=0,'Sjekkliste for utfylling'!B155,\"\")","v":"• Når det er aktuelt, at selger er under avvikling?"},null,null,{"$f":"IF(E89=0,'Sjekkliste for utfylling'!L155,\" \")","v":0}]
[{"$f":"'Sjekkliste for utfylling'!A156","v":89},{"$f":"IF('Sjekkliste for utfylling'!I156<>\"\",1,0)","v":0},{"$f":"IF('Sjekkliste for utfylling'!J156<>\"\",1,0)","v":0},{"$f":"IF('Sjekkliste for utfylling'!K156<>\"\",1,0)","v":0},0,null,{"$f":"IF($E90=0,'Sjekkliste for utfylling'!A156,\"\")","v":89},{"$f":"IF($E90=0,'Sjekkliste for utfylling'!B156,\"\")","v":"Er salgsdokumentet merket på en av følgende måter:\n• Forhåndsnummerert på trykte blanketter? (kvitteringsblokker fra bokhandler el. kan kun benyttes dersom det er tilstrekkelig med én blokk innenfor et år eller over flere år)\n• Nummerert ved maskinelt tildelte nummer med en kontrollerbar sekvens?\n• Merket på en annen måte slik at fullstendig registrering av utfakturerte salg kan etterprøves på en enkel måte?"},null,null,{"$f":"IF(E90=0,'Sjekkliste for utfylling'!L156,\" \")","v":0}]
[{"$f":"'Sjekkliste for utfylling'!A157","v":90},{"$f":"IF('Sjekkliste for utfylling'!I157<>\"\",1,0)","v":0},{"$f":"IF('Sjekkliste for utfylling'!J157<>\"\",1,0)","v":0},{"$f":"IF('Sjekkliste for utfylling'!K157<>\"\",1,0)","v":0},0,null,{"$f":"IF($E91=0,'Sjekkliste for utfylling'!A157,\"\")","v":90},{"$f":"IF($E91=0,'Sjekkliste for utfylling'!B157,\"\")","v":"Har bokføringspliktige kjøpere som utsteder salgsdokumentasjon på vegne av selger etter BF § 5-2-1 tredje ledd, i stedet for fortløpende nummerering av hver enkelt selgers salgsdokument, anført hvor mye som er avregnet hittil i regnskapsåret?"},null,null,{"$f":"IF(E91=0,'Sjekkliste for utfylling'!L157,\" \")","v":0}]
[{"$f":"'Sjekkliste for utfylling'!A158","v":91},{"$f":"IF('Sjekkliste for utfylling'!I158<>\"\",1,0)","v":0},{"$f":"IF('Sjekkliste for utfylling'!J158<>\"\",1,0)","v":0},{"$f":"IF('Sjekkliste for utfylling'!K158<>\"\",1,0)","v":0},0,null,{"$f":"IF($E92=0,'Sjekkliste for utfylling'!A158,\"\")","v":91},{"$f":"IF($E92=0,'Sjekkliste for utfylling'!B158,\"\")","v":"Fremgår avgiftspliktig og avgiftsfritt salg, samt salg utenfor avgiftsområdet, hver for seg med særskilt summering?"},null,null,{"$f":"IF(E92=0,'Sjekkliste for utfylling'!L158,\" \")","v":0}]
[{"$f":"'Sjekkliste for utfylling'!A159","v":92},{"$f":"IF('Sjekkliste for utfylling'!I159<>\"\",1,0)","v":0},{"$f":"IF('Sjekkliste for utfylling'!J159<>\"\",1,0)","v":0},{"$f":"IF('Sjekkliste for utfylling'!K159<>\"\",1,0)","v":0},0,null,{"$f":"IF($E93=0,'Sjekkliste for utfylling'!A159,\"\")","v":92},{"$f":"IF($E93=0,'Sjekkliste for utfylling'!B159,\"\")","v":"Er avgiftspliktig salg som avgiftsberegnes etter forskjellige satser spesifisert og summert for seg?"},null,null,{"$f":"IF(E93=0,'Sjekkliste for utfylling'!L159,\" \")","v":0}]
[{"$f":"'Sjekkliste for utfylling'!A160","v":93},{"$f":"IF('Sjekkliste for utfylling'!I160<>\"\",1,0)","v":0},{"$f":"IF('Sjekkliste for utfylling'!J160<>\"\",1,0)","v":0},{"$f":"IF('Sjekkliste for utfylling'!K160<>\"\",1,0)","v":0},0,null,{"$f":"IF($E94=0,'Sjekkliste for utfylling'!A160,\"\")","v":93},{"$f":"IF($E94=0,'Sjekkliste for utfylling'!B160,\"\")","v":"Er sykkelens kjennemerke angitt i dokumentasjonen ved salg av beltemotorsykkel, firehjuls terrenggående motorsykkel eller salg av tjenester til vedlikehold, reparasjon, påkostning og ombygging av slike samt omsetning av varer ved utføring av slike tjenester?"},null,null,{"$f":"IF(E94=0,'Sjekkliste for utfylling'!L160,\" \")","v":0}]
[{"$f":"'Sjekkliste for utfylling'!A162","v":94},{"$f":"IF('Sjekkliste for utfylling'!I162<>\"\",1,0)","v":0},{"$f":"IF('Sjekkliste for utfylling'!J162<>\"\",1,0)","v":0},{"$f":"IF('Sjekkliste for utfylling'!K162<>\"\",1,0)","v":0},0,null,{"$f":"IF($E95=0,'Sjekkliste for utfylling'!A162,\"\")","v":94},{"$f":"IF($E95=0,'Sjekkliste for utfylling'!B162,\"\")","v":"Omfatter dokumentasjonen også representantens navn og adresse?"},null,null,{"$f":"IF(E95=0,'Sjekkliste for utfylling'!L162,\" \")","v":0}]
[{"$f":"'Sjekkliste for utfylling'!A164","v":95},{"$f":"IF('Sjekkliste for utfylling'!I164<>\"\",1,0)","v":0},{"$f":"IF('Sjekkliste for utfylling'!J164<>\"\",1,0)","v":0},{"$f":"IF('Sjekkliste for utfylling'!K164<>\"\",1,0)","v":0},0,null,{"$f":"IF($E96=0,'Sjekkliste for utfylling'!A164,\"\")","v":95},{"$f":"IF($E96=0,'Sjekkliste for utfylling'!B164,\"\")","v":"Er salgsdokumentet utstedt av selger, med mindre annet er tillatt etter lov eller forskrift?"},null,null,{"$f":"IF(E96=0,'Sjekkliste for utfylling'!L164,\" \")","v":0}]
[{"$f":"'Sjekkliste for utfylling'!A170","v":96},{"$f":"IF('Sjekkliste for utfylling'!I170<>\"\",1,0)","v":0},{"$f":"IF('Sjekkliste for utfylling'!J170<>\"\",1,0)","v":0},{"$f":"IF('Sjekkliste for utfylling'!K170<>\"\",1,0)","v":0},0,null,{"$f":"IF($E97=0,'Sjekkliste for utfylling'!A170,\"\")","v":96},{"$f":"IF($E97=0,'Sjekkliste for utfylling'!B170,\"\")","v":"Er dokumentasjonen utstedt senest en måned etter levering?\n(Gjelder dersom ikke annet følger av spørsmålene 97 - 104.)"},null,null,{"$f":"IF(E97=0,'Sjekkliste for utfylling'!L170,\" \")","v":0}]
[{"$f":"'Sjekkliste for utfylling'!A171","v":97},{"$f":"IF('Sjekkliste for utfylling'!I171<>\"\",1,0)","v":0},{"$f":"IF('Sjekkliste for utfylling'!J171<>\"\",1,0)","v":0},{"$f":"IF('Sjekkliste for utfylling'!K171<>\"\",1,0)","v":0},0,null,{"$f":"IF($E98=0,'Sjekkliste for utfylling'!A171,\"\")","v":97},{"$f":"IF($E98=0,'Sjekkliste for utfylling'!B171,\"\")","v":"Er dokumentasjonen utstedt snarest mulig etter uttakstidspunktet og senest innen femten virkedager i måneden etter at uttaket fant sted? "},null,null,{"$f":"IF(E98=0,'Sjekkliste for utfylling'!L171,\" \")","v":0}]
[{"$f":"'Sjekkliste for utfylling'!A172","v":98},{"$f":"IF('Sjekkliste for utfylling'!I172<>\"\",1,0)","v":0},{"$f":"IF('Sjekkliste for utfylling'!J172<>\"\",1,0)","v":0},{"$f":"IF('Sjekkliste for utfylling'!K172<>\"\",1,0)","v":0},0,null,{"$f":"IF($E99=0,'Sjekkliste for utfylling'!A172,\"\")","v":98},{"$f":"IF($E99=0,'Sjekkliste for utfylling'!B172,\"\")","v":"Dersom den bokføringspliktige leverer årsoppgave eller årsterminoppgave etter skatteforvaltningsforskriften §§ 8-3-3 eller 8-3-7\n- er dokumentasjonen utstedet senest det kalenderåret uttaket fant sted?"},null,null,{"$f":"IF(E99=0,'Sjekkliste for utfylling'!L172,\" \")","v":0}]
[{"$f":"'Sjekkliste for utfylling'!A173","v":99},{"$f":"IF('Sjekkliste for utfylling'!I173<>\"\",1,0)","v":0},{"$f":"IF('Sjekkliste for utfylling'!J173<>\"\",1,0)","v":0},{"$f":"IF('Sjekkliste for utfylling'!K173<>\"\",1,0)","v":0},0,null,{"$f":"IF($E100=0,'Sjekkliste for utfylling'!A173,\"\")","v":99},{"$f":"IF($E100=0,'Sjekkliste for utfylling'!B173,\"\")","v":"Dersom den bokføringspliktige leverer årsoppgave eller årsterminoppgave etter skatteforvaltningsforskriften §§ 8-3-3 eller 8-3-7\n- er uttaket betryggende registert i perioden mellom uttakstidspunkt og dokumentasjonsutstedelse?"},null,null,{"$f":"IF(E100=0,'Sjekkliste for utfylling'!L173,\" \")","v":0}]
[{"$f":"'Sjekkliste for utfylling'!A174","v":100},{"$f":"IF('Sjekkliste for utfylling'!I174<>\"\",1,0)","v":0},{"$f":"IF('Sjekkliste for utfylling'!J174<>\"\",1,0)","v":0},{"$f":"IF('Sjekkliste for utfylling'!K174<>\"\",1,0)","v":0},0,null,{"$f":"IF($E101=0,'Sjekkliste for utfylling'!A174,\"\")","v":100},{"$f":"IF($E101=0,'Sjekkliste for utfylling'!B174,\"\")","v":"Er dokumentasjon utstedt senest i det kalenderår levering finner sted?\n(Gjelder for de som leverer årsoppgave eller årsterminoppgave for merverdiavgift)\n"},null,null,{"$f":"IF(E101=0,'Sjekkliste for utfylling'!L174,\" \")","v":0}]
[{"$f":"'Sjekkliste for utfylling'!A175","v":101},{"$f":"IF('Sjekkliste for utfylling'!I175<>\"\",1,0)","v":0},{"$f":"IF('Sjekkliste for utfylling'!J175<>\"\",1,0)","v":0},{"$f":"IF('Sjekkliste for utfylling'!K175<>\"\",1,0)","v":0},0,null,{"$f":"IF($E102=0,'Sjekkliste for utfylling'!A175,\"\")","v":101},{"$f":"IF($E102=0,'Sjekkliste for utfylling'!B175,\"\")","v":"Er leveranser som faktureres månedlig, fakturert innen femten virkedager etter leveringsmåneden?"},null,null,{"$f":"IF(E102=0,'Sjekkliste for utfylling'!L175,\" \")","v":0}]
[{"$f":"'Sjekkliste for utfylling'!A176","v":102},{"$f":"IF('Sjekkliste for utfylling'!I176<>\"\",1,0)","v":0},{"$f":"IF('Sjekkliste for utfylling'!J176<>\"\",1,0)","v":0},{"$f":"IF('Sjekkliste for utfylling'!K176<>\"\",1,0)","v":0},0,null,{"$f":"IF($E103=0,'Sjekkliste for utfylling'!A176,\"\")","v":102},{"$f":"IF($E103=0,'Sjekkliste for utfylling'!B176,\"\")","v":"Er tjenester som leveres løpende og varer som leveres i den forbindelse, fakturert senest en måned etter utløpet av den alminnelige oppgaveterminen, jf skatteforvaltningsforskriften § 8-3-1?\n(Utstedelse av salgsdokumentasjon for ubetydelige leveranser kan utsettes til neste termin.)"},null,null,{"$f":"IF(E103=0,'Sjekkliste for utfylling'!L176,\" \")","v":0}]
[{"$f":"'Sjekkliste for utfylling'!A177","v":103},{"$f":"IF('Sjekkliste for utfylling'!I177<>\"\",1,0)","v":0},{"$f":"IF('Sjekkliste for utfylling'!J177<>\"\",1,0)","v":0},{"$f":"IF('Sjekkliste for utfylling'!K177<>\"\",1,0)","v":0},0,null,{"$f":"IF($E104=0,'Sjekkliste for utfylling'!A177,\"\")","v":103},{"$f":"IF($E104=0,'Sjekkliste for utfylling'!B177,\"\")","v":"Er tjenester som leveres basert på måling av faktisk forbruk, fakturert minst en gang i året?\n(Salgsdokumentet skal så vidt mulig utstedes innenfor det kalenderår levering finner sted.)"},null,null,{"$f":"IF(E104=0,'Sjekkliste for utfylling'!L177,\" \")","v":0}]
[{"$f":"'Sjekkliste for utfylling'!A178","v":104},{"$f":"IF('Sjekkliste for utfylling'!I178<>\"\",1,0)","v":0},{"$f":"IF('Sjekkliste for utfylling'!J178<>\"\",1,0)","v":0},{"$f":"IF('Sjekkliste for utfylling'!K178<>\"\",1,0)","v":0},0,null,{"$f":"IF($E105=0,'Sjekkliste for utfylling'!A178,\"\")","v":104},{"$f":"IF($E105=0,'Sjekkliste for utfylling'!B178,\"\")","v":"Er tjenester som leveres etter anbud eller tilsvarende forhåndsavtalt pris, fakturert i henhold til avtale mellom partene?\n(Kan ikke benyttes dersom avtalt fakturering (betaling) avviker vesentlig fra reell fremdrift.)"},null,null,{"$f":"IF(E105=0,'Sjekkliste for utfylling'!L178,\" \")","v":0}]
[{"$f":"'Sjekkliste for utfylling'!A181","v":105},{"$f":"IF('Sjekkliste for utfylling'!I181<>\"\",1,0)","v":0},{"$f":"IF('Sjekkliste for utfylling'!J181<>\"\",1,0)","v":0},{"$f":"IF('Sjekkliste for utfylling'!K181<>\"\",1,0)","v":0},0,null,{"$f":"IF($E106=0,'Sjekkliste for utfylling'!A181,\"\")","v":105},{"$f":"IF($E106=0,'Sjekkliste for utfylling'!B181,\"\")","v":"Har betalingsdokumentasjon referanse til avtalen? "},null,null,{"$f":"IF(E106=0,'Sjekkliste for utfylling'!L181,\" \")","v":0}]
[{"$f":"'Sjekkliste for utfylling'!A182","v":106},{"$f":"IF('Sjekkliste for utfylling'!I182<>\"\",1,0)","v":0},{"$f":"IF('Sjekkliste for utfylling'!J182<>\"\",1,0)","v":0},{"$f":"IF('Sjekkliste for utfylling'!K182<>\"\",1,0)","v":0},0,null,{"$f":"IF($E107=0,'Sjekkliste for utfylling'!A182,\"\")","v":106},{"$f":"IF($E107=0,'Sjekkliste for utfylling'!B182,\"\")","v":"Inneholder avtalen alle opplysninger som nevnt i §5-1-1 (se spm 74 - 81)"},null,null,{"$f":"IF(E107=0,'Sjekkliste for utfylling'!L182,\" \")","v":0}]
[{"$f":"'Sjekkliste for utfylling'!A184","v":107},{"$f":"IF('Sjekkliste for utfylling'!I184<>\"\",1,0)","v":0},{"$f":"IF('Sjekkliste for utfylling'!J184<>\"\",1,0)","v":0},{"$f":"IF('Sjekkliste for utfylling'!K184<>\"\",1,0)","v":0},0,null,{"$f":"IF($E108=0,'Sjekkliste for utfylling'!A184,\"\")","v":107},{"$f":"IF($E108=0,'Sjekkliste for utfylling'!B184,\"\")","v":"Dersom ideelle organisasjoner har ikke avgiftspliktige medlemskontingenter som regnskapsmessig anses opptjent på betalingstidspunktet, og som ikke er dokumentert med salgsdokument ihht § 5-1-1, er medlemskontigentene dokumentert med betalingsdokumentasjon?"},null,null,{"$f":"IF(E108=0,'Sjekkliste for utfylling'!L184,\" \")","v":0}]
[{"$f":"'Sjekkliste for utfylling'!A185","v":108},{"$f":"IF('Sjekkliste for utfylling'!I185<>\"\",1,0)","v":0},{"$f":"IF('Sjekkliste for utfylling'!J185<>\"\",1,0)","v":0},{"$f":"IF('Sjekkliste for utfylling'!K185<>\"\",1,0)","v":0},0,null,{"$f":"IF($E109=0,'Sjekkliste for utfylling'!A185,\"\")","v":108},{"$f":"IF($E109=0,'Sjekkliste for utfylling'!B185,\"\")","v":"Inneholder betalingsdokumentasjonen alle opplysningene som nevnt i §5-1-1 nr 2 - 5?"},null,null,{"$f":"IF(E109=0,'Sjekkliste for utfylling'!L185,\" \")","v":0}]
[{"$f":"'Sjekkliste for utfylling'!A187","v":109},{"$f":"IF('Sjekkliste for utfylling'!I187<>\"\",1,0)","v":0},{"$f":"IF('Sjekkliste for utfylling'!J187<>\"\",1,0)","v":0},{"$f":"IF('Sjekkliste for utfylling'!K187<>\"\",1,0)","v":0},0,null,{"$f":"IF($E110=0,'Sjekkliste for utfylling'!A187,\"\")","v":109},{"$f":"IF($E110=0,'Sjekkliste for utfylling'!B187,\"\")","v":"Har formidler oversendt en gjenpart av salgsdokumentet til selger når formidleren har utstedet ett salgsdokument på vegne av selger? "},null,null,{"$f":"IF(E110=0,'Sjekkliste for utfylling'!L187,\" \")","v":0}]
[{"$f":"'Sjekkliste for utfylling'!A188","v":110},{"$f":"IF('Sjekkliste for utfylling'!I188<>\"\",1,0)","v":0},{"$f":"IF('Sjekkliste for utfylling'!J188<>\"\",1,0)","v":0},{"$f":"IF('Sjekkliste for utfylling'!K188<>\"\",1,0)","v":0},0,null,{"$f":"IF($E111=0,'Sjekkliste for utfylling'!A188,\"\")","v":110},{"$f":"IF($E111=0,'Sjekkliste for utfylling'!B188,\"\")","v":"Formidler kan likevel utstede avregning til selger for dennes del av salget.\n- Inneholder slik avregning til den enkelte selger opplysningene som er angitt i salgsdokumentet til kjøper?"},null,null,{"$f":"IF(E111=0,'Sjekkliste for utfylling'!L188,\" \")","v":0}]
[{"$f":"'Sjekkliste for utfylling'!A190","v":111},{"$f":"IF('Sjekkliste for utfylling'!I190<>\"\",1,0)","v":0},{"$f":"IF('Sjekkliste for utfylling'!J190<>\"\",1,0)","v":0},{"$f":"IF('Sjekkliste for utfylling'!K190<>\"\",1,0)","v":0},0,null,{"$f":"IF($E112=0,'Sjekkliste for utfylling'!A190,\"\")","v":111},{"$f":"IF($E112=0,'Sjekkliste for utfylling'!B190,\"\")","v":"- Fremgår det av avtalen at dette gjelder formidling?"},null,null,{"$f":"IF(E112=0,'Sjekkliste for utfylling'!L190,\" \")","v":0}]
[{"$f":"'Sjekkliste for utfylling'!A191","v":112},{"$f":"IF('Sjekkliste for utfylling'!I191<>\"\",1,0)","v":0},{"$f":"IF('Sjekkliste for utfylling'!J191<>\"\",1,0)","v":0},{"$f":"IF('Sjekkliste for utfylling'!K191<>\"\",1,0)","v":0},0,null,{"$f":"IF($E113=0,'Sjekkliste for utfylling'!A191,\"\")","v":112},{"$f":"IF($E113=0,'Sjekkliste for utfylling'!B191,\"\")","v":"- Oppbevares avtalen av både selger og formidler?"},null,null,{"$f":"IF(E113=0,'Sjekkliste for utfylling'!L191,\" \")","v":0}]
[{"$f":"'Sjekkliste for utfylling'!A192","v":113},{"$f":"IF('Sjekkliste for utfylling'!I192<>\"\",1,0)","v":0},{"$f":"IF('Sjekkliste for utfylling'!J192<>\"\",1,0)","v":0},{"$f":"IF('Sjekkliste for utfylling'!K192<>\"\",1,0)","v":0},0,null,{"$f":"IF($E114=0,'Sjekkliste for utfylling'!A192,\"\")","v":113},{"$f":"IF($E114=0,'Sjekkliste for utfylling'!B192,\"\")","v":"- Er selgers salgsdokumentasjon tydelig merket \"Formidling - ikke kjøpsdokumentasjon\" og har en henvisnig til avtalen?"},null,null,{"$f":"IF(E114=0,'Sjekkliste for utfylling'!L192,\" \")","v":0}]
[{"$f":"'Sjekkliste for utfylling'!A195","v":114},{"$f":"IF('Sjekkliste for utfylling'!I195<>\"\",1,0)","v":0},{"$f":"IF('Sjekkliste for utfylling'!J195<>\"\",1,0)","v":0},{"$f":"IF('Sjekkliste for utfylling'!K195<>\"\",1,0)","v":0},0,null,{"$f":"IF($E115=0,'Sjekkliste for utfylling'!A195,\"\")","v":114},{"$f":"IF($E115=0,'Sjekkliste for utfylling'!B195,\"\")","v":"Når mellomleddet utsteder kreditnota til medlemmene på vegne av leverandørene, fremgår det hvilken leverandør dette gjelder, med angivelse av navn og organisasjonsnummer etterfulgt av bokstavene MVA?"},null,null,{"$f":"IF(E115=0,'Sjekkliste for utfylling'!L195,\" \")","v":0}]
[{"$f":"'Sjekkliste for utfylling'!A196","v":115},{"$f":"IF('Sjekkliste for utfylling'!I196<>\"\",1,0)","v":0},{"$f":"IF('Sjekkliste for utfylling'!J196<>\"\",1,0)","v":0},{"$f":"IF('Sjekkliste for utfylling'!K196<>\"\",1,0)","v":0},0,null,{"$f":"IF($E116=0,'Sjekkliste for utfylling'!A196,\"\")","v":115},{"$f":"IF($E116=0,'Sjekkliste for utfylling'!B196,\"\")","v":"Oppbevarer mellomleddet dokumentasjon som viser hvordan mottatt bonus fra leverandørene fordeles på medlemmene, som del av sin dokumentasjon for bokføringen av bonus til medlemmene?"},null,null,{"$f":"IF(E116=0,'Sjekkliste for utfylling'!L196,\" \")","v":0}]
[{"$f":"'Sjekkliste for utfylling'!A198","v":116},{"$f":"IF('Sjekkliste for utfylling'!I198<>\"\",1,0)","v":0},{"$f":"IF('Sjekkliste for utfylling'!J198<>\"\",1,0)","v":0},{"$f":"IF('Sjekkliste for utfylling'!K198<>\"\",1,0)","v":0},0,null,{"$f":"IF($E117=0,'Sjekkliste for utfylling'!A198,\"\")","v":116},{"$f":"IF($E117=0,'Sjekkliste for utfylling'!B198,\"\")","v":"Oversendes salgsdokumentet uoppfordret til kjøper med mindre annet fremgår av skriftlig, undertegnet avtale mellom partene eller er bestemt i lov eller forskrift?"},null,null,{"$f":"IF(E117=0,'Sjekkliste for utfylling'!L198,\" \")","v":0}]
[{"$f":"'Sjekkliste for utfylling'!A200","v":117},{"$f":"IF('Sjekkliste for utfylling'!I200<>\"\",1,0)","v":0},{"$f":"IF('Sjekkliste for utfylling'!J200<>\"\",1,0)","v":0},{"$f":"IF('Sjekkliste for utfylling'!K200<>\"\",1,0)","v":0},0,null,{"$f":"IF($E118=0,'Sjekkliste for utfylling'!A200,\"\")","v":117},{"$f":"IF($E118=0,'Sjekkliste for utfylling'!B200,\"\")","v":"Er elektroniske salgsdokumenter utsted i et filformat som ikke enkelt lar seg redigere i et allment kjent sluttbrukerverktøy for tekstbehandling, regneark, e-post mv uten at endringen fremgår direkte av salgsdokumentet?"},null,null,{"$f":"IF(E118=0,'Sjekkliste for utfylling'!L200,\" \")","v":0}]
[{"$f":"'Sjekkliste for utfylling'!A202","v":118},{"$f":"IF('Sjekkliste for utfylling'!I202<>\"\",1,0)","v":0},{"$f":"IF('Sjekkliste for utfylling'!J202<>\"\",1,0)","v":0},{"$f":"IF('Sjekkliste for utfylling'!K202<>\"\",1,0)","v":0},0,null,{"$f":"IF($E119=0,'Sjekkliste for utfylling'!A202,\"\")","v":118},{"$f":"IF($E119=0,'Sjekkliste for utfylling'!B202,\"\")","v":"Er salgsdokument for alle leveranser, med unntak som nevnt nedenfor, først utstedt inklusive merverdiavgift etter at den avgiftspliktige varen eller tjenesten er levert? \n\n "},null,null,{"$f":"IF(E119=0,'Sjekkliste for utfylling'!L202,\" \")","v":0}]
[{"$f":"'Sjekkliste for utfylling'!A209","v":119},{"$f":"IF('Sjekkliste for utfylling'!I209<>\"\",1,0)","v":0},{"$f":"IF('Sjekkliste for utfylling'!J209<>\"\",1,0)","v":0},{"$f":"IF('Sjekkliste for utfylling'!K209<>\"\",1,0)","v":0},0,null,{"$f":"IF($E120=0,'Sjekkliste for utfylling'!A209,\"\")","v":119},{"$f":"IF($E120=0,'Sjekkliste for utfylling'!B209,\"\")","v":"Er det utstedt kreditnota som reverserer opprinnelig salgsdokument, når det er utstedt nytt salgsdokument til erstatning for allerede avsendt salgsdokument?"},null,null,{"$f":"IF(E120=0,'Sjekkliste for utfylling'!L209,\" \")","v":0}]
[{"$f":"'Sjekkliste for utfylling'!A218","v":120},{"$f":"IF('Sjekkliste for utfylling'!I218<>\"\",1,0)","v":0},{"$f":"IF('Sjekkliste for utfylling'!J218<>\"\",1,0)","v":0},{"$f":"IF('Sjekkliste for utfylling'!K218<>\"\",1,0)","v":0},0,null,{"$f":"IF($E121=0,'Sjekkliste for utfylling'!A218,\"\")","v":120},{"$f":"IF($E121=0,'Sjekkliste for utfylling'!B218,\"\")","v":"Blir det kun benyttet kassasystemer som det foreligger produkterklæring for etter kassasystemlova § 5?"},null,null,{"$f":"IF(E121=0,'Sjekkliste for utfylling'!L218,\" \")","v":0}]
[{"$f":"'Sjekkliste for utfylling'!A221","v":121},{"$f":"IF('Sjekkliste for utfylling'!I221<>\"\",1,0)","v":0},{"$f":"IF('Sjekkliste for utfylling'!J221<>\"\",1,0)","v":0},{"$f":"IF('Sjekkliste for utfylling'!K221<>\"\",1,0)","v":0},0,null,{"$f":"IF($E122=0,'Sjekkliste for utfylling'!A221,\"\")","v":121},{"$f":"IF($E122=0,'Sjekkliste for utfylling'!B221,\"\")","v":"Oppbevares kontanter i interert kassaskuff, så lenge ingen av unntakene omtalt nedenfor er aktuelle?"},null,null,{"$f":"IF(E122=0,'Sjekkliste for utfylling'!L221,\" \")","v":0}]
[{"$f":"'Sjekkliste for utfylling'!A223","v":122},{"$f":"IF('Sjekkliste for utfylling'!I223<>\"\",1,0)","v":0},{"$f":"IF('Sjekkliste for utfylling'!J223<>\"\",1,0)","v":0},{"$f":"IF('Sjekkliste for utfylling'!K223<>\"\",1,0)","v":0},0,null,{"$f":"IF($E123=0,'Sjekkliste for utfylling'!A223,\"\")","v":122},{"$f":"IF($E123=0,'Sjekkliste for utfylling'!B223,\"\")","v":"Blir integrert kassaskuff lukket umiddelbart etter at betaling for kontantsalget er mottatt, samt etter at kassaskuffen har vært åpnet for andre formål som veksling eller inn- og utbetalinger?"},null,null,{"$f":"IF(E123=0,'Sjekkliste for utfylling'!L223,\" \")","v":0}]
[{"$f":"'Sjekkliste for utfylling'!A224","v":123},{"$f":"IF('Sjekkliste for utfylling'!I224<>\"\",1,0)","v":0},{"$f":"IF('Sjekkliste for utfylling'!J224<>\"\",1,0)","v":0},{"$f":"IF('Sjekkliste for utfylling'!K224<>\"\",1,0)","v":0},0,null,{"$f":"IF($E124=0,'Sjekkliste for utfylling'!A224,\"\")","v":123},{"$f":"IF($E124=0,'Sjekkliste for utfylling'!B224,\"\")","v":"Dersom flere bokføringspliktige bruker felles kassasystem, jf. § 5-3-9, bruker minst en av dem integrert kassaskuff for oppbevaring av betalingsmidlene?"},null,null,{"$f":"IF(E124=0,'Sjekkliste for utfylling'!L224,\" \")","v":0}]
[{"$f":"'Sjekkliste for utfylling'!A225","v":124},{"$f":"IF('Sjekkliste for utfylling'!I225<>\"\",1,0)","v":0},{"$f":"IF('Sjekkliste for utfylling'!J225<>\"\",1,0)","v":0},{"$f":"IF('Sjekkliste for utfylling'!K225<>\"\",1,0)","v":0},0,null,{"$f":"IF($E125=0,'Sjekkliste for utfylling'!A225,\"\")","v":124},{"$f":"IF($E125=0,'Sjekkliste for utfylling'!B225,\"\")","v":"Dersom det ikke er mulig å holde betalingsmidlene fra flere bokføringspliktige brukere adskilt i kassaskuffen, oppbevarer øvrige brukere betalingsmidlene i egne kassaskuffer?"},null,null,{"$f":"IF(E125=0,'Sjekkliste for utfylling'!L225,\" \")","v":0}]
[{"$f":"'Sjekkliste for utfylling'!A227","v":125},{"$f":"IF('Sjekkliste for utfylling'!I227<>\"\",1,0)","v":0},{"$f":"IF('Sjekkliste for utfylling'!J227<>\"\",1,0)","v":0},{"$f":"IF('Sjekkliste for utfylling'!K227<>\"\",1,0)","v":0},0,null,{"$f":"IF($E126=0,'Sjekkliste for utfylling'!A227,\"\")","v":125},{"$f":"IF($E126=0,'Sjekkliste for utfylling'!B227,\"\")","v":"Er kontantsalg (dersom ikke unntakene under spørsmål 171-180 gjelder) registrert fortløpende i et kassasystem med produkterklæring som tilfredsstiller kravene i kassasystemlova og kassasystemforskrifta?"},null,null,{"$f":"IF(E126=0,'Sjekkliste for utfylling'!L227,\" \")","v":0}]
[{"$f":"'Sjekkliste for utfylling'!A228","v":126},{"$f":"IF('Sjekkliste for utfylling'!I228<>\"\",1,0)","v":0},{"$f":"IF('Sjekkliste for utfylling'!J228<>\"\",1,0)","v":0},{"$f":"IF('Sjekkliste for utfylling'!K228<>\"\",1,0)","v":0},0,null,{"$f":"IF($E127=0,'Sjekkliste for utfylling'!A228,\"\")","v":126},{"$f":"IF($E127=0,'Sjekkliste for utfylling'!B228,\"\")","v":"Er også all annen løpende anvendelse av kassasystemet registrert fortløpende i kassasystemet?"},null,null,{"$f":"IF(E127=0,'Sjekkliste for utfylling'!L228,\" \")","v":0}]
[{"$f":"'Sjekkliste for utfylling'!A229","v":127},{"$f":"IF('Sjekkliste for utfylling'!I229<>\"\",1,0)","v":0},{"$f":"IF('Sjekkliste for utfylling'!J229<>\"\",1,0)","v":0},{"$f":"IF('Sjekkliste for utfylling'!K229<>\"\",1,0)","v":0},0,null,{"$f":"IF($E128=0,'Sjekkliste for utfylling'!A229,\"\")","v":127},{"$f":"IF($E128=0,'Sjekkliste for utfylling'!B229,\"\")","v":"Omfatter registreringen i kassasystemet all den informasjon som kreves spesifisert på X-rapport, Z-rapport og kvitteringer etter kassasystemforskrifta § 2-8?"},null,null,{"$f":"IF(E128=0,'Sjekkliste for utfylling'!L229,\" \")","v":0}]
[{"$f":"'Sjekkliste for utfylling'!A230","v":128},{"$f":"IF('Sjekkliste for utfylling'!I230<>\"\",1,0)","v":0},{"$f":"IF('Sjekkliste for utfylling'!J230<>\"\",1,0)","v":0},{"$f":"IF('Sjekkliste for utfylling'!K230<>\"\",1,0)","v":0},0,null,{"$f":"IF($E129=0,'Sjekkliste for utfylling'!A230,\"\")","v":128},{"$f":"IF($E129=0,'Sjekkliste for utfylling'!B230,\"\")","v":"Hvis systemet har funksjon for å registrere kontantsalget på den enkelte operatør, og operatøren oppbevarer kontantene i eget pengebelte eller lignende, er kontantsalget registrert på den enkelte operatør?"},null,null,{"$f":"IF(E129=0,'Sjekkliste for utfylling'!L230,\" \")","v":0}]
[{"$f":"'Sjekkliste for utfylling'!A232","v":129},{"$f":"IF('Sjekkliste for utfylling'!I232<>\"\",1,0)","v":0},{"$f":"IF('Sjekkliste for utfylling'!J232<>\"\",1,0)","v":0},{"$f":"IF('Sjekkliste for utfylling'!K232<>\"\",1,0)","v":0},{"$f":"SUM(B130:D130)","v":0},null,{"$f":"IF($E130=0,'Sjekkliste for utfylling'!A232,\"\")","v":129},{"$f":"IF($E130=0,'Sjekkliste for utfylling'!B232,\"\")","v":"Alt. 1: Hvis kassasystemet har funksjonalitet for det kan tips registreres særskilt i kassasystemet, og kontanttips oppbevares i kassaskuffen:\n- Omfatter registreringen også tips betalt med betalingskort?"},null,null,{"$f":"IF(E130=0,'Sjekkliste for utfylling'!L232,\" \")","v":0}]
[{"$f":"'Sjekkliste for utfylling'!A233","v":130},{"$f":"IF('Sjekkliste for utfylling'!I233<>\"\",1,0)","v":0},{"$f":"IF('Sjekkliste for utfylling'!J233<>\"\",1,0)","v":0},{"$f":"IF('Sjekkliste for utfylling'!K233<>\"\",1,0)","v":0},0,null,{"$f":"IF($E131=0,'Sjekkliste for utfylling'!A233,\"\")","v":130},{"$f":"IF($E131=0,'Sjekkliste for utfylling'!B233,\"\")","v":"Alt 2: Hvis tips ikke registreres særskilt på kassasystemet:\n- Oppbevares kontanttips utenom kassaskuffen?"},null,null,{"$f":"IF(E131=0,'Sjekkliste for utfylling'!L233,\" \")","v":0}]
[{"$f":"'Sjekkliste for utfylling'!A235","v":131},{"$f":"IF('Sjekkliste for utfylling'!I235<>\"\",1,0)","v":0},{"$f":"IF('Sjekkliste for utfylling'!J235<>\"\",1,0)","v":0},{"$f":"IF('Sjekkliste for utfylling'!K235<>\"\",1,0)","v":0},0,null,{"$f":"IF($E132=0,'Sjekkliste for utfylling'!A235,\"\")","v":131},{"$f":"IF($E132=0,'Sjekkliste for utfylling'!B235,\"\")","v":"Dersom det ikke benyttes en integrert betalingsløsning i forbindelse med salget og/eller kunden ikke ønsker kvittering:\nSkrives det ved hvert salg ut en salgskvittering fra kassasystemet som fremlegges for kunden?"},null,null,{"$f":"IF(E132=0,'Sjekkliste for utfylling'!L235,\" \")","v":0}]
[{"$f":"'Sjekkliste for utfylling'!A237","v":132},{"$f":"IF('Sjekkliste for utfylling'!I237<>\"\",1,0)","v":0},{"$f":"IF('Sjekkliste for utfylling'!J237<>\"\",1,0)","v":0},{"$f":"IF('Sjekkliste for utfylling'!K237<>\"\",1,0)","v":0},0,null,{"$f":"IF($E133=0,'Sjekkliste for utfylling'!A237,\"\")","v":132},{"$f":"IF($E133=0,'Sjekkliste for utfylling'!B237,\"\")","v":"Dersom kassasystemet også brukes til å registrere kredittsalg som blir fakturert på et senere tidspunkt, skrives det ut en utleveringskvittering?"},null,null,{"$f":"IF(E133=0,'Sjekkliste for utfylling'!L237,\" \")","v":0}]
[{"$f":"'Sjekkliste for utfylling'!A240","v":133},{"$f":"IF('Sjekkliste for utfylling'!I240<>\"\",1,0)","v":0},{"$f":"IF('Sjekkliste for utfylling'!J240<>\"\",1,0)","v":0},{"$f":"IF('Sjekkliste for utfylling'!K240<>\"\",1,0)","v":0},0,null,{"$f":"IF($E134=0,'Sjekkliste for utfylling'!A240,\"\")","v":133},{"$f":"IF($E134=0,'Sjekkliste for utfylling'!B240,\"\")","v":"Skrives det ut en særskilt returkvittering ved returer?"},null,null,{"$f":"IF(E134=0,'Sjekkliste for utfylling'!L240,\" \")","v":0}]
[{"$f":"'Sjekkliste for utfylling'!A242","v":134},{"$f":"IF('Sjekkliste for utfylling'!I242<>\"\",1,0)","v":0},{"$f":"IF('Sjekkliste for utfylling'!J242<>\"\",1,0)","v":0},{"$f":"IF('Sjekkliste for utfylling'!K242<>\"\",1,0)","v":0},0,null,{"$f":"IF($E135=0,'Sjekkliste for utfylling'!A242,\"\")","v":134},{"$f":"IF($E135=0,'Sjekkliste for utfylling'!B242,\"\")","v":"Dersom det er registrert feil betalingsmiddel på salgskvittering, er det enten;\n- tatt ut returkvittering som korrigerer feilen og ny salgskvittering med angivelse av rett betalingsmiddel, eller\n- tatt ut en kvittering som har referanse til salgskvitteringens nummer og som kun viser endringen av betalingsmiddel. "},null,null,{"$f":"IF(E135=0,'Sjekkliste for utfylling'!L242,\" \")","v":0}]
[{"$f":"'Sjekkliste for utfylling'!A243","v":135},{"$f":"IF('Sjekkliste for utfylling'!I243<>\"\",1,0)","v":0},{"$f":"IF('Sjekkliste for utfylling'!J243<>\"\",1,0)","v":0},{"$f":"IF('Sjekkliste for utfylling'!K243<>\"\",1,0)","v":0},0,null,{"$f":"IF($E136=0,'Sjekkliste for utfylling'!A243,\"\")","v":135},{"$f":"IF($E136=0,'Sjekkliste for utfylling'!B243,\"\")","v":"Blir dokumentasjonen vedrørende feil betalingsmiddel skrevet ut og tilbydt kunden?"},null,null,{"$f":"IF(E136=0,'Sjekkliste for utfylling'!L243,\" \")","v":0}]
[{"$f":"'Sjekkliste for utfylling'!A245","v":136},{"$f":"IF('Sjekkliste for utfylling'!I245<>\"\",1,0)","v":0},{"$f":"IF('Sjekkliste for utfylling'!J245<>\"\",1,0)","v":0},{"$f":"IF('Sjekkliste for utfylling'!K245<>\"\",1,0)","v":0},0,null,{"$f":"IF($E137=0,'Sjekkliste for utfylling'!A245,\"\")","v":136},{"$f":"IF($E137=0,'Sjekkliste for utfylling'!B245,\"\")","v":"Foreligger det dokumentasjon av korreksjonsposter med angivelse av beløp og årsak?"},null,null,{"$f":"IF(E137=0,'Sjekkliste for utfylling'!L245,\" \")","v":0}]
[{"$f":"'Sjekkliste for utfylling'!A246","v":137},{"$f":"IF('Sjekkliste for utfylling'!I246<>\"\",1,0)","v":0},{"$f":"IF('Sjekkliste for utfylling'!J246<>\"\",1,0)","v":0},{"$f":"IF('Sjekkliste for utfylling'!K246<>\"\",1,0)","v":0},0,null,{"$f":"IF($E138=0,'Sjekkliste for utfylling'!A246,\"\")","v":137},{"$f":"IF($E138=0,'Sjekkliste for utfylling'!B246,\"\")","v":"Dersom korreksjonen gjelder tidligere registrert salg, foreligger det ytterligere dokumentasjon som underbygger korreksjonen?\nDersom korreksjonen gjelder tidligere salg foreligger det  også signatur fra kunden ved tilbakebetaling?"},null,null,{"$f":"IF(E138=0,'Sjekkliste for utfylling'!L246,\" \")","v":0}]
[{"$f":"'Sjekkliste for utfylling'!A247","v":138},{"$f":"IF('Sjekkliste for utfylling'!I247<>\"\",1,0)","v":0},{"$f":"IF('Sjekkliste for utfylling'!J247<>\"\",1,0)","v":0},{"$f":"IF('Sjekkliste for utfylling'!K247<>\"\",1,0)","v":0},0,null,{"$f":"IF($E139=0,'Sjekkliste for utfylling'!A247,\"\")","v":138},{"$f":"IF($E139=0,'Sjekkliste for utfylling'!B247,\"\")","v":"Er tilbakebetaling til kunde, herunder ved returer, dokumentert med kundens signatur og telefonnummer?"},null,null,{"$f":"IF(E139=0,'Sjekkliste for utfylling'!L247,\" \")","v":0}]
[{"$f":"'Sjekkliste for utfylling'!A249","v":139},{"$f":"IF('Sjekkliste for utfylling'!I249<>\"\",1,0)","v":0},{"$f":"IF('Sjekkliste for utfylling'!J249<>\"\",1,0)","v":0},{"$f":"IF('Sjekkliste for utfylling'!K249<>\"\",1,0)","v":0},0,null,{"$f":"IF($E140=0,'Sjekkliste for utfylling'!A249,\"\")","v":139},{"$f":"IF($E140=0,'Sjekkliste for utfylling'!B249,\"\")","v":"Blir vekselkasser registrert i kassasystemet ved salgsdagens begynnelse?"},null,null,{"$f":"IF(E140=0,'Sjekkliste for utfylling'!L249,\" \")","v":0}]
[{"$f":"'Sjekkliste for utfylling'!A250","v":140},{"$f":"IF('Sjekkliste for utfylling'!I250<>\"\",1,0)","v":0},{"$f":"IF('Sjekkliste for utfylling'!J250<>\"\",1,0)","v":0},{"$f":"IF('Sjekkliste for utfylling'!K250<>\"\",1,0)","v":0},0,null,{"$f":"IF($E141=0,'Sjekkliste for utfylling'!A250,\"\")","v":140},{"$f":"IF($E141=0,'Sjekkliste for utfylling'!B250,\"\")","v":"Blir uttak av kontanter fra kassaskuffen i løpet av dagen dokumentert særskilt?"},null,null,{"$f":"IF(E141=0,'Sjekkliste for utfylling'!L250,\" \")","v":0}]
[{"$f":"'Sjekkliste for utfylling'!A251","v":141},{"$f":"IF('Sjekkliste for utfylling'!I251<>\"\",1,0)","v":0},{"$f":"IF('Sjekkliste for utfylling'!J251<>\"\",1,0)","v":0},{"$f":"IF('Sjekkliste for utfylling'!K251<>\"\",1,0)","v":0},0,null,{"$f":"IF($E142=0,'Sjekkliste for utfylling'!A251,\"\")","v":141},{"$f":"IF($E142=0,'Sjekkliste for utfylling'!B251,\"\")","v":"Inneholder dokumentasjonen minst følgende opplysninger:\na) Dato og klokkeslett\nb) Beløp\nc) Hvem som har gjort uttaket"},null,null,{"$f":"IF(E142=0,'Sjekkliste for utfylling'!L251,\" \")","v":0}]
[{"$f":"'Sjekkliste for utfylling'!A252","v":142},{"$f":"IF('Sjekkliste for utfylling'!I252<>\"\",1,0)","v":0},{"$f":"IF('Sjekkliste for utfylling'!J252<>\"\",1,0)","v":0},{"$f":"IF('Sjekkliste for utfylling'!K252<>\"\",1,0)","v":0},0,null,{"$f":"IF($E143=0,'Sjekkliste for utfylling'!A252,\"\")","v":142},{"$f":"IF($E143=0,'Sjekkliste for utfylling'!B252,\"\")","v":"Blir dokumentasjonen oppbevart i kassaskuffen?"},null,null,{"$f":"IF(E143=0,'Sjekkliste for utfylling'!L252,\" \")","v":0}]
[{"$f":"'Sjekkliste for utfylling'!A255","v":143},{"$f":"IF('Sjekkliste for utfylling'!I255<>\"\",1,0)","v":0},{"$f":"IF('Sjekkliste for utfylling'!J255<>\"\",1,0)","v":0},{"$f":"IF('Sjekkliste for utfylling'!K255<>\"\",1,0)","v":0},0,null,{"$f":"IF($E144=0,'Sjekkliste for utfylling'!A255,\"\")","v":143},{"$f":"IF($E144=0,'Sjekkliste for utfylling'!B255,\"\")","v":"Dersom flere bokføringspliktige benytter felles kassasystem, er betalingsmidlene holdt adskilt?"},null,null,{"$f":"IF(E144=0,'Sjekkliste for utfylling'!L255,\" \")","v":0}]
[{"$f":"'Sjekkliste for utfylling'!A256","v":144},{"$f":"IF('Sjekkliste for utfylling'!I256<>\"\",1,0)","v":0},{"$f":"IF('Sjekkliste for utfylling'!J256<>\"\",1,0)","v":0},{"$f":"IF('Sjekkliste for utfylling'!K256<>\"\",1,0)","v":0},0,null,{"$f":"IF($E145=0,'Sjekkliste for utfylling'!A256,\"\")","v":144},{"$f":"IF($E145=0,'Sjekkliste for utfylling'!B256,\"\")","v":"Er det foretatt individuelle dagsoppgjør?"},null,null,{"$f":"IF(E145=0,'Sjekkliste for utfylling'!L256,\" \")","v":0}]
[{"$f":"'Sjekkliste for utfylling'!A258","v":145},{"$f":"IF('Sjekkliste for utfylling'!I258<>\"\",1,0)","v":0},{"$f":"IF('Sjekkliste for utfylling'!J258<>\"\",1,0)","v":0},{"$f":"IF('Sjekkliste for utfylling'!K258<>\"\",1,0)","v":0},0,null,{"$f":"IF($E146=0,'Sjekkliste for utfylling'!A258,\"\")","v":145},{"$f":"IF($E146=0,'Sjekkliste for utfylling'!B258,\"\")","v":"Dersom lagringsminnet på kassasystemet er fullt, blir opplysningene i elektronisk journal umiddelbart overført til annet elektronisk lagringsmedium, jf. Kassasystemforskrifta § 2-7, 1. ledd?"},null,null,{"$f":"IF(E146=0,'Sjekkliste for utfylling'!L258,\" \")","v":0}]
[{"$f":"'Sjekkliste for utfylling'!A260","v":146},{"$f":"IF('Sjekkliste for utfylling'!I260<>\"\",1,0)","v":0},{"$f":"IF('Sjekkliste for utfylling'!J260<>\"\",1,0)","v":0},{"$f":"IF('Sjekkliste for utfylling'!K260<>\"\",1,0)","v":0},0,null,{"$f":"IF($E147=0,'Sjekkliste for utfylling'!A260,\"\")","v":146},{"$f":"IF($E147=0,'Sjekkliste for utfylling'!B260,\"\")","v":"Dersom det oppstår feil i et kassasystem, og feilen medfører at kravene i kassasystemlova § 3 eller kassassystemforskrifta §§ 2-1 til 2-8 ikke oppfylles, blir feilen rettet uten ugrunnet opphold?"},null,null,{"$f":"IF(E147=0,'Sjekkliste for utfylling'!L260,\" \")","v":0}]
[{"$f":"'Sjekkliste for utfylling'!A261","v":147},{"$f":"IF('Sjekkliste for utfylling'!I261<>\"\",1,0)","v":0},{"$f":"IF('Sjekkliste for utfylling'!J261<>\"\",1,0)","v":0},{"$f":"IF('Sjekkliste for utfylling'!K261<>\"\",1,0)","v":0},0,null,{"$f":"IF($E148=0,'Sjekkliste for utfylling'!A261,\"\")","v":147},{"$f":"IF($E148=0,'Sjekkliste for utfylling'!B261,\"\")","v":"Inntil feilen blir rettet, tar den bokføringspliktige i bruk hensiktsmessige reserveløsninger?"},null,null,{"$f":"IF(E148=0,'Sjekkliste for utfylling'!L261,\" \")","v":0}]
[{"$f":"'Sjekkliste for utfylling'!A263","v":148},{"$f":"IF('Sjekkliste for utfylling'!I263<>\"\",1,0)","v":0},{"$f":"IF('Sjekkliste for utfylling'!J263<>\"\",1,0)","v":0},{"$f":"IF('Sjekkliste for utfylling'!K263<>\"\",1,0)","v":0},0,null,{"$f":"IF($E149=0,'Sjekkliste for utfylling'!A263,\"\")","v":148},{"$f":"IF($E149=0,'Sjekkliste for utfylling'!B263,\"\")","v":"Kan kassasystemet skrive salgsdokumentasjon (kvittering) til kunden for hvert salg?"},null,null,{"$f":"IF(E149=0,'Sjekkliste for utfylling'!L263,\" \")","v":0}]
[{"$f":"'Sjekkliste for utfylling'!A264","v":149},{"$f":"IF('Sjekkliste for utfylling'!I264<>\"\",1,0)","v":0},{"$f":"IF('Sjekkliste for utfylling'!J264<>\"\",1,0)","v":0},{"$f":"IF('Sjekkliste for utfylling'!K264<>\"\",1,0)","v":0},0,null,{"$f":"IF($E150=0,'Sjekkliste for utfylling'!A264,\"\")","v":149},{"$f":"IF($E150=0,'Sjekkliste for utfylling'!B264,\"\")","v":"Er beløpet som registreres på kassasystem med display lett synlig for kunden, med mindre det er vanskelig gjennomførbart?"},null,null,{"$f":"IF(E150=0,'Sjekkliste for utfylling'!L264,\" \")","v":0}]
[{"$f":"'Sjekkliste for utfylling'!A266","v":150},{"$f":"IF('Sjekkliste for utfylling'!I266<>\"\",1,0)","v":0},{"$f":"IF('Sjekkliste for utfylling'!J266<>\"\",1,0)","v":0},{"$f":"IF('Sjekkliste for utfylling'!K266<>\"\",1,0)","v":0},0,null,{"$f":"IF($E151=0,'Sjekkliste for utfylling'!A266,\"\")","v":150},{"$f":"IF($E151=0,'Sjekkliste for utfylling'!B266,\"\")","v":"- delkapittel § 5-1 (se spørsmål 74 til 94)"},null,null,{"$f":"IF(E151=0,'Sjekkliste for utfylling'!L266,\" \")","v":0}]
[{"$f":"'Sjekkliste for utfylling'!A267","v":151},{"$f":"IF('Sjekkliste for utfylling'!I267<>\"\",1,0)","v":0},{"$f":"IF('Sjekkliste for utfylling'!J267<>\"\",1,0)","v":0},{"$f":"IF('Sjekkliste for utfylling'!K267<>\"\",1,0)","v":0},0,null,{"$f":"IF($E152=0,'Sjekkliste for utfylling'!A267,\"\")","v":151},{"$f":"IF($E152=0,'Sjekkliste for utfylling'!B267,\"\")","v":"- kassasystemforskrifta § 2-8-4:\n* type betalingsmiddel \n* ID-nummeret til kassapunktet\n* ordet \"Salgskvittering\", evt. \"Elektronisk salgskvittering\"øverst på kvitteringen\n* Dersom betalingsløsningen er integrert med kassasystemet; transaksjons-ID"},null,null,{"$f":"IF(E152=0,'Sjekkliste for utfylling'!L267,\" \")","v":0}]
[{"$f":"'Sjekkliste for utfylling'!A269","v":152},{"$f":"IF('Sjekkliste for utfylling'!I269<>\"\",1,0)","v":0},{"$f":"IF('Sjekkliste for utfylling'!J269<>\"\",1,0)","v":0},{"$f":"IF('Sjekkliste for utfylling'!K269<>\"\",1,0)","v":0},0,null,{"$f":"IF($E153=0,'Sjekkliste for utfylling'!A269,\"\")","v":152},{"$f":"IF($E153=0,'Sjekkliste for utfylling'!B269,\"\")","v":"Angir salgskvitteringen klokkeslett for salget?"},null,null,{"$f":"IF(E153=0,'Sjekkliste for utfylling'!L269,\" \")","v":0}]
[{"$f":"'Sjekkliste for utfylling'!A271","v":153},{"$f":"IF('Sjekkliste for utfylling'!I271<>\"\",1,0)","v":0},{"$f":"IF('Sjekkliste for utfylling'!J271<>\"\",1,0)","v":0},{"$f":"IF('Sjekkliste for utfylling'!K271<>\"\",1,0)","v":0},0,null,{"$f":"IF($E154=0,'Sjekkliste for utfylling'!A271,\"\")","v":153},{"$f":"IF($E154=0,'Sjekkliste for utfylling'!B271,\"\")","v":"Blir registrert kontantsalg og annen løpende anvendelse av kassasystemet dokumentert med elektronisk journal?"},null,null,{"$f":"IF(E154=0,'Sjekkliste for utfylling'!L271,\" \")","v":0}]
[{"$f":"'Sjekkliste for utfylling'!A273","v":154},{"$f":"IF('Sjekkliste for utfylling'!I273<>\"\",1,0)","v":0},{"$f":"IF('Sjekkliste for utfylling'!J273<>\"\",1,0)","v":0},{"$f":"IF('Sjekkliste for utfylling'!K273<>\"\",1,0)","v":0},0,null,{"$f":"IF($E155=0,'Sjekkliste for utfylling'!A273,\"\")","v":154},{"$f":"IF($E155=0,'Sjekkliste for utfylling'!B273,\"\")","v":"Blir det ved dagens slutt utarbeidet en Z-rapport fra hvert enkelt kassapunkt?"},null,null,{"$f":"IF(E155=0,'Sjekkliste for utfylling'!L273,\" \")","v":0}]
[{"$f":"'Sjekkliste for utfylling'!A274","v":155},{"$f":"IF('Sjekkliste for utfylling'!I274<>\"\",1,0)","v":0},{"$f":"IF('Sjekkliste for utfylling'!J274<>\"\",1,0)","v":0},{"$f":"IF('Sjekkliste for utfylling'!K274<>\"\",1,0)","v":0},0,null,{"$f":"IF($E156=0,'Sjekkliste for utfylling'!A274,\"\")","v":155},{"$f":"IF($E156=0,'Sjekkliste for utfylling'!B274,\"\")","v":"Er Z-rapporten enten skrevet ut på papir eller lagret elektronisk i kassasystemet slik at den til enhver tid kan skrives ut på papir?"},null,null,{"$f":"IF(E156=0,'Sjekkliste for utfylling'!L274,\" \")","v":0}]
[{"$f":"'Sjekkliste for utfylling'!A275","v":156},{"$f":"IF('Sjekkliste for utfylling'!I275<>\"\",1,0)","v":0},{"$f":"IF('Sjekkliste for utfylling'!J275<>\"\",1,0)","v":0},{"$f":"IF('Sjekkliste for utfylling'!K275<>\"\",1,0)","v":0},0,null,{"$f":"IF($E157=0,'Sjekkliste for utfylling'!A275,\"\")","v":156},{"$f":"IF($E157=0,'Sjekkliste for utfylling'!B275,\"\")","v":"Blir det ved dagens slutt utarbeidet rapport fra hver enkelt betalingsterminal over de betalinger og uttak som er registrert?"},null,null,{"$f":"IF(E157=0,'Sjekkliste for utfylling'!L275,\" \")","v":0}]
[{"$f":"'Sjekkliste for utfylling'!A276","v":157},{"$f":"IF('Sjekkliste for utfylling'!I276<>\"\",1,0)","v":0},{"$f":"IF('Sjekkliste for utfylling'!J276<>\"\",1,0)","v":0},{"$f":"IF('Sjekkliste for utfylling'!K276<>\"\",1,0)","v":0},0,null,{"$f":"IF($E158=0,'Sjekkliste for utfylling'!A276,\"\")","v":157},{"$f":"IF($E158=0,'Sjekkliste for utfylling'!B276,\"\")","v":"I rapporten fra hver enkelt betalingsterminal, fremgår tips særskilt?"},null,null,{"$f":"IF(E158=0,'Sjekkliste for utfylling'!L276,\" \")","v":0}]
[{"$f":"'Sjekkliste for utfylling'!A277","v":158},{"$f":"IF('Sjekkliste for utfylling'!I277<>\"\",1,0)","v":0},{"$f":"IF('Sjekkliste for utfylling'!J277<>\"\",1,0)","v":0},{"$f":"IF('Sjekkliste for utfylling'!K277<>\"\",1,0)","v":0},0,null,{"$f":"IF($E159=0,'Sjekkliste for utfylling'!A277,\"\")","v":158},{"$f":"IF($E159=0,'Sjekkliste for utfylling'!B277,\"\")","v":"Er rapportene fra hver enkelt betalingsterminal nummerert fortløpende med maskinelt tildelte nummer?"},null,null,{"$f":"IF(E159=0,'Sjekkliste for utfylling'!L277,\" \")","v":0}]
[{"$f":"'Sjekkliste for utfylling'!A278","v":159},{"$f":"IF('Sjekkliste for utfylling'!I278<>\"\",1,0)","v":0},{"$f":"IF('Sjekkliste for utfylling'!J278<>\"\",1,0)","v":0},{"$f":"IF('Sjekkliste for utfylling'!K278<>\"\",1,0)","v":0},0,null,{"$f":"IF($E160=0,'Sjekkliste for utfylling'!A278,\"\")","v":159},{"$f":"IF($E160=0,'Sjekkliste for utfylling'!B278,\"\")","v":"Blir kontantbeholdningen opptelt daglig og sammenholdt med opplysningene på Z-rapportene?"},null,null,{"$f":"IF(E160=0,'Sjekkliste for utfylling'!L278,\" \")","v":0}]
[{"$f":"'Sjekkliste for utfylling'!A279","v":160},{"$f":"IF('Sjekkliste for utfylling'!I279<>\"\",1,0)","v":0},{"$f":"IF('Sjekkliste for utfylling'!J279<>\"\",1,0)","v":0},{"$f":"IF('Sjekkliste for utfylling'!K279<>\"\",1,0)","v":0},0,null,{"$f":"IF($E161=0,'Sjekkliste for utfylling'!A279,\"\")","v":160},{"$f":"IF($E161=0,'Sjekkliste for utfylling'!B279,\"\")","v":"Blir opplysningene fra betalingsterminal om betalinger ved bruk av betalingskort sammenholdt med tilsvarende opplysninger på Z-rapport?"},null,null,{"$f":"IF(E161=0,'Sjekkliste for utfylling'!L279,\" \")","v":0}]
[{"$f":"'Sjekkliste for utfylling'!A280","v":161},{"$f":"IF('Sjekkliste for utfylling'!I280<>\"\",1,0)","v":0},{"$f":"IF('Sjekkliste for utfylling'!J280<>\"\",1,0)","v":0},{"$f":"IF('Sjekkliste for utfylling'!K280<>\"\",1,0)","v":0},0,null,{"$f":"IF($E162=0,'Sjekkliste for utfylling'!A280,\"\")","v":161},{"$f":"IF($E162=0,'Sjekkliste for utfylling'!B280,\"\")","v":"Er eventuelle differanser mellom rapport fra betalingsterminal og Z-rapport forklart?"},null,null,{"$f":"IF(E162=0,'Sjekkliste for utfylling'!L280,\" \")","v":0}]
[{"$f":"'Sjekkliste for utfylling'!A281","v":162},{"$f":"IF('Sjekkliste for utfylling'!I281<>\"\",1,0)","v":0},{"$f":"IF('Sjekkliste for utfylling'!J281<>\"\",1,0)","v":0},{"$f":"IF('Sjekkliste for utfylling'!K281<>\"\",1,0)","v":0},0,null,{"$f":"IF($E163=0,'Sjekkliste for utfylling'!A281,\"\")","v":162},{"$f":"IF($E163=0,'Sjekkliste for utfylling'!B281,\"\")","v":"Er avstemmingen foretatt for det enkelte kassapunkt?"},null,null,{"$f":"IF(E163=0,'Sjekkliste for utfylling'!L281,\" \")","v":0}]
[{"$f":"'Sjekkliste for utfylling'!A282","v":163},{"$f":"IF('Sjekkliste for utfylling'!I282<>\"\",1,0)","v":0},{"$f":"IF('Sjekkliste for utfylling'!J282<>\"\",1,0)","v":0},{"$f":"IF('Sjekkliste for utfylling'!K282<>\"\",1,0)","v":0},0,null,{"$f":"IF($E164=0,'Sjekkliste for utfylling'!A282,\"\")","v":163},{"$f":"IF($E164=0,'Sjekkliste for utfylling'!B282,\"\")","v":"Dersom kassapunktene betjenes av flere operatører som har egen kassaskuff, er avstemmingen foretatt for hver enkelt operatør?"},null,null,{"$f":"IF(E164=0,'Sjekkliste for utfylling'!L282,\" \")","v":0}]
[{"$f":"'Sjekkliste for utfylling'!A283","v":164},{"$f":"IF('Sjekkliste for utfylling'!I283<>\"\",1,0)","v":0},{"$f":"IF('Sjekkliste for utfylling'!J283<>\"\",1,0)","v":0},{"$f":"IF('Sjekkliste for utfylling'!K283<>\"\",1,0)","v":0},0,null,{"$f":"IF($E165=0,'Sjekkliste for utfylling'!A283,\"\")","v":164},{"$f":"IF($E165=0,'Sjekkliste for utfylling'!B283,\"\")","v":"Dersom tips ikke registreres på kassasystemet, telles kontanttips opp særskilt, og fremgår det av dagsoppgjøret?"},null,null,{"$f":"IF(E165=0,'Sjekkliste for utfylling'!L283,\" \")","v":0}]
[{"$f":"'Sjekkliste for utfylling'!A284","v":165},{"$f":"IF('Sjekkliste for utfylling'!I284<>\"\",1,0)","v":0},{"$f":"IF('Sjekkliste for utfylling'!J284<>\"\",1,0)","v":0},{"$f":"IF('Sjekkliste for utfylling'!K284<>\"\",1,0)","v":0},0,null,{"$f":"IF($E166=0,'Sjekkliste for utfylling'!A284,\"\")","v":165},{"$f":"IF($E166=0,'Sjekkliste for utfylling'!B284,\"\")","v":"Er dagsoppgjørene datert, og fremgår det hvem som har foretatt opptelling av kontantbeholdningen og avstemt kontantsalget?"},null,null,{"$f":"IF(E166=0,'Sjekkliste for utfylling'!L284,\" \")","v":0}]
[{"$f":"'Sjekkliste for utfylling'!A286","v":166},{"$f":"IF('Sjekkliste for utfylling'!I286<>\"\",1,0)","v":0},{"$f":"IF('Sjekkliste for utfylling'!J286<>\"\",1,0)","v":0},{"$f":"IF('Sjekkliste for utfylling'!K286<>\"\",1,0)","v":0},0,null,{"$f":"IF($E167=0,'Sjekkliste for utfylling'!A286,\"\")","v":166},{"$f":"IF($E167=0,'Sjekkliste for utfylling'!B286,\"\")","v":"Oppbevares Z-rapporter og rapporter fra betalingsterminal sammen med avstemmingen av kontantsalget?"},null,null,{"$f":"IF(E167=0,'Sjekkliste for utfylling'!L286,\" \")","v":0}]
[{"$f":"'Sjekkliste for utfylling'!A287","v":167},{"$f":"IF('Sjekkliste for utfylling'!I287<>\"\",1,0)","v":0},{"$f":"IF('Sjekkliste for utfylling'!J287<>\"\",1,0)","v":0},{"$f":"IF('Sjekkliste for utfylling'!K287<>\"\",1,0)","v":0},0,null,{"$f":"IF($E168=0,'Sjekkliste for utfylling'!A287,\"\")","v":167},{"$f":"IF($E168=0,'Sjekkliste for utfylling'!B287,\"\")","v":"Befinner kassasystemet seg i sin helhet i Norge?"},null,null,{"$f":"IF(E168=0,'Sjekkliste for utfylling'!L287,\" \")","v":0}]
[{"$f":"'Sjekkliste for utfylling'!A288","v":168},{"$f":"IF('Sjekkliste for utfylling'!I288<>\"\",1,0)","v":0},{"$f":"IF('Sjekkliste for utfylling'!J288<>\"\",1,0)","v":0},{"$f":"IF('Sjekkliste for utfylling'!K288<>\"\",1,0)","v":0},0,null,{"$f":"IF($E169=0,'Sjekkliste for utfylling'!A288,\"\")","v":168},{"$f":"IF($E169=0,'Sjekkliste for utfylling'!B288,\"\")","v":"Oppbevares elektronisk journal seg til enhver tid i Norge?"},null,null,{"$f":"IF(E169=0,'Sjekkliste for utfylling'!L288,\" \")","v":0}]
[{"$f":"'Sjekkliste for utfylling'!A290","v":169},{"$f":"IF('Sjekkliste for utfylling'!I290<>\"\",1,0)","v":0},{"$f":"IF('Sjekkliste for utfylling'!J290<>\"\",1,0)","v":0},{"$f":"IF('Sjekkliste for utfylling'!K290<>\"\",1,0)","v":0},0,null,{"$f":"IF($E170=0,'Sjekkliste for utfylling'!A290,\"\")","v":169},{"$f":"IF($E170=0,'Sjekkliste for utfylling'!B290,\"\")","v":"Er opplysningene tilgjengelige elektronisk i hele oppbevaringstiden?"},null,null,{"$f":"IF(E170=0,'Sjekkliste for utfylling'!L290,\" \")","v":0}]
[{"$f":"'Sjekkliste for utfylling'!A291","v":170},{"$f":"IF('Sjekkliste for utfylling'!I291<>\"\",1,0)","v":0},{"$f":"IF('Sjekkliste for utfylling'!J291<>\"\",1,0)","v":0},{"$f":"IF('Sjekkliste for utfylling'!K291<>\"\",1,0)","v":0},0,null,{"$f":"IF($E171=0,'Sjekkliste for utfylling'!A291,\"\")","v":170},{"$f":"IF($E171=0,'Sjekkliste for utfylling'!B291,\"\")","v":"Er systembeskrivelse som nevnt i kassasystemlova § 3, 2. ledd oppbevart slik at den er lett tilgjengelig for offentlige myndigheter?"},null,null,{"$f":"IF(E171=0,'Sjekkliste for utfylling'!L291,\" \")","v":0}]
[{"$f":"'Sjekkliste for utfylling'!A295","v":171},{"$f":"IF('Sjekkliste for utfylling'!I295<>\"\",1,0)","v":0},{"$f":"IF('Sjekkliste for utfylling'!J295<>\"\",1,0)","v":0},{"$f":"IF('Sjekkliste for utfylling'!K295<>\"\",1,0)","v":0},0,null,{"$f":"IF($E172=0,'Sjekkliste for utfylling'!A295,\"\")","v":171},{"$f":"IF($E172=0,'Sjekkliste for utfylling'!B295,\"\")","v":"Har bokføringspliktig som driver ambulerende eller sporadisk kontantsalg under 3 G, eller bokføringspliktige med kontantsalg som ikke overstiger kr 50.000 eksklusive merverdiavgift i løpet av et regnskapsår, dokumentert kontantsalget på en av følgende måter:\n• Fortløpende i innbundet bok der sidene er forhåndsnummerert?\n• Ved gjenpart av daterte forhåndsnummererte salgsbilag?\n• Ved bruk av forhåndsnummererte billetter?\n• Ved oppstilling over ut og innleverte varer og kontanter, der oppstillingen er datert og signert?"},null,null,{"$f":"IF(E172=0,'Sjekkliste for utfylling'!L295,\" \")","v":0}]
[{"$f":"'Sjekkliste for utfylling'!A296","v":172},{"$f":"IF('Sjekkliste for utfylling'!I296<>\"\",1,0)","v":0},{"$f":"IF('Sjekkliste for utfylling'!J296<>\"\",1,0)","v":0},{"$f":"IF('Sjekkliste for utfylling'!K296<>\"\",1,0)","v":0},0,null,{"$f":"IF($E173=0,'Sjekkliste for utfylling'!A296,\"\")","v":172},{"$f":"IF($E173=0,'Sjekkliste for utfylling'!B296,\"\")","v":"Er det foretatt en daglig opptelling av kassabeholdningen som er sammenholdt mot salgsdokumentasjonen?"},null,null,{"$f":"IF(E173=0,'Sjekkliste for utfylling'!L296,\" \")","v":0}]
[{"$f":"'Sjekkliste for utfylling'!A297","v":173},{"$f":"IF('Sjekkliste for utfylling'!I297<>\"\",1,0)","v":0},{"$f":"IF('Sjekkliste for utfylling'!J297<>\"\",1,0)","v":0},{"$f":"IF('Sjekkliste for utfylling'!K297<>\"\",1,0)","v":0},0,null,{"$f":"IF($E174=0,'Sjekkliste for utfylling'!A297,\"\")","v":173},{"$f":"IF($E174=0,'Sjekkliste for utfylling'!B297,\"\")","v":"Viser dokumentasjonen ut- og innleverte kontanter, og er oppgjørene opptelt, det foreligger forklaring på avvik og oppgjørene signert av to personer?"},null,null,{"$f":"IF(E174=0,'Sjekkliste for utfylling'!L297,\" \")","v":0}]
[{"$f":"'Sjekkliste for utfylling'!A301","v":174},{"$f":"IF('Sjekkliste for utfylling'!I301<>\"\",1,0)","v":0},{"$f":"IF('Sjekkliste for utfylling'!J301<>\"\",1,0)","v":0},{"$f":"IF('Sjekkliste for utfylling'!K301<>\"\",1,0)","v":0},0,null,{"$f":"IF($E175=0,'Sjekkliste for utfylling'!A301,\"\")","v":174},{"$f":"IF($E175=0,'Sjekkliste for utfylling'!B301,\"\")","v":"Dersom den bokføringspliktige utsteder kontantfaktura istedenfor å registrere kontantsalget i et kassasystem, er kontantfakturaen utstedt i samsvar med bestemmelsene i bokføringsforskriften delkapittel 5-1?"},null,null,{"$f":"IF(E175=0,'Sjekkliste for utfylling'!L301,\" \")","v":0}]
[{"$f":"'Sjekkliste for utfylling'!A303","v":175},{"$f":"IF('Sjekkliste for utfylling'!I303<>\"\",1,0)","v":0},{"$f":"IF('Sjekkliste for utfylling'!J303<>\"\",1,0)","v":0},{"$f":"IF('Sjekkliste for utfylling'!K303<>\"\",1,0)","v":0},0,null,{"$f":"IF($E176=0,'Sjekkliste for utfylling'!A303,\"\")","v":175},{"$f":"IF($E176=0,'Sjekkliste for utfylling'!B303,\"\")","v":"Ved oppsøkende salg til publikum på idrettsarrangementer, konserter og lignende, er daglig salg fra hver enkelt selger registrert som ett beløp på kassasystemet?"},null,null,{"$f":"IF(E176=0,'Sjekkliste for utfylling'!L303,\" \")","v":0}]
[{"$f":"'Sjekkliste for utfylling'!A304","v":176},{"$f":"IF('Sjekkliste for utfylling'!I304<>\"\",1,0)","v":0},{"$f":"IF('Sjekkliste for utfylling'!J304<>\"\",1,0)","v":0},{"$f":"IF('Sjekkliste for utfylling'!K304<>\"\",1,0)","v":0},0,null,{"$f":"IF($E177=0,'Sjekkliste for utfylling'!A304,\"\")","v":176},{"$f":"IF($E177=0,'Sjekkliste for utfylling'!B304,\"\")","v":"Viser dokumentasjonen ut- og innleverte varer og kontanter, og er oppgjørene opptelt, det foreligger forklaring på avvik og oppgjørene signert av to personer?"},null,null,{"$f":"IF(E177=0,'Sjekkliste for utfylling'!L304,\" \")","v":0}]
[{"$f":"'Sjekkliste for utfylling'!A307","v":177},{"$f":"IF('Sjekkliste for utfylling'!I307<>\"\",1,0)","v":0},{"$f":"IF('Sjekkliste for utfylling'!J307<>\"\",1,0)","v":0},{"$f":"IF('Sjekkliste for utfylling'!K307<>\"\",1,0)","v":0},0,null,{"$f":"IF($E178=0,'Sjekkliste for utfylling'!A307,\"\")","v":177},{"$f":"IF($E178=0,'Sjekkliste for utfylling'!B307,\"\")","v":"Ved salg fra automater er det utført avstemming mellom opptelte kontanter og registert salg fra automatens telleverk eller beregnet salg fra andre registerte opplysninger i automaten?"},null,null,{"$f":"IF(E178=0,'Sjekkliste for utfylling'!L307,\" \")","v":0}]
[{"$f":"'Sjekkliste for utfylling'!A308","v":178},{"$f":"IF('Sjekkliste for utfylling'!I308<>\"\",1,0)","v":0},{"$f":"IF('Sjekkliste for utfylling'!J308<>\"\",1,0)","v":0},{"$f":"IF('Sjekkliste for utfylling'!K308<>\"\",1,0)","v":0},0,null,{"$f":"IF($E179=0,'Sjekkliste for utfylling'!A308,\"\")","v":178},{"$f":"IF($E179=0,'Sjekkliste for utfylling'!B308,\"\")","v":"Dersom automaten ikke registerer salgsopplysninger kan salget dokumenteres med lister som viser beregnet salg ut fra endring i varebeholdning?"},null,null,{"$f":"IF(E179=0,'Sjekkliste for utfylling'!L308,\" \")","v":0}]
[{"$f":"'Sjekkliste for utfylling'!A309","v":179},{"$f":"IF('Sjekkliste for utfylling'!I309<>\"\",1,0)","v":0},{"$f":"IF('Sjekkliste for utfylling'!J309<>\"\",1,0)","v":0},{"$f":"IF('Sjekkliste for utfylling'!K309<>\"\",1,0)","v":0},0,null,{"$f":"IF($E180=0,'Sjekkliste for utfylling'!A309,\"\")","v":179},{"$f":"IF($E180=0,'Sjekkliste for utfylling'!B309,\"\")","v":"Ved salg fra andre ubetjente salgsteder enn automater, er kontantsalget dokumentert på en av følgende måter:\n•  forhåndsnummererte konvolutter\n•  elektronisk salgsrapport som viser alle transaksjoner enkeltvis\n•  Forløpende i innbudet bok der sidene er forhåndsnummerert?\n•  Lister som viser beregnet salg ut fra endring i varebeholdningen?"},null,null,{"$f":"IF(E180=0,'Sjekkliste for utfylling'!L309,\" \")","v":0}]
[{"$f":"'Sjekkliste for utfylling'!A310","v":180},{"$f":"IF('Sjekkliste for utfylling'!I310<>\"\",1,0)","v":0},{"$f":"IF('Sjekkliste for utfylling'!J310<>\"\",1,0)","v":0},{"$f":"IF('Sjekkliste for utfylling'!K310<>\"\",1,0)","v":0},0,null,{"$f":"IF($E181=0,'Sjekkliste for utfylling'!A310,\"\")","v":180},{"$f":"IF($E181=0,'Sjekkliste for utfylling'!B310,\"\")","v":"Inneholder dokumentasjon opplysninger om ytelsens art og omfang, dato og vederlag?\nDette kravet gjelder ikke dersom det er dokumentert med lister som viser beregnet salg ut fra endring i varebeholdning."},null,null,{"$f":"IF(E181=0,'Sjekkliste for utfylling'!L310,\" \")","v":0}]
[{"$f":"'Sjekkliste for utfylling'!A312","v":181},{"$f":"IF('Sjekkliste for utfylling'!I312<>\"\",1,0)","v":0},{"$f":"IF('Sjekkliste for utfylling'!J312<>\"\",1,0)","v":0},{"$f":"IF('Sjekkliste for utfylling'!K312<>\"\",1,0)","v":0},0,null,{"$f":"IF($E182=0,'Sjekkliste for utfylling'!A312,\"\")","v":181},{"$f":"IF($E182=0,'Sjekkliste for utfylling'!B312,\"\")","v":"Er kjøp dokumentert med det salgsdokument som selger har utstedt?"},null,null,{"$f":"IF(E182=0,'Sjekkliste for utfylling'!L312,\" \")","v":0}]
[{"$f":"'Sjekkliste for utfylling'!A313","v":182},{"$f":"IF('Sjekkliste for utfylling'!I313<>\"\",1,0)","v":0},{"$f":"IF('Sjekkliste for utfylling'!J313<>\"\",1,0)","v":0},{"$f":"IF('Sjekkliste for utfylling'!K313<>\"\",1,0)","v":0},0,null,{"$f":"IF($E183=0,'Sjekkliste for utfylling'!A313,\"\")","v":182},{"$f":"IF($E183=0,'Sjekkliste for utfylling'!B313,\"\")","v":"Inneholder dokumentasjonen alle opplysningene som fremgår av delkapittel 5-1 og § 5-3-12, se spørsmål 74-94?"},null,null,{"$f":"IF(E183=0,'Sjekkliste for utfylling'!L313,\" \")","v":0}]
[{"$f":"'Sjekkliste for utfylling'!A315","v":183},{"$f":"IF('Sjekkliste for utfylling'!I315<>\"\",1,0)","v":0},{"$f":"IF('Sjekkliste for utfylling'!J315<>\"\",1,0)","v":0},{"$f":"IF('Sjekkliste for utfylling'!K315<>\"\",1,0)","v":0},0,null,{"$f":"IF($E184=0,'Sjekkliste for utfylling'!A315,\"\")","v":183},{"$f":"IF($E184=0,'Sjekkliste for utfylling'!B315,\"\")","v":"Dersom kjøpers navn ikke er angitt (ved salg fra detaljist og vederlaget er lavere enn kr 1 000 inklusiv merverdiavgift) eller kan identifiseres gjennom bruk av betalingskort, har den som har foretatt kjøpet påført formålet eller bruksområdet for varene eller tjenestene?"},null,null,{"$f":"IF(E184=0,'Sjekkliste for utfylling'!L315,\" \")","v":0}]
[{"$f":"'Sjekkliste for utfylling'!A316","v":184},{"$f":"IF('Sjekkliste for utfylling'!I316<>\"\",1,0)","v":0},{"$f":"IF('Sjekkliste for utfylling'!J316<>\"\",1,0)","v":0},{"$f":"IF('Sjekkliste for utfylling'!K316<>\"\",1,0)","v":0},0,null,{"$f":"IF($E185=0,'Sjekkliste for utfylling'!A316,\"\")","v":184},{"$f":"IF($E185=0,'Sjekkliste for utfylling'!B316,\"\")","v":"Når kjøpers navn er utelatt, er dokumentasjonen datert og signert?"},null,null,{"$f":"IF(E185=0,'Sjekkliste for utfylling'!L316,\" \")","v":0}]
[{"$f":"'Sjekkliste for utfylling'!A317","v":185},{"$f":"IF('Sjekkliste for utfylling'!I317<>\"\",1,0)","v":0},{"$f":"IF('Sjekkliste for utfylling'!J317<>\"\",1,0)","v":0},{"$f":"IF('Sjekkliste for utfylling'!K317<>\"\",1,0)","v":0},0,null,{"$f":"IF($E186=0,'Sjekkliste for utfylling'!A317,\"\")","v":185},{"$f":"IF($E186=0,'Sjekkliste for utfylling'!B317,\"\")","v":"Hvis en ansatt kjøper på vegne av sin bokføringspliktige arbeidsgiver og:\n• Vederlaget er over kr 1000 inkl mva og varen eller tjenesten er beregnet for videresalg\n• vederlaget er over kr 1000 inkl mva og varen eller tjenesten er direkte innsatsfaktor i vare- eller tjenesteproduksjon,\nInnholder kjøpsdokumentasjonen en avgivelse av kjøper (arbeidsgiver)?\n"},null,null,{"$f":"IF(E186=0,'Sjekkliste for utfylling'!L317,\" \")","v":0}]
[{"$f":"'Sjekkliste for utfylling'!A318","v":186},{"$f":"IF('Sjekkliste for utfylling'!I318<>\"\",1,0)","v":0},{"$f":"IF('Sjekkliste for utfylling'!J318<>\"\",1,0)","v":0},{"$f":"IF('Sjekkliste for utfylling'!K318<>\"\",1,0)","v":0},0,null,{"$f":"IF($E187=0,'Sjekkliste for utfylling'!A318,\"\")","v":186},{"$f":"IF($E187=0,'Sjekkliste for utfylling'!B318,\"\")","v":"Ved andre typer kjøp utført av en ansatt har den ansatte i slike tilfeller utarbeidet og signert en datert oppstilling som viser hvilke kjøp som er foretatt og formålet eller bruksområdet for varene og tjenestene?"},null,null,{"$f":"IF(E187=0,'Sjekkliste for utfylling'!L318,\" \")","v":0}]
[{"$f":"'Sjekkliste for utfylling'!A319","v":187},{"$f":"IF('Sjekkliste for utfylling'!I319<>\"\",1,0)","v":0},{"$f":"IF('Sjekkliste for utfylling'!J319<>\"\",1,0)","v":0},{"$f":"IF('Sjekkliste for utfylling'!K319<>\"\",1,0)","v":0},0,null,{"$f":"IF($E188=0,'Sjekkliste for utfylling'!A319,\"\")","v":187},{"$f":"IF($E188=0,'Sjekkliste for utfylling'!B319,\"\")","v":"Er dokumentasjonen ved slike kjøp i samsvar med aktuelle regler i kapittel 5 i forskrift 21. desember 2007 nr. 1766 til utfylling og gjennomføring mv. av skattebetalingsloven?"},null,null,{"$f":"IF(E188=0,'Sjekkliste for utfylling'!L319,\" \")","v":0}]
[{"$f":"'Sjekkliste for utfylling'!A321","v":188},{"$f":"IF('Sjekkliste for utfylling'!I321<>\"\",1,0)","v":0},{"$f":"IF('Sjekkliste for utfylling'!J321<>\"\",1,0)","v":0},{"$f":"IF('Sjekkliste for utfylling'!K321<>\"\",1,0)","v":0},0,null,{"$f":"IF($E189=0,'Sjekkliste for utfylling'!A321,\"\")","v":188},{"$f":"IF($E189=0,'Sjekkliste for utfylling'!B321,\"\")","v":"Er grunnlaget for beregning av merverdiavgift ved innførsel av varer, grunnlaget for varer det ikke skal beregnes merverdiavgift av, tollavgift og særavgifter dokumentert med innførselsdeklarasjon og grunnlagsdokumenter knyttet til slik deklarasjon, jf. § 7-5-1 første ledd i forskrift 27.10.2022 nr 1901 om inn- og utførsel av varer?"},null,null,{"$f":"IF(E189=0,'Sjekkliste for utfylling'!L321,\" \")","v":0}]
[{"$f":"'Sjekkliste for utfylling'!A322","v":189},{"$f":"IF('Sjekkliste for utfylling'!I322<>\"\",1,0)","v":0},{"$f":"IF('Sjekkliste for utfylling'!J322<>\"\",1,0)","v":0},{"$f":"IF('Sjekkliste for utfylling'!K322<>\"\",1,0)","v":0},0,null,{"$f":"IF($E190=0,'Sjekkliste for utfylling'!A322,\"\")","v":189},{"$f":"IF($E190=0,'Sjekkliste for utfylling'!B322,\"\")","v":"Foreligger det særskilt dokumentasjon som viser hvilke beløp som inngår i grunnlaget for beregning av merverdiavgift ved innførsel av varer og selve avgiften?"},null,null,{"$f":"IF(E190=0,'Sjekkliste for utfylling'!L322,\" \")","v":0}]
[{"$f":"'Sjekkliste for utfylling'!A324","v":190},{"$f":"IF('Sjekkliste for utfylling'!I324<>\"\",1,0)","v":0},{"$f":"IF('Sjekkliste for utfylling'!J324<>\"\",1,0)","v":0},{"$f":"IF('Sjekkliste for utfylling'!K324<>\"\",1,0)","v":0},0,null,{"$f":"IF($E191=0,'Sjekkliste for utfylling'!A324,\"\")","v":190},{"$f":"IF($E191=0,'Sjekkliste for utfylling'!B324,\"\")","v":"Viser dokumentasjonen lønn og andre oppgavepliktige ytelser, samt forskuddstrekk og utleggstrekk, pr. ansatt?"},null,null,{"$f":"IF(E191=0,'Sjekkliste for utfylling'!L324,\" \")","v":0}]
[{"$f":"'Sjekkliste for utfylling'!A325","v":191},{"$f":"IF('Sjekkliste for utfylling'!I325<>\"\",1,0)","v":0},{"$f":"IF('Sjekkliste for utfylling'!J325<>\"\",1,0)","v":0},{"$f":"IF('Sjekkliste for utfylling'!K325<>\"\",1,0)","v":0},0,null,{"$f":"IF($E192=0,'Sjekkliste for utfylling'!A325,\"\")","v":191},{"$f":"IF($E192=0,'Sjekkliste for utfylling'!B325,\"\")","v":"Inneholder dokumentasjonen følgende opplysninger pr. ansatt:\na. Fødselsnummer?"},null,null,{"$f":"IF(E192=0,'Sjekkliste for utfylling'!L325,\" \")","v":0}]
[{"$f":"'Sjekkliste for utfylling'!A326","v":192},{"$f":"IF('Sjekkliste for utfylling'!I326<>\"\",1,0)","v":0},{"$f":"IF('Sjekkliste for utfylling'!J326<>\"\",1,0)","v":0},{"$f":"IF('Sjekkliste for utfylling'!K326<>\"\",1,0)","v":0},0,null,{"$f":"IF($E193=0,'Sjekkliste for utfylling'!A326,\"\")","v":192},{"$f":"IF($E193=0,'Sjekkliste for utfylling'!B326,\"\")","v":"b. Navn?"},null,null,{"$f":"IF(E193=0,'Sjekkliste for utfylling'!L326,\" \")","v":0}]
[{"$f":"'Sjekkliste for utfylling'!A327","v":193},{"$f":"IF('Sjekkliste for utfylling'!I327<>\"\",1,0)","v":0},{"$f":"IF('Sjekkliste for utfylling'!J327<>\"\",1,0)","v":0},{"$f":"IF('Sjekkliste for utfylling'!K327<>\"\",1,0)","v":0},{"$f":"SUM(B194:D194)","v":0},null,{"$f":"IF($E194=0,'Sjekkliste for utfylling'!A327,\"\")","v":193},{"$f":"IF($E194=0,'Sjekkliste for utfylling'!B327,\"\")","v":"c. Skattekommune?"},null,null,{"$f":"IF(E194=0,'Sjekkliste for utfylling'!L327,\" \")","v":0}]
[{"$f":"'Sjekkliste for utfylling'!A328","v":194},{"$f":"IF('Sjekkliste for utfylling'!I328<>\"\",1,0)","v":0},{"$f":"IF('Sjekkliste for utfylling'!J328<>\"\",1,0)","v":0},{"$f":"IF('Sjekkliste for utfylling'!K328<>\"\",1,0)","v":0},0,null,{"$f":"IF($E195=0,'Sjekkliste for utfylling'!A328,\"\")","v":194},{"$f":"IF($E195=0,'Sjekkliste for utfylling'!B328,\"\")","v":"d. Tabellnummer og/eller den trekkprosent som står på skattekortet?"},null,null,{"$f":"IF(E195=0,'Sjekkliste for utfylling'!L328,\" \")","v":0}]
[{"$f":"'Sjekkliste for utfylling'!A329","v":195},{"$f":"IF('Sjekkliste for utfylling'!I329<>\"\",1,0)","v":0},{"$f":"IF('Sjekkliste for utfylling'!J329<>\"\",1,0)","v":0},{"$f":"IF('Sjekkliste for utfylling'!K329<>\"\",1,0)","v":0},0,null,{"$f":"IF($E196=0,'Sjekkliste for utfylling'!A329,\"\")","v":195},{"$f":"IF($E196=0,'Sjekkliste for utfylling'!B329,\"\")","v":"Dersom skattekort ikke er gjort tilgjengelig for arbeidsgiver, viser dokumentasjonen navn og nummer på den kommunen hvor mottakeren av ytelsen oppgir at vedkommende var bosatt 1. november i året før trekkåret?"},null,null,{"$f":"IF(E196=0,'Sjekkliste for utfylling'!L329,\" \")","v":0}]
[{"$f":"'Sjekkliste for utfylling'!A330","v":196},{"$f":"IF('Sjekkliste for utfylling'!I330<>\"\",1,0)","v":0},{"$f":"IF('Sjekkliste for utfylling'!J330<>\"\",1,0)","v":0},{"$f":"IF('Sjekkliste for utfylling'!K330<>\"\",1,0)","v":0},0,null,{"$f":"IF($E197=0,'Sjekkliste for utfylling'!A330,\"\")","v":196},{"$f":"IF($E197=0,'Sjekkliste for utfylling'!B330,\"\")","v":"Dersom mottaker av ytelsen er utenlandsk og ikke var bosatt i Norge 1. november i året før trekkåret, viser dokumentasjonen hvilken kommune vedkommende bosatte seg i ved ankomsten til Norge?"},null,null,{"$f":"IF(E197=0,'Sjekkliste for utfylling'!L330,\" \")","v":0}]
[{"$f":"'Sjekkliste for utfylling'!A331","v":197},{"$f":"IF('Sjekkliste for utfylling'!I331<>\"\",1,0)","v":0},{"$f":"IF('Sjekkliste for utfylling'!J331<>\"\",1,0)","v":0},{"$f":"IF('Sjekkliste for utfylling'!K331<>\"\",1,0)","v":0},0,null,{"$f":"IF($E198=0,'Sjekkliste for utfylling'!A331,\"\")","v":197},{"$f":"IF($E198=0,'Sjekkliste for utfylling'!B331,\"\")","v":"Dersom arbeidsgiver har mottatt pålegg om trekk, viser dokumentasjonen:\na. Hvem som har utferdiget pålegget?"},null,null,{"$f":"IF(E198=0,'Sjekkliste for utfylling'!L331,\" \")","v":0}]
[{"$f":"'Sjekkliste for utfylling'!A332","v":198},{"$f":"IF('Sjekkliste for utfylling'!I332<>\"\",1,0)","v":0},{"$f":"IF('Sjekkliste for utfylling'!J332<>\"\",1,0)","v":0},{"$f":"IF('Sjekkliste for utfylling'!K332<>\"\",1,0)","v":0},0,null,{"$f":"IF($E199=0,'Sjekkliste for utfylling'!A332,\"\")","v":198},{"$f":"IF($E199=0,'Sjekkliste for utfylling'!B332,\"\")","v":"b. Når pålegget er mottatt?"},null,null,{"$f":"IF(E199=0,'Sjekkliste for utfylling'!L332,\" \")","v":0}]
[{"$f":"'Sjekkliste for utfylling'!A333","v":199},{"$f":"IF('Sjekkliste for utfylling'!I333<>\"\",1,0)","v":0},{"$f":"IF('Sjekkliste for utfylling'!J333<>\"\",1,0)","v":0},{"$f":"IF('Sjekkliste for utfylling'!K333<>\"\",1,0)","v":0},0,null,{"$f":"IF($E200=0,'Sjekkliste for utfylling'!A333,\"\")","v":199},{"$f":"IF($E200=0,'Sjekkliste for utfylling'!B333,\"\")","v":"c. Det beløp som skal dekkes ved trekket?"},null,null,{"$f":"IF(E200=0,'Sjekkliste for utfylling'!L333,\" \")","v":0}]
[{"$f":"'Sjekkliste for utfylling'!A334","v":200},{"$f":"IF('Sjekkliste for utfylling'!I334<>\"\",1,0)","v":0},{"$f":"IF('Sjekkliste for utfylling'!J334<>\"\",1,0)","v":0},{"$f":"IF('Sjekkliste for utfylling'!K334<>\"\",1,0)","v":0},0,null,{"$f":"IF($E201=0,'Sjekkliste for utfylling'!A334,\"\")","v":200},{"$f":"IF($E201=0,'Sjekkliste for utfylling'!B334,\"\")","v":"d. Inntektsåret som pålegget om trekk gjelder? "},null,null,{"$f":"IF(E201=0,'Sjekkliste for utfylling'!L334,\" \")","v":0}]
[{"$f":"'Sjekkliste for utfylling'!A335","v":201},{"$f":"IF('Sjekkliste for utfylling'!I335<>\"\",1,0)","v":0},{"$f":"IF('Sjekkliste for utfylling'!J335<>\"\",1,0)","v":0},{"$f":"IF('Sjekkliste for utfylling'!K335<>\"\",1,0)","v":0},0,null,{"$f":"IF($E202=0,'Sjekkliste for utfylling'!A335,\"\")","v":201},{"$f":"IF($E202=0,'Sjekkliste for utfylling'!B335,\"\")","v":"e. Trekkprosenten eller det beløp som skal trekkes for hver utbetalingsperiode?"},null,null,{"$f":"IF(E202=0,'Sjekkliste for utfylling'!L335,\" \")","v":0}]
[{"$f":"'Sjekkliste for utfylling'!A336","v":202},{"$f":"IF('Sjekkliste for utfylling'!I336<>\"\",1,0)","v":0},{"$f":"IF('Sjekkliste for utfylling'!J336<>\"\",1,0)","v":0},{"$f":"IF('Sjekkliste for utfylling'!K336<>\"\",1,0)","v":0},0,null,{"$f":"IF($E203=0,'Sjekkliste for utfylling'!A336,\"\")","v":202},{"$f":"IF($E203=0,'Sjekkliste for utfylling'!B336,\"\")","v":"For hver periode med pliktig regnskapsrapportering av forskuddstrekk og utleggstrekk, viser dokumentasjonen følgende opplysninger pr. ansatt:\na. Dato for utbetaling av ytelser og om mulig det tidsrom ytelsen knytter seg til?"},null,null,{"$f":"IF(E203=0,'Sjekkliste for utfylling'!L336,\" \")","v":0}]
[{"$f":"'Sjekkliste for utfylling'!A337","v":203},{"$f":"IF('Sjekkliste for utfylling'!I337<>\"\",1,0)","v":0},{"$f":"IF('Sjekkliste for utfylling'!J337<>\"\",1,0)","v":0},{"$f":"IF('Sjekkliste for utfylling'!K337<>\"\",1,0)","v":0},0,null,{"$f":"IF($E204=0,'Sjekkliste for utfylling'!A337,\"\")","v":203},{"$f":"IF($E204=0,'Sjekkliste for utfylling'!B337,\"\")","v":"b. Brutto ytelse, hvis aktuelt med angivelse av antall godtgjorte timer?"},null,null,{"$f":"IF(E204=0,'Sjekkliste for utfylling'!L337,\" \")","v":0}]
[{"$f":"'Sjekkliste for utfylling'!A338","v":204},{"$f":"IF('Sjekkliste for utfylling'!I338<>\"\",1,0)","v":0},{"$f":"IF('Sjekkliste for utfylling'!J338<>\"\",1,0)","v":0},{"$f":"IF('Sjekkliste for utfylling'!K338<>\"\",1,0)","v":0},0,null,{"$f":"IF($E205=0,'Sjekkliste for utfylling'!A338,\"\")","v":204},{"$f":"IF($E205=0,'Sjekkliste for utfylling'!B338,\"\")","v":"c. Eventuelt tillegg for naturalytelser som det skal foretas trekk i?"},null,null,{"$f":"IF(E205=0,'Sjekkliste for utfylling'!L338,\" \")","v":0}]
[{"$f":"'Sjekkliste for utfylling'!A339","v":205},{"$f":"IF('Sjekkliste for utfylling'!I339<>\"\",1,0)","v":0},{"$f":"IF('Sjekkliste for utfylling'!J339<>\"\",1,0)","v":0},{"$f":"IF('Sjekkliste for utfylling'!K339<>\"\",1,0)","v":0},0,null,{"$f":"IF($E206=0,'Sjekkliste for utfylling'!A339,\"\")","v":205},{"$f":"IF($E206=0,'Sjekkliste for utfylling'!B339,\"\")","v":"d. Fradrag etter skattebetalingsloven § 5-9?"},null,null,{"$f":"IF(E206=0,'Sjekkliste for utfylling'!L339,\" \")","v":0}]
[{"$f":"'Sjekkliste for utfylling'!A340","v":206},{"$f":"IF('Sjekkliste for utfylling'!I340<>\"\",1,0)","v":0},{"$f":"IF('Sjekkliste for utfylling'!J340<>\"\",1,0)","v":0},{"$f":"IF('Sjekkliste for utfylling'!K340<>\"\",1,0)","v":0},0,null,{"$f":"IF($E207=0,'Sjekkliste for utfylling'!A340,\"\")","v":206},{"$f":"IF($E207=0,'Sjekkliste for utfylling'!B340,\"\")","v":"e. Trekkgrunnlaget? "},null,null,{"$f":"IF(E207=0,'Sjekkliste for utfylling'!L340,\" \")","v":0}]
[{"$f":"'Sjekkliste for utfylling'!A341","v":207},{"$f":"IF('Sjekkliste for utfylling'!I341<>\"\",1,0)","v":0},{"$f":"IF('Sjekkliste for utfylling'!J341<>\"\",1,0)","v":0},{"$f":"IF('Sjekkliste for utfylling'!K341<>\"\",1,0)","v":0},0,null,{"$f":"IF($E208=0,'Sjekkliste for utfylling'!A341,\"\")","v":207},{"$f":"IF($E208=0,'Sjekkliste for utfylling'!B341,\"\")","v":"f. Størrelsen av det foretatte forskuddstrekk og utleggstrekk?"},null,null,{"$f":"IF(E208=0,'Sjekkliste for utfylling'!L341,\" \")","v":0}]
[{"$f":"'Sjekkliste for utfylling'!A342","v":208},{"$f":"IF('Sjekkliste for utfylling'!I342<>\"\",1,0)","v":0},{"$f":"IF('Sjekkliste for utfylling'!J342<>\"\",1,0)","v":0},{"$f":"IF('Sjekkliste for utfylling'!K342<>\"\",1,0)","v":0},0,null,{"$f":"IF($E209=0,'Sjekkliste for utfylling'!A342,\"\")","v":208},{"$f":"IF($E209=0,'Sjekkliste for utfylling'!B342,\"\")","v":"Inneholder dokumentasjonen følgende opplysninger for ansatte som helt eller delvis godtgjøres basert på antall arbeidede timer:\na. Dato for utført arbeid?"},null,null,{"$f":"IF(E209=0,'Sjekkliste for utfylling'!L342,\" \")","v":0}]
[{"$f":"'Sjekkliste for utfylling'!A343","v":209},{"$f":"IF('Sjekkliste for utfylling'!I343<>\"\",1,0)","v":0},{"$f":"IF('Sjekkliste for utfylling'!J343<>\"\",1,0)","v":0},{"$f":"IF('Sjekkliste for utfylling'!K343<>\"\",1,0)","v":0},0,null,{"$f":"IF($E210=0,'Sjekkliste for utfylling'!A343,\"\")","v":209},{"$f":"IF($E210=0,'Sjekkliste for utfylling'!B343,\"\")","v":"b. Antall timer den aktuelle dato?"},null,null,{"$f":"IF(E210=0,'Sjekkliste for utfylling'!L343,\" \")","v":0}]
[{"$f":"'Sjekkliste for utfylling'!A344","v":210},{"$f":"IF('Sjekkliste for utfylling'!I344<>\"\",1,0)","v":0},{"$f":"IF('Sjekkliste for utfylling'!J344<>\"\",1,0)","v":0},{"$f":"IF('Sjekkliste for utfylling'!K344<>\"\",1,0)","v":0},0,null,{"$f":"IF($E211=0,'Sjekkliste for utfylling'!A344,\"\")","v":210},{"$f":"IF($E211=0,'Sjekkliste for utfylling'!B344,\"\")","v":"c. Sum timer for den aktuelle perioden?"},null,null,{"$f":"IF(E211=0,'Sjekkliste for utfylling'!L344,\" \")","v":0}]
[{"$f":"'Sjekkliste for utfylling'!A345","v":211},{"$f":"IF('Sjekkliste for utfylling'!I345<>\"\",1,0)","v":0},{"$f":"IF('Sjekkliste for utfylling'!J345<>\"\",1,0)","v":0},{"$f":"IF('Sjekkliste for utfylling'!K345<>\"\",1,0)","v":0},0,null,{"$f":"IF($E212=0,'Sjekkliste for utfylling'!A345,\"\")","v":211},{"$f":"IF($E212=0,'Sjekkliste for utfylling'!B345,\"\")","v":"Er dokumentasjon av lønn mv. utstedt senest på det tidspunkt det er anledning til å få de aktuelle ytelsene utbetalt?"},null,null,{"$f":"IF(E212=0,'Sjekkliste for utfylling'!L345,\" \")","v":0}]
[{"$f":"'Sjekkliste for utfylling'!A347","v":212},{"$f":"IF('Sjekkliste for utfylling'!I347<>\"\",1,0)","v":0},{"$f":"IF('Sjekkliste for utfylling'!J347<>\"\",1,0)","v":0},{"$f":"IF('Sjekkliste for utfylling'!K347<>\"\",1,0)","v":0},0,null,{"$f":"IF($E213=0,'Sjekkliste for utfylling'!A347,\"\")","v":212},{"$f":"IF($E213=0,'Sjekkliste for utfylling'!B347,\"\")","v":"Har bokføringspliktige som utfører tjenester dokumentert utførte timer for hver eier og ansatt når det er en direkte sammenheng mellom vederlaget og tidsforbruket?"},null,null,{"$f":"IF(E213=0,'Sjekkliste for utfylling'!L347,\" \")","v":0}]
[{"$f":"'Sjekkliste for utfylling'!A348","v":213},{"$f":"IF('Sjekkliste for utfylling'!I348<>\"\",1,0)","v":0},{"$f":"IF('Sjekkliste for utfylling'!J348<>\"\",1,0)","v":0},{"$f":"IF('Sjekkliste for utfylling'!K348<>\"\",1,0)","v":0},0,null,{"$f":"IF($E214=0,'Sjekkliste for utfylling'!A348,\"\")","v":213},{"$f":"IF($E214=0,'Sjekkliste for utfylling'!B348,\"\")","v":"Er timene spesifisert:\n- pr dag?\n- fordelt på intern tid og de enkelte kunder og oppdrag?"},null,null,{"$f":"IF(E214=0,'Sjekkliste for utfylling'!L348,\" \")","v":0}]
[{"$f":"'Sjekkliste for utfylling'!A349","v":214},{"$f":"IF('Sjekkliste for utfylling'!I349<>\"\",1,0)","v":0},{"$f":"IF('Sjekkliste for utfylling'!J349<>\"\",1,0)","v":0},{"$f":"IF('Sjekkliste for utfylling'!K349<>\"\",1,0)","v":0},0,null,{"$f":"IF($E215=0,'Sjekkliste for utfylling'!A349,\"\")","v":214},{"$f":"IF($E215=0,'Sjekkliste for utfylling'!B349,\"\")","v":"Er dokumentasjonen utarbeidet senest innen utløpet av den etterfølgende måned?"},null,null,{"$f":"IF(E215=0,'Sjekkliste for utfylling'!L349,\" \")","v":0}]
[{"$f":"'Sjekkliste for utfylling'!A351","v":215},{"$f":"IF('Sjekkliste for utfylling'!I351<>\"\",1,0)","v":0},{"$f":"IF('Sjekkliste for utfylling'!J351<>\"\",1,0)","v":0},{"$f":"IF('Sjekkliste for utfylling'!K351<>\"\",1,0)","v":0},0,null,{"$f":"IF($E216=0,'Sjekkliste for utfylling'!A351,\"\")","v":215},{"$f":"IF($E216=0,'Sjekkliste for utfylling'!B351,\"\")","v":"Oppbevares dokumentasjonen i 3 år og 6 måneder etter regnskapsårets slutt?"},null,null,{"$f":"IF(E216=0,'Sjekkliste for utfylling'!L351,\" \")","v":0}]
[{"$f":"'Sjekkliste for utfylling'!A353","v":216},{"$f":"IF('Sjekkliste for utfylling'!I353<>\"\",1,0)","v":0},{"$f":"IF('Sjekkliste for utfylling'!J353<>\"\",1,0)","v":0},{"$f":"IF('Sjekkliste for utfylling'!K353<>\"\",1,0)","v":0},0,null,{"$f":"IF($E217=0,'Sjekkliste for utfylling'!A353,\"\")","v":216},{"$f":"IF($E217=0,'Sjekkliste for utfylling'!B353,\"\")","v":"Har bokføringspliktige som utfører tjenester etter bestilling, dokumentert timebestillingene?"},null,null,{"$f":"IF(E217=0,'Sjekkliste for utfylling'!L353,\" \")","v":0}]
[{"$f":"'Sjekkliste for utfylling'!A354","v":217},{"$f":"IF('Sjekkliste for utfylling'!I354<>\"\",1,0)","v":0},{"$f":"IF('Sjekkliste for utfylling'!J354<>\"\",1,0)","v":0},{"$f":"IF('Sjekkliste for utfylling'!K354<>\"\",1,0)","v":0},0,null,{"$f":"IF($E218=0,'Sjekkliste for utfylling'!A354,\"\")","v":217},{"$f":"IF($E218=0,'Sjekkliste for utfylling'!B354,\"\")","v":"Omfatter dokumentasjonen tidspunkt for utførelsen av tjenesten og kundens navn, og dersom mulig hvem som skal utføre tjenesten?"},null,null,{"$f":"IF(E218=0,'Sjekkliste for utfylling'!L354,\" \")","v":0}]
[{"$f":"'Sjekkliste for utfylling'!A355","v":218},{"$f":"IF('Sjekkliste for utfylling'!I355<>\"\",1,0)","v":0},{"$f":"IF('Sjekkliste for utfylling'!J355<>\"\",1,0)","v":0},{"$f":"IF('Sjekkliste for utfylling'!K355<>\"\",1,0)","v":0},0,null,{"$f":"IF($E219=0,'Sjekkliste for utfylling'!A355,\"\")","v":218},{"$f":"IF($E219=0,'Sjekkliste for utfylling'!B355,\"\")","v":"Fremgår det av dokumentasjonen hvilke timer som ikke er gjennomført?\nDersom en avbestilt time erstattes av en ny bestilling, skal den nye bestillingen fremgå av dokumentasjonen og den tidligere bestillingen kan fjernes."},null,null,{"$f":"IF(E219=0,'Sjekkliste for utfylling'!L355,\" \")","v":0}]
[{"$f":"'Sjekkliste for utfylling'!A357","v":219},{"$f":"IF('Sjekkliste for utfylling'!I357<>\"\",1,0)","v":0},{"$f":"IF('Sjekkliste for utfylling'!J357<>\"\",1,0)","v":0},{"$f":"IF('Sjekkliste for utfylling'!K357<>\"\",1,0)","v":0},0,null,{"$f":"IF($E220=0,'Sjekkliste for utfylling'!A357,\"\")","v":219},{"$f":"IF($E220=0,'Sjekkliste for utfylling'!B357,\"\")","v":"Oppbevares dokumentasjonen i 5 år  etter regnskapsårets slutt?"},null,null,{"$f":"IF(E220=0,'Sjekkliste for utfylling'!L357,\" \")","v":0}]
[{"$f":"'Sjekkliste for utfylling'!A359","v":220},{"$f":"IF('Sjekkliste for utfylling'!I359<>\"\",1,0)","v":0},{"$f":"IF('Sjekkliste for utfylling'!J359<>\"\",1,0)","v":0},{"$f":"IF('Sjekkliste for utfylling'!K359<>\"\",1,0)","v":0},0,null,{"$f":"IF($E221=0,'Sjekkliste for utfylling'!A359,\"\")","v":220},{"$f":"IF($E221=0,'Sjekkliste for utfylling'!B359,\"\")","v":"Ved uttak av eiendeler og tjenester til bruk som gave til veldedige og allmennyttige institusjoner og organisasjoner, inneholder dokumentasjonen alle opplysninger som angitt i spørsmål 74 -81?"},null,null,{"$f":"IF(E221=0,'Sjekkliste for utfylling'!L359,\" \")","v":0}]
[{"$f":"'Sjekkliste for utfylling'!A360","v":221},{"$f":"IF('Sjekkliste for utfylling'!I360<>\"\",1,0)","v":0},{"$f":"IF('Sjekkliste for utfylling'!J360<>\"\",1,0)","v":0},{"$f":"IF('Sjekkliste for utfylling'!K360<>\"\",1,0)","v":0},0,null,{"$f":"IF($E222=0,'Sjekkliste for utfylling'!A360,\"\")","v":221},{"$f":"IF($E222=0,'Sjekkliste for utfylling'!B360,\"\")","v":"Inneholder dokumentasjonen i tillegg angivelse av virkelig verdi av eiendelen eller tjenesten og eventuelle kostnadsrefusjoner mottatt fra institusjonen eller organisasjonen?"},null,null,{"$f":"IF(E222=0,'Sjekkliste for utfylling'!L360,\" \")","v":0}]
[{"$f":"'Sjekkliste for utfylling'!A361","v":222},{"$f":"IF('Sjekkliste for utfylling'!I361<>\"\",1,0)","v":0},{"$f":"IF('Sjekkliste for utfylling'!J361<>\"\",1,0)","v":0},{"$f":"IF('Sjekkliste for utfylling'!K361<>\"\",1,0)","v":0},0,null,{"$f":"IF($E223=0,'Sjekkliste for utfylling'!A361,\"\")","v":222},{"$f":"IF($E223=0,'Sjekkliste for utfylling'!B361,\"\")","v":"Er dokumentasjonen utarbeidet senest en måned etter at uttaket fant sted, eventuelt for avgiftspliktige som leverer årsoppgave senest i det kalenderåret uttaket fant sted?"},null,null,{"$f":"IF(E223=0,'Sjekkliste for utfylling'!L361,\" \")","v":0}]
[{"$f":"'Sjekkliste for utfylling'!A364","v":223},{"$f":"IF('Sjekkliste for utfylling'!I364<>\"\",1,0)","v":0},{"$f":"IF('Sjekkliste for utfylling'!J364<>\"\",1,0)","v":0},{"$f":"IF('Sjekkliste for utfylling'!K364<>\"\",1,0)","v":0},0,null,{"$f":"IF($E224=0,'Sjekkliste for utfylling'!A364,\"\")","v":223},{"$f":"IF($E224=0,'Sjekkliste for utfylling'!B364,\"\")","v":"Ved uttak til eiere, deltakere eller anvendelse i egen virksomhet, inneholder dokumentasjonen alle opplysninger som angitt i spørsmål 74 - 81 så langt de passer?"},null,null,{"$f":"IF(E224=0,'Sjekkliste for utfylling'!L364,\" \")","v":0}]
[{"$f":"'Sjekkliste for utfylling'!A365","v":224},{"$f":"IF('Sjekkliste for utfylling'!I365<>\"\",1,0)","v":0},{"$f":"IF('Sjekkliste for utfylling'!J365<>\"\",1,0)","v":0},{"$f":"IF('Sjekkliste for utfylling'!K365<>\"\",1,0)","v":0},0,null,{"$f":"IF($E225=0,'Sjekkliste for utfylling'!A365,\"\")","v":224},{"$f":"IF($E225=0,'Sjekkliste for utfylling'!B365,\"\")","v":"Inneholder dokumentasjonen i tillegg angivelse av virkelig verdi av eiendelen eller tjenesten?"},null,null,{"$f":"IF(E225=0,'Sjekkliste for utfylling'!L365,\" \")","v":0}]
[{"$f":"'Sjekkliste for utfylling'!A366","v":225},{"$f":"IF('Sjekkliste for utfylling'!I366<>\"\",1,0)","v":0},{"$f":"IF('Sjekkliste for utfylling'!J366<>\"\",1,0)","v":0},{"$f":"IF('Sjekkliste for utfylling'!K366<>\"\",1,0)","v":0},0,null,{"$f":"IF($E226=0,'Sjekkliste for utfylling'!A366,\"\")","v":225},{"$f":"IF($E226=0,'Sjekkliste for utfylling'!B366,\"\")","v":"Ved anvendelse av varer og tjenester til reparasjon av brukte kjøretøyer, jf. merverdiavgiftsloven § 6-7, er det dokumentert på hvilket objekt varene og tjenestene er benyttet? "},null,null,{"$f":"IF(E226=0,'Sjekkliste for utfylling'!L366,\" \")","v":0}]
[{"$f":"'Sjekkliste for utfylling'!A367","v":226},{"$f":"IF('Sjekkliste for utfylling'!I367<>\"\",1,0)","v":0},{"$f":"IF('Sjekkliste for utfylling'!J367<>\"\",1,0)","v":0},{"$f":"IF('Sjekkliste for utfylling'!K367<>\"\",1,0)","v":0},0,null,{"$f":"IF($E227=0,'Sjekkliste for utfylling'!A367,\"\")","v":226},{"$f":"IF($E227=0,'Sjekkliste for utfylling'!B367,\"\")","v":"Er dokumentasjonen utarbeidet senest en måned etter at uttaket fant sted, eventuelt for avgiftspliktige som leverer årsoppgave senest i det kalenderåret uttaket fant sted?"},null,null,{"$f":"IF(E227=0,'Sjekkliste for utfylling'!L367,\" \")","v":0}]
[{"$f":"'Sjekkliste for utfylling'!A370","v":227},{"$f":"IF('Sjekkliste for utfylling'!I370<>\"\",1,0)","v":0},{"$f":"IF('Sjekkliste for utfylling'!J370<>\"\",1,0)","v":0},{"$f":"IF('Sjekkliste for utfylling'!K370<>\"\",1,0)","v":0},0,null,{"$f":"IF($E228=0,'Sjekkliste for utfylling'!A370,\"\")","v":227},{"$f":"IF($E228=0,'Sjekkliste for utfylling'!B370,\"\")","v":"Inneholder dokumentasjon av reise- og oppholdsutgifter:\n• Hvem utgiftene omfatter?"},null,null,{"$f":"IF(E228=0,'Sjekkliste for utfylling'!L370,\" \")","v":0}]
[{"$f":"'Sjekkliste for utfylling'!A371","v":228},{"$f":"IF('Sjekkliste for utfylling'!I371<>\"\",1,0)","v":0},{"$f":"IF('Sjekkliste for utfylling'!J371<>\"\",1,0)","v":0},{"$f":"IF('Sjekkliste for utfylling'!K371<>\"\",1,0)","v":0},0,null,{"$f":"IF($E229=0,'Sjekkliste for utfylling'!A371,\"\")","v":228},{"$f":"IF($E229=0,'Sjekkliste for utfylling'!B371,\"\")","v":"• Hva formålet med reisen har vært?"},null,null,{"$f":"IF(E229=0,'Sjekkliste for utfylling'!L371,\" \")","v":0}]
[{"$f":"'Sjekkliste for utfylling'!A372","v":229},{"$f":"IF('Sjekkliste for utfylling'!I372<>\"\",1,0)","v":0},{"$f":"IF('Sjekkliste for utfylling'!J372<>\"\",1,0)","v":0},{"$f":"IF('Sjekkliste for utfylling'!K372<>\"\",1,0)","v":0},0,null,{"$f":"IF($E230=0,'Sjekkliste for utfylling'!A372,\"\")","v":229},{"$f":"IF($E230=0,'Sjekkliste for utfylling'!B372,\"\")","v":"• Hvilke arrangement den reisende har deltatt på?"},null,null,{"$f":"IF(E230=0,'Sjekkliste for utfylling'!L372,\" \")","v":0}]
[{"$f":"'Sjekkliste for utfylling'!A373","v":230},{"$f":"IF('Sjekkliste for utfylling'!I373<>\"\",1,0)","v":0},{"$f":"IF('Sjekkliste for utfylling'!J373<>\"\",1,0)","v":0},{"$f":"IF('Sjekkliste for utfylling'!K373<>\"\",1,0)","v":0},0,null,{"$f":"IF($E231=0,'Sjekkliste for utfylling'!A373,\"\")","v":230},{"$f":"IF($E231=0,'Sjekkliste for utfylling'!B373,\"\")","v":"Er det gjensidig henvisning mellom reisedokumentene dersom dokumentasjonen består av flere reisedokumenter?"},null,null,{"$f":"IF(E231=0,'Sjekkliste for utfylling'!L373,\" \")","v":0}]
[{"$f":"'Sjekkliste for utfylling'!A374","v":231},{"$f":"IF('Sjekkliste for utfylling'!I374<>\"\",1,0)","v":0},{"$f":"IF('Sjekkliste for utfylling'!J374<>\"\",1,0)","v":0},{"$f":"IF('Sjekkliste for utfylling'!K374<>\"\",1,0)","v":0},0,null,{"$f":"IF($E232=0,'Sjekkliste for utfylling'!A374,\"\")","v":231},{"$f":"IF($E232=0,'Sjekkliste for utfylling'!B374,\"\")","v":"Er dokumentasjonen i samsvar med aktuelle regler i kapittel 5 i forskrift 21. desember 2007 nr. 1766 til utfylling og gjennomføring mv. av skattebetalingsloven (skattebetalingsforskriften)?"},null,null,{"$f":"IF(E232=0,'Sjekkliste for utfylling'!L374,\" \")","v":0}]
[{"$f":"'Sjekkliste for utfylling'!A376","v":232},{"$f":"IF('Sjekkliste for utfylling'!I376<>\"\",1,0)","v":0},{"$f":"IF('Sjekkliste for utfylling'!J376<>\"\",1,0)","v":0},{"$f":"IF('Sjekkliste for utfylling'!K376<>\"\",1,0)","v":0},0,null,{"$f":"IF($E233=0,'Sjekkliste for utfylling'!A376,\"\")","v":232},{"$f":"IF($E233=0,'Sjekkliste for utfylling'!B376,\"\")","v":"Angir dokumentasjon av bevertningsutgifter formålet og hvem bevertningen omfatter? "},null,null,{"$f":"IF(E233=0,'Sjekkliste for utfylling'!L376,\" \")","v":0}]
[{"$f":"'Sjekkliste for utfylling'!A378","v":233},{"$f":"IF('Sjekkliste for utfylling'!I378<>\"\",1,0)","v":0},{"$f":"IF('Sjekkliste for utfylling'!J378<>\"\",1,0)","v":0},{"$f":"IF('Sjekkliste for utfylling'!K378<>\"\",1,0)","v":0},0,null,{"$f":"IF($E234=0,'Sjekkliste for utfylling'!A378,\"\")","v":233},{"$f":"IF($E234=0,'Sjekkliste for utfylling'!B378,\"\")","v":"Viser dokumentasjon av betalingstransaksjoner betaler og mottaker, samt beløp og dokumentasjonsdato av betalingen?\n(Gjelder ikke betalinger vedrørende kontante kjøp og salg.)"},null,null,{"$f":"IF(E234=0,'Sjekkliste for utfylling'!L378,\" \")","v":0}]
[{"$f":"'Sjekkliste for utfylling'!A380","v":234},{"$f":"IF('Sjekkliste for utfylling'!I380<>\"\",1,0)","v":0},{"$f":"IF('Sjekkliste for utfylling'!J380<>\"\",1,0)","v":0},{"$f":"IF('Sjekkliste for utfylling'!K380<>\"\",1,0)","v":0},0,null,{"$f":"IF($E235=0,'Sjekkliste for utfylling'!A380,\"\")","v":234},{"$f":"IF($E235=0,'Sjekkliste for utfylling'!B380,\"\")","v":"Er dokumentasjonen utstedt med en papir- og trykkvalitet som sikrer lesbarheten i hele oppbevaringsperioden?"},null,null,{"$f":"IF(E235=0,'Sjekkliste for utfylling'!L380,\" \")","v":0}]
[{"$f":"'Sjekkliste for utfylling'!A382","v":235},{"$f":"IF('Sjekkliste for utfylling'!I382<>\"\",1,0)","v":0},{"$f":"IF('Sjekkliste for utfylling'!J382<>\"\",1,0)","v":0},{"$f":"IF('Sjekkliste for utfylling'!K382<>\"\",1,0)","v":0},0,null,{"$f":"IF($E236=0,'Sjekkliste for utfylling'!A382,\"\")","v":235},{"$f":"IF($E236=0,'Sjekkliste for utfylling'!B382,\"\")","v":"Viser dokumentasjon av andre regnskapsmessige disposisjoner årsaken til at disposisjonen gjennomføres og bokføres?"},null,null,{"$f":"IF(E236=0,'Sjekkliste for utfylling'!L382,\" \")","v":0}]
[{"$f":"'Sjekkliste for utfylling'!A384","v":236},{"$f":"IF('Sjekkliste for utfylling'!I384<>\"\",1,0)","v":0},{"$f":"IF('Sjekkliste for utfylling'!J384<>\"\",1,0)","v":0},{"$f":"IF('Sjekkliste for utfylling'!K384<>\"\",1,0)","v":0},0,null,{"$f":"IF($E237=0,'Sjekkliste for utfylling'!A384,\"\")","v":236},{"$f":"IF($E237=0,'Sjekkliste for utfylling'!B384,\"\")","v":"Foreligger det dokumentasjon av alle balanseposter i både årsregnskap og næringsoppgave,  med mindre de er ubetydelige?"},null,null,{"$f":"IF(E237=0,'Sjekkliste for utfylling'!L384,\" \")","v":0}]
[{"$f":"'Sjekkliste for utfylling'!A385","v":237},{"$f":"IF('Sjekkliste for utfylling'!I385<>\"\",1,0)","v":0},{"$f":"IF('Sjekkliste for utfylling'!J385<>\"\",1,0)","v":0},{"$f":"IF('Sjekkliste for utfylling'!K385<>\"\",1,0)","v":0},0,null,{"$f":"IF($E238=0,'Sjekkliste for utfylling'!A385,\"\")","v":237},{"$f":"IF($E238=0,'Sjekkliste for utfylling'!B385,\"\")","v":"Foreligger det tilsvarende dokumentasjon for alle skattemessige verdier som ikke er dokumentert i øvrige skattemeldinger etter skatteforvaltningsloven?"},null,null,{"$f":"IF(E238=0,'Sjekkliste for utfylling'!L385,\" \")","v":0}]
[{"$f":"'Sjekkliste for utfylling'!A387","v":238},{"$f":"IF('Sjekkliste for utfylling'!I387<>\"\",1,0)","v":0},{"$f":"IF('Sjekkliste for utfylling'!J387<>\"\",1,0)","v":0},{"$f":"IF('Sjekkliste for utfylling'!K387<>\"\",1,0)","v":0},0,null,{"$f":"IF($E239=0,'Sjekkliste for utfylling'!A387,\"\")","v":238},{"$f":"IF($E239=0,'Sjekkliste for utfylling'!B387,\"\")","v":"Er det foretatt varetelling ved årets slutt?"},null,null,{"$f":"IF(E239=0,'Sjekkliste for utfylling'!L387,\" \")","v":0}]
[{"$f":"'Sjekkliste for utfylling'!A388","v":239},{"$f":"IF('Sjekkliste for utfylling'!I388<>\"\",1,0)","v":0},{"$f":"IF('Sjekkliste for utfylling'!J388<>\"\",1,0)","v":0},{"$f":"IF('Sjekkliste for utfylling'!K388<>\"\",1,0)","v":0},0,null,{"$f":"IF($E240=0,'Sjekkliste for utfylling'!A388,\"\")","v":239},{"$f":"IF($E240=0,'Sjekkliste for utfylling'!B388,\"\")","v":"Når det er foretatt opptelling i løpet av året fordi det føres et betryggende lagerregnskap, kan tilgang og avgang fra opptellingstidspunktet til regnskapsårets slutt dokumenteres på en tilfredsstillende måte?"},null,null,{"$f":"IF(E240=0,'Sjekkliste for utfylling'!L388,\" \")","v":0}]
[{"$f":"'Sjekkliste for utfylling'!A389","v":240},{"$f":"IF('Sjekkliste for utfylling'!I389<>\"\",1,0)","v":0},{"$f":"IF('Sjekkliste for utfylling'!J389<>\"\",1,0)","v":0},{"$f":"IF('Sjekkliste for utfylling'!K389<>\"\",1,0)","v":0},0,null,{"$f":"IF($E241=0,'Sjekkliste for utfylling'!A389,\"\")","v":240},{"$f":"IF($E241=0,'Sjekkliste for utfylling'!B389,\"\")","v":"Inneholder dokumentasjon av varelager en spesifisert oppstilling over:\n• Varens art?"},null,null,{"$f":"IF(E241=0,'Sjekkliste for utfylling'!L389,\" \")","v":0}]
[{"$f":"'Sjekkliste for utfylling'!A390","v":241},{"$f":"IF('Sjekkliste for utfylling'!I390<>\"\",1,0)","v":0},{"$f":"IF('Sjekkliste for utfylling'!J390<>\"\",1,0)","v":0},{"$f":"IF('Sjekkliste for utfylling'!K390<>\"\",1,0)","v":0},0,null,{"$f":"IF($E242=0,'Sjekkliste for utfylling'!A390,\"\")","v":241},{"$f":"IF($E242=0,'Sjekkliste for utfylling'!B390,\"\")","v":"• Kvantum (med angivelse av måleenhet)?"},null,null,{"$f":"IF(E242=0,'Sjekkliste for utfylling'!L390,\" \")","v":0}]
[{"$f":"'Sjekkliste for utfylling'!A391","v":242},{"$f":"IF('Sjekkliste for utfylling'!I391<>\"\",1,0)","v":0},{"$f":"IF('Sjekkliste for utfylling'!J391<>\"\",1,0)","v":0},{"$f":"IF('Sjekkliste for utfylling'!K391<>\"\",1,0)","v":0},0,null,{"$f":"IF($E243=0,'Sjekkliste for utfylling'!A391,\"\")","v":242},{"$f":"IF($E243=0,'Sjekkliste for utfylling'!B391,\"\")","v":"• Verdi for hver enkelt vare?"},null,null,{"$f":"IF(E243=0,'Sjekkliste for utfylling'!L391,\" \")","v":0}]
[{"$f":"'Sjekkliste for utfylling'!A392","v":243},{"$f":"IF('Sjekkliste for utfylling'!I392<>\"\",1,0)","v":0},{"$f":"IF('Sjekkliste for utfylling'!J392<>\"\",1,0)","v":0},{"$f":"IF('Sjekkliste for utfylling'!K392<>\"\",1,0)","v":0},0,null,{"$f":"IF($E244=0,'Sjekkliste for utfylling'!A392,\"\")","v":243},{"$f":"IF($E244=0,'Sjekkliste for utfylling'!B392,\"\")","v":"• En summeringskolonne for de spesifiserte verdiene?"},null,null,{"$f":"IF(E244=0,'Sjekkliste for utfylling'!L392,\" \")","v":0}]
[{"$f":"'Sjekkliste for utfylling'!A393","v":244},{"$f":"IF('Sjekkliste for utfylling'!I393<>\"\",1,0)","v":0},{"$f":"IF('Sjekkliste for utfylling'!J393<>\"\",1,0)","v":0},{"$f":"IF('Sjekkliste for utfylling'!K393<>\"\",1,0)","v":0},0,null,{"$f":"IF($E245=0,'Sjekkliste for utfylling'!A393,\"\")","v":244},{"$f":"IF($E245=0,'Sjekkliste for utfylling'!B393,\"\")","v":"Fremgår beregningsmåten for de spesifiserte verdiene av dokumentasjonen?"},null,null,{"$f":"IF(E245=0,'Sjekkliste for utfylling'!L393,\" \")","v":0}]
[{"$f":"'Sjekkliste for utfylling'!A394","v":245},{"$f":"IF('Sjekkliste for utfylling'!I394<>\"\",1,0)","v":0},{"$f":"IF('Sjekkliste for utfylling'!J394<>\"\",1,0)","v":0},{"$f":"IF('Sjekkliste for utfylling'!K394<>\"\",1,0)","v":0},0,null,{"$f":"IF($E246=0,'Sjekkliste for utfylling'!A394,\"\")","v":245},{"$f":"IF($E246=0,'Sjekkliste for utfylling'!B394,\"\")","v":"Er verdien for hver enkelt vare beregnet til ett av to: \n1. Anskaffelseskost\n2. Varens kalkulerte utsalgsverdi (forutsatt at varelagerets anskaffelseskost på tilfredsstillende måte kan beregnes på grunnlag av denne verdien)?"},null,null,{"$f":"IF(E246=0,'Sjekkliste for utfylling'!L394,\" \")","v":0}]
[{"$f":"'Sjekkliste for utfylling'!A395","v":246},{"$f":"IF('Sjekkliste for utfylling'!I395<>\"\",1,0)","v":0},{"$f":"IF('Sjekkliste for utfylling'!J395<>\"\",1,0)","v":0},{"$f":"IF('Sjekkliste for utfylling'!K395<>\"\",1,0)","v":0},0,null,{"$f":"IF($E247=0,'Sjekkliste for utfylling'!A395,\"\")","v":246},{"$f":"IF($E247=0,'Sjekkliste for utfylling'!B395,\"\")","v":"Dersom varene er oppført til varenes kalkulerte utsalgsverdi\n• fremgår det av dokumentasjonen hvordan anskaffelseskosten er beregnet? "},null,null,{"$f":"IF(E247=0,'Sjekkliste for utfylling'!L395,\" \")","v":0}]
[{"$f":"'Sjekkliste for utfylling'!A396","v":247},{"$f":"IF('Sjekkliste for utfylling'!I396<>\"\",1,0)","v":0},{"$f":"IF('Sjekkliste for utfylling'!J396<>\"\",1,0)","v":0},{"$f":"IF('Sjekkliste for utfylling'!K396<>\"\",1,0)","v":0},0,null,{"$f":"IF($E248=0,'Sjekkliste for utfylling'!A396,\"\")","v":247},{"$f":"IF($E248=0,'Sjekkliste for utfylling'!B396,\"\")","v":"• er varer som etter sin art er fritatt for merverdiavgift ved salg eller avgiftsberegnes med forskjellige satser, utskilt og vist som egne grupper?"},null,null,{"$f":"IF(E248=0,'Sjekkliste for utfylling'!L396,\" \")","v":0}]
[{"$f":"'Sjekkliste for utfylling'!A397","v":248},{"$f":"IF('Sjekkliste for utfylling'!I397<>\"\",1,0)","v":0},{"$f":"IF('Sjekkliste for utfylling'!J397<>\"\",1,0)","v":0},{"$f":"IF('Sjekkliste for utfylling'!K397<>\"\",1,0)","v":0},0,null,{"$f":"IF($E249=0,'Sjekkliste for utfylling'!A397,\"\")","v":248},{"$f":"IF($E249=0,'Sjekkliste for utfylling'!B397,\"\")","v":"• er varer med forskjellig bruttofortjeneste, utskilt og vist som egne grupper?"},null,null,{"$f":"IF(E249=0,'Sjekkliste for utfylling'!L397,\" \")","v":0}]
[{"$f":"'Sjekkliste for utfylling'!A398","v":249},{"$f":"IF('Sjekkliste for utfylling'!I398<>\"\",1,0)","v":0},{"$f":"IF('Sjekkliste for utfylling'!J398<>\"\",1,0)","v":0},{"$f":"IF('Sjekkliste for utfylling'!K398<>\"\",1,0)","v":0},0,null,{"$f":"IF($E250=0,'Sjekkliste for utfylling'!A398,\"\")","v":249},{"$f":"IF($E250=0,'Sjekkliste for utfylling'!B398,\"\")","v":"Fremgår både den regnskapsmessige og skattemessige verdien av varelageret av dokumentasjonen? "},null,null,{"$f":"IF(E250=0,'Sjekkliste for utfylling'!L398,\" \")","v":0}]
[{"$f":"'Sjekkliste for utfylling'!A399","v":250},{"$f":"IF('Sjekkliste for utfylling'!I399<>\"\",1,0)","v":0},{"$f":"IF('Sjekkliste for utfylling'!J399<>\"\",1,0)","v":0},{"$f":"IF('Sjekkliste for utfylling'!K399<>\"\",1,0)","v":0},0,null,{"$f":"IF($E251=0,'Sjekkliste for utfylling'!A399,\"\")","v":250},{"$f":"IF($E251=0,'Sjekkliste for utfylling'!B399,\"\")","v":"Vises varer verdsatt til virkelig verdi som egen gruppe? "},null,null,{"$f":"IF(E251=0,'Sjekkliste for utfylling'!L399,\" \")","v":0}]
[{"$f":"'Sjekkliste for utfylling'!A400","v":251},{"$f":"IF('Sjekkliste for utfylling'!I400<>\"\",1,0)","v":0},{"$f":"IF('Sjekkliste for utfylling'!J400<>\"\",1,0)","v":0},{"$f":"IF('Sjekkliste for utfylling'!K400<>\"\",1,0)","v":0},0,null,{"$f":"IF($E252=0,'Sjekkliste for utfylling'!A400,\"\")","v":251},{"$f":"IF($E252=0,'Sjekkliste for utfylling'!B400,\"\")","v":"Er dokumentasjonen ordentlig og oversiktlig?"},null,null,{"$f":"IF(E252=0,'Sjekkliste for utfylling'!L400,\" \")","v":0}]
[{"$f":"'Sjekkliste for utfylling'!A401","v":252},{"$f":"IF('Sjekkliste for utfylling'!I401<>\"\",1,0)","v":0},{"$f":"IF('Sjekkliste for utfylling'!J401<>\"\",1,0)","v":0},{"$f":"IF('Sjekkliste for utfylling'!K401<>\"\",1,0)","v":0},0,null,{"$f":"IF($E253=0,'Sjekkliste for utfylling'!A401,\"\")","v":252},{"$f":"IF($E253=0,'Sjekkliste for utfylling'!B401,\"\")","v":"Er eventuelle tellelister på papir nummerert før tellingen foretas?"},null,null,{"$f":"IF(E253=0,'Sjekkliste for utfylling'!L401,\" \")","v":0}]
[{"$f":"'Sjekkliste for utfylling'!A402","v":253},{"$f":"IF('Sjekkliste for utfylling'!I402<>\"\",1,0)","v":0},{"$f":"IF('Sjekkliste for utfylling'!J402<>\"\",1,0)","v":0},{"$f":"IF('Sjekkliste for utfylling'!K402<>\"\",1,0)","v":0},0,null,{"$f":"IF($E254=0,'Sjekkliste for utfylling'!A402,\"\")","v":253},{"$f":"IF($E254=0,'Sjekkliste for utfylling'!B402,\"\")","v":"Er dokumentasjonen datert og fremgår det hvem som har foretatt opptellingen? "},null,null,{"$f":"IF(E254=0,'Sjekkliste for utfylling'!L402,\" \")","v":0}]
[{"$f":"'Sjekkliste for utfylling'!A403","v":254},{"$f":"IF('Sjekkliste for utfylling'!I403<>\"\",1,0)","v":0},{"$f":"IF('Sjekkliste for utfylling'!J403<>\"\",1,0)","v":0},{"$f":"IF('Sjekkliste for utfylling'!K403<>\"\",1,0)","v":0},0,null,{"$f":"IF($E255=0,'Sjekkliste for utfylling'!A403,\"\")","v":254},{"$f":"IF($E255=0,'Sjekkliste for utfylling'!B403,\"\")","v":"Er tellelister på papir oppbevart som en del av dokumentasjonen, eventuelt skannet for elektronisk oppbevaring?"},null,null,{"$f":"IF(E255=0,'Sjekkliste for utfylling'!L403,\" \")","v":0}]
[{"$f":"'Sjekkliste for utfylling'!A405","v":255},{"$f":"IF('Sjekkliste for utfylling'!I405<>\"\",1,0)","v":0},{"$f":"IF('Sjekkliste for utfylling'!J405<>\"\",1,0)","v":0},{"$f":"IF('Sjekkliste for utfylling'!K405<>\"\",1,0)","v":0},0,null,{"$f":"IF($E256=0,'Sjekkliste for utfylling'!A405,\"\")","v":255},{"$f":"IF($E256=0,'Sjekkliste for utfylling'!B405,\"\")","v":"Inneholder dokumentasjon av bankinnskudd og lånegjeld oppgaver fra finansinstitusjoner over mellomværende?"},null,null,{"$f":"IF(E256=0,'Sjekkliste for utfylling'!L405,\" \")","v":0}]
[{"$f":"'Sjekkliste for utfylling'!A406","v":256},{"$f":"IF('Sjekkliste for utfylling'!I406<>\"\",1,0)","v":0},{"$f":"IF('Sjekkliste for utfylling'!J406<>\"\",1,0)","v":0},{"$f":"IF('Sjekkliste for utfylling'!K406<>\"\",1,0)","v":0},0,null,{"$f":"IF($E257=0,'Sjekkliste for utfylling'!A406,\"\")","v":256},{"$f":"IF($E257=0,'Sjekkliste for utfylling'!B406,\"\")","v":"Er kontantbeholdning opptelt ved årets slutt?"},null,null,{"$f":"IF(E257=0,'Sjekkliste for utfylling'!L406,\" \")","v":0}]
[{"$f":"'Sjekkliste for utfylling'!A407","v":257},{"$f":"IF('Sjekkliste for utfylling'!I407<>\"\",1,0)","v":0},{"$f":"IF('Sjekkliste for utfylling'!J407<>\"\",1,0)","v":0},{"$f":"IF('Sjekkliste for utfylling'!K407<>\"\",1,0)","v":0},{"$f":"SUM(B258:D258)","v":0},null,{"$f":"IF($E258=0,'Sjekkliste for utfylling'!A407,\"\")","v":257},{"$f":"IF($E258=0,'Sjekkliste for utfylling'!B407,\"\")","v":"Er opptellingen dokumentert med hvem som har foretatt opptellingen og på hvilket tidspunkt? "},null,null,{"$f":"IF(E258=0,'Sjekkliste for utfylling'!L407,\" \")","v":0}]
[{"$f":"'Sjekkliste for utfylling'!A408","v":258},{"$f":"IF('Sjekkliste for utfylling'!I408<>\"\",1,0)","v":0},{"$f":"IF('Sjekkliste for utfylling'!J408<>\"\",1,0)","v":0},{"$f":"IF('Sjekkliste for utfylling'!K408<>\"\",1,0)","v":0},0,null,{"$f":"IF($E259=0,'Sjekkliste for utfylling'!A408,\"\")","v":258},{"$f":"IF($E259=0,'Sjekkliste for utfylling'!B408,\"\")","v":"Er eventuelle differanser forklart?"},null,null,{"$f":"IF(E259=0,'Sjekkliste for utfylling'!L408,\" \")","v":0}]
[{"$f":"'Sjekkliste for utfylling'!A410","v":259},{"$f":"IF('Sjekkliste for utfylling'!I410<>\"\",1,0)","v":0},{"$f":"IF('Sjekkliste for utfylling'!J410<>\"\",1,0)","v":0},{"$f":"IF('Sjekkliste for utfylling'!K410<>\"\",1,0)","v":0},0,null,{"$f":"IF($E260=0,'Sjekkliste for utfylling'!A410,\"\")","v":259},{"$f":"IF($E260=0,'Sjekkliste for utfylling'!B410,\"\")","v":"Er finansielle instrumenter som er registrert i et verdipapirregister dokumentert med oppgaver fra et verdipapirregister over verdipapirbeholdning?"},null,null,{"$f":"IF(E260=0,'Sjekkliste for utfylling'!L410,\" \")","v":0}]
[{"$f":"'Sjekkliste for utfylling'!A412","v":260},{"$f":"IF('Sjekkliste for utfylling'!I412<>\"\",1,0)","v":0},{"$f":"IF('Sjekkliste for utfylling'!J412<>\"\",1,0)","v":0},{"$f":"IF('Sjekkliste for utfylling'!K412<>\"\",1,0)","v":0},0,null,{"$f":"IF($E261=0,'Sjekkliste for utfylling'!A412,\"\")","v":260},{"$f":"IF($E261=0,'Sjekkliste for utfylling'!B412,\"\")","v":"Omfatter dokumentasjon av poster som er verdsatt etter vurdering minst opplysninger om beregningsmetode og de forutsetninger som beregningen bygger på?"},null,null,{"$f":"IF(E261=0,'Sjekkliste for utfylling'!L412,\" \")","v":0}]
[{"$f":"'Sjekkliste for utfylling'!A414","v":261},{"$f":"IF('Sjekkliste for utfylling'!I414<>\"\",1,0)","v":0},{"$f":"IF('Sjekkliste for utfylling'!J414<>\"\",1,0)","v":0},{"$f":"IF('Sjekkliste for utfylling'!K414<>\"\",1,0)","v":0},0,null,{"$f":"IF($E262=0,'Sjekkliste for utfylling'!A414,\"\")","v":261},{"$f":"IF($E262=0,'Sjekkliste for utfylling'!B414,\"\")","v":"Foreligger følgende som er utarbeidet av den bokføringspliktige, på norsk, svensk, dansk eller engelsk?\n• spesifikasjoner av pliktig regnskapsrapportering \n• dokumentasjon av bokførte opplysninger og slettede opplysninger \n• dokumentasjon av kontrollsporet \n• dokumentasjon av balansen regnskapssystemet "},null,null,{"$f":"IF(E262=0,'Sjekkliste for utfylling'!L414,\" \")","v":0}]
[{"$f":"'Sjekkliste for utfylling'!A434","v":262},{"$f":"IF('Sjekkliste for utfylling'!I434<>\"\",1,0)","v":0},{"$f":"IF('Sjekkliste for utfylling'!J434<>\"\",1,0)","v":0},{"$f":"IF('Sjekkliste for utfylling'!K434<>\"\",1,0)","v":0},0,null,{"$f":"IF($E263=0,'Sjekkliste for utfylling'!A434,\"\")","v":262},{"$f":"IF($E263=0,'Sjekkliste for utfylling'!B434,\"\")","v":"• Årsregnskap og annen pliktig regnskapsrapportering, årsberetning og revisjonsberetning?"},null,null,{"$f":"IF(E263=0,'Sjekkliste for utfylling'!L434,\" \")","v":0}]
[{"$f":"'Sjekkliste for utfylling'!A436","v":263},{"$f":"IF('Sjekkliste for utfylling'!I436<>\"\",1,0)","v":0},{"$f":"IF('Sjekkliste for utfylling'!J436<>\"\",1,0)","v":0},{"$f":"IF('Sjekkliste for utfylling'!K436<>\"\",1,0)","v":0},0,null,{"$f":"IF($E264=0,'Sjekkliste for utfylling'!A436,\"\")","v":263},{"$f":"IF($E264=0,'Sjekkliste for utfylling'!B436,\"\")","v":"• Spesifikasjoner av pliktig regnskapsrapportering, eller bokførte opplysninger som er nødvendige for å kunne utarbeide slike spesifikasjoner av pliktig regnskapsrapportering?"},null,null,{"$f":"IF(E264=0,'Sjekkliste for utfylling'!L436,\" \")","v":0}]
[{"$f":"'Sjekkliste for utfylling'!A437","v":264},{"$f":"IF('Sjekkliste for utfylling'!I437<>\"\",1,0)","v":0},{"$f":"IF('Sjekkliste for utfylling'!J437<>\"\",1,0)","v":0},{"$f":"IF('Sjekkliste for utfylling'!K437<>\"\",1,0)","v":0},0,null,{"$f":"IF($E265=0,'Sjekkliste for utfylling'!A437,\"\")","v":264},{"$f":"IF($E265=0,'Sjekkliste for utfylling'!B437,\"\")","v":"• Dokumentasjon av bokførte og slettede opplysninger, dokumentasjon av regnskapssystemet kontrollsporet mv. og dokumentasjon av balansen?"},null,null,{"$f":"IF(E265=0,'Sjekkliste for utfylling'!L437,\" \")","v":0}]
[{"$f":"'Sjekkliste for utfylling'!A438","v":265},{"$f":"IF('Sjekkliste for utfylling'!I438<>\"\",1,0)","v":0},{"$f":"IF('Sjekkliste for utfylling'!J438<>\"\",1,0)","v":0},{"$f":"IF('Sjekkliste for utfylling'!K438<>\"\",1,0)","v":0},0,null,{"$f":"IF($E266=0,'Sjekkliste for utfylling'!A438,\"\")","v":265},{"$f":"IF($E266=0,'Sjekkliste for utfylling'!B438,\"\")","v":"• Revisors skriftlige kommunikrevisors skriftlige kommunikasjon med styret etter revisorloven § 9-5?"},null,null,{"$f":"IF(E266=0,'Sjekkliste for utfylling'!L438,\" \")","v":0}]
[{"$f":"'Sjekkliste for utfylling'!A439","v":266},{"$f":"IF('Sjekkliste for utfylling'!I439<>\"\",1,0)","v":0},{"$f":"IF('Sjekkliste for utfylling'!J439<>\"\",1,0)","v":0},{"$f":"IF('Sjekkliste for utfylling'!K439<>\"\",1,0)","v":0},0,null,{"$f":"IF($E267=0,'Sjekkliste for utfylling'!A439,\"\")","v":266},{"$f":"IF($E267=0,'Sjekkliste for utfylling'!B439,\"\")","v":"• Timebestillinger for bokføringspliktige som utfører tjenester etter timebestilling (se spørsmål 216 - 218)?"},null,null,{"$f":"IF(E267=0,'Sjekkliste for utfylling'!L439,\" \")","v":0}]
[{"$f":"'Sjekkliste for utfylling'!A440","v":267},{"$f":"IF('Sjekkliste for utfylling'!I440<>\"\",1,0)","v":0},{"$f":"IF('Sjekkliste for utfylling'!J440<>\"\",1,0)","v":0},{"$f":"IF('Sjekkliste for utfylling'!K440<>\"\",1,0)","v":0},0,null,{"$f":"IF($E268=0,'Sjekkliste for utfylling'!A440,\"\")","v":267},{"$f":"IF($E268=0,'Sjekkliste for utfylling'!B440,\"\")","v":"• Kjørebok som dokumenterer/underbygger behandling av lønn og naturalytelser?"},null,null,{"$f":"IF(E268=0,'Sjekkliste for utfylling'!L440,\" \")","v":0}]
[{"$f":"'Sjekkliste for utfylling'!A442","v":268},{"$f":"IF('Sjekkliste for utfylling'!I442<>\"\",1,0)","v":0},{"$f":"IF('Sjekkliste for utfylling'!J442<>\"\",1,0)","v":0},{"$f":"IF('Sjekkliste for utfylling'!K442<>\"\",1,0)","v":0},0,null,{"$f":"IF($E269=0,'Sjekkliste for utfylling'!A442,\"\")","v":268},{"$f":"IF($E269=0,'Sjekkliste for utfylling'!B442,\"\")","v":"Dokumentasjon på kjøp av kapitalvarer (jfr mval §9-1 (2) pkt b)?"},null,null,{"$f":"IF(E269=0,'Sjekkliste for utfylling'!L442,\" \")","v":0}]
[{"$f":"'Sjekkliste for utfylling'!A444","v":269},{"$f":"IF('Sjekkliste for utfylling'!I444<>\"\",1,0)","v":0},{"$f":"IF('Sjekkliste for utfylling'!J444<>\"\",1,0)","v":0},{"$f":"IF('Sjekkliste for utfylling'!K444<>\"\",1,0)","v":0},0,null,{"$f":"IF($E270=0,'Sjekkliste for utfylling'!A444,\"\")","v":269},{"$f":"IF($E270=0,'Sjekkliste for utfylling'!B444,\"\")","v":"• Avtaler som gjelder virksomheten, med unntak av avtaler av mindre betydning?"},null,null,{"$f":"IF(E270=0,'Sjekkliste for utfylling'!L444,\" \")","v":0}]
[{"$f":"'Sjekkliste for utfylling'!A445","v":270},{"$f":"IF('Sjekkliste for utfylling'!I445<>\"\",1,0)","v":0},{"$f":"IF('Sjekkliste for utfylling'!J445<>\"\",1,0)","v":0},{"$f":"IF('Sjekkliste for utfylling'!K445<>\"\",1,0)","v":0},0,null,{"$f":"IF($E271=0,'Sjekkliste for utfylling'!A445,\"\")","v":270},{"$f":"IF($E271=0,'Sjekkliste for utfylling'!B445,\"\")","v":"• Korrespondanse som gir vesentlig tilleggsinformasjon i tilknytning til en bokført opplysning?"},null,null,{"$f":"IF(E271=0,'Sjekkliste for utfylling'!L445,\" \")","v":0}]
[{"$f":"'Sjekkliste for utfylling'!A446","v":271},{"$f":"IF('Sjekkliste for utfylling'!I446<>\"\",1,0)","v":0},{"$f":"IF('Sjekkliste for utfylling'!J446<>\"\",1,0)","v":0},{"$f":"IF('Sjekkliste for utfylling'!K446<>\"\",1,0)","v":0},0,null,{"$f":"IF($E272=0,'Sjekkliste for utfylling'!A446,\"\")","v":271},{"$f":"IF($E272=0,'Sjekkliste for utfylling'!B446,\"\")","v":"• Utgående pakksedler eller tilsvarende dokumentasjon som følger varen eller sendes til kjøper på annen måte?"},null,null,{"$f":"IF(E272=0,'Sjekkliste for utfylling'!L446,\" \")","v":0}]
[{"$f":"'Sjekkliste for utfylling'!A447","v":272},{"$f":"IF('Sjekkliste for utfylling'!I447<>\"\",1,0)","v":0},{"$f":"IF('Sjekkliste for utfylling'!J447<>\"\",1,0)","v":0},{"$f":"IF('Sjekkliste for utfylling'!K447<>\"\",1,0)","v":0},0,null,{"$f":"IF($E273=0,'Sjekkliste for utfylling'!A447,\"\")","v":272},{"$f":"IF($E273=0,'Sjekkliste for utfylling'!B447,\"\")","v":"• Prisoversikter som kreves utarbeidet ifølge lov eller forskrift?"},null,null,{"$f":"IF(E273=0,'Sjekkliste for utfylling'!L447,\" \")","v":0}]
[{"$f":"'Sjekkliste for utfylling'!A448","v":273},{"$f":"IF('Sjekkliste for utfylling'!I448<>\"\",1,0)","v":0},{"$f":"IF('Sjekkliste for utfylling'!J448<>\"\",1,0)","v":0},{"$f":"IF('Sjekkliste for utfylling'!K448<>\"\",1,0)","v":0},0,null,{"$f":"IF($E274=0,'Sjekkliste for utfylling'!A448,\"\")","v":273},{"$f":"IF($E274=0,'Sjekkliste for utfylling'!B448,\"\")","v":"• Dokumentasjon av lønn for ansatte som helt eller delvis godtgjøres basert på antall arbeidede timer (se spørsmål 208-210)?"},null,null,{"$f":"IF(E274=0,'Sjekkliste for utfylling'!L448,\" \")","v":0}]
[{"$f":"'Sjekkliste for utfylling'!A449","v":274},{"$f":"IF('Sjekkliste for utfylling'!I449<>\"\",1,0)","v":0},{"$f":"IF('Sjekkliste for utfylling'!J449<>\"\",1,0)","v":0},{"$f":"IF('Sjekkliste for utfylling'!K449<>\"\",1,0)","v":0},0,null,{"$f":"IF($E275=0,'Sjekkliste for utfylling'!A449,\"\")","v":274},{"$f":"IF($E275=0,'Sjekkliste for utfylling'!B449,\"\")","v":"• Dokumentasjon av medgått tid hvor vederlaget er basert på tidsforbruk (se spørsmål 212)?"},null,null,{"$f":"IF(E275=0,'Sjekkliste for utfylling'!L449,\" \")","v":0}]
[{"$f":"'Sjekkliste for utfylling'!A450","v":275},{"$f":"IF('Sjekkliste for utfylling'!I450<>\"\",1,0)","v":0},{"$f":"IF('Sjekkliste for utfylling'!J450<>\"\",1,0)","v":0},{"$f":"IF('Sjekkliste for utfylling'!K450<>\"\",1,0)","v":0},0,null,{"$f":"IF($E276=0,'Sjekkliste for utfylling'!A450,\"\")","v":275},{"$f":"IF($E276=0,'Sjekkliste for utfylling'!B450,\"\")","v":"Er oppbevaringspliktig regnskapsmateriale oppbevart ordnet og betryggende sikret mot ødeleggelse, tap og endring?"},null,null,{"$f":"IF(E276=0,'Sjekkliste for utfylling'!L450,\" \")","v":0}]
[{"$f":"'Sjekkliste for utfylling'!A451","v":276},{"$f":"IF('Sjekkliste for utfylling'!I451<>\"\",1,0)","v":0},{"$f":"IF('Sjekkliste for utfylling'!J451<>\"\",1,0)","v":0},{"$f":"IF('Sjekkliste for utfylling'!K451<>\"\",1,0)","v":0},0,null,{"$f":"IF($E277=0,'Sjekkliste for utfylling'!A451,\"\")","v":276},{"$f":"IF($E277=0,'Sjekkliste for utfylling'!B451,\"\")","v":"Foreligger det sikkerhetskopi, oppbevart adskilt fra originalen, av bokførte opplysninger som holdes elektronisk tilgjengelig?"},null,null,{"$f":"IF(E277=0,'Sjekkliste for utfylling'!L451,\" \")","v":0}]
[{"$f":"'Sjekkliste for utfylling'!A452","v":277},{"$f":"IF('Sjekkliste for utfylling'!I452<>\"\",1,0)","v":0},{"$f":"IF('Sjekkliste for utfylling'!J452<>\"\",1,0)","v":0},{"$f":"IF('Sjekkliste for utfylling'!K452<>\"\",1,0)","v":0},0,null,{"$f":"IF($E278=0,'Sjekkliste for utfylling'!A452,\"\")","v":277},{"$f":"IF($E278=0,'Sjekkliste for utfylling'!B452,\"\")","v":"Gjennomføres sikkerhetskopiering så ofte som virksomhetens og transaksjonenes art og omfang tilsier, og innen ajourholdsfristene i bokføringslovens § 7 ?"},null,null,{"$f":"IF(E278=0,'Sjekkliste for utfylling'!L452,\" \")","v":0}]
[{"$f":"'Sjekkliste for utfylling'!A453","v":278},{"$f":"IF('Sjekkliste for utfylling'!I453<>\"\",1,0)","v":0},{"$f":"IF('Sjekkliste for utfylling'!J453<>\"\",1,0)","v":0},{"$f":"IF('Sjekkliste for utfylling'!K453<>\"\",1,0)","v":0},0,null,{"$f":"IF($E279=0,'Sjekkliste for utfylling'!A453,\"\")","v":278},{"$f":"IF($E279=0,'Sjekkliste for utfylling'!B453,\"\")","v":"Gjennomføres testing av sikkerhetskopien minimum en gang pr år?"},null,null,{"$f":"IF(E279=0,'Sjekkliste for utfylling'!L453,\" \")","v":0}]
[{"$f":"'Sjekkliste for utfylling'!A454","v":279},{"$f":"IF('Sjekkliste for utfylling'!I454<>\"\",1,0)","v":0},{"$f":"IF('Sjekkliste for utfylling'!J454<>\"\",1,0)","v":0},{"$f":"IF('Sjekkliste for utfylling'!K454<>\"\",1,0)","v":0},0,null,{"$f":"IF($E280=0,'Sjekkliste for utfylling'!A454,\"\")","v":279},{"$f":"IF($E280=0,'Sjekkliste for utfylling'!B454,\"\")","v":"Foreligger det fortegnelse over regnskapsmaterialet som er sikkerhetskopiert, hvor ofte sikkerhetskopieringen gjennomføres og hvor originalen og sikkerhetskopien oppbevares?"},null,null,{"$f":"IF(E280=0,'Sjekkliste for utfylling'!L454,\" \")","v":0}]
[{"$f":"'Sjekkliste for utfylling'!A455","v":280},{"$f":"IF('Sjekkliste for utfylling'!I455<>\"\",1,0)","v":0},{"$f":"IF('Sjekkliste for utfylling'!J455<>\"\",1,0)","v":0},{"$f":"IF('Sjekkliste for utfylling'!K455<>\"\",1,0)","v":0},0,null,{"$f":"IF($E281=0,'Sjekkliste for utfylling'!A455,\"\")","v":280},{"$f":"IF($E281=0,'Sjekkliste for utfylling'!B455,\"\")","v":"Blir fortegnelsen oppbevart i 5 år?"},null,null,{"$f":"IF(E281=0,'Sjekkliste for utfylling'!L455,\" \")","v":0}]
[{"$f":"'Sjekkliste for utfylling'!A456","v":281},{"$f":"IF('Sjekkliste for utfylling'!I456<>\"\",1,0)","v":0},{"$f":"IF('Sjekkliste for utfylling'!J456<>\"\",1,0)","v":0},{"$f":"IF('Sjekkliste for utfylling'!K456<>\"\",1,0)","v":0},0,null,{"$f":"IF($E282=0,'Sjekkliste for utfylling'!A456,\"\")","v":281},{"$f":"IF($E282=0,'Sjekkliste for utfylling'!B456,\"\")","v":"Dersom regnskapsmateriale er erstattet ved overføring av regnskapsinformasjon til elektronisk medium, oppbevares originalt regnskapsmateriale til det er tatt sikkerhetskopi av det elektroniske regnskapsmaterialet?"},null,null,{"$f":"IF(E282=0,'Sjekkliste for utfylling'!L456,\" \")","v":0}]
[{"$f":"'Sjekkliste for utfylling'!A459","v":282},{"$f":"IF('Sjekkliste for utfylling'!I459<>\"\",1,0)","v":0},{"$f":"IF('Sjekkliste for utfylling'!J459<>\"\",1,0)","v":0},{"$f":"IF('Sjekkliste for utfylling'!K459<>\"\",1,0)","v":0},0,null,{"$f":"IF($E283=0,'Sjekkliste for utfylling'!A459,\"\")","v":282},{"$f":"IF($E283=0,'Sjekkliste for utfylling'!B459,\"\")","v":"Er regnskapsmaterialet, samt bokførte opplysninger som skal holdes elektronisk tilgjengelige etter bkfl. § 13b, oppbevart på en måte som opprettholder lesekvaliteten i hele oppbevaringsperioden?"},null,null,{"$f":"IF(E283=0,'Sjekkliste for utfylling'!L459,\" \")","v":0}]
[{"$f":"'Sjekkliste for utfylling'!A460","v":283},{"$f":"IF('Sjekkliste for utfylling'!I460<>\"\",1,0)","v":0},{"$f":"IF('Sjekkliste for utfylling'!J460<>\"\",1,0)","v":0},{"$f":"IF('Sjekkliste for utfylling'!K460<>\"\",1,0)","v":0},0,null,{"$f":"IF($E284=0,'Sjekkliste for utfylling'!A460,\"\")","v":283},{"$f":"IF($E284=0,'Sjekkliste for utfylling'!B460,\"\")","v":"Kan regnskapsmaterialet fremlegges for offentlig kontrollmyndighet i hele oppbevaringstiden i en form som muliggjør etterkontroll?"},null,null,{"$f":"IF(E284=0,'Sjekkliste for utfylling'!L460,\" \")","v":0}]
[{"$f":"'Sjekkliste for utfylling'!A461","v":284},{"$f":"IF('Sjekkliste for utfylling'!I461<>\"\",1,0)","v":0},{"$f":"IF('Sjekkliste for utfylling'!J461<>\"\",1,0)","v":0},{"$f":"IF('Sjekkliste for utfylling'!K461<>\"\",1,0)","v":0},0,null,{"$f":"IF($E285=0,'Sjekkliste for utfylling'!A461,\"\")","v":284},{"$f":"IF($E285=0,'Sjekkliste for utfylling'!B461,\"\")","v":"Er regnskapsmaterialet og regnskapsdata oppbevart på et medium som opprettholder lesekvaliteten i hele oppbevaringsperioden?"},null,null,{"$f":"IF(E285=0,'Sjekkliste for utfylling'!L461,\" \")","v":0}]
[{"$f":"'Sjekkliste for utfylling'!A462","v":285},{"$f":"IF('Sjekkliste for utfylling'!I462<>\"\",1,0)","v":0},{"$f":"IF('Sjekkliste for utfylling'!J462<>\"\",1,0)","v":0},{"$f":"IF('Sjekkliste for utfylling'!K462<>\"\",1,0)","v":0},0,null,{"$f":"IF($E286=0,'Sjekkliste for utfylling'!A462,\"\")","v":285},{"$f":"IF($E286=0,'Sjekkliste for utfylling'!B462,\"\")","v":"Kan regnskapsmateriale skrives ut på papir i hele oppbevaringsperioden?"},null,null,{"$f":"IF(E286=0,'Sjekkliste for utfylling'!L462,\" \")","v":0}]
[{"$f":"'Sjekkliste for utfylling'!A463","v":286},{"$f":"IF('Sjekkliste for utfylling'!I463<>\"\",1,0)","v":0},{"$f":"IF('Sjekkliste for utfylling'!J463<>\"\",1,0)","v":0},{"$f":"IF('Sjekkliste for utfylling'!K463<>\"\",1,0)","v":0},0,null,{"$f":"IF($E287=0,'Sjekkliste for utfylling'!A463,\"\")","v":286},{"$f":"IF($E287=0,'Sjekkliste for utfylling'!B463,\"\")","v":"Ved bokføring ved bruk av regneark, er spesifikasjoner av pliktig regnskapsrapportering oppbevart på papir eller skannet for elektronisk oppbevaring?"},null,null,{"$f":"IF(E287=0,'Sjekkliste for utfylling'!L463,\" \")","v":0}]
[{"$f":"'Sjekkliste for utfylling'!A466","v":287},{"$f":"IF('Sjekkliste for utfylling'!I466<>\"\",1,0)","v":0},{"$f":"IF('Sjekkliste for utfylling'!J466<>\"\",1,0)","v":0},{"$f":"IF('Sjekkliste for utfylling'!K466<>\"\",1,0)","v":0},0,null,{"$f":"IF($E288=0,'Sjekkliste for utfylling'!A466,\"\")","v":287},{"$f":"IF($E288=0,'Sjekkliste for utfylling'!B466,\"\")","v":"Dersom hele eller deler av regnskapsføringen foregår i utlandet, er regnskapsmaterialet overført til oppbevaring i Norge innen en måned etter fastsetting av årsregnskapet og senest sju måneder etter regnskapsårets slutt?"},null,null,{"$f":"IF(E288=0,'Sjekkliste for utfylling'!L466,\" \")","v":0}]
[{"$f":"'Sjekkliste for utfylling'!A467","v":288},{"$f":"IF('Sjekkliste for utfylling'!I467<>\"\",1,0)","v":0},{"$f":"IF('Sjekkliste for utfylling'!J467<>\"\",1,0)","v":0},{"$f":"IF('Sjekkliste for utfylling'!K467<>\"\",1,0)","v":0},0,null,{"$f":"IF($E289=0,'Sjekkliste for utfylling'!A467,\"\")","v":288},{"$f":"IF($E289=0,'Sjekkliste for utfylling'!B467,\"\")","v":"Er regnskapsmateriale knyttet til virksomhet i utlandet oppbevart i dette landet fordi det aktuelle lands lovgivning pålegger det?"},null,null,{"$f":"IF(E289=0,'Sjekkliste for utfylling'!L467,\" \")","v":0}]
[{"$f":"'Sjekkliste for utfylling'!A468","v":289},{"$f":"IF('Sjekkliste for utfylling'!I468<>\"\",1,0)","v":0},{"$f":"IF('Sjekkliste for utfylling'!J468<>\"\",1,0)","v":0},{"$f":"IF('Sjekkliste for utfylling'!K468<>\"\",1,0)","v":0},0,null,{"$f":"IF($E290=0,'Sjekkliste for utfylling'!A468,\"\")","v":289},{"$f":"IF($E290=0,'Sjekkliste for utfylling'!B468,\"\")","v":"Kan regnskapsmateriale oppbevart i utlandet uten ugrunnet opphold fremlegges for offentlige kontrollmyndigheter i Norge i hele oppbevaringstiden?"},null,null,{"$f":"IF(E290=0,'Sjekkliste for utfylling'!L468,\" \")","v":0}]
[{"$f":"'Sjekkliste for utfylling'!A470","v":290},{"$f":"IF('Sjekkliste for utfylling'!I470<>\"\",1,0)","v":0},{"$f":"IF('Sjekkliste for utfylling'!J470<>\"\",1,0)","v":0},{"$f":"IF('Sjekkliste for utfylling'!K470<>\"\",1,0)","v":0},0,null,{"$f":"IF($E291=0,'Sjekkliste for utfylling'!A470,\"\")","v":290},{"$f":"IF($E291=0,'Sjekkliste for utfylling'!B470,\"\")","v":"Er det gitt skriftlig informasjon til Skattedirektoratet dersom elektronisk regnskapsmateriale oppbevares i Danmark, Finland, Island eller Sverige?"},null,null,{"$f":"IF(E291=0,'Sjekkliste for utfylling'!L470,\" \")","v":0}]
[{"$f":"'Sjekkliste for utfylling'!A471","v":291},{"$f":"IF('Sjekkliste for utfylling'!I471<>\"\",1,0)","v":0},{"$f":"IF('Sjekkliste for utfylling'!J471<>\"\",1,0)","v":0},{"$f":"IF('Sjekkliste for utfylling'!K471<>\"\",1,0)","v":0},0,null,{"$f":"IF($E292=0,'Sjekkliste for utfylling'!A471,\"\")","v":291},{"$f":"IF($E292=0,'Sjekkliste for utfylling'!B471,\"\")","v":"Er det søkt Skattedirektoratet om dispensasjon dersom elektronisk regnskapsmateriale oppbevares i andre EØS-land enn Danmark, Finland, Island eller Sverige?"},null,null,{"$f":"IF(E292=0,'Sjekkliste for utfylling'!L471,\" \")","v":0}]
[{"$f":"'Sjekkliste for utfylling'!A472","v":292},{"$f":"IF('Sjekkliste for utfylling'!I472<>\"\",1,0)","v":0},{"$f":"IF('Sjekkliste for utfylling'!J472<>\"\",1,0)","v":0},{"$f":"IF('Sjekkliste for utfylling'!K472<>\"\",1,0)","v":0},0,null,{"$f":"IF($E293=0,'Sjekkliste for utfylling'!A472,\"\")","v":292},{"$f":"IF($E293=0,'Sjekkliste for utfylling'!B472,\"\")","v":"Er slikt elektronisk regnskapsmateriale tilgjengelig i lesbar form og kan det skrives ut på papir i Norge?"},null,null,{"$f":"IF(E293=0,'Sjekkliste for utfylling'!L472,\" \")","v":0}]
[{"$f":"'Sjekkliste for utfylling'!A476","v":293},{"$f":"IF('Sjekkliste for utfylling'!I476<>\"\",1,0)","v":0},{"$f":"IF('Sjekkliste for utfylling'!J476<>\"\",1,0)","v":0},{"$f":"IF('Sjekkliste for utfylling'!K476<>\"\",1,0)","v":0},0,null,{"$f":"IF($E294=0,'Sjekkliste for utfylling'!A476,\"\")","v":293},{"$f":"IF($E294=0,'Sjekkliste for utfylling'!B476,\"\")","v":"Blir regnskapsperioder lukket innen fristene for pliktig regnskapsrapportering, og ikke sjeldnere enn hver fjerde måned?\nDepartementet kan i forskrift gjøre unntak fra kravet om ajourføring (og herunder lukking) hver fjerde måned for bokføringspliktige med få transaksjoner.\n"},null,null,{"$f":"IF(E294=0,'Sjekkliste for utfylling'!L476,\" \")","v":0}]
[{"$f":"'Sjekkliste for utfylling'!A477","v":294},{"$f":"IF('Sjekkliste for utfylling'!I477<>\"\",1,0)","v":0},{"$f":"IF('Sjekkliste for utfylling'!J477<>\"\",1,0)","v":0},{"$f":"IF('Sjekkliste for utfylling'!K477<>\"\",1,0)","v":0},0,null,{"$f":"IF($E295=0,'Sjekkliste for utfylling'!A477,\"\")","v":294},{"$f":"IF($E295=0,'Sjekkliste for utfylling'!B477,\"\")","v":"Skjer lukkingen på en måte som gir betryggende sikring mot endring eller sletting av bokførte opplysninger?"},null,null,{"$f":"IF(E295=0,'Sjekkliste for utfylling'!L477,\" \")","v":0}]
[{"$f":"'Sjekkliste for utfylling'!A478","v":295},{"$f":"IF('Sjekkliste for utfylling'!I478<>\"\",1,0)","v":0},{"$f":"IF('Sjekkliste for utfylling'!J478<>\"\",1,0)","v":0},{"$f":"IF('Sjekkliste for utfylling'!K478<>\"\",1,0)","v":0},0,null,{"$f":"IF($E296=0,'Sjekkliste for utfylling'!A478,\"\")","v":295},{"$f":"IF($E296=0,'Sjekkliste for utfylling'!B478,\"\")","v":"Foreligger det en beskrivelse av regnskapssystemets funksjonalitet for lukking av regnskapsperioder, herunder hvordan lukkingen gir betryggende sikring mot endring eller sletting av bokførte opplysninger?"},null,null,{"$f":"IF(E296=0,'Sjekkliste for utfylling'!L478,\" \")","v":0}]
[{"$f":"'Sjekkliste for utfylling'!A479","v":296},{"$f":"IF('Sjekkliste for utfylling'!I479<>\"\",1,0)","v":0},{"$f":"IF('Sjekkliste for utfylling'!J479<>\"\",1,0)","v":0},{"$f":"IF('Sjekkliste for utfylling'!K479<>\"\",1,0)","v":0},0,null,{"$f":"IF($E297=0,'Sjekkliste for utfylling'!A479,\"\")","v":296},{"$f":"IF($E297=0,'Sjekkliste for utfylling'!B479,\"\")","v":"Oppbevares beskrivelsen i 5 år etter regnskapsårets slutt?"},null,null,{"$f":"IF(E297=0,'Sjekkliste for utfylling'!L479,\" \")","v":0}]
[{"$f":"'Sjekkliste for utfylling'!A482","v":297},{"$f":"IF('Sjekkliste for utfylling'!I482<>\"\",1,0)","v":0},{"$f":"IF('Sjekkliste for utfylling'!J482<>\"\",1,0)","v":0},{"$f":"IF('Sjekkliste for utfylling'!K482<>\"\",1,0)","v":0},0,null,{"$f":"IF($E298=0,'Sjekkliste for utfylling'!A482,\"\")","v":297},{"$f":"IF($E298=0,'Sjekkliste for utfylling'!B482,\"\")","v":"Er bokførte opplysninger som i utgangspunktet er tilgjengelig elektronisk, elektronisk tilgjengelig i tre år og seks måneder etter regnskapsårets slutt?\n\nKravet gjelder ikke for bokføringspliktige som har mindre enn 5 millioner kroner i omsetning eksklusiv merverdiavgift.\nInntekter fra salg av verdipapirer anses som omsetning etter denne bestemmelsen dersom investeringsvirksomheten er hovedaktiviteten i foretaket. "},null,null,{"$f":"IF(E298=0,'Sjekkliste for utfylling'!L482,\" \")","v":0}]
[{"$f":"'Sjekkliste for utfylling'!A483","v":298},{"$f":"IF('Sjekkliste for utfylling'!I483<>\"\",1,0)","v":0},{"$f":"IF('Sjekkliste for utfylling'!J483<>\"\",1,0)","v":0},{"$f":"IF('Sjekkliste for utfylling'!K483<>\"\",1,0)","v":0},0,null,{"$f":"IF($E299=0,'Sjekkliste for utfylling'!A483,\"\")","v":298},{"$f":"IF($E299=0,'Sjekkliste for utfylling'!B483,\"\")","v":"Foreligger det sikkerhetskopi, oppbevart adskilt fra originalen, av elektronisk regnskapsmateriale?"},null,null,{"$f":"IF(E299=0,'Sjekkliste for utfylling'!L483,\" \")","v":0}]
[{"$f":"'Sjekkliste for utfylling'!A484","v":299},{"$f":"IF('Sjekkliste for utfylling'!I484<>\"\",1,0)","v":0},{"$f":"IF('Sjekkliste for utfylling'!J484<>\"\",1,0)","v":0},{"$f":"IF('Sjekkliste for utfylling'!K484<>\"\",1,0)","v":0},0,null,{"$f":"IF($E300=0,'Sjekkliste for utfylling'!A484,\"\")","v":299},{"$f":"IF($E300=0,'Sjekkliste for utfylling'!B484,\"\")","v":"Ved lagring i utlandet, er de bokførte opplysningene tilgjengelig gjennom terminal eller lignende i Norge?"},null,null,{"$f":"IF(E300=0,'Sjekkliste for utfylling'!L484,\" \")","v":0}]
[{"$f":"'Sjekkliste for utfylling'!A487","v":300},{"$f":"IF('Sjekkliste for utfylling'!I487<>\"\",1,0)","v":0},{"$f":"IF('Sjekkliste for utfylling'!J487<>\"\",1,0)","v":0},{"$f":"IF('Sjekkliste for utfylling'!K487<>\"\",1,0)","v":0},0,null,{"$f":"IF($E301=0,'Sjekkliste for utfylling'!A487,\"\")","v":300},{"$f":"IF($E301=0,'Sjekkliste for utfylling'!B487,\"\")","v":"Kan bokførte opplysninger gjengis i standardisert form fastsatt av Skattedirektoratet?"},null,null,{"$f":"IF(E301=0,'Sjekkliste for utfylling'!L487,\" \")","v":0}]
[{"$f":"'Sjekkliste for utfylling'!A494","v":301},{"$f":"IF('Sjekkliste for utfylling'!I494<>\"\",1,0)","v":0},{"$f":"IF('Sjekkliste for utfylling'!J494<>\"\",1,0)","v":0},{"$f":"IF('Sjekkliste for utfylling'!K494<>\"\",1,0)","v":1},1,{"$f":"IF(E302=0,1,0)","v":0},{"$f":"IF($E302=0,'Sjekkliste for utfylling'!A494,\"\")","v":""},{"$f":"IF($E302=0,'Sjekkliste for utfylling'!B494,\"\")","v":""},null,null,{"$f":"IF(E302=0,'Sjekkliste for utfylling'!L494,\" \")","v":" "}]
[{"$f":"'Sjekkliste for utfylling'!A495","v":302},{"$f":"IF('Sjekkliste for utfylling'!I495<>\"\",1,0)","v":0},{"$f":"IF('Sjekkliste for utfylling'!J495<>\"\",1,0)","v":0},{"$f":"IF('Sjekkliste for utfylling'!K495<>\"\",1,0)","v":1},1,0,{"$f":"IF($E303=0,'Sjekkliste for utfylling'!A495,\"\")","v":""},{"$f":"IF($E303=0,'Sjekkliste for utfylling'!B495,\"\")","v":""},null,null,{"$f":"IF(E303=0,'Sjekkliste for utfylling'!L495,\" \")","v":" "}]
[{"$f":"'Sjekkliste for utfylling'!A496","v":303},{"$f":"IF('Sjekkliste for utfylling'!I496<>\"\",1,0)","v":0},{"$f":"IF('Sjekkliste for utfylling'!J496<>\"\",1,0)","v":0},{"$f":"IF('Sjekkliste for utfylling'!K496<>\"\",1,0)","v":1},1,0,{"$f":"IF($E304=0,'Sjekkliste for utfylling'!A496,\"\")","v":""},{"$f":"IF($E304=0,'Sjekkliste for utfylling'!B496,\"\")","v":""},null,null,{"$f":"IF(E304=0,'Sjekkliste for utfylling'!L496,\" \")","v":" "}]
[{"$f":"'Sjekkliste for utfylling'!A497","v":304},{"$f":"IF('Sjekkliste for utfylling'!I497<>\"\",1,0)","v":0},{"$f":"IF('Sjekkliste for utfylling'!J497<>\"\",1,0)","v":0},{"$f":"IF('Sjekkliste for utfylling'!K497<>\"\",1,0)","v":1},1,0,{"$f":"IF($E305=0,'Sjekkliste for utfylling'!A497,\"\")","v":""},{"$f":"IF($E305=0,'Sjekkliste for utfylling'!B497,\"\")","v":""},null,null,{"$f":"IF(E305=0,'Sjekkliste for utfylling'!L497,\" \")","v":" "}]
[{"$f":"'Sjekkliste for utfylling'!A498","v":305},{"$f":"IF('Sjekkliste for utfylling'!I498<>\"\",1,0)","v":0},{"$f":"IF('Sjekkliste for utfylling'!J498<>\"\",1,0)","v":0},{"$f":"IF('Sjekkliste for utfylling'!K498<>\"\",1,0)","v":1},1,0,{"$f":"IF($E306=0,'Sjekkliste for utfylling'!A498,\"\")","v":""},{"$f":"IF($E306=0,'Sjekkliste for utfylling'!B498,\"\")","v":""},null,null,{"$f":"IF(E306=0,'Sjekkliste for utfylling'!L498,\" \")","v":" "}]
[{"$f":"'Sjekkliste for utfylling'!A499","v":306},{"$f":"IF('Sjekkliste for utfylling'!I499<>\"\",1,0)","v":0},{"$f":"IF('Sjekkliste for utfylling'!J499<>\"\",1,0)","v":0},{"$f":"IF('Sjekkliste for utfylling'!K499<>\"\",1,0)","v":1},1,0,{"$f":"IF($E307=0,'Sjekkliste for utfylling'!A499,\"\")","v":""},{"$f":"IF($E307=0,'Sjekkliste for utfylling'!B499,\"\")","v":""},null,null,{"$f":"IF(E307=0,'Sjekkliste for utfylling'!L499,\" \")","v":" "}]
[{"$f":"'Sjekkliste for utfylling'!A501","v":307},{"$f":"IF('Sjekkliste for utfylling'!I501<>\"\",1,0)","v":0},{"$f":"IF('Sjekkliste for utfylling'!J501<>\"\",1,0)","v":0},{"$f":"IF('Sjekkliste for utfylling'!K501<>\"\",1,0)","v":1},1,0,{"$f":"IF($E308=0,'Sjekkliste for utfylling'!A501,\"\")","v":""},{"$f":"IF($E308=0,'Sjekkliste for utfylling'!B501,\"\")","v":""},null,null,{"$f":"IF(E308=0,'Sjekkliste for utfylling'!L501,\" \")","v":" "}]
[{"$f":"'Sjekkliste for utfylling'!A502","v":308},{"$f":"IF('Sjekkliste for utfylling'!I502<>\"\",1,0)","v":0},{"$f":"IF('Sjekkliste for utfylling'!J502<>\"\",1,0)","v":0},{"$f":"IF('Sjekkliste for utfylling'!K502<>\"\",1,0)","v":1},1,0,{"$f":"IF($E309=0,'Sjekkliste for utfylling'!A502,\"\")","v":""},{"$f":"IF($E309=0,'Sjekkliste for utfylling'!B502,\"\")","v":""},null,null,{"$f":"IF(E309=0,'Sjekkliste for utfylling'!L502,\" \")","v":" "}]
[{"$f":"'Sjekkliste for utfylling'!A503","v":309},{"$f":"IF('Sjekkliste for utfylling'!I503<>\"\",1,0)","v":0},{"$f":"IF('Sjekkliste for utfylling'!J503<>\"\",1,0)","v":0},{"$f":"IF('Sjekkliste for utfylling'!K503<>\"\",1,0)","v":1},1,0,{"$f":"IF($E310=0,'Sjekkliste for utfylling'!A503,\"\")","v":""},{"$f":"IF($E310=0,'Sjekkliste for utfylling'!B503,\"\")","v":""},null,null,{"$f":"IF(E310=0,'Sjekkliste for utfylling'!L503,\" \")","v":" "}]
[{"$f":"'Sjekkliste for utfylling'!A504","v":310},{"$f":"IF('Sjekkliste for utfylling'!I504<>\"\",1,0)","v":0},{"$f":"IF('Sjekkliste for utfylling'!J504<>\"\",1,0)","v":0},{"$f":"IF('Sjekkliste for utfylling'!K504<>\"\",1,0)","v":1},1,0,{"$f":"IF($E311=0,'Sjekkliste for utfylling'!A504,\"\")","v":""},{"$f":"IF($E311=0,'Sjekkliste for utfylling'!B504,\"\")","v":""},null,null,{"$f":"IF(E311=0,'Sjekkliste for utfylling'!L504,\" \")","v":" "}]
[{"$f":"'Sjekkliste for utfylling'!A505","v":311},{"$f":"IF('Sjekkliste for utfylling'!I505<>\"\",1,0)","v":0},{"$f":"IF('Sjekkliste for utfylling'!J505<>\"\",1,0)","v":0},{"$f":"IF('Sjekkliste for utfylling'!K505<>\"\",1,0)","v":1},1,0,{"$f":"IF($E312=0,'Sjekkliste for utfylling'!A505,\"\")","v":""},{"$f":"IF($E312=0,'Sjekkliste for utfylling'!B505,\"\")","v":""},null,null,{"$f":"IF(E312=0,'Sjekkliste for utfylling'!L505,\" \")","v":" "}]
[{"$f":"'Sjekkliste for utfylling'!A506","v":312},{"$f":"IF('Sjekkliste for utfylling'!I506<>\"\",1,0)","v":0},{"$f":"IF('Sjekkliste for utfylling'!J506<>\"\",1,0)","v":0},{"$f":"IF('Sjekkliste for utfylling'!K506<>\"\",1,0)","v":1},1,0,{"$f":"IF($E313=0,'Sjekkliste for utfylling'!A506,\"\")","v":""},{"$f":"IF($E313=0,'Sjekkliste for utfylling'!B506,\"\")","v":""},null,null,{"$f":"IF(E313=0,'Sjekkliste for utfylling'!L506,\" \")","v":" "}]
[{"$f":"'Sjekkliste for utfylling'!A507","v":313},{"$f":"IF('Sjekkliste for utfylling'!I507<>\"\",1,0)","v":0},{"$f":"IF('Sjekkliste for utfylling'!J507<>\"\",1,0)","v":0},{"$f":"IF('Sjekkliste for utfylling'!K507<>\"\",1,0)","v":1},1,0,{"$f":"IF($E314=0,'Sjekkliste for utfylling'!A507,\"\")","v":""},{"$f":"IF($E314=0,'Sjekkliste for utfylling'!B507,\"\")","v":""},null,null,{"$f":"IF(E314=0,'Sjekkliste for utfylling'!L507,\" \")","v":" "}]
[{"$f":"'Sjekkliste for utfylling'!A508","v":314},{"$f":"IF('Sjekkliste for utfylling'!I508<>\"\",1,0)","v":0},{"$f":"IF('Sjekkliste for utfylling'!J508<>\"\",1,0)","v":0},{"$f":"IF('Sjekkliste for utfylling'!K508<>\"\",1,0)","v":1},1,0,{"$f":"IF($E315=0,'Sjekkliste for utfylling'!A508,\"\")","v":""},{"$f":"IF($E315=0,'Sjekkliste for utfylling'!B508,\"\")","v":""},null,null,{"$f":"IF(E315=0,'Sjekkliste for utfylling'!L508,\" \")","v":" "}]
[{"$f":"'Sjekkliste for utfylling'!A509","v":315},{"$f":"IF('Sjekkliste for utfylling'!I509<>\"\",1,0)","v":0},{"$f":"IF('Sjekkliste for utfylling'!J509<>\"\",1,0)","v":0},{"$f":"IF('Sjekkliste for utfylling'!K509<>\"\",1,0)","v":1},1,0,{"$f":"IF($E316=0,'Sjekkliste for utfylling'!A509,\"\")","v":""},{"$f":"IF($E316=0,'Sjekkliste for utfylling'!B509,\"\")","v":""},null,null,{"$f":"IF(E316=0,'Sjekkliste for utfylling'!L509,\" \")","v":" "}]
[{"$f":"'Sjekkliste for utfylling'!A510","v":316},{"$f":"IF('Sjekkliste for utfylling'!I510<>\"\",1,0)","v":0},{"$f":"IF('Sjekkliste for utfylling'!J510<>\"\",1,0)","v":0},{"$f":"IF('Sjekkliste for utfylling'!K510<>\"\",1,0)","v":1},1,0,{"$f":"IF($E317=0,'Sjekkliste for utfylling'!A510,\"\")","v":""},{"$f":"IF($E317=0,'Sjekkliste for utfylling'!B510,\"\")","v":""},null,null,{"$f":"IF(E317=0,'Sjekkliste for utfylling'!L510,\" \")","v":" "}]
[{"$f":"'Sjekkliste for utfylling'!A524","v":317},{"$f":"IF('Sjekkliste for utfylling'!I524<>\"\",1,0)","v":0},{"$f":"IF('Sjekkliste for utfylling'!J524<>\"\",1,0)","v":0},{"$f":"IF('Sjekkliste for utfylling'!K524<>\"\",1,0)","v":1},1,0,{"$f":"IF($E318=0,'Sjekkliste for utfylling'!A524,\"\")","v":""},{"$f":"IF($E318=0,'Sjekkliste for utfylling'!B524,\"\")","v":""},null,null,{"$f":"IF(E318=0,'Sjekkliste for utfylling'!L524,\" \")","v":" "}]
[{"$f":"'Sjekkliste for utfylling'!A525","v":318},{"$f":"IF('Sjekkliste for utfylling'!I525<>\"\",1,0)","v":0},{"$f":"IF('Sjekkliste for utfylling'!J525<>\"\",1,0)","v":0},{"$f":"IF('Sjekkliste for utfylling'!K525<>\"\",1,0)","v":1},1,0,{"$f":"IF($E319=0,'Sjekkliste for utfylling'!A525,\"\")","v":""},{"$f":"IF($E319=0,'Sjekkliste for utfylling'!B525,\"\")","v":""},null,null,{"$f":"IF(E319=0,'Sjekkliste for utfylling'!L525,\" \")","v":" "}]
[{"$f":"'Sjekkliste for utfylling'!A526","v":319},{"$f":"IF('Sjekkliste for utfylling'!I526<>\"\",1,0)","v":0},{"$f":"IF('Sjekkliste for utfylling'!J526<>\"\",1,0)","v":0},{"$f":"IF('Sjekkliste for utfylling'!K526<>\"\",1,0)","v":1},1,0,{"$f":"IF($E320=0,'Sjekkliste for utfylling'!A526,\"\")","v":""},{"$f":"IF($E320=0,'Sjekkliste for utfylling'!B526,\"\")","v":""},null,null,{"$f":"IF(E320=0,'Sjekkliste for utfylling'!L526,\" \")","v":" "}]
[{"$f":"'Sjekkliste for utfylling'!A527","v":320},{"$f":"IF('Sjekkliste for utfylling'!I527<>\"\",1,0)","v":0},{"$f":"IF('Sjekkliste for utfylling'!J527<>\"\",1,0)","v":0},{"$f":"IF('Sjekkliste for utfylling'!K527<>\"\",1,0)","v":1},1,0,{"$f":"IF($E321=0,'Sjekkliste for utfylling'!A527,\"\")","v":""},{"$f":"IF($E321=0,'Sjekkliste for utfylling'!B527,\"\")","v":""},null,null,{"$f":"IF(E321=0,'Sjekkliste for utfylling'!L527,\" \")","v":" "}]
[{"$f":"'Sjekkliste for utfylling'!A528","v":321},{"$f":"IF('Sjekkliste for utfylling'!I528<>\"\",1,0)","v":0},{"$f":"IF('Sjekkliste for utfylling'!J528<>\"\",1,0)","v":0},{"$f":"IF('Sjekkliste for utfylling'!K528<>\"\",1,0)","v":1},{"$f":"SUM(B322:D322)","v":1},0,{"$f":"IF($E322=0,'Sjekkliste for utfylling'!A528,\"\")","v":""},{"$f":"IF($E322=0,'Sjekkliste for utfylling'!B528,\"\")","v":""},null,null,{"$f":"IF(E322=0,'Sjekkliste for utfylling'!L528,\" \")","v":" "}]
[{"$f":"'Sjekkliste for utfylling'!A529","v":322},{"$f":"IF('Sjekkliste for utfylling'!I529<>\"\",1,0)","v":0},{"$f":"IF('Sjekkliste for utfylling'!J529<>\"\",1,0)","v":0},{"$f":"IF('Sjekkliste for utfylling'!K529<>\"\",1,0)","v":1},1,0,{"$f":"IF($E323=0,'Sjekkliste for utfylling'!A529,\"\")","v":""},{"$f":"IF($E323=0,'Sjekkliste for utfylling'!B529,\"\")","v":""},null,null,{"$f":"IF(E323=0,'Sjekkliste for utfylling'!L529,\" \")","v":" "}]
[{"$f":"'Sjekkliste for utfylling'!A531","v":323},{"$f":"IF('Sjekkliste for utfylling'!I531<>\"\",1,0)","v":0},{"$f":"IF('Sjekkliste for utfylling'!J531<>\"\",1,0)","v":0},{"$f":"IF('Sjekkliste for utfylling'!K531<>\"\",1,0)","v":1},1,0,{"$f":"IF($E324=0,'Sjekkliste for utfylling'!A531,\"\")","v":""},{"$f":"IF($E324=0,'Sjekkliste for utfylling'!B531,\"\")","v":""},null,null,{"$f":"IF(E324=0,'Sjekkliste for utfylling'!L531,\" \")","v":" "}]
[{"$f":"'Sjekkliste for utfylling'!A533","v":324},{"$f":"IF('Sjekkliste for utfylling'!I533<>\"\",1,0)","v":0},{"$f":"IF('Sjekkliste for utfylling'!J533<>\"\",1,0)","v":0},{"$f":"IF('Sjekkliste for utfylling'!K533<>\"\",1,0)","v":1},1,0,{"$f":"IF($E325=0,'Sjekkliste for utfylling'!A533,\"\")","v":""},{"$f":"IF($E325=0,'Sjekkliste for utfylling'!B533,\"\")","v":""},null,null,{"$f":"IF(E325=0,'Sjekkliste for utfylling'!L533,\" \")","v":" "}]
[{"$f":"'Sjekkliste for utfylling'!A534","v":325},{"$f":"IF('Sjekkliste for utfylling'!I534<>\"\",1,0)","v":0},{"$f":"IF('Sjekkliste for utfylling'!J534<>\"\",1,0)","v":0},{"$f":"IF('Sjekkliste for utfylling'!K534<>\"\",1,0)","v":1},1,0,{"$f":"IF($E326=0,'Sjekkliste for utfylling'!A534,\"\")","v":""},{"$f":"IF($E326=0,'Sjekkliste for utfylling'!B534,\"\")","v":""},null,null,{"$f":"IF(E326=0,'Sjekkliste for utfylling'!L534,\" \")","v":" "}]
[{"$f":"'Sjekkliste for utfylling'!A537","v":326},{"$f":"IF('Sjekkliste for utfylling'!I537<>\"\",1,0)","v":0},{"$f":"IF('Sjekkliste for utfylling'!J537<>\"\",1,0)","v":0},{"$f":"IF('Sjekkliste for utfylling'!K537<>\"\",1,0)","v":1},1,0,{"$f":"IF($E327=0,'Sjekkliste for utfylling'!A537,\"\")","v":""},{"$f":"IF($E327=0,'Sjekkliste for utfylling'!B537,\"\")","v":""},null,null,{"$f":"IF(E327=0,'Sjekkliste for utfylling'!L537,\" \")","v":" "}]
[{"$f":"'Sjekkliste for utfylling'!A539","v":327},{"$f":"IF('Sjekkliste for utfylling'!I539<>\"\",1,0)","v":0},{"$f":"IF('Sjekkliste for utfylling'!J539<>\"\",1,0)","v":0},{"$f":"IF('Sjekkliste for utfylling'!K539<>\"\",1,0)","v":1},1,0,{"$f":"IF($E328=0,'Sjekkliste for utfylling'!A539,\"\")","v":""},{"$f":"IF($E328=0,'Sjekkliste for utfylling'!B539,\"\")","v":""},null,null,{"$f":"IF(E328=0,'Sjekkliste for utfylling'!L539,\" \")","v":" "}]
[{"$f":"'Sjekkliste for utfylling'!A541","v":328},{"$f":"IF('Sjekkliste for utfylling'!I541<>\"\",1,0)","v":0},{"$f":"IF('Sjekkliste for utfylling'!J541<>\"\",1,0)","v":0},{"$f":"IF('Sjekkliste for utfylling'!K541<>\"\",1,0)","v":1},1,0,{"$f":"IF($E329=0,'Sjekkliste for utfylling'!A541,\"\")","v":""},{"$f":"IF($E329=0,'Sjekkliste for utfylling'!B541,\"\")","v":""},null,null,{"$f":"IF(E329=0,'Sjekkliste for utfylling'!L541,\" \")","v":" "}]
[{"$f":"'Sjekkliste for utfylling'!A542","v":329},{"$f":"IF('Sjekkliste for utfylling'!I542<>\"\",1,0)","v":0},{"$f":"IF('Sjekkliste for utfylling'!J542<>\"\",1,0)","v":0},{"$f":"IF('Sjekkliste for utfylling'!K542<>\"\",1,0)","v":1},1,0,{"$f":"IF($E330=0,'Sjekkliste for utfylling'!A542,\"\")","v":""},{"$f":"IF($E330=0,'Sjekkliste for utfylling'!B542,\"\")","v":""},null,null,{"$f":"IF(E330=0,'Sjekkliste for utfylling'!L542,\" \")","v":" "}]
[{"$f":"'Sjekkliste for utfylling'!A543","v":330},{"$f":"IF('Sjekkliste for utfylling'!I543<>\"\",1,0)","v":0},{"$f":"IF('Sjekkliste for utfylling'!J543<>\"\",1,0)","v":0},{"$f":"IF('Sjekkliste for utfylling'!K543<>\"\",1,0)","v":1},1,0,{"$f":"IF($E331=0,'Sjekkliste for utfylling'!A543,\"\")","v":""},{"$f":"IF($E331=0,'Sjekkliste for utfylling'!B543,\"\")","v":""},null,null,{"$f":"IF(E331=0,'Sjekkliste for utfylling'!L543,\" \")","v":" "}]
[{"$f":"'Sjekkliste for utfylling'!A544","v":331},{"$f":"IF('Sjekkliste for utfylling'!I544<>\"\",1,0)","v":0},{"$f":"IF('Sjekkliste for utfylling'!J544<>\"\",1,0)","v":0},{"$f":"IF('Sjekkliste for utfylling'!K544<>\"\",1,0)","v":1},1,0,{"$f":"IF($E332=0,'Sjekkliste for utfylling'!A544,\"\")","v":""},{"$f":"IF($E332=0,'Sjekkliste for utfylling'!B544,\"\")","v":""},null,null,{"$f":"IF(E332=0,'Sjekkliste for utfylling'!L544,\" \")","v":" "}]
[{"$f":"'Sjekkliste for utfylling'!A545","v":332},{"$f":"IF('Sjekkliste for utfylling'!I545<>\"\",1,0)","v":0},{"$f":"IF('Sjekkliste for utfylling'!J545<>\"\",1,0)","v":0},{"$f":"IF('Sjekkliste for utfylling'!K545<>\"\",1,0)","v":1},1,0,{"$f":"IF($E333=0,'Sjekkliste for utfylling'!A545,\"\")","v":""},{"$f":"IF($E333=0,'Sjekkliste for utfylling'!B545,\"\")","v":""},null,null,{"$f":"IF(E333=0,'Sjekkliste for utfylling'!L545,\" \")","v":" "}]
[{"$f":"'Sjekkliste for utfylling'!A546","v":333},{"$f":"IF('Sjekkliste for utfylling'!I546<>\"\",1,0)","v":0},{"$f":"IF('Sjekkliste for utfylling'!J546<>\"\",1,0)","v":0},{"$f":"IF('Sjekkliste for utfylling'!K546<>\"\",1,0)","v":1},1,{"$f":"IF(E334=0,1,0)","v":0},{"$f":"IF($E334=0,'Sjekkliste for utfylling'!A546,\"\")","v":""},{"$f":"IF($E334=0,'Sjekkliste for utfylling'!B546,\"\")","v":""},null,null,{"$f":"IF(E334=0,'Sjekkliste for utfylling'!L546,\" \")","v":" "}]
[{"$f":"'Sjekkliste for utfylling'!A547","v":334},{"$f":"IF('Sjekkliste for utfylling'!I547<>\"\",1,0)","v":0},{"$f":"IF('Sjekkliste for utfylling'!J547<>\"\",1,0)","v":0},{"$f":"IF('Sjekkliste for utfylling'!K547<>\"\",1,0)","v":1},1,0,{"$f":"IF($E335=0,'Sjekkliste for utfylling'!A547,\"\")","v":""},{"$f":"IF($E335=0,'Sjekkliste for utfylling'!B547,\"\")","v":""},null,null,{"$f":"IF(E335=0,'Sjekkliste for utfylling'!L547,\" \")","v":" "}]
[{"$f":"'Sjekkliste for utfylling'!A548","v":335},{"$f":"IF('Sjekkliste for utfylling'!I548<>\"\",1,0)","v":0},{"$f":"IF('Sjekkliste for utfylling'!J548<>\"\",1,0)","v":0},{"$f":"IF('Sjekkliste for utfylling'!K548<>\"\",1,0)","v":1},1,0,{"$f":"IF($E336=0,'Sjekkliste for utfylling'!A548,\"\")","v":""},{"$f":"IF($E336=0,'Sjekkliste for utfylling'!B548,\"\")","v":""},null,null,{"$f":"IF(E336=0,'Sjekkliste for utfylling'!L548,\" \")","v":" "}]
[{"$f":"'Sjekkliste for utfylling'!A549","v":336},{"$f":"IF('Sjekkliste for utfylling'!I549<>\"\",1,0)","v":0},{"$f":"IF('Sjekkliste for utfylling'!J549<>\"\",1,0)","v":0},{"$f":"IF('Sjekkliste for utfylling'!K549<>\"\",1,0)","v":1},1,0,{"$f":"IF($E337=0,'Sjekkliste for utfylling'!A549,\"\")","v":""},{"$f":"IF($E337=0,'Sjekkliste for utfylling'!B549,\"\")","v":""},null,null,{"$f":"IF(E337=0,'Sjekkliste for utfylling'!L549,\" \")","v":" "}]
[{"$f":"'Sjekkliste for utfylling'!A550","v":337},{"$f":"IF('Sjekkliste for utfylling'!I550<>\"\",1,0)","v":0},{"$f":"IF('Sjekkliste for utfylling'!J550<>\"\",1,0)","v":0},{"$f":"IF('Sjekkliste for utfylling'!K550<>\"\",1,0)","v":1},1,0,{"$f":"IF($E338=0,'Sjekkliste for utfylling'!A550,\"\")","v":""},{"$f":"IF($E338=0,'Sjekkliste for utfylling'!B550,\"\")","v":""},null,null,{"$f":"IF(E338=0,'Sjekkliste for utfylling'!L550,\" \")","v":" "}]
[{"$f":"'Sjekkliste for utfylling'!A551","v":338},{"$f":"IF('Sjekkliste for utfylling'!I551<>\"\",1,0)","v":0},{"$f":"IF('Sjekkliste for utfylling'!J551<>\"\",1,0)","v":0},{"$f":"IF('Sjekkliste for utfylling'!K551<>\"\",1,0)","v":1},1,0,{"$f":"IF($E339=0,'Sjekkliste for utfylling'!A551,\"\")","v":""},{"$f":"IF($E339=0,'Sjekkliste for utfylling'!B551,\"\")","v":""},null,null,{"$f":"IF(E339=0,'Sjekkliste for utfylling'!L551,\" \")","v":" "}]
[{"$f":"'Sjekkliste for utfylling'!A552","v":339},{"$f":"IF('Sjekkliste for utfylling'!I552<>\"\",1,0)","v":0},{"$f":"IF('Sjekkliste for utfylling'!J552<>\"\",1,0)","v":0},{"$f":"IF('Sjekkliste for utfylling'!K552<>\"\",1,0)","v":1},1,0,{"$f":"IF($E340=0,'Sjekkliste for utfylling'!A552,\"\")","v":""},{"$f":"IF($E340=0,'Sjekkliste for utfylling'!B552,\"\")","v":""},null,null,{"$f":"IF(E340=0,'Sjekkliste for utfylling'!L552,\" \")","v":" "}]
[{"$f":"'Sjekkliste for utfylling'!A553","v":340},{"$f":"IF('Sjekkliste for utfylling'!I553<>\"\",1,0)","v":0},{"$f":"IF('Sjekkliste for utfylling'!J553<>\"\",1,0)","v":0},{"$f":"IF('Sjekkliste for utfylling'!K553<>\"\",1,0)","v":1},1,0,{"$f":"IF($E341=0,'Sjekkliste for utfylling'!A553,\"\")","v":""},{"$f":"IF($E341=0,'Sjekkliste for utfylling'!B553,\"\")","v":""},null,null,{"$f":"IF(E341=0,'Sjekkliste for utfylling'!L553,\" \")","v":" "}]
[{"$f":"'Sjekkliste for utfylling'!A554","v":341},{"$f":"IF('Sjekkliste for utfylling'!I554<>\"\",1,0)","v":0},{"$f":"IF('Sjekkliste for utfylling'!J554<>\"\",1,0)","v":0},{"$f":"IF('Sjekkliste for utfylling'!K554<>\"\",1,0)","v":1},1,0,{"$f":"IF($E342=0,'Sjekkliste for utfylling'!A554,\"\")","v":""},{"$f":"IF($E342=0,'Sjekkliste for utfylling'!B554,\"\")","v":""},null,null,{"$f":"IF(E342=0,'Sjekkliste for utfylling'!L554,\" \")","v":" "}]
[{"$f":"'Sjekkliste for utfylling'!A555","v":342},{"$f":"IF('Sjekkliste for utfylling'!I555<>\"\",1,0)","v":0},{"$f":"IF('Sjekkliste for utfylling'!J555<>\"\",1,0)","v":0},{"$f":"IF('Sjekkliste for utfylling'!K555<>\"\",1,0)","v":1},1,0,{"$f":"IF($E343=0,'Sjekkliste for utfylling'!A555,\"\")","v":""},{"$f":"IF($E343=0,'Sjekkliste for utfylling'!B555,\"\")","v":""},null,null,{"$f":"IF(E343=0,'Sjekkliste for utfylling'!L555,\" \")","v":" "}]
[{"$f":"'Sjekkliste for utfylling'!A556","v":343},{"$f":"IF('Sjekkliste for utfylling'!I556<>\"\",1,0)","v":0},{"$f":"IF('Sjekkliste for utfylling'!J556<>\"\",1,0)","v":0},{"$f":"IF('Sjekkliste for utfylling'!K556<>\"\",1,0)","v":1},1,0,{"$f":"IF($E344=0,'Sjekkliste for utfylling'!A556,\"\")","v":""},{"$f":"IF($E344=0,'Sjekkliste for utfylling'!B556,\"\")","v":""},null,null,{"$f":"IF(E344=0,'Sjekkliste for utfylling'!L556,\" \")","v":" "}]
[{"$f":"'Sjekkliste for utfylling'!A557","v":344},{"$f":"IF('Sjekkliste for utfylling'!I557<>\"\",1,0)","v":0},{"$f":"IF('Sjekkliste for utfylling'!J557<>\"\",1,0)","v":0},{"$f":"IF('Sjekkliste for utfylling'!K557<>\"\",1,0)","v":1},1,0,{"$f":"IF($E345=0,'Sjekkliste for utfylling'!A557,\"\")","v":""},{"$f":"IF($E345=0,'Sjekkliste for utfylling'!B557,\"\")","v":""},null,null,{"$f":"IF(E345=0,'Sjekkliste for utfylling'!L557,\" \")","v":" "}]
[{"$f":"'Sjekkliste for utfylling'!A558","v":345},{"$f":"IF('Sjekkliste for utfylling'!I558<>\"\",1,0)","v":0},{"$f":"IF('Sjekkliste for utfylling'!J558<>\"\",1,0)","v":0},{"$f":"IF('Sjekkliste for utfylling'!K558<>\"\",1,0)","v":1},1,0,{"$f":"IF($E346=0,'Sjekkliste for utfylling'!A558,\"\")","v":""},{"$f":"IF($E346=0,'Sjekkliste for utfylling'!B558,\"\")","v":""},null,null,{"$f":"IF(E346=0,'Sjekkliste for utfylling'!L558,\" \")","v":" "}]
[{"$f":"'Sjekkliste for utfylling'!A560","v":346},{"$f":"IF('Sjekkliste for utfylling'!I560<>\"\",1,0)","v":0},{"$f":"IF('Sjekkliste for utfylling'!J560<>\"\",1,0)","v":0},{"$f":"IF('Sjekkliste for utfylling'!K560<>\"\",1,0)","v":1},1,0,{"$f":"IF($E347=0,'Sjekkliste for utfylling'!A560,\"\")","v":""},{"$f":"IF($E347=0,'Sjekkliste for utfylling'!B560,\"\")","v":""},null,null,{"$f":"IF(E347=0,'Sjekkliste for utfylling'!L560,\" \")","v":" "}]
[{"$f":"'Sjekkliste for utfylling'!A563","v":347},{"$f":"IF('Sjekkliste for utfylling'!I563<>\"\",1,0)","v":0},{"$f":"IF('Sjekkliste for utfylling'!J563<>\"\",1,0)","v":0},{"$f":"IF('Sjekkliste for utfylling'!K563<>\"\",1,0)","v":1},1,0,{"$f":"IF($E348=0,'Sjekkliste for utfylling'!A563,\"\")","v":""},{"$f":"IF($E348=0,'Sjekkliste for utfylling'!B563,\"\")","v":""},null,null,{"$f":"IF(E348=0,'Sjekkliste for utfylling'!L563,\" \")","v":" "}]
[{"$f":"'Sjekkliste for utfylling'!A564","v":348},{"$f":"IF('Sjekkliste for utfylling'!I564<>\"\",1,0)","v":0},{"$f":"IF('Sjekkliste for utfylling'!J564<>\"\",1,0)","v":0},{"$f":"IF('Sjekkliste for utfylling'!K564<>\"\",1,0)","v":1},1,0,{"$f":"IF($E349=0,'Sjekkliste for utfylling'!A564,\"\")","v":""},{"$f":"IF($E349=0,'Sjekkliste for utfylling'!B564,\"\")","v":""},null,null,{"$f":"IF(E349=0,'Sjekkliste for utfylling'!L564,\" \")","v":" "}]
[{"$f":"'Sjekkliste for utfylling'!A566","v":349},{"$f":"IF('Sjekkliste for utfylling'!I566<>\"\",1,0)","v":0},{"$f":"IF('Sjekkliste for utfylling'!J566<>\"\",1,0)","v":0},{"$f":"IF('Sjekkliste for utfylling'!K566<>\"\",1,0)","v":1},1,0,{"$f":"IF($E350=0,'Sjekkliste for utfylling'!A566,\"\")","v":""},{"$f":"IF($E350=0,'Sjekkliste for utfylling'!B566,\"\")","v":""},null,null,{"$f":"IF(E350=0,'Sjekkliste for utfylling'!L566,\" \")","v":" "}]
[{"$f":"'Sjekkliste for utfylling'!A567","v":350},{"$f":"IF('Sjekkliste for utfylling'!I567<>\"\",1,0)","v":0},{"$f":"IF('Sjekkliste for utfylling'!J567<>\"\",1,0)","v":0},{"$f":"IF('Sjekkliste for utfylling'!K567<>\"\",1,0)","v":1},1,0,{"$f":"IF($E351=0,'Sjekkliste for utfylling'!A567,\"\")","v":""},{"$f":"IF($E351=0,'Sjekkliste for utfylling'!B567,\"\")","v":""},null,null,{"$f":"IF(E351=0,'Sjekkliste for utfylling'!L567,\" \")","v":" "}]
[{"$f":"'Sjekkliste for utfylling'!A568","v":351},{"$f":"IF('Sjekkliste for utfylling'!I568<>\"\",1,0)","v":0},{"$f":"IF('Sjekkliste for utfylling'!J568<>\"\",1,0)","v":0},{"$f":"IF('Sjekkliste for utfylling'!K568<>\"\",1,0)","v":1},1,0,{"$f":"IF($E352=0,'Sjekkliste for utfylling'!A568,\"\")","v":""},{"$f":"IF($E352=0,'Sjekkliste for utfylling'!B568,\"\")","v":""},null,null,{"$f":"IF(E352=0,'Sjekkliste for utfylling'!L568,\" \")","v":" "}]
[{"$f":"'Sjekkliste for utfylling'!A569","v":352},{"$f":"IF('Sjekkliste for utfylling'!I569<>\"\",1,0)","v":0},{"$f":"IF('Sjekkliste for utfylling'!J569<>\"\",1,0)","v":0},{"$f":"IF('Sjekkliste for utfylling'!K569<>\"\",1,0)","v":1},1,0,{"$f":"IF($E353=0,'Sjekkliste for utfylling'!A569,\"\")","v":""},{"$f":"IF($E353=0,'Sjekkliste for utfylling'!B569,\"\")","v":""},null,null,{"$f":"IF(E353=0,'Sjekkliste for utfylling'!L569,\" \")","v":" "}]
[{"$f":"'Sjekkliste for utfylling'!A570","v":353},{"$f":"IF('Sjekkliste for utfylling'!I570<>\"\",1,0)","v":0},{"$f":"IF('Sjekkliste for utfylling'!J570<>\"\",1,0)","v":0},{"$f":"IF('Sjekkliste for utfylling'!K570<>\"\",1,0)","v":1},1,0,{"$f":"IF($E354=0,'Sjekkliste for utfylling'!A570,\"\")","v":""},{"$f":"IF($E354=0,'Sjekkliste for utfylling'!B570,\"\")","v":""},null,null,{"$f":"IF(E354=0,'Sjekkliste for utfylling'!L570,\" \")","v":" "}]
[{"$f":"'Sjekkliste for utfylling'!A571","v":354},{"$f":"IF('Sjekkliste for utfylling'!I571<>\"\",1,0)","v":0},{"$f":"IF('Sjekkliste for utfylling'!J571<>\"\",1,0)","v":0},{"$f":"IF('Sjekkliste for utfylling'!K571<>\"\",1,0)","v":1},1,0,{"$f":"IF($E355=0,'Sjekkliste for utfylling'!A571,\"\")","v":""},{"$f":"IF($E355=0,'Sjekkliste for utfylling'!B571,\"\")","v":""},null,null,{"$f":"IF(E355=0,'Sjekkliste for utfylling'!L571,\" \")","v":" "}]
[{"$f":"'Sjekkliste for utfylling'!A572","v":355},{"$f":"IF('Sjekkliste for utfylling'!I572<>\"\",1,0)","v":0},{"$f":"IF('Sjekkliste for utfylling'!J572<>\"\",1,0)","v":0},{"$f":"IF('Sjekkliste for utfylling'!K572<>\"\",1,0)","v":1},1,0,{"$f":"IF($E356=0,'Sjekkliste for utfylling'!A572,\"\")","v":""},{"$f":"IF($E356=0,'Sjekkliste for utfylling'!B572,\"\")","v":""},null,null,{"$f":"IF(E356=0,'Sjekkliste for utfylling'!L572,\" \")","v":" "}]
[{"$f":"'Sjekkliste for utfylling'!A573","v":356},{"$f":"IF('Sjekkliste for utfylling'!I573<>\"\",1,0)","v":0},{"$f":"IF('Sjekkliste for utfylling'!J573<>\"\",1,0)","v":0},{"$f":"IF('Sjekkliste for utfylling'!K573<>\"\",1,0)","v":1},1,0,{"$f":"IF($E357=0,'Sjekkliste for utfylling'!A573,\"\")","v":""},{"$f":"IF($E357=0,'Sjekkliste for utfylling'!B573,\"\")","v":""},null,null,{"$f":"IF(E357=0,'Sjekkliste for utfylling'!L573,\" \")","v":" "}]
[{"$f":"'Sjekkliste for utfylling'!A574","v":357},{"$f":"IF('Sjekkliste for utfylling'!I574<>\"\",1,0)","v":0},{"$f":"IF('Sjekkliste for utfylling'!J574<>\"\",1,0)","v":0},{"$f":"IF('Sjekkliste for utfylling'!K574<>\"\",1,0)","v":1},1,0,{"$f":"IF($E358=0,'Sjekkliste for utfylling'!A574,\"\")","v":""},{"$f":"IF($E358=0,'Sjekkliste for utfylling'!B574,\"\")","v":""},null,null,{"$f":"IF(E358=0,'Sjekkliste for utfylling'!L574,\" \")","v":" "}]
[{"$f":"'Sjekkliste for utfylling'!A575","v":358},{"$f":"IF('Sjekkliste for utfylling'!I575<>\"\",1,0)","v":0},{"$f":"IF('Sjekkliste for utfylling'!J575<>\"\",1,0)","v":0},{"$f":"IF('Sjekkliste for utfylling'!K575<>\"\",1,0)","v":1},1,0,{"$f":"IF($E359=0,'Sjekkliste for utfylling'!A575,\"\")","v":""},{"$f":"IF($E359=0,'Sjekkliste for utfylling'!B575,\"\")","v":""},null,null,{"$f":"IF(E359=0,'Sjekkliste for utfylling'!L575,\" \")","v":" "}]
[{"$f":"'Sjekkliste for utfylling'!A576","v":359},{"$f":"IF('Sjekkliste for utfylling'!I576<>\"\",1,0)","v":0},{"$f":"IF('Sjekkliste for utfylling'!J576<>\"\",1,0)","v":0},{"$f":"IF('Sjekkliste for utfylling'!K576<>\"\",1,0)","v":1},1,0,{"$f":"IF($E360=0,'Sjekkliste for utfylling'!A576,\"\")","v":""},{"$f":"IF($E360=0,'Sjekkliste for utfylling'!B576,\"\")","v":""},null,null,{"$f":"IF(E360=0,'Sjekkliste for utfylling'!L576,\" \")","v":" "}]
[{"$f":"'Sjekkliste for utfylling'!A577","v":360},{"$f":"IF('Sjekkliste for utfylling'!I577<>\"\",1,0)","v":0},{"$f":"IF('Sjekkliste for utfylling'!J577<>\"\",1,0)","v":0},{"$f":"IF('Sjekkliste for utfylling'!K577<>\"\",1,0)","v":1},1,0,{"$f":"IF($E361=0,'Sjekkliste for utfylling'!A577,\"\")","v":""},{"$f":"IF($E361=0,'Sjekkliste for utfylling'!B577,\"\")","v":""},null,null,{"$f":"IF(E361=0,'Sjekkliste for utfylling'!L577,\" \")","v":" "}]
[{"$f":"'Sjekkliste for utfylling'!A578","v":361},{"$f":"IF('Sjekkliste for utfylling'!I578<>\"\",1,0)","v":0},{"$f":"IF('Sjekkliste for utfylling'!J578<>\"\",1,0)","v":0},{"$f":"IF('Sjekkliste for utfylling'!K578<>\"\",1,0)","v":1},1,0,{"$f":"IF($E362=0,'Sjekkliste for utfylling'!A578,\"\")","v":""},{"$f":"IF($E362=0,'Sjekkliste for utfylling'!B578,\"\")","v":""},null,null,{"$f":"IF(E362=0,'Sjekkliste for utfylling'!L578,\" \")","v":" "}]
[{"$f":"'Sjekkliste for utfylling'!A579","v":362},{"$f":"IF('Sjekkliste for utfylling'!I579<>\"\",1,0)","v":0},{"$f":"IF('Sjekkliste for utfylling'!J579<>\"\",1,0)","v":0},{"$f":"IF('Sjekkliste for utfylling'!K579<>\"\",1,0)","v":1},1,0,{"$f":"IF($E363=0,'Sjekkliste for utfylling'!A579,\"\")","v":""},{"$f":"IF($E363=0,'Sjekkliste for utfylling'!B579,\"\")","v":""},null,null,{"$f":"IF(E363=0,'Sjekkliste for utfylling'!L579,\" \")","v":" "}]
[{"$f":"'Sjekkliste for utfylling'!A580","v":363},{"$f":"IF('Sjekkliste for utfylling'!I580<>\"\",1,0)","v":0},{"$f":"IF('Sjekkliste for utfylling'!J580<>\"\",1,0)","v":0},{"$f":"IF('Sjekkliste for utfylling'!K580<>\"\",1,0)","v":1},1,0,{"$f":"IF($E364=0,'Sjekkliste for utfylling'!A580,\"\")","v":""},{"$f":"IF($E364=0,'Sjekkliste for utfylling'!B580,\"\")","v":""},null,null,{"$f":"IF(E364=0,'Sjekkliste for utfylling'!L580,\" \")","v":" "}]
[{"$f":"'Sjekkliste for utfylling'!A581","v":364},{"$f":"IF('Sjekkliste for utfylling'!I581<>\"\",1,0)","v":0},{"$f":"IF('Sjekkliste for utfylling'!J581<>\"\",1,0)","v":0},{"$f":"IF('Sjekkliste for utfylling'!K581<>\"\",1,0)","v":1},1,0,{"$f":"IF($E365=0,'Sjekkliste for utfylling'!A581,\"\")","v":""},{"$f":"IF($E365=0,'Sjekkliste for utfylling'!B581,\"\")","v":""},null,null,{"$f":"IF(E365=0,'Sjekkliste for utfylling'!L581,\" \")","v":" "}]
[{"$f":"'Sjekkliste for utfylling'!A583","v":365},{"$f":"IF('Sjekkliste for utfylling'!I583<>\"\",1,0)","v":0},{"$f":"IF('Sjekkliste for utfylling'!J583<>\"\",1,0)","v":0},{"$f":"IF('Sjekkliste for utfylling'!K583<>\"\",1,0)","v":1},1,{"$f":"IF(E366=0,1,0)","v":0},{"$f":"IF($E366=0,'Sjekkliste for utfylling'!A583,\"\")","v":""},{"$f":"IF($E366=0,'Sjekkliste for utfylling'!B583,\"\")","v":""},null,null,{"$f":"IF(E366=0,'Sjekkliste for utfylling'!L583,\" \")","v":" "}]
[{"$f":"'Sjekkliste for utfylling'!A584","v":366},{"$f":"IF('Sjekkliste for utfylling'!I584<>\"\",1,0)","v":0},{"$f":"IF('Sjekkliste for utfylling'!J584<>\"\",1,0)","v":0},{"$f":"IF('Sjekkliste for utfylling'!K584<>\"\",1,0)","v":1},1,0,{"$f":"IF($E367=0,'Sjekkliste for utfylling'!A584,\"\")","v":""},{"$f":"IF($E367=0,'Sjekkliste for utfylling'!B584,\"\")","v":""},null,null,{"$f":"IF(E367=0,'Sjekkliste for utfylling'!L584,\" \")","v":" "}]
[{"$f":"'Sjekkliste for utfylling'!A585","v":367},{"$f":"IF('Sjekkliste for utfylling'!I585<>\"\",1,0)","v":0},{"$f":"IF('Sjekkliste for utfylling'!J585<>\"\",1,0)","v":0},{"$f":"IF('Sjekkliste for utfylling'!K585<>\"\",1,0)","v":1},1,0,{"$f":"IF($E368=0,'Sjekkliste for utfylling'!A585,\"\")","v":""},{"$f":"IF($E368=0,'Sjekkliste for utfylling'!B585,\"\")","v":""},null,null,{"$f":"IF(E368=0,'Sjekkliste for utfylling'!L585,\" \")","v":" "}]
[{"$f":"'Sjekkliste for utfylling'!A586","v":368},{"$f":"IF('Sjekkliste for utfylling'!I586<>\"\",1,0)","v":0},{"$f":"IF('Sjekkliste for utfylling'!J586<>\"\",1,0)","v":0},{"$f":"IF('Sjekkliste for utfylling'!K586<>\"\",1,0)","v":1},1,0,{"$f":"IF($E369=0,'Sjekkliste for utfylling'!A586,\"\")","v":""},{"$f":"IF($E369=0,'Sjekkliste for utfylling'!B586,\"\")","v":""},null,null,{"$f":"IF(E369=0,'Sjekkliste for utfylling'!L586,\" \")","v":" "}]
[{"$f":"'Sjekkliste for utfylling'!A587","v":369},{"$f":"IF('Sjekkliste for utfylling'!I587<>\"\",1,0)","v":0},{"$f":"IF('Sjekkliste for utfylling'!J587<>\"\",1,0)","v":0},{"$f":"IF('Sjekkliste for utfylling'!K587<>\"\",1,0)","v":1},1,0,{"$f":"IF($E370=0,'Sjekkliste for utfylling'!A587,\"\")","v":""},{"$f":"IF($E370=0,'Sjekkliste for utfylling'!B587,\"\")","v":""},null,null,{"$f":"IF(E370=0,'Sjekkliste for utfylling'!L587,\" \")","v":" "}]
[{"$f":"'Sjekkliste for utfylling'!A588","v":370},{"$f":"IF('Sjekkliste for utfylling'!I588<>\"\",1,0)","v":0},{"$f":"IF('Sjekkliste for utfylling'!J588<>\"\",1,0)","v":0},{"$f":"IF('Sjekkliste for utfylling'!K588<>\"\",1,0)","v":1},1,0,{"$f":"IF($E371=0,'Sjekkliste for utfylling'!A588,\"\")","v":""},{"$f":"IF($E371=0,'Sjekkliste for utfylling'!B588,\"\")","v":""},null,null,{"$f":"IF(E371=0,'Sjekkliste for utfylling'!L588,\" \")","v":" "}]
[{"$f":"'Sjekkliste for utfylling'!A589","v":371},{"$f":"IF('Sjekkliste for utfylling'!I589<>\"\",1,0)","v":0},{"$f":"IF('Sjekkliste for utfylling'!J589<>\"\",1,0)","v":0},{"$f":"IF('Sjekkliste for utfylling'!K589<>\"\",1,0)","v":1},1,0,{"$f":"IF($E372=0,'Sjekkliste for utfylling'!A589,\"\")","v":""},{"$f":"IF($E372=0,'Sjekkliste for utfylling'!B589,\"\")","v":""},null,null,{"$f":"IF(E372=0,'Sjekkliste for utfylling'!L589,\" \")","v":" "}]
[{"$f":"'Sjekkliste for utfylling'!A590","v":372},{"$f":"IF('Sjekkliste for utfylling'!I590<>\"\",1,0)","v":0},{"$f":"IF('Sjekkliste for utfylling'!J590<>\"\",1,0)","v":0},{"$f":"IF('Sjekkliste for utfylling'!K590<>\"\",1,0)","v":1},1,0,{"$f":"IF($E373=0,'Sjekkliste for utfylling'!A590,\"\")","v":""},{"$f":"IF($E373=0,'Sjekkliste for utfylling'!B590,\"\")","v":""},null,null,{"$f":"IF(E373=0,'Sjekkliste for utfylling'!L590,\" \")","v":" "}]
[{"$f":"'Sjekkliste for utfylling'!A591","v":373},{"$f":"IF('Sjekkliste for utfylling'!I591<>\"\",1,0)","v":0},{"$f":"IF('Sjekkliste for utfylling'!J591<>\"\",1,0)","v":0},{"$f":"IF('Sjekkliste for utfylling'!K591<>\"\",1,0)","v":1},1,0,{"$f":"IF($E374=0,'Sjekkliste for utfylling'!A591,\"\")","v":""},{"$f":"IF($E374=0,'Sjekkliste for utfylling'!B591,\"\")","v":""},null,null,{"$f":"IF(E374=0,'Sjekkliste for utfylling'!L591,\" \")","v":" "}]
[{"$f":"'Sjekkliste for utfylling'!A592","v":374},{"$f":"IF('Sjekkliste for utfylling'!I592<>\"\",1,0)","v":0},{"$f":"IF('Sjekkliste for utfylling'!J592<>\"\",1,0)","v":0},{"$f":"IF('Sjekkliste for utfylling'!K592<>\"\",1,0)","v":1},1,0,{"$f":"IF($E375=0,'Sjekkliste for utfylling'!A592,\"\")","v":""},{"$f":"IF($E375=0,'Sjekkliste for utfylling'!B592,\"\")","v":""},null,null,{"$f":"IF(E375=0,'Sjekkliste for utfylling'!L592,\" \")","v":" "}]
[{"$f":"'Sjekkliste for utfylling'!A593","v":375},{"$f":"IF('Sjekkliste for utfylling'!I593<>\"\",1,0)","v":0},{"$f":"IF('Sjekkliste for utfylling'!J593<>\"\",1,0)","v":0},{"$f":"IF('Sjekkliste for utfylling'!K593<>\"\",1,0)","v":1},1,0,{"$f":"IF($E376=0,'Sjekkliste for utfylling'!A593,\"\")","v":""},{"$f":"IF($E376=0,'Sjekkliste for utfylling'!B593,\"\")","v":""},null,null,{"$f":"IF(E376=0,'Sjekkliste for utfylling'!L593,\" \")","v":" "}]
[{"$f":"'Sjekkliste for utfylling'!A596","v":376},{"$f":"IF('Sjekkliste for utfylling'!I596<>\"\",1,0)","v":0},{"$f":"IF('Sjekkliste for utfylling'!J596<>\"\",1,0)","v":0},{"$f":"IF('Sjekkliste for utfylling'!K596<>\"\",1,0)","v":1},1,0,{"$f":"IF($E377=0,'Sjekkliste for utfylling'!A596,\"\")","v":""},{"$f":"IF($E377=0,'Sjekkliste for utfylling'!B596,\"\")","v":""},null,null,{"$f":"IF(E377=0,'Sjekkliste for utfylling'!L596,\" \")","v":" "}]
[{"$f":"'Sjekkliste for utfylling'!A597","v":377},{"$f":"IF('Sjekkliste for utfylling'!I597<>\"\",1,0)","v":0},{"$f":"IF('Sjekkliste for utfylling'!J597<>\"\",1,0)","v":0},{"$f":"IF('Sjekkliste for utfylling'!K597<>\"\",1,0)","v":1},1,0,{"$f":"IF($E378=0,'Sjekkliste for utfylling'!A597,\"\")","v":""},{"$f":"IF($E378=0,'Sjekkliste for utfylling'!B597,\"\")","v":""},null,null,{"$f":"IF(E378=0,'Sjekkliste for utfylling'!L597,\" \")","v":" "}]
[{"$f":"'Sjekkliste for utfylling'!A599","v":378},{"$f":"IF('Sjekkliste for utfylling'!I599<>\"\",1,0)","v":0},{"$f":"IF('Sjekkliste for utfylling'!J599<>\"\",1,0)","v":0},{"$f":"IF('Sjekkliste for utfylling'!K599<>\"\",1,0)","v":1},1,0,{"$f":"IF($E379=0,'Sjekkliste for utfylling'!A599,\"\")","v":""},{"$f":"IF($E379=0,'Sjekkliste for utfylling'!B599,\"\")","v":""},null,null,{"$f":"IF(E379=0,'Sjekkliste for utfylling'!L599,\" \")","v":" "}]
[{"$f":"'Sjekkliste for utfylling'!A600","v":379},{"$f":"IF('Sjekkliste for utfylling'!I600<>\"\",1,0)","v":0},{"$f":"IF('Sjekkliste for utfylling'!J600<>\"\",1,0)","v":0},{"$f":"IF('Sjekkliste for utfylling'!K600<>\"\",1,0)","v":1},1,0,{"$f":"IF($E380=0,'Sjekkliste for utfylling'!A600,\"\")","v":""},{"$f":"IF($E380=0,'Sjekkliste for utfylling'!B600,\"\")","v":""},null,null,{"$f":"IF(E380=0,'Sjekkliste for utfylling'!L600,\" \")","v":" "}]
[{"$f":"'Sjekkliste for utfylling'!A601","v":380},{"$f":"IF('Sjekkliste for utfylling'!I601<>\"\",1,0)","v":0},{"$f":"IF('Sjekkliste for utfylling'!J601<>\"\",1,0)","v":0},{"$f":"IF('Sjekkliste for utfylling'!K601<>\"\",1,0)","v":1},1,0,{"$f":"IF($E381=0,'Sjekkliste for utfylling'!A601,\"\")","v":""},{"$f":"IF($E381=0,'Sjekkliste for utfylling'!B601,\"\")","v":""},null,null,{"$f":"IF(E381=0,'Sjekkliste for utfylling'!L601,\" \")","v":" "}]
[{"$f":"'Sjekkliste for utfylling'!A602","v":381},{"$f":"IF('Sjekkliste for utfylling'!I602<>\"\",1,0)","v":0},{"$f":"IF('Sjekkliste for utfylling'!J602<>\"\",1,0)","v":0},{"$f":"IF('Sjekkliste for utfylling'!K602<>\"\",1,0)","v":1},1,0,{"$f":"IF($E382=0,'Sjekkliste for utfylling'!A602,\"\")","v":""},{"$f":"IF($E382=0,'Sjekkliste for utfylling'!B602,\"\")","v":""},null,null,{"$f":"IF(E382=0,'Sjekkliste for utfylling'!L602,\" \")","v":" "}]
[{"$f":"'Sjekkliste for utfylling'!A603","v":382},{"$f":"IF('Sjekkliste for utfylling'!I603<>\"\",1,0)","v":0},{"$f":"IF('Sjekkliste for utfylling'!J603<>\"\",1,0)","v":0},{"$f":"IF('Sjekkliste for utfylling'!K603<>\"\",1,0)","v":1},1,0,{"$f":"IF($E383=0,'Sjekkliste for utfylling'!A603,\"\")","v":""},{"$f":"IF($E383=0,'Sjekkliste for utfylling'!B603,\"\")","v":""},null,null,{"$f":"IF(E383=0,'Sjekkliste for utfylling'!L603,\" \")","v":" "}]
[{"$f":"'Sjekkliste for utfylling'!A604","v":383},{"$f":"IF('Sjekkliste for utfylling'!I604<>\"\",1,0)","v":0},{"$f":"IF('Sjekkliste for utfylling'!J604<>\"\",1,0)","v":0},{"$f":"IF('Sjekkliste for utfylling'!K604<>\"\",1,0)","v":1},1,0,{"$f":"IF($E384=0,'Sjekkliste for utfylling'!A604,\"\")","v":""},{"$f":"IF($E384=0,'Sjekkliste for utfylling'!B604,\"\")","v":""},null,null,{"$f":"IF(E384=0,'Sjekkliste for utfylling'!L604,\" \")","v":" "}]
[{"$f":"'Sjekkliste for utfylling'!A606","v":384},{"$f":"IF('Sjekkliste for utfylling'!I606<>\"\",1,0)","v":0},{"$f":"IF('Sjekkliste for utfylling'!J606<>\"\",1,0)","v":0},{"$f":"IF('Sjekkliste for utfylling'!K606<>\"\",1,0)","v":1},1,0,{"$f":"IF($E385=0,'Sjekkliste for utfylling'!A606,\"\")","v":""},{"$f":"IF($E385=0,'Sjekkliste for utfylling'!B606,\"\")","v":""},null,null,{"$f":"IF(E385=0,'Sjekkliste for utfylling'!L606,\" \")","v":" "}]
[{"$f":"'Sjekkliste for utfylling'!A607","v":385},{"$f":"IF('Sjekkliste for utfylling'!I607<>\"\",1,0)","v":0},{"$f":"IF('Sjekkliste for utfylling'!J607<>\"\",1,0)","v":0},{"$f":"IF('Sjekkliste for utfylling'!K607<>\"\",1,0)","v":1},{"$f":"SUM(B386:D386)","v":1},0,{"$f":"IF($E386=0,'Sjekkliste for utfylling'!A607,\"\")","v":""},{"$f":"IF($E386=0,'Sjekkliste for utfylling'!B607,\"\")","v":""},null,null,{"$f":"IF(E386=0,'Sjekkliste for utfylling'!L607,\" \")","v":" "}]
[{"$f":"'Sjekkliste for utfylling'!A609","v":386},{"$f":"IF('Sjekkliste for utfylling'!I609<>\"\",1,0)","v":0},{"$f":"IF('Sjekkliste for utfylling'!J609<>\"\",1,0)","v":0},{"$f":"IF('Sjekkliste for utfylling'!K609<>\"\",1,0)","v":1},1,0,{"$f":"IF($E387=0,'Sjekkliste for utfylling'!A609,\"\")","v":""},{"$f":"IF($E387=0,'Sjekkliste for utfylling'!B609,\"\")","v":""},null,null,{"$f":"IF(E387=0,'Sjekkliste for utfylling'!L609,\" \")","v":" "}]
[{"$f":"'Sjekkliste for utfylling'!A610","v":387},{"$f":"IF('Sjekkliste for utfylling'!I610<>\"\",1,0)","v":0},{"$f":"IF('Sjekkliste for utfylling'!J610<>\"\",1,0)","v":0},{"$f":"IF('Sjekkliste for utfylling'!K610<>\"\",1,0)","v":1},1,0,{"$f":"IF($E388=0,'Sjekkliste for utfylling'!A610,\"\")","v":""},{"$f":"IF($E388=0,'Sjekkliste for utfylling'!B610,\"\")","v":""},null,null,{"$f":"IF(E388=0,'Sjekkliste for utfylling'!L610,\" \")","v":" "}]
[{"$f":"'Sjekkliste for utfylling'!A611","v":388},{"$f":"IF('Sjekkliste for utfylling'!I611<>\"\",1,0)","v":0},{"$f":"IF('Sjekkliste for utfylling'!J611<>\"\",1,0)","v":0},{"$f":"IF('Sjekkliste for utfylling'!K611<>\"\",1,0)","v":1},1,0,{"$f":"IF($E389=0,'Sjekkliste for utfylling'!A611,\"\")","v":""},{"$f":"IF($E389=0,'Sjekkliste for utfylling'!B611,\"\")","v":""},null,null,{"$f":"IF(E389=0,'Sjekkliste for utfylling'!L611,\" \")","v":" "}]
[{"$f":"'Sjekkliste for utfylling'!A613","v":389},{"$f":"IF('Sjekkliste for utfylling'!I613<>\"\",1,0)","v":0},{"$f":"IF('Sjekkliste for utfylling'!J613<>\"\",1,0)","v":0},{"$f":"IF('Sjekkliste for utfylling'!K613<>\"\",1,0)","v":1},1,0,{"$f":"IF($E390=0,'Sjekkliste for utfylling'!A613,\"\")","v":""},{"$f":"IF($E390=0,'Sjekkliste for utfylling'!B613,\"\")","v":""},null,null,{"$f":"IF(E390=0,'Sjekkliste for utfylling'!L613,\" \")","v":" "}]
[{"$f":"'Sjekkliste for utfylling'!A614","v":390},{"$f":"IF('Sjekkliste for utfylling'!I614<>\"\",1,0)","v":0},{"$f":"IF('Sjekkliste for utfylling'!J614<>\"\",1,0)","v":0},{"$f":"IF('Sjekkliste for utfylling'!K614<>\"\",1,0)","v":1},1,0,{"$f":"IF($E391=0,'Sjekkliste for utfylling'!A614,\"\")","v":""},{"$f":"IF($E391=0,'Sjekkliste for utfylling'!B614,\"\")","v":""},null,null,{"$f":"IF(E391=0,'Sjekkliste for utfylling'!L614,\" \")","v":" "}]
[{"$f":"'Sjekkliste for utfylling'!A615","v":391},{"$f":"IF('Sjekkliste for utfylling'!I615<>\"\",1,0)","v":0},{"$f":"IF('Sjekkliste for utfylling'!J615<>\"\",1,0)","v":0},{"$f":"IF('Sjekkliste for utfylling'!K615<>\"\",1,0)","v":1},1,0,{"$f":"IF($E392=0,'Sjekkliste for utfylling'!A615,\"\")","v":""},{"$f":"IF($E392=0,'Sjekkliste for utfylling'!B615,\"\")","v":""},null,null,{"$f":"IF(E392=0,'Sjekkliste for utfylling'!L615,\" \")","v":" "}]
[{"$f":"'Sjekkliste for utfylling'!A616","v":392},{"$f":"IF('Sjekkliste for utfylling'!I616<>\"\",1,0)","v":0},{"$f":"IF('Sjekkliste for utfylling'!J616<>\"\",1,0)","v":0},{"$f":"IF('Sjekkliste for utfylling'!K616<>\"\",1,0)","v":1},1,0,{"$f":"IF($E393=0,'Sjekkliste for utfylling'!A616,\"\")","v":""},{"$f":"IF($E393=0,'Sjekkliste for utfylling'!B616,\"\")","v":""},null,null,{"$f":"IF(E393=0,'Sjekkliste for utfylling'!L616,\" \")","v":" "}]
[{"$f":"'Sjekkliste for utfylling'!A617","v":393},{"$f":"IF('Sjekkliste for utfylling'!I617<>\"\",1,0)","v":0},{"$f":"IF('Sjekkliste for utfylling'!J617<>\"\",1,0)","v":0},{"$f":"IF('Sjekkliste for utfylling'!K617<>\"\",1,0)","v":1},1,0,{"$f":"IF($E394=0,'Sjekkliste for utfylling'!A617,\"\")","v":""},{"$f":"IF($E394=0,'Sjekkliste for utfylling'!B617,\"\")","v":""},null,null,{"$f":"IF(E394=0,'Sjekkliste for utfylling'!L617,\" \")","v":" "}]
[{"$f":"'Sjekkliste for utfylling'!A620","v":394},{"$f":"IF('Sjekkliste for utfylling'!I620<>\"\",1,0)","v":0},{"$f":"IF('Sjekkliste for utfylling'!J620<>\"\",1,0)","v":0},{"$f":"IF('Sjekkliste for utfylling'!K620<>\"\",1,0)","v":1},1,0,{"$f":"IF($E395=0,'Sjekkliste for utfylling'!A620,\"\")","v":""},{"$f":"IF($E395=0,'Sjekkliste for utfylling'!B620,\"\")","v":""},null,null,{"$f":"IF(E395=0,'Sjekkliste for utfylling'!L620,\" \")","v":" "}]
[{"$f":"'Sjekkliste for utfylling'!A621","v":395},{"$f":"IF('Sjekkliste for utfylling'!I621<>\"\",1,0)","v":0},{"$f":"IF('Sjekkliste for utfylling'!J621<>\"\",1,0)","v":0},{"$f":"IF('Sjekkliste for utfylling'!K621<>\"\",1,0)","v":1},1,0,{"$f":"IF($E396=0,'Sjekkliste for utfylling'!A621,\"\")","v":""},{"$f":"IF($E396=0,'Sjekkliste for utfylling'!B621,\"\")","v":""},null,null,{"$f":"IF(E396=0,'Sjekkliste for utfylling'!L621,\" \")","v":" "}]
[{"$f":"'Sjekkliste for utfylling'!A622","v":396},{"$f":"IF('Sjekkliste for utfylling'!I622<>\"\",1,0)","v":0},{"$f":"IF('Sjekkliste for utfylling'!J622<>\"\",1,0)","v":0},{"$f":"IF('Sjekkliste for utfylling'!K622<>\"\",1,0)","v":1},1,0,{"$f":"IF($E397=0,'Sjekkliste for utfylling'!A622,\"\")","v":""},{"$f":"IF($E397=0,'Sjekkliste for utfylling'!B622,\"\")","v":""},null,null,{"$f":"IF(E397=0,'Sjekkliste for utfylling'!L622,\" \")","v":" "}]
[{"$f":"'Sjekkliste for utfylling'!A623","v":397},{"$f":"IF('Sjekkliste for utfylling'!I623<>\"\",1,0)","v":0},{"$f":"IF('Sjekkliste for utfylling'!J623<>\"\",1,0)","v":0},{"$f":"IF('Sjekkliste for utfylling'!K623<>\"\",1,0)","v":1},1,{"$f":"IF(E398=0,1,0)","v":0},{"$f":"IF($E398=0,'Sjekkliste for utfylling'!A623,\"\")","v":""},{"$f":"IF($E398=0,'Sjekkliste for utfylling'!B623,\"\")","v":""},null,null,{"$f":"IF(E398=0,'Sjekkliste for utfylling'!L623,\" \")","v":" "}]
[{"$f":"'Sjekkliste for utfylling'!A624","v":398},{"$f":"IF('Sjekkliste for utfylling'!I624<>\"\",1,0)","v":0},{"$f":"IF('Sjekkliste for utfylling'!J624<>\"\",1,0)","v":0},{"$f":"IF('Sjekkliste for utfylling'!K624<>\"\",1,0)","v":1},1,0,{"$f":"IF($E399=0,'Sjekkliste for utfylling'!A624,\"\")","v":""},{"$f":"IF($E399=0,'Sjekkliste for utfylling'!B624,\"\")","v":""},null,null,{"$f":"IF(E399=0,'Sjekkliste for utfylling'!L624,\" \")","v":" "}]
[{"$f":"'Sjekkliste for utfylling'!A626","v":399},{"$f":"IF('Sjekkliste for utfylling'!I626<>\"\",1,0)","v":0},{"$f":"IF('Sjekkliste for utfylling'!J626<>\"\",1,0)","v":0},{"$f":"IF('Sjekkliste for utfylling'!K626<>\"\",1,0)","v":1},1,0,{"$f":"IF($E400=0,'Sjekkliste for utfylling'!A626,\"\")","v":""},{"$f":"IF($E400=0,'Sjekkliste for utfylling'!B626,\"\")","v":""},null,null,{"$f":"IF(E400=0,'Sjekkliste for utfylling'!L626,\" \")","v":" "}]
[{"$f":"'Sjekkliste for utfylling'!A628","v":400},{"$f":"IF('Sjekkliste for utfylling'!I628<>\"\",1,0)","v":0},{"$f":"IF('Sjekkliste for utfylling'!J628<>\"\",1,0)","v":0},{"$f":"IF('Sjekkliste for utfylling'!K628<>\"\",1,0)","v":1},1,0,{"$f":"IF($E401=0,'Sjekkliste for utfylling'!A628,\"\")","v":""},{"$f":"IF($E401=0,'Sjekkliste for utfylling'!B628,\"\")","v":""},null,null,{"$f":"IF(E401=0,'Sjekkliste for utfylling'!L628,\" \")","v":" "}]
[{"$f":"'Sjekkliste for utfylling'!A629","v":401},{"$f":"IF('Sjekkliste for utfylling'!I629<>\"\",1,0)","v":0},{"$f":"IF('Sjekkliste for utfylling'!J629<>\"\",1,0)","v":0},{"$f":"IF('Sjekkliste for utfylling'!K629<>\"\",1,0)","v":1},1,0,{"$f":"IF($E402=0,'Sjekkliste for utfylling'!A629,\"\")","v":""},{"$f":"IF($E402=0,'Sjekkliste for utfylling'!B629,\"\")","v":""},null,null,{"$f":"IF(E402=0,'Sjekkliste for utfylling'!L629,\" \")","v":" "}]
[{"$f":"'Sjekkliste for utfylling'!A630","v":402},{"$f":"IF('Sjekkliste for utfylling'!I630<>\"\",1,0)","v":0},{"$f":"IF('Sjekkliste for utfylling'!J630<>\"\",1,0)","v":0},{"$f":"IF('Sjekkliste for utfylling'!K630<>\"\",1,0)","v":1},1,0,{"$f":"IF($E403=0,'Sjekkliste for utfylling'!A630,\"\")","v":""},{"$f":"IF($E403=0,'Sjekkliste for utfylling'!B630,\"\")","v":""},null,null,{"$f":"IF(E403=0,'Sjekkliste for utfylling'!L630,\" \")","v":" "}]
[{"$f":"'Sjekkliste for utfylling'!A631","v":403},{"$f":"IF('Sjekkliste for utfylling'!I631<>\"\",1,0)","v":0},{"$f":"IF('Sjekkliste for utfylling'!J631<>\"\",1,0)","v":0},{"$f":"IF('Sjekkliste for utfylling'!K631<>\"\",1,0)","v":1},1,0,{"$f":"IF($E404=0,'Sjekkliste for utfylling'!A631,\"\")","v":""},{"$f":"IF($E404=0,'Sjekkliste for utfylling'!B631,\"\")","v":""},null,null,{"$f":"IF(E404=0,'Sjekkliste for utfylling'!L631,\" \")","v":" "}]
[{"$f":"'Sjekkliste for utfylling'!A632","v":404},{"$f":"IF('Sjekkliste for utfylling'!I632<>\"\",1,0)","v":0},{"$f":"IF('Sjekkliste for utfylling'!J632<>\"\",1,0)","v":0},{"$f":"IF('Sjekkliste for utfylling'!K632<>\"\",1,0)","v":1},1,0,{"$f":"IF($E405=0,'Sjekkliste for utfylling'!A632,\"\")","v":""},{"$f":"IF($E405=0,'Sjekkliste for utfylling'!B632,\"\")","v":""},null,null,{"$f":"IF(E405=0,'Sjekkliste for utfylling'!L632,\" \")","v":" "}]
[{"$f":"'Sjekkliste for utfylling'!A633","v":405},{"$f":"IF('Sjekkliste for utfylling'!I633<>\"\",1,0)","v":0},{"$f":"IF('Sjekkliste for utfylling'!J633<>\"\",1,0)","v":0},{"$f":"IF('Sjekkliste for utfylling'!K633<>\"\",1,0)","v":1},1,0,{"$f":"IF($E406=0,'Sjekkliste for utfylling'!A633,\"\")","v":""},{"$f":"IF($E406=0,'Sjekkliste for utfylling'!B633,\"\")","v":""},null,null,{"$f":"IF(E406=0,'Sjekkliste for utfylling'!L633,\" \")","v":" "}]
[{"$f":"'Sjekkliste for utfylling'!A634","v":406},{"$f":"IF('Sjekkliste for utfylling'!I634<>\"\",1,0)","v":0},{"$f":"IF('Sjekkliste for utfylling'!J634<>\"\",1,0)","v":0},{"$f":"IF('Sjekkliste for utfylling'!K634<>\"\",1,0)","v":1},1,0,{"$f":"IF($E407=0,'Sjekkliste for utfylling'!A634,\"\")","v":""},{"$f":"IF($E407=0,'Sjekkliste for utfylling'!B634,\"\")","v":""},null,null,{"$f":"IF(E407=0,'Sjekkliste for utfylling'!L634,\" \")","v":" "}]
[{"$f":"'Sjekkliste for utfylling'!A635","v":407},{"$f":"IF('Sjekkliste for utfylling'!I635<>\"\",1,0)","v":0},{"$f":"IF('Sjekkliste for utfylling'!J635<>\"\",1,0)","v":0},{"$f":"IF('Sjekkliste for utfylling'!K635<>\"\",1,0)","v":1},1,0,{"$f":"IF($E408=0,'Sjekkliste for utfylling'!A635,\"\")","v":""},{"$f":"IF($E408=0,'Sjekkliste for utfylling'!B635,\"\")","v":""},null,null,{"$f":"IF(E408=0,'Sjekkliste for utfylling'!L635,\" \")","v":" "}]
[{"$f":"'Sjekkliste for utfylling'!A636","v":408},{"$f":"IF('Sjekkliste for utfylling'!I636<>\"\",1,0)","v":0},{"$f":"IF('Sjekkliste for utfylling'!J636<>\"\",1,0)","v":0},{"$f":"IF('Sjekkliste for utfylling'!K636<>\"\",1,0)","v":1},1,0,{"$f":"IF($E409=0,'Sjekkliste for utfylling'!A636,\"\")","v":""},{"$f":"IF($E409=0,'Sjekkliste for utfylling'!B636,\"\")","v":""},null,null,{"$f":"IF(E409=0,'Sjekkliste for utfylling'!L636,\" \")","v":" "}]
[{"$f":"'Sjekkliste for utfylling'!A637","v":409},{"$f":"IF('Sjekkliste for utfylling'!I637<>\"\",1,0)","v":0},{"$f":"IF('Sjekkliste for utfylling'!J637<>\"\",1,0)","v":0},{"$f":"IF('Sjekkliste for utfylling'!K637<>\"\",1,0)","v":1},1,0,{"$f":"IF($E410=0,'Sjekkliste for utfylling'!A637,\"\")","v":""},{"$f":"IF($E410=0,'Sjekkliste for utfylling'!B637,\"\")","v":""},null,null,{"$f":"IF(E410=0,'Sjekkliste for utfylling'!L637,\" \")","v":" "}]
[{"$f":"'Sjekkliste for utfylling'!A638","v":410},{"$f":"IF('Sjekkliste for utfylling'!I638<>\"\",1,0)","v":0},{"$f":"IF('Sjekkliste for utfylling'!J638<>\"\",1,0)","v":0},{"$f":"IF('Sjekkliste for utfylling'!K638<>\"\",1,0)","v":1},1,0,{"$f":"IF($E411=0,'Sjekkliste for utfylling'!A638,\"\")","v":""},{"$f":"IF($E411=0,'Sjekkliste for utfylling'!B638,\"\")","v":""},null,null,{"$f":"IF(E411=0,'Sjekkliste for utfylling'!L638,\" \")","v":" "}]
[{"$f":"'Sjekkliste for utfylling'!A639","v":411},{"$f":"IF('Sjekkliste for utfylling'!I639<>\"\",1,0)","v":0},{"$f":"IF('Sjekkliste for utfylling'!J639<>\"\",1,0)","v":0},{"$f":"IF('Sjekkliste for utfylling'!K639<>\"\",1,0)","v":1},1,0,{"$f":"IF($E412=0,'Sjekkliste for utfylling'!A639,\"\")","v":""},{"$f":"IF($E412=0,'Sjekkliste for utfylling'!B639,\"\")","v":""},null,null,{"$f":"IF(E412=0,'Sjekkliste for utfylling'!L639,\" \")","v":" "}]
[{"$f":"'Sjekkliste for utfylling'!A640","v":412},{"$f":"IF('Sjekkliste for utfylling'!I640<>\"\",1,0)","v":0},{"$f":"IF('Sjekkliste for utfylling'!J640<>\"\",1,0)","v":0},{"$f":"IF('Sjekkliste for utfylling'!K640<>\"\",1,0)","v":1},1,0,{"$f":"IF($E413=0,'Sjekkliste for utfylling'!A640,\"\")","v":""},{"$f":"IF($E413=0,'Sjekkliste for utfylling'!B640,\"\")","v":""},null,null,{"$f":"IF(E413=0,'Sjekkliste for utfylling'!L640,\" \")","v":" "}]
[{"$f":"'Sjekkliste for utfylling'!A641","v":413},{"$f":"IF('Sjekkliste for utfylling'!I641<>\"\",1,0)","v":0},{"$f":"IF('Sjekkliste for utfylling'!J641<>\"\",1,0)","v":0},{"$f":"IF('Sjekkliste for utfylling'!K641<>\"\",1,0)","v":1},1,0,{"$f":"IF($E414=0,'Sjekkliste for utfylling'!A641,\"\")","v":""},{"$f":"IF($E414=0,'Sjekkliste for utfylling'!B641,\"\")","v":""},null,null,{"$f":"IF(E414=0,'Sjekkliste for utfylling'!L641,\" \")","v":" "}]
[{"$f":"'Sjekkliste for utfylling'!A644","v":414},{"$f":"IF('Sjekkliste for utfylling'!I644<>\"\",1,0)","v":0},{"$f":"IF('Sjekkliste for utfylling'!J644<>\"\",1,0)","v":0},{"$f":"IF('Sjekkliste for utfylling'!K644<>\"\",1,0)","v":1},1,0,{"$f":"IF($E415=0,'Sjekkliste for utfylling'!A644,\"\")","v":""},{"$f":"IF($E415=0,'Sjekkliste for utfylling'!B644,\"\")","v":""},null,null,{"$f":"IF(E415=0,'Sjekkliste for utfylling'!L644,\" \")","v":" "}]
[{"$f":"'Sjekkliste for utfylling'!A645","v":415},{"$f":"IF('Sjekkliste for utfylling'!I645<>\"\",1,0)","v":0},{"$f":"IF('Sjekkliste for utfylling'!J645<>\"\",1,0)","v":0},{"$f":"IF('Sjekkliste for utfylling'!K645<>\"\",1,0)","v":1},1,0,{"$f":"IF($E416=0,'Sjekkliste for utfylling'!A645,\"\")","v":""},{"$f":"IF($E416=0,'Sjekkliste for utfylling'!B645,\"\")","v":""},null,null,{"$f":"IF(E416=0,'Sjekkliste for utfylling'!L645,\" \")","v":" "}]
[{"$f":"'Sjekkliste for utfylling'!A646","v":416},{"$f":"IF('Sjekkliste for utfylling'!I646<>\"\",1,0)","v":0},{"$f":"IF('Sjekkliste for utfylling'!J646<>\"\",1,0)","v":0},{"$f":"IF('Sjekkliste for utfylling'!K646<>\"\",1,0)","v":1},1,0,{"$f":"IF($E417=0,'Sjekkliste for utfylling'!A646,\"\")","v":""},{"$f":"IF($E417=0,'Sjekkliste for utfylling'!B646,\"\")","v":""},null,null,{"$f":"IF(E417=0,'Sjekkliste for utfylling'!L646,\" \")","v":" "}]
[{"$f":"'Sjekkliste for utfylling'!A647","v":417},{"$f":"IF('Sjekkliste for utfylling'!I647<>\"\",1,0)","v":0},{"$f":"IF('Sjekkliste for utfylling'!J647<>\"\",1,0)","v":0},{"$f":"IF('Sjekkliste for utfylling'!K647<>\"\",1,0)","v":1},1,0,{"$f":"IF($E418=0,'Sjekkliste for utfylling'!A647,\"\")","v":""},{"$f":"IF($E418=0,'Sjekkliste for utfylling'!B647,\"\")","v":""},null,null,{"$f":"IF(E418=0,'Sjekkliste for utfylling'!L647,\" \")","v":" "}]
[{"$f":"'Sjekkliste for utfylling'!A648","v":418},{"$f":"IF('Sjekkliste for utfylling'!I648<>\"\",1,0)","v":0},{"$f":"IF('Sjekkliste for utfylling'!J648<>\"\",1,0)","v":0},{"$f":"IF('Sjekkliste for utfylling'!K648<>\"\",1,0)","v":1},1,0,{"$f":"IF($E419=0,'Sjekkliste for utfylling'!A648,\"\")","v":""},{"$f":"IF($E419=0,'Sjekkliste for utfylling'!B648,\"\")","v":""},null,null,{"$f":"IF(E419=0,'Sjekkliste for utfylling'!L648,\" \")","v":" "}]
[{"$f":"'Sjekkliste for utfylling'!A649","v":419},{"$f":"IF('Sjekkliste for utfylling'!I649<>\"\",1,0)","v":0},{"$f":"IF('Sjekkliste for utfylling'!J649<>\"\",1,0)","v":0},{"$f":"IF('Sjekkliste for utfylling'!K649<>\"\",1,0)","v":1},1,0,{"$f":"IF($E420=0,'Sjekkliste for utfylling'!A649,\"\")","v":""},{"$f":"IF($E420=0,'Sjekkliste for utfylling'!B649,\"\")","v":""},null,null,{"$f":"IF(E420=0,'Sjekkliste for utfylling'!L649,\" \")","v":" "}]
[{"$f":"'Sjekkliste for utfylling'!A650","v":420},{"$f":"IF('Sjekkliste for utfylling'!I650<>\"\",1,0)","v":0},{"$f":"IF('Sjekkliste for utfylling'!J650<>\"\",1,0)","v":0},{"$f":"IF('Sjekkliste for utfylling'!K650<>\"\",1,0)","v":1},1,0,{"$f":"IF($E421=0,'Sjekkliste for utfylling'!A650,\"\")","v":""},{"$f":"IF($E421=0,'Sjekkliste for utfylling'!B650,\"\")","v":""},null,null,{"$f":"IF(E421=0,'Sjekkliste for utfylling'!L650,\" \")","v":" "}]
[{"$f":"'Sjekkliste for utfylling'!A651","v":421},{"$f":"IF('Sjekkliste for utfylling'!I651<>\"\",1,0)","v":0},{"$f":"IF('Sjekkliste for utfylling'!J651<>\"\",1,0)","v":0},{"$f":"IF('Sjekkliste for utfylling'!K651<>\"\",1,0)","v":1},1,0,{"$f":"IF($E422=0,'Sjekkliste for utfylling'!A651,\"\")","v":""},{"$f":"IF($E422=0,'Sjekkliste for utfylling'!B651,\"\")","v":""},null,null,{"$f":"IF(E422=0,'Sjekkliste for utfylling'!L651,\" \")","v":" "}]
[{"$f":"'Sjekkliste for utfylling'!A652","v":422},{"$f":"IF('Sjekkliste for utfylling'!I652<>\"\",1,0)","v":0},{"$f":"IF('Sjekkliste for utfylling'!J652<>\"\",1,0)","v":0},{"$f":"IF('Sjekkliste for utfylling'!K652<>\"\",1,0)","v":1},1,0,{"$f":"IF($E423=0,'Sjekkliste for utfylling'!A652,\"\")","v":""},{"$f":"IF($E423=0,'Sjekkliste for utfylling'!B652,\"\")","v":""},null,null,{"$f":"IF(E423=0,'Sjekkliste for utfylling'!L652,\" \")","v":" "}]
[{"$f":"'Sjekkliste for utfylling'!A653","v":423},{"$f":"IF('Sjekkliste for utfylling'!I653<>\"\",1,0)","v":0},{"$f":"IF('Sjekkliste for utfylling'!J653<>\"\",1,0)","v":0},{"$f":"IF('Sjekkliste for utfylling'!K653<>\"\",1,0)","v":1},1,0,{"$f":"IF($E424=0,'Sjekkliste for utfylling'!A653,\"\")","v":""},{"$f":"IF($E424=0,'Sjekkliste for utfylling'!B653,\"\")","v":""},null,null,{"$f":"IF(E424=0,'Sjekkliste for utfylling'!L653,\" \")","v":" "}]
[{"$f":"'Sjekkliste for utfylling'!A654","v":424},{"$f":"IF('Sjekkliste for utfylling'!I654<>\"\",1,0)","v":0},{"$f":"IF('Sjekkliste for utfylling'!J654<>\"\",1,0)","v":0},{"$f":"IF('Sjekkliste for utfylling'!K654<>\"\",1,0)","v":1},1,0,{"$f":"IF($E425=0,'Sjekkliste for utfylling'!A654,\"\")","v":""},{"$f":"IF($E425=0,'Sjekkliste for utfylling'!B654,\"\")","v":""},null,null,{"$f":"IF(E425=0,'Sjekkliste for utfylling'!L654,\" \")","v":" "}]
[{"$f":"'Sjekkliste for utfylling'!A656","v":425},{"$f":"IF('Sjekkliste for utfylling'!I656<>\"\",1,0)","v":0},{"$f":"IF('Sjekkliste for utfylling'!J656<>\"\",1,0)","v":0},{"$f":"IF('Sjekkliste for utfylling'!K656<>\"\",1,0)","v":1},1,0,{"$f":"IF($E426=0,'Sjekkliste for utfylling'!A656,\"\")","v":""},{"$f":"IF($E426=0,'Sjekkliste for utfylling'!B656,\"\")","v":""},null,null,{"$f":"IF(E426=0,'Sjekkliste for utfylling'!L656,\" \")","v":" "}]
[{"$f":"'Sjekkliste for utfylling'!A657","v":426},{"$f":"IF('Sjekkliste for utfylling'!I657<>\"\",1,0)","v":0},{"$f":"IF('Sjekkliste for utfylling'!J657<>\"\",1,0)","v":0},{"$f":"IF('Sjekkliste for utfylling'!K657<>\"\",1,0)","v":1},1,0,{"$f":"IF($E427=0,'Sjekkliste for utfylling'!A657,\"\")","v":""},{"$f":"IF($E427=0,'Sjekkliste for utfylling'!B657,\"\")","v":""},null,null,{"$f":"IF(E427=0,'Sjekkliste for utfylling'!L657,\" \")","v":" "}]
[{"$f":"'Sjekkliste for utfylling'!A658","v":427},{"$f":"IF('Sjekkliste for utfylling'!I658<>\"\",1,0)","v":0},{"$f":"IF('Sjekkliste for utfylling'!J658<>\"\",1,0)","v":0},{"$f":"IF('Sjekkliste for utfylling'!K658<>\"\",1,0)","v":1},1,0,{"$f":"IF($E428=0,'Sjekkliste for utfylling'!A658,\"\")","v":""},{"$f":"IF($E428=0,'Sjekkliste for utfylling'!B658,\"\")","v":""},null,null,{"$f":"IF(E428=0,'Sjekkliste for utfylling'!L658,\" \")","v":" "}]
[{"$f":"'Sjekkliste for utfylling'!A659","v":428},{"$f":"IF('Sjekkliste for utfylling'!I659<>\"\",1,0)","v":0},{"$f":"IF('Sjekkliste for utfylling'!J659<>\"\",1,0)","v":0},{"$f":"IF('Sjekkliste for utfylling'!K659<>\"\",1,0)","v":1},1,0,{"$f":"IF($E429=0,'Sjekkliste for utfylling'!A659,\"\")","v":""},{"$f":"IF($E429=0,'Sjekkliste for utfylling'!B659,\"\")","v":""},null,null,{"$f":"IF(E429=0,'Sjekkliste for utfylling'!L659,\" \")","v":" "}]
[{"$f":"'Sjekkliste for utfylling'!A660","v":429},{"$f":"IF('Sjekkliste for utfylling'!I660<>\"\",1,0)","v":0},{"$f":"IF('Sjekkliste for utfylling'!J660<>\"\",1,0)","v":0},{"$f":"IF('Sjekkliste for utfylling'!K660<>\"\",1,0)","v":1},1,{"$f":"IF(E430=0,1,0)","v":0},{"$f":"IF($E430=0,'Sjekkliste for utfylling'!A660,\"\")","v":""},{"$f":"IF($E430=0,'Sjekkliste for utfylling'!B660,\"\")","v":""},null,null,{"$f":"IF(E430=0,'Sjekkliste for utfylling'!L660,\" \")","v":" "}]
[{"$f":"'Sjekkliste for utfylling'!A661","v":430},{"$f":"IF('Sjekkliste for utfylling'!I661<>\"\",1,0)","v":0},{"$f":"IF('Sjekkliste for utfylling'!J661<>\"\",1,0)","v":0},{"$f":"IF('Sjekkliste for utfylling'!K661<>\"\",1,0)","v":1},1,0,{"$f":"IF($E431=0,'Sjekkliste for utfylling'!A661,\"\")","v":""},{"$f":"IF($E431=0,'Sjekkliste for utfylling'!B661,\"\")","v":""},null,null,{"$f":"IF(E431=0,'Sjekkliste for utfylling'!L661,\" \")","v":" "}]
[{"$f":"'Sjekkliste for utfylling'!A662","v":431},{"$f":"IF('Sjekkliste for utfylling'!I662<>\"\",1,0)","v":0},{"$f":"IF('Sjekkliste for utfylling'!J662<>\"\",1,0)","v":0},{"$f":"IF('Sjekkliste for utfylling'!K662<>\"\",1,0)","v":1},1,0,{"$f":"IF($E432=0,'Sjekkliste for utfylling'!A662,\"\")","v":""},{"$f":"IF($E432=0,'Sjekkliste for utfylling'!B662,\"\")","v":""},null,null,{"$f":"IF(E432=0,'Sjekkliste for utfylling'!L662,\" \")","v":" "}]
[{"$f":"'Sjekkliste for utfylling'!A663","v":432},{"$f":"IF('Sjekkliste for utfylling'!I663<>\"\",1,0)","v":0},{"$f":"IF('Sjekkliste for utfylling'!J663<>\"\",1,0)","v":0},{"$f":"IF('Sjekkliste for utfylling'!K663<>\"\",1,0)","v":1},1,0,{"$f":"IF($E433=0,'Sjekkliste for utfylling'!A663,\"\")","v":""},{"$f":"IF($E433=0,'Sjekkliste for utfylling'!B663,\"\")","v":""},null,null,{"$f":"IF(E433=0,'Sjekkliste for utfylling'!L663,\" \")","v":" "}]
[{"$f":"'Sjekkliste for utfylling'!A664","v":433},{"$f":"IF('Sjekkliste for utfylling'!I664<>\"\",1,0)","v":0},{"$f":"IF('Sjekkliste for utfylling'!J664<>\"\",1,0)","v":0},{"$f":"IF('Sjekkliste for utfylling'!K664<>\"\",1,0)","v":1},1,0,{"$f":"IF($E434=0,'Sjekkliste for utfylling'!A664,\"\")","v":""},{"$f":"IF($E434=0,'Sjekkliste for utfylling'!B664,\"\")","v":""},null,null,{"$f":"IF(E434=0,'Sjekkliste for utfylling'!L664,\" \")","v":" "}]
[{"$f":"'Sjekkliste for utfylling'!A665","v":434},{"$f":"IF('Sjekkliste for utfylling'!I665<>\"\",1,0)","v":0},{"$f":"IF('Sjekkliste for utfylling'!J665<>\"\",1,0)","v":0},{"$f":"IF('Sjekkliste for utfylling'!K665<>\"\",1,0)","v":1},1,0,{"$f":"IF($E435=0,'Sjekkliste for utfylling'!A665,\"\")","v":""},{"$f":"IF($E435=0,'Sjekkliste for utfylling'!B665,\"\")","v":""},null,null,{"$f":"IF(E435=0,'Sjekkliste for utfylling'!L665,\" \")","v":" "}]
[{"$f":"'Sjekkliste for utfylling'!A666","v":435},{"$f":"IF('Sjekkliste for utfylling'!I666<>\"\",1,0)","v":0},{"$f":"IF('Sjekkliste for utfylling'!J666<>\"\",1,0)","v":0},{"$f":"IF('Sjekkliste for utfylling'!K666<>\"\",1,0)","v":1},1,0,{"$f":"IF($E436=0,'Sjekkliste for utfylling'!A666,\"\")","v":""},{"$f":"IF($E436=0,'Sjekkliste for utfylling'!B666,\"\")","v":""},null,null,{"$f":"IF(E436=0,'Sjekkliste for utfylling'!L666,\" \")","v":" "}]
[{"$f":"'Sjekkliste for utfylling'!A667","v":436},{"$f":"IF('Sjekkliste for utfylling'!I667<>\"\",1,0)","v":0},{"$f":"IF('Sjekkliste for utfylling'!J667<>\"\",1,0)","v":0},{"$f":"IF('Sjekkliste for utfylling'!K667<>\"\",1,0)","v":1},1,0,{"$f":"IF($E437=0,'Sjekkliste for utfylling'!A667,\"\")","v":""},{"$f":"IF($E437=0,'Sjekkliste for utfylling'!B667,\"\")","v":""},null,null,{"$f":"IF(E437=0,'Sjekkliste for utfylling'!L667,\" \")","v":" "}]
[{"$f":"'Sjekkliste for utfylling'!A668","v":437},{"$f":"IF('Sjekkliste for utfylling'!I668<>\"\",1,0)","v":0},{"$f":"IF('Sjekkliste for utfylling'!J668<>\"\",1,0)","v":0},{"$f":"IF('Sjekkliste for utfylling'!K668<>\"\",1,0)","v":1},1,0,{"$f":"IF($E438=0,'Sjekkliste for utfylling'!A668,\"\")","v":""},{"$f":"IF($E438=0,'Sjekkliste for utfylling'!B668,\"\")","v":""},null,null,{"$f":"IF(E438=0,'Sjekkliste for utfylling'!L668,\" \")","v":" "}]
[{"$f":"'Sjekkliste for utfylling'!A669","v":438},{"$f":"IF('Sjekkliste for utfylling'!I669<>\"\",1,0)","v":0},{"$f":"IF('Sjekkliste for utfylling'!J669<>\"\",1,0)","v":0},{"$f":"IF('Sjekkliste for utfylling'!K669<>\"\",1,0)","v":1},1,0,{"$f":"IF($E439=0,'Sjekkliste for utfylling'!A669,\"\")","v":""},{"$f":"IF($E439=0,'Sjekkliste for utfylling'!B669,\"\")","v":""},null,null,{"$f":"IF(E439=0,'Sjekkliste for utfylling'!L669,\" \")","v":" "}]
[{"$f":"'Sjekkliste for utfylling'!A670","v":439},{"$f":"IF('Sjekkliste for utfylling'!I670<>\"\",1,0)","v":0},{"$f":"IF('Sjekkliste for utfylling'!J670<>\"\",1,0)","v":0},{"$f":"IF('Sjekkliste for utfylling'!K670<>\"\",1,0)","v":1},1,0,{"$f":"IF($E440=0,'Sjekkliste for utfylling'!A670,\"\")","v":""},{"$f":"IF($E440=0,'Sjekkliste for utfylling'!B670,\"\")","v":""},null,null,{"$f":"IF(E440=0,'Sjekkliste for utfylling'!L670,\" \")","v":" "}]
[{"$f":"'Sjekkliste for utfylling'!A671","v":440},{"$f":"IF('Sjekkliste for utfylling'!I671<>\"\",1,0)","v":0},{"$f":"IF('Sjekkliste for utfylling'!J671<>\"\",1,0)","v":0},{"$f":"IF('Sjekkliste for utfylling'!K671<>\"\",1,0)","v":1},1,0,{"$f":"IF($E441=0,'Sjekkliste for utfylling'!A671,\"\")","v":""},{"$f":"IF($E441=0,'Sjekkliste for utfylling'!B671,\"\")","v":""},null,null,{"$f":"IF(E441=0,'Sjekkliste for utfylling'!L671,\" \")","v":" "}]
[{"$f":"'Sjekkliste for utfylling'!A672","v":441},{"$f":"IF('Sjekkliste for utfylling'!I672<>\"\",1,0)","v":0},{"$f":"IF('Sjekkliste for utfylling'!J672<>\"\",1,0)","v":0},{"$f":"IF('Sjekkliste for utfylling'!K672<>\"\",1,0)","v":1},1,0,{"$f":"IF($E442=0,'Sjekkliste for utfylling'!A672,\"\")","v":""},{"$f":"IF($E442=0,'Sjekkliste for utfylling'!B672,\"\")","v":""},null,null,{"$f":"IF(E442=0,'Sjekkliste for utfylling'!L672,\" \")","v":" "}]
[{"$f":"'Sjekkliste for utfylling'!A673","v":442},{"$f":"IF('Sjekkliste for utfylling'!I673<>\"\",1,0)","v":0},{"$f":"IF('Sjekkliste for utfylling'!J673<>\"\",1,0)","v":0},{"$f":"IF('Sjekkliste for utfylling'!K673<>\"\",1,0)","v":1},1,0,{"$f":"IF($E443=0,'Sjekkliste for utfylling'!A673,\"\")","v":""},{"$f":"IF($E443=0,'Sjekkliste for utfylling'!B673,\"\")","v":""},null,null,{"$f":"IF(E443=0,'Sjekkliste for utfylling'!L673,\" \")","v":" "}]
[{"$f":"'Sjekkliste for utfylling'!A674","v":443},{"$f":"IF('Sjekkliste for utfylling'!I674<>\"\",1,0)","v":0},{"$f":"IF('Sjekkliste for utfylling'!J674<>\"\",1,0)","v":0},{"$f":"IF('Sjekkliste for utfylling'!K674<>\"\",1,0)","v":1},1,0,{"$f":"IF($E444=0,'Sjekkliste for utfylling'!A674,\"\")","v":""},{"$f":"IF($E444=0,'Sjekkliste for utfylling'!B674,\"\")","v":""},null,null,{"$f":"IF(E444=0,'Sjekkliste for utfylling'!L674,\" \")","v":" "}]
[{"$f":"'Sjekkliste for utfylling'!A675","v":444},{"$f":"IF('Sjekkliste for utfylling'!I675<>\"\",1,0)","v":0},{"$f":"IF('Sjekkliste for utfylling'!J675<>\"\",1,0)","v":0},{"$f":"IF('Sjekkliste for utfylling'!K675<>\"\",1,0)","v":1},1,0,{"$f":"IF($E445=0,'Sjekkliste for utfylling'!A675,\"\")","v":""},{"$f":"IF($E445=0,'Sjekkliste for utfylling'!B675,\"\")","v":""},null,null,{"$f":"IF(E445=0,'Sjekkliste for utfylling'!L675,\" \")","v":" "}]
[{"$f":"'Sjekkliste for utfylling'!A676","v":445},{"$f":"IF('Sjekkliste for utfylling'!I676<>\"\",1,0)","v":0},{"$f":"IF('Sjekkliste for utfylling'!J676<>\"\",1,0)","v":0},{"$f":"IF('Sjekkliste for utfylling'!K676<>\"\",1,0)","v":1},1,0,{"$f":"IF($E446=0,'Sjekkliste for utfylling'!A676,\"\")","v":""},{"$f":"IF($E446=0,'Sjekkliste for utfylling'!B676,\"\")","v":""},null,null,{"$f":"IF(E446=0,'Sjekkliste for utfylling'!L676,\" \")","v":" "}]
[{"$f":"'Sjekkliste for utfylling'!A677","v":446},{"$f":"IF('Sjekkliste for utfylling'!I677<>\"\",1,0)","v":0},{"$f":"IF('Sjekkliste for utfylling'!J677<>\"\",1,0)","v":0},{"$f":"IF('Sjekkliste for utfylling'!K677<>\"\",1,0)","v":1},1,0,{"$f":"IF($E447=0,'Sjekkliste for utfylling'!A677,\"\")","v":""},{"$f":"IF($E447=0,'Sjekkliste for utfylling'!B677,\"\")","v":""},null,null,{"$f":"IF(E447=0,'Sjekkliste for utfylling'!L677,\" \")","v":" "}]
[{"$f":"'Sjekkliste for utfylling'!A680","v":447},{"$f":"IF('Sjekkliste for utfylling'!I680<>\"\",1,0)","v":0},{"$f":"IF('Sjekkliste for utfylling'!J680<>\"\",1,0)","v":0},{"$f":"IF('Sjekkliste for utfylling'!K680<>\"\",1,0)","v":1},1,0,{"$f":"IF($E448=0,'Sjekkliste for utfylling'!A680,\"\")","v":""},{"$f":"IF($E448=0,'Sjekkliste for utfylling'!B680,\"\")","v":""},null,null,{"$f":"IF(E448=0,'Sjekkliste for utfylling'!L680,\" \")","v":" "}]
[{"$f":"'Sjekkliste for utfylling'!A682","v":448},{"$f":"IF('Sjekkliste for utfylling'!I682<>\"\",1,0)","v":0},{"$f":"IF('Sjekkliste for utfylling'!J682<>\"\",1,0)","v":0},{"$f":"IF('Sjekkliste for utfylling'!K682<>\"\",1,0)","v":1},1,0,{"$f":"IF($E449=0,'Sjekkliste for utfylling'!A682,\"\")","v":""},{"$f":"IF($E449=0,'Sjekkliste for utfylling'!B682,\"\")","v":""},null,null,{"$f":"IF(E449=0,'Sjekkliste for utfylling'!L682,\" \")","v":" "}]
[{"$f":"'Sjekkliste for utfylling'!A685","v":449},{"$f":"IF('Sjekkliste for utfylling'!I685<>\"\",1,0)","v":0},{"$f":"IF('Sjekkliste for utfylling'!J685<>\"\",1,0)","v":0},{"$f":"IF('Sjekkliste for utfylling'!K685<>\"\",1,0)","v":1},{"$f":"SUM(B450:D450)","v":1},{"$f":"IF(E450=0,1,0)","v":0},{"$f":"IF($E450=0,'Sjekkliste for utfylling'!A685,\"\")","v":""},{"$f":"IF($E450=0,'Sjekkliste for utfylling'!B685,\"\")","v":""},null,null,{"$f":"IF(E450=0,'Sjekkliste for utfylling'!L685,\" \")","v":" "}]
[{"$f":"'Sjekkliste for utfylling'!A688","v":450},{"$f":"IF('Sjekkliste for utfylling'!I688<>\"\",1,0)","v":0},{"$f":"IF('Sjekkliste for utfylling'!J688<>\"\",1,0)","v":0},{"$f":"IF('Sjekkliste for utfylling'!K688<>\"\",1,0)","v":1},1,0,{"$f":"IF($E451=0,'Sjekkliste for utfylling'!A688,\"\")","v":""},{"$f":"IF($E451=0,'Sjekkliste for utfylling'!B688,\"\")","v":""},null,null,{"$f":"IF(E451=0,'Sjekkliste for utfylling'!L688,\" \")","v":" "}]
[{"$f":"'Sjekkliste for utfylling'!A689","v":451},{"$f":"IF('Sjekkliste for utfylling'!I689<>\"\",1,0)","v":0},{"$f":"IF('Sjekkliste for utfylling'!J689<>\"\",1,0)","v":0},{"$f":"IF('Sjekkliste for utfylling'!K689<>\"\",1,0)","v":1},1,0,{"$f":"IF($E452=0,'Sjekkliste for utfylling'!A689,\"\")","v":""},{"$f":"IF($E452=0,'Sjekkliste for utfylling'!B689,\"\")","v":""},null,null,{"$f":"IF(E452=0,'Sjekkliste for utfylling'!L689,\" \")","v":" "}]
[{"$f":"'Sjekkliste for utfylling'!A694","v":452},{"$f":"IF('Sjekkliste for utfylling'!I694<>\"\",1,0)","v":0},{"$f":"IF('Sjekkliste for utfylling'!J694<>\"\",1,0)","v":0},{"$f":"IF('Sjekkliste for utfylling'!K694<>\"\",1,0)","v":1},1,0,{"$f":"IF($E453=0,'Sjekkliste for utfylling'!A694,\"\")","v":""},{"$f":"IF($E453=0,'Sjekkliste for utfylling'!B694,\"\")","v":""},null,null,{"$f":"IF(E453=0,'Sjekkliste for utfylling'!L694,\" \")","v":" "}]

{"sheet":"Ja-svar","index":4,"n_rows":453,"n_cols":8,"rows_kept":453,"cut":false,"hidden":true,"merged":[]}
[null,null,{"$f":"COUNTIF(C2:C480,\"=1\")-D1","v":0},{"$f":"SUM(D2:D480)","v":0},"Ja-svar",{"$f":"'Sjekkliste for utfylling'!B2","v":0},{"$f":"'Sjekkliste for utfylling'!B3","v":"2024"},"Kommentarer"]
[{"$f":"'Sjekkliste for utfylling'!A28","v":1},{"$f":"IF('Sjekkliste for utfylling'!I28<>\"\",1,0)","v":0},{"$f":"SUM(B2:B2)","v":0},null,{"$f":"IF($C2=1,'Sjekkliste for utfylling'!A28,\"\")","v":""},{"$f":"IF($C2=1,'Sjekkliste for utfylling'!B28,\"\")","v":""},null,{"$f":"IF(C2=1,'Sjekkliste for utfylling'!L28,\" \")","v":" "}]
[{"$f":"'Sjekkliste for utfylling'!A29","v":2},{"$f":"IF('Sjekkliste for utfylling'!I29<>\"\",1,0)","v":0},0,null,{"$f":"IF($C3=1,'Sjekkliste for utfylling'!A29,\"\")","v":""},{"$f":"IF($C3=1,'Sjekkliste for utfylling'!B29,\"\")","v":""},null,{"$f":"IF(C3=1,'Sjekkliste for utfylling'!L29,\" \")","v":" "}]
[{"$f":"'Sjekkliste for utfylling'!A30","v":3},{"$f":"IF('Sjekkliste for utfylling'!I30<>\"\",1,0)","v":0},0,null,{"$f":"IF($C4=1,'Sjekkliste for utfylling'!A30,\"\")","v":""},{"$f":"IF($C4=1,'Sjekkliste for utfylling'!B30,\"\")","v":""},null,{"$f":"IF(C4=1,'Sjekkliste for utfylling'!L30,\" \")","v":" "}]
[{"$f":"'Sjekkliste for utfylling'!A31","v":4},{"$f":"IF('Sjekkliste for utfylling'!I31<>\"\",1,0)","v":0},0,null,{"$f":"IF($C5=1,'Sjekkliste for utfylling'!A31,\"\")","v":""},{"$f":"IF($C5=1,'Sjekkliste for utfylling'!B31,\"\")","v":""},null,{"$f":"IF(C5=1,'Sjekkliste for utfylling'!L31,\" \")","v":" "}]
[{"$f":"'Sjekkliste for utfylling'!A36","v":5},{"$f":"IF('Sjekkliste for utfylling'!I36<>\"\",1,0)","v":0},0,null,{"$f":"IF($C6=1,'Sjekkliste for utfylling'!A36,\"\")","v":""},{"$f":"IF($C6=1,'Sjekkliste for utfylling'!B36,\"\")","v":""},null,{"$f":"IF(C6=1,'Sjekkliste for utfylling'!L36,\" \")","v":" "}]
[{"$f":"'Sjekkliste for utfylling'!A37","v":6},{"$f":"IF('Sjekkliste for utfylling'!I37<>\"\",1,0)","v":0},0,null,{"$f":"IF($C7=1,'Sjekkliste for utfylling'!A37,\"\")","v":""},{"$f":"IF($C7=1,'Sjekkliste for utfylling'!B37,\"\")","v":""},null,{"$f":"IF(C7=1,'Sjekkliste for utfylling'!L37,\" \")","v":" "}]
[{"$f":"'Sjekkliste for utfylling'!A38","v":7},{"$f":"IF('Sjekkliste for utfylling'!I38<>\"\",1,0)","v":0},0,null,{"$f":"IF($C8=1,'Sjekkliste for utfylling'!A38,\"\")","v":""},{"$f":"IF($C8=1,'Sjekkliste for utfylling'!B38,\"\")","v":""},null,{"$f":"IF(C8=1,'Sjekkliste for utfylling'!L38,\" \")","v":" "}]
[{"$f":"'Sjekkliste for utfylling'!A39","v":8},{"$f":"IF('Sjekkliste for utfylling'!I39<>\"\",1,0)","v":0},0,null,{"$f":"IF($C9=1,'Sjekkliste for utfylling'!A39,\"\")","v":""},{"$f":"IF($C9=1,'Sjekkliste for utfylling'!B39,\"\")","v":""},null,{"$f":"IF(C9=1,'Sjekkliste for utfylling'!L39,\" \")","v":" "}]
[{"$f":"'Sjekkliste for utfylling'!A40","v":9},{"$f":"IF('Sjekkliste for utfylling'!I40<>\"\",1,0)","v":0},0,null,{"$f":"IF($C10=1,'Sjekkliste for utfylling'!A40,\"\")","v":""},{"$f":"IF($C10=1,'Sjekkliste for utfylling'!B40,\"\")","v":""},null,{"$f":"IF(C10=1,'Sjekkliste for utfylling'!L40,\" \")","v":" "}]
[{"$f":"'Sjekkliste for utfylling'!A41","v":10},{"$f":"IF('Sjekkliste for utfylling'!I41<>\"\",1,0)","v":0},0,null,{"$f":"IF($C11=1,'Sjekkliste for utfylling'!A41,\"\")","v":""},{"$f":"IF($C11=1,'Sjekkliste for utfylling'!B41,\"\")","v":""},null,{"$f":"IF(C11=1,'Sjekkliste for utfylling'!L41,\" \")","v":" "}]
[{"$f":"'Sjekkliste for utfylling'!A42","v":11},{"$f":"IF('Sjekkliste for utfylling'!I42<>\"\",1,0)","v":0},0,null,{"$f":"IF($C12=1,'Sjekkliste for utfylling'!A42,\"\")","v":""},{"$f":"IF($C12=1,'Sjekkliste for utfylling'!B42,\"\")","v":""},null,{"$f":"IF(C12=1,'Sjekkliste for utfylling'!L42,\" \")","v":" "}]
[{"$f":"'Sjekkliste for utfylling'!A43","v":12},{"$f":"IF('Sjekkliste for utfylling'!I43<>\"\",1,0)","v":0},0,null,{"$f":"IF($C13=1,'Sjekkliste for utfylling'!A43,\"\")","v":""},{"$f":"IF($C13=1,'Sjekkliste for utfylling'!B43,\"\")","v":""},null,{"$f":"IF(C13=1,'Sjekkliste for utfylling'!L43,\" \")","v":" "}]
[{"$f":"'Sjekkliste for utfylling'!A45","v":13},{"$f":"IF('Sjekkliste for utfylling'!I45<>\"\",1,0)","v":0},0,null,{"$f":"IF($C14=1,'Sjekkliste for utfylling'!A45,\"\")","v":""},{"$f":"IF($C14=1,'Sjekkliste for utfylling'!B45,\"\")","v":""},null,{"$f":"IF(C14=1,'Sjekkliste for utfylling'!L45,\" \")","v":" "}]
[{"$f":"'Sjekkliste for utfylling'!A46","v":14},{"$f":"IF('Sjekkliste for utfylling'!I46<>\"\",1,0)","v":0},0,null,{"$f":"IF($C15=1,'Sjekkliste for utfylling'!A46,\"\")","v":""},{"$f":"IF($C15=1,'Sjekkliste for utfylling'!B46,\"\")","v":""},null,{"$f":"IF(C15=1,'Sjekkliste for utfylling'!L46,\" \")","v":" "}]
[{"$f":"'Sjekkliste for utfylling'!A47","v":15},{"$f":"IF('Sjekkliste for utfylling'!I47<>\"\",1,0)","v":0},0,null,{"$f":"IF($C16=1,'Sjekkliste for utfylling'!A47,\"\")","v":""},{"$f":"IF($C16=1,'Sjekkliste for utfylling'!B47,\"\")","v":""},null,{"$f":"IF(C16=1,'Sjekkliste for utfylling'!L47,\" \")","v":" "}]
[{"$f":"'Sjekkliste for utfylling'!A48","v":16},{"$f":"IF('Sjekkliste for utfylling'!I48<>\"\",1,0)","v":0},0,null,{"$f":"IF($C17=1,'Sjekkliste for utfylling'!A48,\"\")","v":""},{"$f":"IF($C17=1,'Sjekkliste for utfylling'!B48,\"\")","v":""},null,{"$f":"IF(C17=1,'Sjekkliste for utfylling'!L48,\" \")","v":" "}]
[{"$f":"'Sjekkliste for utfylling'!A49","v":17},{"$f":"IF('Sjekkliste for utfylling'!I49<>\"\",1,0)","v":0},0,null,{"$f":"IF($C18=1,'Sjekkliste for utfylling'!A49,\"\")","v":""},{"$f":"IF($C18=1,'Sjekkliste for utfylling'!B49,\"\")","v":""},null,{"$f":"IF(C18=1,'Sjekkliste for utfylling'!L49,\" \")","v":" "}]
[{"$f":"'Sjekkliste for utfylling'!A50","v":18},{"$f":"IF('Sjekkliste for utfylling'!I50<>\"\",1,0)","v":0},0,null,{"$f":"IF($C19=1,'Sjekkliste for utfylling'!A50,\"\")","v":""},{"$f":"IF($C19=1,'Sjekkliste for utfylling'!B50,\"\")","v":""},null,{"$f":"IF(C19=1,'Sjekkliste for utfylling'!L50,\" \")","v":" "}]
[{"$f":"'Sjekkliste for utfylling'!A51","v":19},{"$f":"IF('Sjekkliste for utfylling'!I51<>\"\",1,0)","v":0},0,null,{"$f":"IF($C20=1,'Sjekkliste for utfylling'!A51,\"\")","v":""},{"$f":"IF($C20=1,'Sjekkliste for utfylling'!B51,\"\")","v":""},null,{"$f":"IF(C20=1,'Sjekkliste for utfylling'!L51,\" \")","v":" "}]
[{"$f":"'Sjekkliste for utfylling'!A55","v":20},{"$f":"IF('Sjekkliste for utfylling'!I55<>\"\",1,0)","v":0},0,null,{"$f":"IF($C21=1,'Sjekkliste for utfylling'!A55,\"\")","v":""},{"$f":"IF($C21=1,'Sjekkliste for utfylling'!B55,\"\")","v":""},null,{"$f":"IF(C21=1,'Sjekkliste for utfylling'!L55,\" \")","v":" "}]
[{"$f":"'Sjekkliste for utfylling'!A56","v":21},{"$f":"IF('Sjekkliste for utfylling'!I56<>\"\",1,0)","v":0},0,null,{"$f":"IF($C22=1,'Sjekkliste for utfylling'!A56,\"\")","v":""},{"$f":"IF($C22=1,'Sjekkliste for utfylling'!B56,\"\")","v":""},null,{"$f":"IF(C22=1,'Sjekkliste for utfylling'!L56,\" \")","v":" "}]
[{"$f":"'Sjekkliste for utfylling'!A57","v":22},{"$f":"IF('Sjekkliste for utfylling'!I57<>\"\",1,0)","v":0},0,null,{"$f":"IF($C23=1,'Sjekkliste for utfylling'!A57,\"\")","v":""},{"$f":"IF($C23=1,'Sjekkliste for utfylling'!B57,\"\")","v":""},null,{"$f":"IF(C23=1,'Sjekkliste for utfylling'!L57,\" \")","v":" "}]
[{"$f":"'Sjekkliste for utfylling'!A58","v":23},{"$f":"IF('Sjekkliste for utfylling'!I58<>\"\",1,0)","v":0},0,null,{"$f":"IF($C24=1,'Sjekkliste for utfylling'!A58,\"\")","v":""},{"$f":"IF($C24=1,'Sjekkliste for utfylling'!B58,\"\")","v":""},null,{"$f":"IF(C24=1,'Sjekkliste for utfylling'!L58,\" \")","v":" "}]
[{"$f":"'Sjekkliste for utfylling'!A61","v":24},{"$f":"IF('Sjekkliste for utfylling'!I61<>\"\",1,0)","v":0},0,null,{"$f":"IF($C25=1,'Sjekkliste for utfylling'!A61,\"\")","v":""},{"$f":"IF($C25=1,'Sjekkliste for utfylling'!B61,\"\")","v":""},null,{"$f":"IF(C25=1,'Sjekkliste for utfylling'!L61,\" \")","v":" "}]
[{"$f":"'Sjekkliste for utfylling'!A62","v":25},{"$f":"IF('Sjekkliste for utfylling'!I62<>\"\",1,0)","v":0},0,null,{"$f":"IF($C26=1,'Sjekkliste for utfylling'!A62,\"\")","v":""},{"$f":"IF($C26=1,'Sjekkliste for utfylling'!B62,\"\")","v":""},null,{"$f":"IF(C26=1,'Sjekkliste for utfylling'!L62,\" \")","v":" "}]
[{"$f":"'Sjekkliste for utfylling'!A63","v":26},{"$f":"IF('Sjekkliste for utfylling'!I63<>\"\",1,0)","v":0},0,null,{"$f":"IF($C27=1,'Sjekkliste for utfylling'!A63,\"\")","v":""},{"$f":"IF($C27=1,'Sjekkliste for utfylling'!B63,\"\")","v":""},null,{"$f":"IF(C27=1,'Sjekkliste for utfylling'!L63,\" \")","v":" "}]
[{"$f":"'Sjekkliste for utfylling'!A66","v":27},{"$f":"IF('Sjekkliste for utfylling'!I66<>\"\",1,0)","v":0},0,null,{"$f":"IF($C28=1,'Sjekkliste for utfylling'!A66,\"\")","v":""},{"$f":"IF($C28=1,'Sjekkliste for utfylling'!B66,\"\")","v":""},null,{"$f":"IF(C28=1,'Sjekkliste for utfylling'!L66,\" \")","v":" "}]
[{"$f":"'Sjekkliste for utfylling'!A67","v":28},{"$f":"IF('Sjekkliste for utfylling'!I67<>\"\",1,0)","v":0},0,null,{"$f":"IF($C29=1,'Sjekkliste for utfylling'!A67,\"\")","v":""},{"$f":"IF($C29=1,'Sjekkliste for utfylling'!B67,\"\")","v":""},null,{"$f":"IF(C29=1,'Sjekkliste for utfylling'!L67,\" \")","v":" "}]
[{"$f":"'Sjekkliste for utfylling'!A69","v":29},{"$f":"IF('Sjekkliste for utfylling'!I69<>\"\",1,0)","v":0},0,null,{"$f":"IF($C30=1,'Sjekkliste for utfylling'!A69,\"\")","v":""},{"$f":"IF($C30=1,'Sjekkliste for utfylling'!B69,\"\")","v":""},null,{"$f":"IF(C30=1,'Sjekkliste for utfylling'!L69,\" \")","v":" "}]
[{"$f":"'Sjekkliste for utfylling'!A70","v":30},{"$f":"IF('Sjekkliste for utfylling'!I70<>\"\",1,0)","v":0},0,null,{"$f":"IF($C31=1,'Sjekkliste for utfylling'!A70,\"\")","v":""},{"$f":"IF($C31=1,'Sjekkliste for utfylling'!B70,\"\")","v":""},null,{"$f":"IF(C31=1,'Sjekkliste for utfylling'!L70,\" \")","v":" "}]
[{"$f":"'Sjekkliste for utfylling'!A76","v":31},{"$f":"IF('Sjekkliste for utfylling'!I76<>\"\",1,0)","v":0},0,null,{"$f":"IF($C32=1,'Sjekkliste for utfylling'!A76,\"\")","v":""},{"$f":"IF($C32=1,'Sjekkliste for utfylling'!B76,\"\")","v":""},null,{"$f":"IF(C32=1,'Sjekkliste for utfylling'!L76,\" \")","v":" "}]
[{"$f":"'Sjekkliste for utfylling'!A77","v":32},{"$f":"IF('Sjekkliste for utfylling'!I77<>\"\",1,0)","v":0},0,null,{"$f":"IF($C33=1,'Sjekkliste for utfylling'!A77,\"\")","v":""},{"$f":"IF($C33=1,'Sjekkliste for utfylling'!B77,\"\")","v":""},null,{"$f":"IF(C33=1,'Sjekkliste for utfylling'!L77,\" \")","v":" "}]
[{"$f":"'Sjekkliste for utfylling'!A81","v":33},{"$f":"IF('Sjekkliste for utfylling'!I81<>\"\",1,0)","v":0},0,null,{"$f":"IF($C34=1,'Sjekkliste for utfylling'!A81,\"\")","v":""},{"$f":"IF($C34=1,'Sjekkliste for utfylling'!B81,\"\")","v":""},null,{"$f":"IF(C34=1,'Sjekkliste for utfylling'!L81,\" \")","v":" "}]
[{"$f":"'Sjekkliste for utfylling'!A82","v":34},{"$f":"IF('Sjekkliste for utfylling'!I82<>\"\",1,0)","v":0},0,null,{"$f":"IF($C35=1,'Sjekkliste for utfylling'!A82,\"\")","v":""},{"$f":"IF($C35=1,'Sjekkliste for utfylling'!B82,\"\")","v":""},null,{"$f":"IF(C35=1,'Sjekkliste for utfylling'!L82,\" \")","v":" "}]
[{"$f":"'Sjekkliste for utfylling'!A83","v":35},{"$f":"IF('Sjekkliste for utfylling'!I83<>\"\",1,0)","v":0},0,null,{"$f":"IF($C36=1,'Sjekkliste for utfylling'!A83,\"\")","v":""},{"$f":"IF($C36=1,'Sjekkliste for utfylling'!B83,\"\")","v":""},null,{"$f":"IF(C36=1,'Sjekkliste for utfylling'!L83,\" \")","v":" "}]
[{"$f":"'Sjekkliste for utfylling'!A84","v":36},{"$f":"IF('Sjekkliste for utfylling'!I84<>\"\",1,0)","v":0},0,null,{"$f":"IF($C37=1,'Sjekkliste for utfylling'!A84,\"\")","v":""},{"$f":"IF($C37=1,'Sjekkliste for utfylling'!B84,\"\")","v":""},null,{"$f":"IF(C37=1,'Sjekkliste for utfylling'!L84,\" \")","v":" "}]
[{"$f":"'Sjekkliste for utfylling'!A85","v":37},{"$f":"IF('Sjekkliste for utfylling'!I85<>\"\",1,0)","v":0},0,null,{"$f":"IF($C38=1,'Sjekkliste for utfylling'!A85,\"\")","v":""},{"$f":"IF($C38=1,'Sjekkliste for utfylling'!B85,\"\")","v":""},null,{"$f":"IF(C38=1,'Sjekkliste for utfylling'!L85,\" \")","v":" "}]
[{"$f":"'Sjekkliste for utfylling'!A86","v":38},{"$f":"IF('Sjekkliste for utfylling'!I86<>\"\",1,0)","v":0},0,null,{"$f":"IF($C39=1,'Sjekkliste for utfylling'!A86,\"\")","v":""},{"$f":"IF($C39=1,'Sjekkliste for utfylling'!B86,\"\")","v":""},null,{"$f":"IF(C39=1,'Sjekkliste for utfylling'!L86,\" \")","v":" "}]
[{"$f":"'Sjekkliste for utfylling'!A87","v":39},{"$f":"IF('Sjekkliste for utfylling'!I87<>\"\",1,0)","v":0},0,null,{"$f":"IF($C40=1,'Sjekkliste for utfylling'!A87,\"\")","v":""},{"$f":"IF($C40=1,'Sjekkliste for utfylling'!B87,\"\")","v":""},null,{"$f":"IF(C40=1,'Sjekkliste for utfylling'!L87,\" \")","v":" "}]
[{"$f":"'Sjekkliste for utfylling'!A89","v":40},{"$f":"IF('Sjekkliste for utfylling'!I89<>\"\",1,0)","v":0},0,null,{"$f":"IF($C41=1,'Sjekkliste for utfylling'!A89,\"\")","v":""},{"$f":"IF($C41=1,'Sjekkliste for utfylling'!B89,\"\")","v":""},null,{"$f":"IF(C41=1,'Sjekkliste for utfylling'!L89,\" \")","v":" "}]
[{"$f":"'Sjekkliste for utfylling'!A90","v":41},{"$f":"IF('Sjekkliste for utfylling'!I90<>\"\",1,0)","v":0},0,null,{"$f":"IF($C42=1,'Sjekkliste for utfylling'!A90,\"\")","v":""},{"$f":"IF($C42=1,'Sjekkliste for utfylling'!B90,\"\")","v":""},null,{"$f":"IF(C42=1,'Sjekkliste for utfylling'!L90,\" \")","v":" "}]
[{"$f":"'Sjekkliste for utfylling'!A92","v":42},{"$f":"IF('Sjekkliste for utfylling'!I92<>\"\",1,0)","v":0},0,null,{"$f":"IF($C43=1,'Sjekkliste for utfylling'!A92,\"\")","v":""},{"$f":"IF($C43=1,'Sjekkliste for utfylling'!B92,\"\")","v":""},null,{"$f":"IF(C43=1,'Sjekkliste for utfylling'!L92,\" \")","v":" "}]
[{"$f":"'Sjekkliste for utfylling'!A93","v":43},{"$f":"IF('Sjekkliste for utfylling'!I93<>\"\",1,0)","v":0},0,null,{"$f":"IF($C44=1,'Sjekkliste for utfylling'!A93,\"\")","v":""},{"$f":"IF($C44=1,'Sjekkliste for utfylling'!B93,\"\")","v":""},null,{"$f":"IF(C44=1,'Sjekkliste for utfylling'!L93,\" \")","v":" "}]
[{"$f":"'Sjekkliste for utfylling'!A95","v":44},{"$f":"IF('Sjekkliste for utfylling'!I95<>\"\",1,0)","v":0},0,null,{"$f":"IF($C45=1,'Sjekkliste for utfylling'!A95,\"\")","v":""},{"$f":"IF($C45=1,'Sjekkliste for utfylling'!B95,\"\")","v":""},null,{"$f":"IF(C45=1,'Sjekkliste for utfylling'!L95,\" \")","v":" "}]
[{"$f":"'Sjekkliste for utfylling'!A96","v":45},{"$f":"IF('Sjekkliste for utfylling'!I96<>\"\",1,0)","v":0},0,null,{"$f":"IF($C46=1,'Sjekkliste for utfylling'!A96,\"\")","v":""},{"$f":"IF($C46=1,'Sjekkliste for utfylling'!B96,\"\")","v":""},null,{"$f":"IF(C46=1,'Sjekkliste for utfylling'!L96,\" \")","v":" "}]
[{"$f":"'Sjekkliste for utfylling'!A98","v":46},{"$f":"IF('Sjekkliste for utfylling'!I98<>\"\",1,0)","v":0},0,null,{"$f":"IF($C47=1,'Sjekkliste for utfylling'!A98,\"\")","v":""},{"$f":"IF($C47=1,'Sjekkliste for utfylling'!B98,\"\")","v":""},null,{"$f":"IF(C47=1,'Sjekkliste for utfylling'!L98,\" \")","v":" "}]
[{"$f":"'Sjekkliste for utfylling'!A100","v":47},{"$f":"IF('Sjekkliste for utfylling'!I100<>\"\",1,0)","v":0},0,null,{"$f":"IF($C48=1,'Sjekkliste for utfylling'!A100,\"\")","v":""},{"$f":"IF($C48=1,'Sjekkliste for utfylling'!B100,\"\")","v":""},null,{"$f":"IF(C48=1,'Sjekkliste for utfylling'!L100,\" \")","v":" "}]
[{"$f":"'Sjekkliste for utfylling'!A101","v":48},{"$f":"IF('Sjekkliste for utfylling'!I101<>\"\",1,0)","v":0},0,null,{"$f":"IF($C49=1,'Sjekkliste for utfylling'!A101,\"\")","v":""},{"$f":"IF($C49=1,'Sjekkliste for utfylling'!B101,\"\")","v":""},null,{"$f":"IF(C49=1,'Sjekkliste for utfylling'!L101,\" \")","v":" "}]
[{"$f":"'Sjekkliste for utfylling'!A102","v":49},{"$f":"IF('Sjekkliste for utfylling'!I102<>\"\",1,0)","v":0},0,null,{"$f":"IF($C50=1,'Sjekkliste for utfylling'!A102,\"\")","v":""},{"$f":"IF($C50=1,'Sjekkliste for utfylling'!B102,\"\")","v":""},null,{"$f":"IF(C50=1,'Sjekkliste for utfylling'!L102,\" \")","v":" "}]
[{"$f":"'Sjekkliste for utfylling'!A103","v":50},{"$f":"IF('Sjekkliste for utfylling'!I103<>\"\",1,0)","v":0},0,null,{"$f":"IF($C51=1,'Sjekkliste for utfylling'!A103,\"\")","v":""},{"$f":"IF($C51=1,'Sjekkliste for utfylling'!B103,\"\")","v":""},null,{"$f":"IF(C51=1,'Sjekkliste for utfylling'!L103,\" \")","v":" "}]
[{"$f":"'Sjekkliste for utfylling'!A104","v":51},{"$f":"IF('Sjekkliste for utfylling'!I104<>\"\",1,0)","v":0},0,null,{"$f":"IF($C52=1,'Sjekkliste for utfylling'!A104,\"\")","v":""},{"$f":"IF($C52=1,'Sjekkliste for utfylling'!B104,\"\")","v":""},null,{"$f":"IF(C52=1,'Sjekkliste for utfylling'!L104,\" \")","v":" "}]
[{"$f":"'Sjekkliste for utfylling'!A105","v":52},{"$f":"IF('Sjekkliste for utfylling'!I105<>\"\",1,0)","v":0},0,null,{"$f":"IF($C53=1,'Sjekkliste for utfylling'!A105,\"\")","v":""},{"$f":"IF($C53=1,'Sjekkliste for utfylling'!B105,\"\")","v":""},null,{"$f":"IF(C53=1,'Sjekkliste for utfylling'!L105,\" \")","v":" "}]
[{"$f":"'Sjekkliste for utfylling'!A107","v":53},{"$f":"IF('Sjekkliste for utfylling'!I107<>\"\",1,0)","v":0},0,null,{"$f":"IF($C54=1,'Sjekkliste for utfylling'!A107,\"\")","v":""},{"$f":"IF($C54=1,'Sjekkliste for utfylling'!B107,\"\")","v":""},null,{"$f":"IF(C54=1,'Sjekkliste for utfylling'!L107,\" \")","v":" "}]
[{"$f":"'Sjekkliste for utfylling'!A108","v":54},{"$f":"IF('Sjekkliste for utfylling'!I108<>\"\",1,0)","v":0},0,null,{"$f":"IF($C55=1,'Sjekkliste for utfylling'!A108,\"\")","v":""},{"$f":"IF($C55=1,'Sjekkliste for utfylling'!B108,\"\")","v":""},null,{"$f":"IF(C55=1,'Sjekkliste for utfylling'!L108,\" \")","v":" "}]
[{"$f":"'Sjekkliste for utfylling'!A110","v":55},{"$f":"IF('Sjekkliste for utfylling'!I110<>\"\",1,0)","v":0},0,null,{"$f":"IF($C56=1,'Sjekkliste for utfylling'!A110,\"\")","v":""},{"$f":"IF($C56=1,'Sjekkliste for utfylling'!B110,\"\")","v":""},null,{"$f":"IF(C56=1,'Sjekkliste for utfylling'!L110,\" \")","v":" "}]
[{"$f":"'Sjekkliste for utfylling'!A111","v":56},{"$f":"IF('Sjekkliste for utfylling'!I111<>\"\",1,0)","v":0},0,null,{"$f":"IF($C57=1,'Sjekkliste for utfylling'!A111,\"\")","v":""},{"$f":"IF($C57=1,'Sjekkliste for utfylling'!B111,\"\")","v":""},null,{"$f":"IF(C57=1,'Sjekkliste for utfylling'!L111,\" \")","v":" "}]
[{"$f":"'Sjekkliste for utfylling'!A113","v":57},{"$f":"IF('Sjekkliste for utfylling'!I113<>\"\",1,0)","v":0},0,null,{"$f":"IF($C58=1,'Sjekkliste for utfylling'!A113,\"\")","v":""},{"$f":"IF($C58=1,'Sjekkliste for utfylling'!B113,\"\")","v":""},null,{"$f":"IF(C58=1,'Sjekkliste for utfylling'!L113,\" \")","v":" "}]
[{"$f":"'Sjekkliste for utfylling'!A115","v":58},{"$f":"IF('Sjekkliste for utfylling'!I115<>\"\",1,0)","v":0},0,null,{"$f":"IF($C59=1,'Sjekkliste for utfylling'!A115,\"\")","v":""},{"$f":"IF($C59=1,'Sjekkliste for utfylling'!B115,\"\")","v":""},null,{"$f":"IF(C59=1,'Sjekkliste for utfylling'!L115,\" \")","v":" "}]
[{"$f":"'Sjekkliste for utfylling'!A116","v":59},{"$f":"IF('Sjekkliste for utfylling'!I116<>\"\",1,0)","v":0},0,null,{"$f":"IF($C60=1,'Sjekkliste for utfylling'!A116,\"\")","v":""},{"$f":"IF($C60=1,'Sjekkliste for utfylling'!B116,\"\")","v":""},null,{"$f":"IF(C60=1,'Sjekkliste for utfylling'!L116,\" \")","v":" "}]
[{"$f":"'Sjekkliste for utfylling'!A117","v":60},{"$f":"IF('Sjekkliste for utfylling'!I117<>\"\",1,0)","v":0},0,null,{"$f":"IF($C61=1,'Sjekkliste for utfylling'!A117,\"\")","v":""},{"$f":"IF($C61=1,'Sjekkliste for utfylling'!B117,\"\")","v":""},null,{"$f":"IF(C61=1,'Sjekkliste for utfylling'!L117,\" \")","v":" "}]
[{"$f":"'Sjekkliste for utfylling'!A118","v":61},{"$f":"IF('Sjekkliste for utfylling'!I118<>\"\",1,0)","v":0},0,null,{"$f":"IF($C62=1,'Sjekkliste for utfylling'!A118,\"\")","v":""},{"$f":"IF($C62=1,'Sjekkliste for utfylling'!B118,\"\")","v":""},null,{"$f":"IF(C62=1,'Sjekkliste for utfylling'!L118,\" \")","v":" "}]
[{"$f":"'Sjekkliste for utfylling'!A119","v":62},{"$f":"IF('Sjekkliste for utfylling'!I119<>\"\",1,0)","v":0},0,null,{"$f":"IF($C63=1,'Sjekkliste for utfylling'!A119,\"\")","v":""},{"$f":"IF($C63=1,'Sjekkliste for utfylling'!B119,\"\")","v":""},null,{"$f":"IF(C63=1,'Sjekkliste for utfylling'!L119,\" \")","v":" "}]
[{"$f":"'Sjekkliste for utfylling'!A120","v":63},{"$f":"IF('Sjekkliste for utfylling'!I120<>\"\",1,0)","v":0},0,null,{"$f":"IF($C64=1,'Sjekkliste for utfylling'!A120,\"\")","v":""},{"$f":"IF($C64=1,'Sjekkliste for utfylling'!B120,\"\")","v":""},null,{"$f":"IF(C64=1,'Sjekkliste for utfylling'!L120,\" \")","v":" "}]
[{"$f":"'Sjekkliste for utfylling'!A122","v":64},{"$f":"IF('Sjekkliste for utfylling'!I122<>\"\",1,0)","v":0},0,null,{"$f":"IF($C65=1,'Sjekkliste for utfylling'!A122,\"\")","v":""},{"$f":"IF($C65=1,'Sjekkliste for utfylling'!B122,\"\")","v":""},null,{"$f":"IF(C65=1,'Sjekkliste for utfylling'!L122,\" \")","v":" "}]
[{"$f":"'Sjekkliste for utfylling'!A123","v":65},{"$f":"IF('Sjekkliste for utfylling'!I123<>\"\",1,0)","v":0},{"$f":"SUM(B66:B66)","v":0},null,{"$f":"IF($C66=1,'Sjekkliste for utfylling'!A123,\"\")","v":""},{"$f":"IF($C66=1,'Sjekkliste for utfylling'!B123,\"\")","v":""},null,{"$f":"IF(C66=1,'Sjekkliste for utfylling'!L123,\" \")","v":" "}]
[{"$f":"'Sjekkliste for utfylling'!A125","v":66},{"$f":"IF('Sjekkliste for utfylling'!I125<>\"\",1,0)","v":0},0,null,{"$f":"IF($C67=1,'Sjekkliste for utfylling'!A125,\"\")","v":""},{"$f":"IF($C67=1,'Sjekkliste for utfylling'!B125,\"\")","v":""},null,{"$f":"IF(C67=1,'Sjekkliste for utfylling'!L125,\" \")","v":" "}]
[{"$f":"'Sjekkliste for utfylling'!A126","v":67},{"$f":"IF('Sjekkliste for utfylling'!I126<>\"\",1,0)","v":0},0,null,{"$f":"IF($C68=1,'Sjekkliste for utfylling'!A126,\"\")","v":""},{"$f":"IF($C68=1,'Sjekkliste for utfylling'!B126,\"\")","v":""},null,{"$f":"IF(C68=1,'Sjekkliste for utfylling'!L126,\" \")","v":" "}]
[{"$f":"'Sjekkliste for utfylling'!A127","v":68},{"$f":"IF('Sjekkliste for utfylling'!I127<>\"\",1,0)","v":0},0,null,{"$f":"IF($C69=1,'Sjekkliste for utfylling'!A127,\"\")","v":""},{"$f":"IF($C69=1,'Sjekkliste for utfylling'!B127,\"\")","v":""},null,{"$f":"IF(C69=1,'Sjekkliste for utfylling'!L127,\" \")","v":" "}]
[{"$f":"'Sjekkliste for utfylling'!A128","v":69},{"$f":"IF('Sjekkliste for utfylling'!I128<>\"\",1,0)","v":0},0,null,{"$f":"IF($C70=1,'Sjekkliste for utfylling'!A128,\"\")","v":""},{"$f":"IF($C70=1,'Sjekkliste for utfylling'!B128,\"\")","v":""},null,{"$f":"IF(C70=1,'Sjekkliste for utfylling'!L128,\" \")","v":" "}]
[{"$f":"'Sjekkliste for utfylling'!A130","v":70},{"$f":"IF('Sjekkliste for utfylling'!I130<>\"\",1,0)","v":0},0,null,{"$f":"IF($C71=1,'Sjekkliste for utfylling'!A130,\"\")","v":""},{"$f":"IF($C71=1,'Sjekkliste for utfylling'!B130,\"\")","v":""},null,{"$f":"IF(C71=1,'Sjekkliste for utfylling'!L130,\" \")","v":" "}]
[{"$f":"'Sjekkliste for utfylling'!A131","v":71},{"$f":"IF('Sjekkliste for utfylling'!I131<>\"\",1,0)","v":0},0,null,{"$f":"IF($C72=1,'Sjekkliste for utfylling'!A131,\"\")","v":""},{"$f":"IF($C72=1,'Sjekkliste for utfylling'!B131,\"\")","v":""},null,{"$f":"IF(C72=1,'Sjekkliste for utfylling'!L131,\" \")","v":" "}]
[{"$f":"'Sjekkliste for utfylling'!A132","v":72},{"$f":"IF('Sjekkliste for utfylling'!I132<>\"\",1,0)","v":0},0,null,{"$f":"IF($C73=1,'Sjekkliste for utfylling'!A132,\"\")","v":""},{"$f":"IF($C73=1,'Sjekkliste for utfylling'!B132,\"\")","v":""},null,{"$f":"IF(C73=1,'Sjekkliste for utfylling'!L132,\" \")","v":" "}]
[{"$f":"'Sjekkliste for utfylling'!A133","v":73},{"$f":"IF('Sjekkliste for utfylling'!I133<>\"\",1,0)","v":0},0,null,{"$f":"IF($C74=1,'Sjekkliste for utfylling'!A133,\"\")","v":""},{"$f":"IF($C74=1,'Sjekkliste for utfylling'!B133,\"\")","v":""},null,{"$f":"IF(C74=1,'Sjekkliste for utfylling'!L133,\" \")","v":" "}]
[{"$f":"'Sjekkliste for utfylling'!A136","v":74},{"$f":"IF('Sjekkliste for utfylling'!I136<>\"\",1,0)","v":0},0,null,{"$f":"IF($C75=1,'Sjekkliste for utfylling'!A136,\"\")","v":""},{"$f":"IF($C75=1,'Sjekkliste for utfylling'!B136,\"\")","v":""},null,{"$f":"IF(C75=1,'Sjekkliste for utfylling'!L136,\" \")","v":" "}]
[{"$f":"'Sjekkliste for utfylling'!A137","v":75},{"$f":"IF('Sjekkliste for utfylling'!I137<>\"\",1,0)","v":0},0,null,{"$f":"IF($C76=1,'Sjekkliste for utfylling'!A137,\"\")","v":""},{"$f":"IF($C76=1,'Sjekkliste for utfylling'!B137,\"\")","v":""},null,{"$f":"IF(C76=1,'Sjekkliste for utfylling'!L137,\" \")","v":" "}]
[{"$f":"'Sjekkliste for utfylling'!A138","v":76},{"$f":"IF('Sjekkliste for utfylling'!I138<>\"\",1,0)","v":0},0,null,{"$f":"IF($C77=1,'Sjekkliste for utfylling'!A138,\"\")","v":""},{"$f":"IF($C77=1,'Sjekkliste for utfylling'!B138,\"\")","v":""},null,{"$f":"IF(C77=1,'Sjekkliste for utfylling'!L138,\" \")","v":" "}]
[{"$f":"'Sjekkliste for utfylling'!A141","v":77},{"$f":"IF('Sjekkliste for utfylling'!I141<>\"\",1,0)","v":0},0,null,{"$f":"IF($C78=1,'Sjekkliste for utfylling'!A141,\"\")","v":""},{"$f":"IF($C78=1,'Sjekkliste for utfylling'!B141,\"\")","v":""},null,{"$f":"IF(C78=1,'Sjekkliste for utfylling'!L141,\" \")","v":" "}]
[{"$f":"'Sjekkliste for utfylling'!A142","v":78},{"$f":"IF('Sjekkliste for utfylling'!I142<>\"\",1,0)","v":0},0,null,{"$f":"IF($C79=1,'Sjekkliste for utfylling'!A142,\"\")","v":""},{"$f":"IF($C79=1,'Sjekkliste for utfylling'!B142,\"\")","v":""},null,{"$f":"IF(C79=1,'Sjekkliste for utfylling'!L142,\" \")","v":" "}]
[{"$f":"'Sjekkliste for utfylling'!A144","v":79},{"$f":"IF('Sjekkliste for utfylling'!I144<>\"\",1,0)","v":0},0,null,{"$f":"IF($C80=1,'Sjekkliste for utfylling'!A144,\"\")","v":""},{"$f":"IF($C80=1,'Sjekkliste for utfylling'!B144,\"\")","v":""},null,{"$f":"IF(C80=1,'Sjekkliste for utfylling'!L144,\" \")","v":" "}]
[{"$f":"'Sjekkliste for utfylling'!A145","v":80},{"$f":"IF('Sjekkliste for utfylling'!I145<>\"\",1,0)","v":0},0,null,{"$f":"IF($C81=1,'Sjekkliste for utfylling'!A145,\"\")","v":""},{"$f":"IF($C81=1,'Sjekkliste for utfylling'!B145,\"\")","v":""},null,{"$f":"IF(C81=1,'Sjekkliste for utfylling'!L145,\" \")","v":" "}]
[{"$f":"'Sjekkliste for utfylling'!A146","v":81},{"$f":"IF('Sjekkliste for utfylling'!I146<>\"\",1,0)","v":0},0,null,{"$f":"IF($C82=1,'Sjekkliste for utfylling'!A146,\"\")","v":""},{"$f":"IF($C82=1,'Sjekkliste for utfylling'!B146,\"\")","v":""},null,{"$f":"IF(C82=1,'Sjekkliste for utfylling'!L146,\" \")","v":" "}]
[{"$f":"'Sjekkliste for utfylling'!A147","v":82},{"$f":"IF('Sjekkliste for utfylling'!I147<>\"\",1,0)","v":0},0,null,{"$f":"IF($C83=1,'Sjekkliste for utfylling'!A147,\"\")","v":""},{"$f":"IF($C83=1,'Sjekkliste for utfylling'!B147,\"\")","v":""},null,{"$f":"IF(C83=1,'Sjekkliste for utfylling'!L147,\" \")","v":" "}]
[{"$f":"'Sjekkliste for utfylling'!A148","v":83},{"$f":"IF('Sjekkliste for utfylling'!I148<>\"\",1,0)","v":0},0,null,{"$f":"IF($C84=1,'Sjekkliste for utfylling'!A148,\"\")","v":""},{"$f":"IF($C84=1,'Sjekkliste for utfylling'!B148,\"\")","v":""},null,{"$f":"IF(C84=1,'Sjekkliste for utfylling'!L148,\" \")","v":" "}]
[{"$f":"'Sjekkliste for utfylling'!A150","v":84},{"$f":"IF('Sjekkliste for utfylling'!I150<>\"\",1,0)","v":0},0,null,{"$f":"IF($C85=1,'Sjekkliste for utfylling'!A150,\"\")","v":""},{"$f":"IF($C85=1,'Sjekkliste for utfylling'!B150,\"\")","v":""},null,{"$f":"IF(C85=1,'Sjekkliste for utfylling'!L150,\" \")","v":" "}]
[{"$f":"'Sjekkliste for utfylling'!A151","v":85},{"$f":"IF('Sjekkliste for utfylling'!I151<>\"\",1,0)","v":0},0,null,{"$f":"IF($C86=1,'Sjekkliste for utfylling'!A151,\"\")","v":""},{"$f":"IF($C86=1,'Sjekkliste for utfylling'!B151,\"\")","v":""},null,{"$f":"IF(C86=1,'Sjekkliste for utfylling'!L151,\" \")","v":" "}]
[{"$f":"'Sjekkliste for utfylling'!A153","v":86},{"$f":"IF('Sjekkliste for utfylling'!I153<>\"\",1,0)","v":0},0,null,{"$f":"IF($C87=1,'Sjekkliste for utfylling'!A153,\"\")","v":""},{"$f":"IF($C87=1,'Sjekkliste for utfylling'!B153,\"\")","v":""},null,{"$f":"IF(C87=1,'Sjekkliste for utfylling'!L153,\" \")","v":" "}]
[{"$f":"'Sjekkliste for utfylling'!A154","v":87},{"$f":"IF('Sjekkliste for utfylling'!I154<>\"\",1,0)","v":0},0,null,{"$f":"IF($C88=1,'Sjekkliste for utfylling'!A154,\"\")","v":""},{"$f":"IF($C88=1,'Sjekkliste for utfylling'!B154,\"\")","v":""},null,{"$f":"IF(C88=1,'Sjekkliste for utfylling'!L154,\" \")","v":" "}]
[{"$f":"'Sjekkliste for utfylling'!A155","v":88},{"$f":"IF('Sjekkliste for utfylling'!I155<>\"\",1,0)","v":0},0,null,{"$f":"IF($C89=1,'Sjekkliste for utfylling'!A155,\"\")","v":""},{"$f":"IF($C89=1,'Sjekkliste for utfylling'!B155,\"\")","v":""},null,{"$f":"IF(C89=1,'Sjekkliste for utfylling'!L155,\" \")","v":" "}]
[{"$f":"'Sjekkliste for utfylling'!A156","v":89},{"$f":"IF('Sjekkliste for utfylling'!I156<>\"\",1,0)","v":0},0,null,{"$f":"IF($C90=1,'Sjekkliste for utfylling'!A156,\"\")","v":""},{"$f":"IF($C90=1,'Sjekkliste for utfylling'!B156,\"\")","v":""},null,{"$f":"IF(C90=1,'Sjekkliste for utfylling'!L156,\" \")","v":" "}]
[{"$f":"'Sjekkliste for utfylling'!A157","v":90},{"$f":"IF('Sjekkliste for utfylling'!I157<>\"\",1,0)","v":0},0,null,{"$f":"IF($C91=1,'Sjekkliste for utfylling'!A157,\"\")","v":""},{"$f":"IF($C91=1,'Sjekkliste for utfylling'!B157,\"\")","v":""},null,{"$f":"IF(C91=1,'Sjekkliste for utfylling'!L157,\" \")","v":" "}]
[{"$f":"'Sjekkliste for utfylling'!A158","v":91},{"$f":"IF('Sjekkliste for utfylling'!I158<>\"\",1,0)","v":0},0,null,{"$f":"IF($C92=1,'Sjekkliste for utfylling'!A158,\"\")","v":""},{"$f":"IF($C92=1,'Sjekkliste for utfylling'!B158,\"\")","v":""},null,{"$f":"IF(C92=1,'Sjekkliste for utfylling'!L158,\" \")","v":" "}]
[{"$f":"'Sjekkliste for utfylling'!A159","v":92},{"$f":"IF('Sjekkliste for utfylling'!I159<>\"\",1,0)","v":0},0,null,{"$f":"IF($C93=1,'Sjekkliste for utfylling'!A159,\"\")","v":""},{"$f":"IF($C93=1,'Sjekkliste for utfylling'!B159,\"\")","v":""},null,{"$f":"IF(C93=1,'Sjekkliste for utfylling'!L159,\" \")","v":" "}]
[{"$f":"'Sjekkliste for utfylling'!A160","v":93},{"$f":"IF('Sjekkliste for utfylling'!I160<>\"\",1,0)","v":0},0,null,{"$f":"IF($C94=1,'Sjekkliste for utfylling'!A160,\"\")","v":""},{"$f":"IF($C94=1,'Sjekkliste for utfylling'!B160,\"\")","v":""},null,{"$f":"IF(C94=1,'Sjekkliste for utfylling'!L160,\" \")","v":" "}]
[{"$f":"'Sjekkliste for utfylling'!A162","v":94},{"$f":"IF('Sjekkliste for utfylling'!I162<>\"\",1,0)","v":0},0,null,{"$f":"IF($C95=1,'Sjekkliste for utfylling'!A162,\"\")","v":""},{"$f":"IF($C95=1,'Sjekkliste for utfylling'!B162,\"\")","v":""},null,{"$f":"IF(C95=1,'Sjekkliste for utfylling'!L162,\" \")","v":" "}]
[{"$f":"'Sjekkliste for utfylling'!A164","v":95},{"$f":"IF('Sjekkliste for utfylling'!I164<>\"\",1,0)","v":0},0,null,{"$f":"IF($C96=1,'Sjekkliste for utfylling'!A164,\"\")","v":""},{"$f":"IF($C96=1,'Sjekkliste for utfylling'!B164,\"\")","v":""},null,{"$f":"IF(C96=1,'Sjekkliste for utfylling'!L164,\" \")","v":" "}]
[{"$f":"'Sjekkliste for utfylling'!A170","v":96},{"$f":"IF('Sjekkliste for utfylling'!I170<>\"\",1,0)","v":0},0,null,{"$f":"IF($C97=1,'Sjekkliste for utfylling'!A170,\"\")","v":""},{"$f":"IF($C97=1,'Sjekkliste for utfylling'!B170,\"\")","v":""},null,{"$f":"IF(C97=1,'Sjekkliste for utfylling'!L170,\" \")","v":" "}]
[{"$f":"'Sjekkliste for utfylling'!A171","v":97},{"$f":"IF('Sjekkliste for utfylling'!I171<>\"\",1,0)","v":0},0,null,{"$f":"IF($C98=1,'Sjekkliste for utfylling'!A171,\"\")","v":""},{"$f":"IF($C98=1,'Sjekkliste for utfylling'!B171,\"\")","v":""},null,{"$f":"IF(C98=1,'Sjekkliste for utfylling'!L171,\" \")","v":" "}]
[{"$f":"'Sjekkliste for utfylling'!A172","v":98},{"$f":"IF('Sjekkliste for utfylling'!I172<>\"\",1,0)","v":0},0,null,{"$f":"IF($C99=1,'Sjekkliste for utfylling'!A172,\"\")","v":""},{"$f":"IF($C99=1,'Sjekkliste for utfylling'!B172,\"\")","v":""},null,{"$f":"IF(C99=1,'Sjekkliste for utfylling'!L172,\" \")","v":" "}]
[{"$f":"'Sjekkliste for utfylling'!A173","v":99},{"$f":"IF('Sjekkliste for utfylling'!I173<>\"\",1,0)","v":0},0,null,{"$f":"IF($C100=1,'Sjekkliste for utfylling'!A173,\"\")","v":""},{"$f":"IF($C100=1,'Sjekkliste for utfylling'!B173,\"\")","v":""},null,{"$f":"IF(C100=1,'Sjekkliste for utfylling'!L173,\" \")","v":" "}]
[{"$f":"'Sjekkliste for utfylling'!A174","v":100},{"$f":"IF('Sjekkliste for utfylling'!I174<>\"\",1,0)","v":0},0,null,{"$f":"IF($C101=1,'Sjekkliste for utfylling'!A174,\"\")","v":""},{"$f":"IF($C101=1,'Sjekkliste for utfylling'!B174,\"\")","v":""},null,{"$f":"IF(C101=1,'Sjekkliste for utfylling'!L174,\" \")","v":" "}]
[{"$f":"'Sjekkliste for utfylling'!A175","v":101},{"$f":"IF('Sjekkliste for utfylling'!I175<>\"\",1,0)","v":0},0,null,{"$f":"IF($C102=1,'Sjekkliste for utfylling'!A175,\"\")","v":""},{"$f":"IF($C102=1,'Sjekkliste for utfylling'!B175,\"\")","v":""},null,{"$f":"IF(C102=1,'Sjekkliste for utfylling'!L175,\" \")","v":" "}]
[{"$f":"'Sjekkliste for utfylling'!A176","v":102},{"$f":"IF('Sjekkliste for utfylling'!I176<>\"\",1,0)","v":0},0,null,{"$f":"IF($C103=1,'Sjekkliste for utfylling'!A176,\"\")","v":""},{"$f":"IF($C103=1,'Sjekkliste for utfylling'!B176,\"\")","v":""},null,{"$f":"IF(C103=1,'Sjekkliste for utfylling'!L176,\" \")","v":" "}]
[{"$f":"'Sjekkliste for utfylling'!A177","v":103},{"$f":"IF('Sjekkliste for utfylling'!I177<>\"\",1,0)","v":0},0,null,{"$f":"IF($C104=1,'Sjekkliste for utfylling'!A177,\"\")","v":""},{"$f":"IF($C104=1,'Sjekkliste for utfylling'!B177,\"\")","v":""},null,{"$f":"IF(C104=1,'Sjekkliste for utfylling'!L177,\" \")","v":" "}]
[{"$f":"'Sjekkliste for utfylling'!A178","v":104},{"$f":"IF('Sjekkliste for utfylling'!I178<>\"\",1,0)","v":0},0,null,{"$f":"IF($C105=1,'Sjekkliste for utfylling'!A178,\"\")","v":""},{"$f":"IF($C105=1,'Sjekkliste for utfylling'!B178,\"\")","v":""},null,{"$f":"IF(C105=1,'Sjekkliste for utfylling'!L178,\" \")","v":" "}]
[{"$f":"'Sjekkliste for utfylling'!A181","v":105},{"$f":"IF('Sjekkliste for utfylling'!I181<>\"\",1,0)","v":0},0,null,{"$f":"IF($C106=1,'Sjekkliste for utfylling'!A181,\"\")","v":""},{"$f":"IF($C106=1,'Sjekkliste for utfylling'!B181,\"\")","v":""},null,{"$f":"IF(C106=1,'Sjekkliste for utfylling'!L181,\" \")","v":" "}]
[{"$f":"'Sjekkliste for utfylling'!A182","v":106},{"$f":"IF('Sjekkliste for utfylling'!I182<>\"\",1,0)","v":0},0,null,{"$f":"IF($C107=1,'Sjekkliste for utfylling'!A182,\"\")","v":""},{"$f":"IF($C107=1,'Sjekkliste for utfylling'!B182,\"\")","v":""},null,{"$f":"IF(C107=1,'Sjekkliste for utfylling'!L182,\" \")","v":" "}]
[{"$f":"'Sjekkliste for utfylling'!A184","v":107},{"$f":"IF('Sjekkliste for utfylling'!I184<>\"\",1,0)","v":0},0,null,{"$f":"IF($C108=1,'Sjekkliste for utfylling'!A184,\"\")","v":""},{"$f":"IF($C108=1,'Sjekkliste for utfylling'!B184,\"\")","v":""},null,{"$f":"IF(C108=1,'Sjekkliste for utfylling'!L184,\" \")","v":" "}]
[{"$f":"'Sjekkliste for utfylling'!A185","v":108},{"$f":"IF('Sjekkliste for utfylling'!I185<>\"\",1,0)","v":0},0,null,{"$f":"IF($C109=1,'Sjekkliste for utfylling'!A185,\"\")","v":""},{"$f":"IF($C109=1,'Sjekkliste for utfylling'!B185,\"\")","v":""},null,{"$f":"IF(C109=1,'Sjekkliste for utfylling'!L185,\" \")","v":" "}]
[{"$f":"'Sjekkliste for utfylling'!A187","v":109},{"$f":"IF('Sjekkliste for utfylling'!I187<>\"\",1,0)","v":0},0,null,{"$f":"IF($C110=1,'Sjekkliste for utfylling'!A187,\"\")","v":""},{"$f":"IF($C110=1,'Sjekkliste for utfylling'!B187,\"\")","v":""},null,{"$f":"IF(C110=1,'Sjekkliste for utfylling'!L187,\" \")","v":" "}]
[{"$f":"'Sjekkliste for utfylling'!A188","v":110},{"$f":"IF('Sjekkliste for utfylling'!I188<>\"\",1,0)","v":0},0,null,{"$f":"IF($C111=1,'Sjekkliste for utfylling'!A188,\"\")","v":""},{"$f":"IF($C111=1,'Sjekkliste for utfylling'!B188,\"\")","v":""},null,{"$f":"IF(C111=1,'Sjekkliste for utfylling'!L188,\" \")","v":" "}]
[{"$f":"'Sjekkliste for utfylling'!A190","v":111},{"$f":"IF('Sjekkliste for utfylling'!I190<>\"\",1,0)","v":0},0,null,{"$f":"IF($C112=1,'Sjekkliste for utfylling'!A190,\"\")","v":""},{"$f":"IF($C112=1,'Sjekkliste for utfylling'!B190,\"\")","v":""},null,{"$f":"IF(C112=1,'Sjekkliste for utfylling'!L190,\" \")","v":" "}]
[{"$f":"'Sjekkliste for utfylling'!A191","v":112},{"$f":"IF('Sjekkliste for utfylling'!I191<>\"\",1,0)","v":0},0,null,{"$f":"IF($C113=1,'Sjekkliste for utfylling'!A191,\"\")","v":""},{"$f":"IF($C113=1,'Sjekkliste for utfylling'!B191,\"\")","v":""},null,{"$f":"IF(C113=1,'Sjekkliste for utfylling'!L191,\" \")","v":" "}]
[{"$f":"'Sjekkliste for utfylling'!A192","v":113},{"$f":"IF('Sjekkliste for utfylling'!I192<>\"\",1,0)","v":0},0,null,{"$f":"IF($C114=1,'Sjekkliste for utfylling'!A192,\"\")","v":""},{"$f":"IF($C114=1,'Sjekkliste for utfylling'!B192,\"\")","v":""},null,{"$f":"IF(C114=1,'Sjekkliste for utfylling'!L192,\" \")","v":" "}]
[{"$f":"'Sjekkliste for utfylling'!A195","v":114},{"$f":"IF('Sjekkliste for utfylling'!I195<>\"\",1,0)","v":0},0,null,{"$f":"IF($C115=1,'Sjekkliste for utfylling'!A195,\"\")","v":""},{"$f":"IF($C115=1,'Sjekkliste for utfylling'!B195,\"\")","v":""},null,{"$f":"IF(C115=1,'Sjekkliste for utfylling'!L195,\" \")","v":" "}]
[{"$f":"'Sjekkliste for utfylling'!A196","v":115},{"$f":"IF('Sjekkliste for utfylling'!I196<>\"\",1,0)","v":0},0,null,{"$f":"IF($C116=1,'Sjekkliste for utfylling'!A196,\"\")","v":""},{"$f":"IF($C116=1,'Sjekkliste for utfylling'!B196,\"\")","v":""},null,{"$f":"IF(C116=1,'Sjekkliste for utfylling'!L196,\" \")","v":" "}]
[{"$f":"'Sjekkliste for utfylling'!A198","v":116},{"$f":"IF('Sjekkliste for utfylling'!I198<>\"\",1,0)","v":0},0,null,{"$f":"IF($C117=1,'Sjekkliste for utfylling'!A198,\"\")","v":""},{"$f":"IF($C117=1,'Sjekkliste for utfylling'!B198,\"\")","v":""},null,{"$f":"IF(C117=1,'Sjekkliste for utfylling'!L198,\" \")","v":" "}]
[{"$f":"'Sjekkliste for utfylling'!A200","v":117},{"$f":"IF('Sjekkliste for utfylling'!I200<>\"\",1,0)","v":0},0,null,{"$f":"IF($C118=1,'Sjekkliste for utfylling'!A200,\"\")","v":""},{"$f":"IF($C118=1,'Sjekkliste for utfylling'!B200,\"\")","v":""},null,{"$f":"IF(C118=1,'Sjekkliste for utfylling'!L200,\" \")","v":" "}]
[{"$f":"'Sjekkliste for utfylling'!A202","v":118},{"$f":"IF('Sjekkliste for utfylling'!I202<>\"\",1,0)","v":0},0,null,{"$f":"IF($C119=1,'Sjekkliste for utfylling'!A202,\"\")","v":""},{"$f":"IF($C119=1,'Sjekkliste for utfylling'!B202,\"\")","v":""},null,{"$f":"IF(C119=1,'Sjekkliste for utfylling'!L202,\" \")","v":" "}]
[{"$f":"'Sjekkliste for utfylling'!A209","v":119},{"$f":"IF('Sjekkliste for utfylling'!I209<>\"\",1,0)","v":0},0,null,{"$f":"IF($C120=1,'Sjekkliste for utfylling'!A209,\"\")","v":""},{"$f":"IF($C120=1,'Sjekkliste for utfylling'!B209,\"\")","v":""},null,{"$f":"IF(C120=1,'Sjekkliste for utfylling'!L209,\" \")","v":" "}]
[{"$f":"'Sjekkliste for utfylling'!A218","v":120},{"$f":"IF('Sjekkliste for utfylling'!I218<>\"\",1,0)","v":0},0,null,{"$f":"IF($C121=1,'Sjekkliste for utfylling'!A218,\"\")","v":""},{"$f":"IF($C121=1,'Sjekkliste for utfylling'!B218,\"\")","v":""},null,{"$f":"IF(C121=1,'Sjekkliste for utfylling'!L218,\" \")","v":" "}]
[{"$f":"'Sjekkliste for utfylling'!A221","v":121},{"$f":"IF('Sjekkliste for utfylling'!I221<>\"\",1,0)","v":0},0,null,{"$f":"IF($C122=1,'Sjekkliste for utfylling'!A221,\"\")","v":""},{"$f":"IF($C122=1,'Sjekkliste for utfylling'!B221,\"\")","v":""},null,{"$f":"IF(C122=1,'Sjekkliste for utfylling'!L221,\" \")","v":" "}]
[{"$f":"'Sjekkliste for utfylling'!A223","v":122},{"$f":"IF('Sjekkliste for utfylling'!I223<>\"\",1,0)","v":0},0,null,{"$f":"IF($C123=1,'Sjekkliste for utfylling'!A223,\"\")","v":""},{"$f":"IF($C123=1,'Sjekkliste for utfylling'!B223,\"\")","v":""},null,{"$f":"IF(C123=1,'Sjekkliste for utfylling'!L223,\" \")","v":" "}]
[{"$f":"'Sjekkliste for utfylling'!A224","v":123},{"$f":"IF('Sjekkliste for utfylling'!I224<>\"\",1,0)","v":0},0,null,{"$f":"IF($C124=1,'Sjekkliste for utfylling'!A224,\"\")","v":""},{"$f":"IF($C124=1,'Sjekkliste for utfylling'!B224,\"\")","v":""},null,{"$f":"IF(C124=1,'Sjekkliste for utfylling'!L224,\" \")","v":" "}]
[{"$f":"'Sjekkliste for utfylling'!A225","v":124},{"$f":"IF('Sjekkliste for utfylling'!I225<>\"\",1,0)","v":0},0,null,{"$f":"IF($C125=1,'Sjekkliste for utfylling'!A225,\"\")","v":""},{"$f":"IF($C125=1,'Sjekkliste for utfylling'!B225,\"\")","v":""},null,{"$f":"IF(C125=1,'Sjekkliste for utfylling'!L225,\" \")","v":" "}]
[{"$f":"'Sjekkliste for utfylling'!A227","v":125},{"$f":"IF('Sjekkliste for utfylling'!I227<>\"\",1,0)","v":0},0,null,{"$f":"IF($C126=1,'Sjekkliste for utfylling'!A227,\"\")","v":""},{"$f":"IF($C126=1,'Sjekkliste for utfylling'!B227,\"\")","v":""},null,{"$f":"IF(C126=1,'Sjekkliste for utfylling'!L227,\" \")","v":" "}]
[{"$f":"'Sjekkliste for utfylling'!A228","v":126},{"$f":"IF('Sjekkliste for utfylling'!I228<>\"\",1,0)","v":0},0,null,{"$f":"IF($C127=1,'Sjekkliste for utfylling'!A228,\"\")","v":""},{"$f":"IF($C127=1,'Sjekkliste for utfylling'!B228,\"\")","v":""},null,{"$f":"IF(C127=1,'Sjekkliste for utfylling'!L228,\" \")","v":" "}]
[{"$f":"'Sjekkliste for utfylling'!A229","v":127},{"$f":"IF('Sjekkliste for utfylling'!I229<>\"\",1,0)","v":0},0,null,{"$f":"IF($C128=1,'Sjekkliste for utfylling'!A229,\"\")","v":""},{"$f":"IF($C128=1,'Sjekkliste for utfylling'!B229,\"\")","v":""},null,{"$f":"IF(C128=1,'Sjekkliste for utfylling'!L229,\" \")","v":" "}]
[{"$f":"'Sjekkliste for utfylling'!A230","v":128},{"$f":"IF('Sjekkliste for utfylling'!I230<>\"\",1,0)","v":0},0,null,{"$f":"IF($C129=1,'Sjekkliste for utfylling'!A230,\"\")","v":""},{"$f":"IF($C129=1,'Sjekkliste for utfylling'!B230,\"\")","v":""},null,{"$f":"IF(C129=1,'Sjekkliste for utfylling'!L230,\" \")","v":" "}]
[{"$f":"'Sjekkliste for utfylling'!A232","v":129},{"$f":"IF('Sjekkliste for utfylling'!I232<>\"\",1,0)","v":0},{"$f":"SUM(B130:B130)","v":0},null,{"$f":"IF($C130=1,'Sjekkliste for utfylling'!A232,\"\")","v":""},{"$f":"IF($C130=1,'Sjekkliste for utfylling'!B232,\"\")","v":""},null,{"$f":"IF(C130=1,'Sjekkliste for utfylling'!L232,\" \")","v":" "}]
[{"$f":"'Sjekkliste for utfylling'!A233","v":130},{"$f":"IF('Sjekkliste for utfylling'!I233<>\"\",1,0)","v":0},0,null,{"$f":"IF($C131=1,'Sjekkliste for utfylling'!A233,\"\")","v":""},{"$f":"IF($C131=1,'Sjekkliste for utfylling'!B233,\"\")","v":""},null,{"$f":"IF(C131=1,'Sjekkliste for utfylling'!L233,\" \")","v":" "}]
[{"$f":"'Sjekkliste for utfylling'!A235","v":131},{"$f":"IF('Sjekkliste for utfylling'!I235<>\"\",1,0)","v":0},0,null,{"$f":"IF($C132=1,'Sjekkliste for utfylling'!A235,\"\")","v":""},{"$f":"IF($C132=1,'Sjekkliste for utfylling'!B235,\"\")","v":""},null,{"$f":"IF(C132=1,'Sjekkliste for utfylling'!L235,\" \")","v":" "}]
[{"$f":"'Sjekkliste for utfylling'!A237","v":132},{"$f":"IF('Sjekkliste for utfylling'!I237<>\"\",1,0)","v":0},0,null,{"$f":"IF($C133=1,'Sjekkliste for utfylling'!A237,\"\")","v":""},{"$f":"IF($C133=1,'Sjekkliste for utfylling'!B237,\"\")","v":""},null,{"$f":"IF(C133=1,'Sjekkliste for utfylling'!L237,\" \")","v":" "}]
[{"$f":"'Sjekkliste for utfylling'!A240","v":133},{"$f":"IF('Sjekkliste for utfylling'!I240<>\"\",1,0)","v":0},0,null,{"$f":"IF($C134=1,'Sjekkliste for utfylling'!A240,\"\")","v":""},{"$f":"IF($C134=1,'Sjekkliste for utfylling'!B240,\"\")","v":""},null,{"$f":"IF(C134=1,'Sjekkliste for utfylling'!L240,\" \")","v":" "}]
[{"$f":"'Sjekkliste for utfylling'!A242","v":134},{"$f":"IF('Sjekkliste for utfylling'!I242<>\"\",1,0)","v":0},0,null,{"$f":"IF($C135=1,'Sjekkliste for utfylling'!A242,\"\")","v":""},{"$f":"IF($C135=1,'Sjekkliste for utfylling'!B242,\"\")","v":""},null,{"$f":"IF(C135=1,'Sjekkliste for utfylling'!L242,\" \")","v":" "}]
[{"$f":"'Sjekkliste for utfylling'!A243","v":135},{"$f":"IF('Sjekkliste for utfylling'!I243<>\"\",1,0)","v":0},0,null,{"$f":"IF($C136=1,'Sjekkliste for utfylling'!A243,\"\")","v":""},{"$f":"IF($C136=1,'Sjekkliste for utfylling'!B243,\"\")","v":""},null,{"$f":"IF(C136=1,'Sjekkliste for utfylling'!L243,\" \")","v":" "}]
[{"$f":"'Sjekkliste for utfylling'!A245","v":136},{"$f":"IF('Sjekkliste for utfylling'!I245<>\"\",1,0)","v":0},0,null,{"$f":"IF($C137=1,'Sjekkliste for utfylling'!A245,\"\")","v":""},{"$f":"IF($C137=1,'Sjekkliste for utfylling'!B245,\"\")","v":""},null,{"$f":"IF(C137=1,'Sjekkliste for utfylling'!L245,\" \")","v":" "}]
[{"$f":"'Sjekkliste for utfylling'!A246","v":137},{"$f":"IF('Sjekkliste for utfylling'!I246<>\"\",1,0)","v":0},0,null,{"$f":"IF($C138=1,'Sjekkliste for utfylling'!A246,\"\")","v":""},{"$f":"IF($C138=1,'Sjekkliste for utfylling'!B246,\"\")","v":""},null,{"$f":"IF(C138=1,'Sjekkliste for utfylling'!L246,\" \")","v":" "}]
[{"$f":"'Sjekkliste for utfylling'!A247","v":138},{"$f":"IF('Sjekkliste for utfylling'!I247<>\"\",1,0)","v":0},0,null,{"$f":"IF($C139=1,'Sjekkliste for utfylling'!A247,\"\")","v":""},{"$f":"IF($C139=1,'Sjekkliste for utfylling'!B247,\"\")","v":""},null,{"$f":"IF(C139=1,'Sjekkliste for utfylling'!L247,\" \")","v":" "}]
[{"$f":"'Sjekkliste for utfylling'!A249","v":139},{"$f":"IF('Sjekkliste for utfylling'!I249<>\"\",1,0)","v":0},0,null,{"$f":"IF($C140=1,'Sjekkliste for utfylling'!A249,\"\")","v":""},{"$f":"IF($C140=1,'Sjekkliste for utfylling'!B249,\"\")","v":""},null,{"$f":"IF(C140=1,'Sjekkliste for utfylling'!L249,\" \")","v":" "}]
[{"$f":"'Sjekkliste for utfylling'!A250","v":140},{"$f":"IF('Sjekkliste for utfylling'!I250<>\"\",1,0)","v":0},0,null,{"$f":"IF($C141=1,'Sjekkliste for utfylling'!A250,\"\")","v":""},{"$f":"IF($C141=1,'Sjekkliste for utfylling'!B250,\"\")","v":""},null,{"$f":"IF(C141=1,'Sjekkliste for utfylling'!L250,\" \")","v":" "}]
[{"$f":"'Sjekkliste for utfylling'!A251","v":141},{"$f":"IF('Sjekkliste for utfylling'!I251<>\"\",1,0)","v":0},0,null,{"$f":"IF($C142=1,'Sjekkliste for utfylling'!A251,\"\")","v":""},{"$f":"IF($C142=1,'Sjekkliste for utfylling'!B251,\"\")","v":""},null,{"$f":"IF(C142=1,'Sjekkliste for utfylling'!L251,\" \")","v":" "}]
[{"$f":"'Sjekkliste for utfylling'!A252","v":142},{"$f":"IF('Sjekkliste for utfylling'!I252<>\"\",1,0)","v":0},0,null,{"$f":"IF($C143=1,'Sjekkliste for utfylling'!A252,\"\")","v":""},{"$f":"IF($C143=1,'Sjekkliste for utfylling'!B252,\"\")","v":""},null,{"$f":"IF(C143=1,'Sjekkliste for utfylling'!L252,\" \")","v":" "}]
[{"$f":"'Sjekkliste for utfylling'!A255","v":143},{"$f":"IF('Sjekkliste for utfylling'!I255<>\"\",1,0)","v":0},0,null,{"$f":"IF($C144=1,'Sjekkliste for utfylling'!A255,\"\")","v":""},{"$f":"IF($C144=1,'Sjekkliste for utfylling'!B255,\"\")","v":""},null,{"$f":"IF(C144=1,'Sjekkliste for utfylling'!L255,\" \")","v":" "}]
[{"$f":"'Sjekkliste for utfylling'!A256","v":144},{"$f":"IF('Sjekkliste for utfylling'!I256<>\"\",1,0)","v":0},0,null,{"$f":"IF($C145=1,'Sjekkliste for utfylling'!A256,\"\")","v":""},{"$f":"IF($C145=1,'Sjekkliste for utfylling'!B256,\"\")","v":""},null,{"$f":"IF(C145=1,'Sjekkliste for utfylling'!L256,\" \")","v":" "}]
[{"$f":"'Sjekkliste for utfylling'!A258","v":145},{"$f":"IF('Sjekkliste for utfylling'!I258<>\"\",1,0)","v":0},0,null,{"$f":"IF($C146=1,'Sjekkliste for utfylling'!A258,\"\")","v":""},{"$f":"IF($C146=1,'Sjekkliste for utfylling'!B258,\"\")","v":""},null,{"$f":"IF(C146=1,'Sjekkliste for utfylling'!L258,\" \")","v":" "}]
[{"$f":"'Sjekkliste for utfylling'!A260","v":146},{"$f":"IF('Sjekkliste for utfylling'!I260<>\"\",1,0)","v":0},0,null,{"$f":"IF($C147=1,'Sjekkliste for utfylling'!A260,\"\")","v":""},{"$f":"IF($C147=1,'Sjekkliste for utfylling'!B260,\"\")","v":""},null,{"$f":"IF(C147=1,'Sjekkliste for utfylling'!L260,\" \")","v":" "}]
[{"$f":"'Sjekkliste for utfylling'!A261","v":147},{"$f":"IF('Sjekkliste for utfylling'!I261<>\"\",1,0)","v":0},0,null,{"$f":"IF($C148=1,'Sjekkliste for utfylling'!A261,\"\")","v":""},{"$f":"IF($C148=1,'Sjekkliste for utfylling'!B261,\"\")","v":""},null,{"$f":"IF(C148=1,'Sjekkliste for utfylling'!L261,\" \")","v":" "}]
[{"$f":"'Sjekkliste for utfylling'!A263","v":148},{"$f":"IF('Sjekkliste for utfylling'!I263<>\"\",1,0)","v":0},0,null,{"$f":"IF($C149=1,'Sjekkliste for utfylling'!A263,\"\")","v":""},{"$f":"IF($C149=1,'Sjekkliste for utfylling'!B263,\"\")","v":""},null,{"$f":"IF(C149=1,'Sjekkliste for utfylling'!L263,\" \")","v":" "}]
[{"$f":"'Sjekkliste for utfylling'!A264","v":149},{"$f":"IF('Sjekkliste for utfylling'!I264<>\"\",1,0)","v":0},0,null,{"$f":"IF($C150=1,'Sjekkliste for utfylling'!A264,\"\")","v":""},{"$f":"IF($C150=1,'Sjekkliste for utfylling'!B264,\"\")","v":""},null,{"$f":"IF(C150=1,'Sjekkliste for utfylling'!L264,\" \")","v":" "}]
[{"$f":"'Sjekkliste for utfylling'!A266","v":150},{"$f":"IF('Sjekkliste for utfylling'!I266<>\"\",1,0)","v":0},0,null,{"$f":"IF($C151=1,'Sjekkliste for utfylling'!A266,\"\")","v":""},{"$f":"IF($C151=1,'Sjekkliste for utfylling'!B266,\"\")","v":""},null,{"$f":"IF(C151=1,'Sjekkliste for utfylling'!L266,\" \")","v":" "}]
[{"$f":"'Sjekkliste for utfylling'!A267","v":151},{"$f":"IF('Sjekkliste for utfylling'!I267<>\"\",1,0)","v":0},0,null,{"$f":"IF($C152=1,'Sjekkliste for utfylling'!A267,\"\")","v":""},{"$f":"IF($C152=1,'Sjekkliste for utfylling'!B267,\"\")","v":""},null,{"$f":"IF(C152=1,'Sjekkliste for utfylling'!L267,\" \")","v":" "}]
[{"$f":"'Sjekkliste for utfylling'!A269","v":152},{"$f":"IF('Sjekkliste for utfylling'!I269<>\"\",1,0)","v":0},0,null,{"$f":"IF($C153=1,'Sjekkliste for utfylling'!A269,\"\")","v":""},{"$f":"IF($C153=1,'Sjekkliste for utfylling'!B269,\"\")","v":""},null,{"$f":"IF(C153=1,'Sjekkliste for utfylling'!L269,\" \")","v":" "}]
[{"$f":"'Sjekkliste for utfylling'!A271","v":153},{"$f":"IF('Sjekkliste for utfylling'!I271<>\"\",1,0)","v":0},0,null,{"$f":"IF($C154=1,'Sjekkliste for utfylling'!A271,\"\")","v":""},{"$f":"IF($C154=1,'Sjekkliste for utfylling'!B271,\"\")","v":""},null,{"$f":"IF(C154=1,'Sjekkliste for utfylling'!L271,\" \")","v":" "}]
[{"$f":"'Sjekkliste for utfylling'!A273","v":154},{"$f":"IF('Sjekkliste for utfylling'!I273<>\"\",1,0)","v":0},0,null,{"$f":"IF($C155=1,'Sjekkliste for utfylling'!A273,\"\")","v":""},{"$f":"IF($C155=1,'Sjekkliste for utfylling'!B273,\"\")","v":""},null,{"$f":"IF(C155=1,'Sjekkliste for utfylling'!L273,\" \")","v":" "}]
[{"$f":"'Sjekkliste for utfylling'!A274","v":155},{"$f":"IF('Sjekkliste for utfylling'!I274<>\"\",1,0)","v":0},0,null,{"$f":"IF($C156=1,'Sjekkliste for utfylling'!A274,\"\")","v":""},{"$f":"IF($C156=1,'Sjekkliste for utfylling'!B274,\"\")","v":""},null,{"$f":"IF(C156=1,'Sjekkliste for utfylling'!L274,\" \")","v":" "}]
[{"$f":"'Sjekkliste for utfylling'!A275","v":156},{"$f":"IF('Sjekkliste for utfylling'!I275<>\"\",1,0)","v":0},0,null,{"$f":"IF($C157=1,'Sjekkliste for utfylling'!A275,\"\")","v":""},{"$f":"IF($C157=1,'Sjekkliste for utfylling'!B275,\"\")","v":""},null,{"$f":"IF(C157=1,'Sjekkliste for utfylling'!L275,\" \")","v":" "}]
[{"$f":"'Sjekkliste for utfylling'!A276","v":157},{"$f":"IF('Sjekkliste for utfylling'!I276<>\"\",1,0)","v":0},0,null,{"$f":"IF($C158=1,'Sjekkliste for utfylling'!A276,\"\")","v":""},{"$f":"IF($C158=1,'Sjekkliste for utfylling'!B276,\"\")","v":""},null,{"$f":"IF(C158=1,'Sjekkliste for utfylling'!L276,\" \")","v":" "}]
[{"$f":"'Sjekkliste for utfylling'!A277","v":158},{"$f":"IF('Sjekkliste for utfylling'!I277<>\"\",1,0)","v":0},0,null,{"$f":"IF($C159=1,'Sjekkliste for utfylling'!A277,\"\")","v":""},{"$f":"IF($C159=1,'Sjekkliste for utfylling'!B277,\"\")","v":""},null,{"$f":"IF(C159=1,'Sjekkliste for utfylling'!L277,\" \")","v":" "}]
[{"$f":"'Sjekkliste for utfylling'!A278","v":159},{"$f":"IF('Sjekkliste for utfylling'!I278<>\"\",1,0)","v":0},0,null,{"$f":"IF($C160=1,'Sjekkliste for utfylling'!A278,\"\")","v":""},{"$f":"IF($C160=1,'Sjekkliste for utfylling'!B278,\"\")","v":""},null,{"$f":"IF(C160=1,'Sjekkliste for utfylling'!L278,\" \")","v":" "}]
[{"$f":"'Sjekkliste for utfylling'!A279","v":160},{"$f":"IF('Sjekkliste for utfylling'!I279<>\"\",1,0)","v":0},0,null,{"$f":"IF($C161=1,'Sjekkliste for utfylling'!A279,\"\")","v":""},{"$f":"IF($C161=1,'Sjekkliste for utfylling'!B279,\"\")","v":""},null,{"$f":"IF(C161=1,'Sjekkliste for utfylling'!L279,\" \")","v":" "}]
[{"$f":"'Sjekkliste for utfylling'!A280","v":161},{"$f":"IF('Sjekkliste for utfylling'!I280<>\"\",1,0)","v":0},0,null,{"$f":"IF($C162=1,'Sjekkliste for utfylling'!A280,\"\")","v":""},{"$f":"IF($C162=1,'Sjekkliste for utfylling'!B280,\"\")","v":""},null,{"$f":"IF(C162=1,'Sjekkliste for utfylling'!L280,\" \")","v":" "}]
[{"$f":"'Sjekkliste for utfylling'!A281","v":162},{"$f":"IF('Sjekkliste for utfylling'!I281<>\"\",1,0)","v":0},0,null,{"$f":"IF($C163=1,'Sjekkliste for utfylling'!A281,\"\")","v":""},{"$f":"IF($C163=1,'Sjekkliste for utfylling'!B281,\"\")","v":""},null,{"$f":"IF(C163=1,'Sjekkliste for utfylling'!L281,\" \")","v":" "}]
[{"$f":"'Sjekkliste for utfylling'!A282","v":163},{"$f":"IF('Sjekkliste for utfylling'!I282<>\"\",1,0)","v":0},0,null,{"$f":"IF($C164=1,'Sjekkliste for utfylling'!A282,\"\")","v":""},{"$f":"IF($C164=1,'Sjekkliste for utfylling'!B282,\"\")","v":""},null,{"$f":"IF(C164=1,'Sjekkliste for utfylling'!L282,\" \")","v":" "}]
[{"$f":"'Sjekkliste for utfylling'!A283","v":164},{"$f":"IF('Sjekkliste for utfylling'!I283<>\"\",1,0)","v":0},0,null,{"$f":"IF($C165=1,'Sjekkliste for utfylling'!A283,\"\")","v":""},{"$f":"IF($C165=1,'Sjekkliste for utfylling'!B283,\"\")","v":""},null,{"$f":"IF(C165=1,'Sjekkliste for utfylling'!L283,\" \")","v":" "}]
[{"$f":"'Sjekkliste for utfylling'!A284","v":165},{"$f":"IF('Sjekkliste for utfylling'!I284<>\"\",1,0)","v":0},0,null,{"$f":"IF($C166=1,'Sjekkliste for utfylling'!A284,\"\")","v":""},{"$f":"IF($C166=1,'Sjekkliste for utfylling'!B284,\"\")","v":""},null,{"$f":"IF(C166=1,'Sjekkliste for utfylling'!L284,\" \")","v":" "}]
[{"$f":"'Sjekkliste for utfylling'!A286","v":166},{"$f":"IF('Sjekkliste for utfylling'!I286<>\"\",1,0)","v":0},0,null,{"$f":"IF($C167=1,'Sjekkliste for utfylling'!A286,\"\")","v":""},{"$f":"IF($C167=1,'Sjekkliste for utfylling'!B286,\"\")","v":""},null,{"$f":"IF(C167=1,'Sjekkliste for utfylling'!L286,\" \")","v":" "}]
[{"$f":"'Sjekkliste for utfylling'!A287","v":167},{"$f":"IF('Sjekkliste for utfylling'!I287<>\"\",1,0)","v":0},0,null,{"$f":"IF($C168=1,'Sjekkliste for utfylling'!A287,\"\")","v":""},{"$f":"IF($C168=1,'Sjekkliste for utfylling'!B287,\"\")","v":""},null,{"$f":"IF(C168=1,'Sjekkliste for utfylling'!L287,\" \")","v":" "}]
[{"$f":"'Sjekkliste for utfylling'!A288","v":168},{"$f":"IF('Sjekkliste for utfylling'!I288<>\"\",1,0)","v":0},0,null,{"$f":"IF($C169=1,'Sjekkliste for utfylling'!A288,\"\")","v":""},{"$f":"IF($C169=1,'Sjekkliste for utfylling'!B288,\"\")","v":""},null,{"$f":"IF(C169=1,'Sjekkliste for utfylling'!L288,\" \")","v":" "}]
[{"$f":"'Sjekkliste for utfylling'!A290","v":169},{"$f":"IF('Sjekkliste for utfylling'!I290<>\"\",1,0)","v":0},0,null,{"$f":"IF($C170=1,'Sjekkliste for utfylling'!A290,\"\")","v":""},{"$f":"IF($C170=1,'Sjekkliste for utfylling'!B290,\"\")","v":""},null,{"$f":"IF(C170=1,'Sjekkliste for utfylling'!L290,\" \")","v":" "}]
[{"$f":"'Sjekkliste for utfylling'!A291","v":170},{"$f":"IF('Sjekkliste for utfylling'!I291<>\"\",1,0)","v":0},0,null,{"$f":"IF($C171=1,'Sjekkliste for utfylling'!A291,\"\")","v":""},{"$f":"IF($C171=1,'Sjekkliste for utfylling'!B291,\"\")","v":""},null,{"$f":"IF(C171=1,'Sjekkliste for utfylling'!L291,\" \")","v":" "}]
[{"$f":"'Sjekkliste for utfylling'!A295","v":171},{"$f":"IF('Sjekkliste for utfylling'!I295<>\"\",1,0)","v":0},0,null,{"$f":"IF($C172=1,'Sjekkliste for utfylling'!A295,\"\")","v":""},{"$f":"IF($C172=1,'Sjekkliste for utfylling'!B295,\"\")","v":""},null,{"$f":"IF(C172=1,'Sjekkliste for utfylling'!L295,\" \")","v":" "}]
[{"$f":"'Sjekkliste for utfylling'!A296","v":172},{"$f":"IF('Sjekkliste for utfylling'!I296<>\"\",1,0)","v":0},0,null,{"$f":"IF($C173=1,'Sjekkliste for utfylling'!A296,\"\")","v":""},{"$f":"IF($C173=1,'Sjekkliste for utfylling'!B296,\"\")","v":""},null,{"$f":"IF(C173=1,'Sjekkliste for utfylling'!L296,\" \")","v":" "}]
[{"$f":"'Sjekkliste for utfylling'!A297","v":173},{"$f":"IF('Sjekkliste for utfylling'!I297<>\"\",1,0)","v":0},0,null,{"$f":"IF($C174=1,'Sjekkliste for utfylling'!A297,\"\")","v":""},{"$f":"IF($C174=1,'Sjekkliste for utfylling'!B297,\"\")","v":""},null,{"$f":"IF(C174=1,'Sjekkliste for utfylling'!L297,\" \")","v":" "}]
[{"$f":"'Sjekkliste for utfylling'!A301","v":174},{"$f":"IF('Sjekkliste for utfylling'!I301<>\"\",1,0)","v":0},0,null,{"$f":"IF($C175=1,'Sjekkliste for utfylling'!A301,\"\")","v":""},{"$f":"IF($C175=1,'Sjekkliste for utfylling'!B301,\"\")","v":""},null,{"$f":"IF(C175=1,'Sjekkliste for utfylling'!L301,\" \")","v":" "}]
[{"$f":"'Sjekkliste for utfylling'!A303","v":175},{"$f":"IF('Sjekkliste for utfylling'!I303<>\"\",1,0)","v":0},0,null,{"$f":"IF($C176=1,'Sjekkliste for utfylling'!A303,\"\")","v":""},{"$f":"IF($C176=1,'Sjekkliste for utfylling'!B303,\"\")","v":""},null,{"$f":"IF(C176=1,'Sjekkliste for utfylling'!L303,\" \")","v":" "}]
[{"$f":"'Sjekkliste for utfylling'!A304","v":176},{"$f":"IF('Sjekkliste for utfylling'!I304<>\"\",1,0)","v":0},0,null,{"$f":"IF($C177=1,'Sjekkliste for utfylling'!A304,\"\")","v":""},{"$f":"IF($C177=1,'Sjekkliste for utfylling'!B304,\"\")","v":""},null,{"$f":"IF(C177=1,'Sjekkliste for utfylling'!L304,\" \")","v":" "}]
[{"$f":"'Sjekkliste for utfylling'!A307","v":177},{"$f":"IF('Sjekkliste for utfylling'!I307<>\"\",1,0)","v":0},0,null,{"$f":"IF($C178=1,'Sjekkliste for utfylling'!A307,\"\")","v":""},{"$f":"IF($C178=1,'Sjekkliste for utfylling'!B307,\"\")","v":""},null,{"$f":"IF(C178=1,'Sjekkliste for utfylling'!L307,\" \")","v":" "}]
[{"$f":"'Sjekkliste for utfylling'!A308","v":178},{"$f":"IF('Sjekkliste for utfylling'!I308<>\"\",1,0)","v":0},0,null,{"$f":"IF($C179=1,'Sjekkliste for utfylling'!A308,\"\")","v":""},{"$f":"IF($C179=1,'Sjekkliste for utfylling'!B308,\"\")","v":""},null,{"$f":"IF(C179=1,'Sjekkliste for utfylling'!L308,\" \")","v":" "}]
[{"$f":"'Sjekkliste for utfylling'!A309","v":179},{"$f":"IF('Sjekkliste for utfylling'!I309<>\"\",1,0)","v":0},0,null,{"$f":"IF($C180=1,'Sjekkliste for utfylling'!A309,\"\")","v":""},{"$f":"IF($C180=1,'Sjekkliste for utfylling'!B309,\"\")","v":""},null,{"$f":"IF(C180=1,'Sjekkliste for utfylling'!L309,\" \")","v":" "}]
[{"$f":"'Sjekkliste for utfylling'!A310","v":180},{"$f":"IF('Sjekkliste for utfylling'!I310<>\"\",1,0)","v":0},0,null,{"$f":"IF($C181=1,'Sjekkliste for utfylling'!A310,\"\")","v":""},{"$f":"IF($C181=1,'Sjekkliste for utfylling'!B310,\"\")","v":""},null,{"$f":"IF(C181=1,'Sjekkliste for utfylling'!L310,\" \")","v":" "}]
[{"$f":"'Sjekkliste for utfylling'!A312","v":181},{"$f":"IF('Sjekkliste for utfylling'!I312<>\"\",1,0)","v":0},0,null,{"$f":"IF($C182=1,'Sjekkliste for utfylling'!A312,\"\")","v":""},{"$f":"IF($C182=1,'Sjekkliste for utfylling'!B312,\"\")","v":""},null,{"$f":"IF(C182=1,'Sjekkliste for utfylling'!L312,\" \")","v":" "}]
[{"$f":"'Sjekkliste for utfylling'!A313","v":182},{"$f":"IF('Sjekkliste for utfylling'!I313<>\"\",1,0)","v":0},0,null,{"$f":"IF($C183=1,'Sjekkliste for utfylling'!A313,\"\")","v":""},{"$f":"IF($C183=1,'Sjekkliste for utfylling'!B313,\"\")","v":""},null,{"$f":"IF(C183=1,'Sjekkliste for utfylling'!L313,\" \")","v":" "}]
[{"$f":"'Sjekkliste for utfylling'!A315","v":183},{"$f":"IF('Sjekkliste for utfylling'!I315<>\"\",1,0)","v":0},0,null,{"$f":"IF($C184=1,'Sjekkliste for utfylling'!A315,\"\")","v":""},{"$f":"IF($C184=1,'Sjekkliste for utfylling'!B315,\"\")","v":""},null,{"$f":"IF(C184=1,'Sjekkliste for utfylling'!L315,\" \")","v":" "}]
[{"$f":"'Sjekkliste for utfylling'!A316","v":184},{"$f":"IF('Sjekkliste for utfylling'!I316<>\"\",1,0)","v":0},0,null,{"$f":"IF($C185=1,'Sjekkliste for utfylling'!A316,\"\")","v":""},{"$f":"IF($C185=1,'Sjekkliste for utfylling'!B316,\"\")","v":""},null,{"$f":"IF(C185=1,'Sjekkliste for utfylling'!L316,\" \")","v":" "}]
[{"$f":"'Sjekkliste for utfylling'!A317","v":185},{"$f":"IF('Sjekkliste for utfylling'!I317<>\"\",1,0)","v":0},0,null,{"$f":"IF($C186=1,'Sjekkliste for utfylling'!A317,\"\")","v":""},{"$f":"IF($C186=1,'Sjekkliste for utfylling'!B317,\"\")","v":""},null,{"$f":"IF(C186=1,'Sjekkliste for utfylling'!L317,\" \")","v":" "}]
[{"$f":"'Sjekkliste for utfylling'!A318","v":186},{"$f":"IF('Sjekkliste for utfylling'!I318<>\"\",1,0)","v":0},0,null,{"$f":"IF($C187=1,'Sjekkliste for utfylling'!A318,\"\")","v":""},{"$f":"IF($C187=1,'Sjekkliste for utfylling'!B318,\"\")","v":""},null,{"$f":"IF(C187=1,'Sjekkliste for utfylling'!L318,\" \")","v":" "}]
[{"$f":"'Sjekkliste for utfylling'!A319","v":187},{"$f":"IF('Sjekkliste for utfylling'!I319<>\"\",1,0)","v":0},0,null,{"$f":"IF($C188=1,'Sjekkliste for utfylling'!A319,\"\")","v":""},{"$f":"IF($C188=1,'Sjekkliste for utfylling'!B319,\"\")","v":""},null,{"$f":"IF(C188=1,'Sjekkliste for utfylling'!L319,\" \")","v":" "}]
[{"$f":"'Sjekkliste for utfylling'!A321","v":188},{"$f":"IF('Sjekkliste for utfylling'!I321<>\"\",1,0)","v":0},0,null,{"$f":"IF($C189=1,'Sjekkliste for utfylling'!A321,\"\")","v":""},{"$f":"IF($C189=1,'Sjekkliste for utfylling'!B321,\"\")","v":""},null,{"$f":"IF(C189=1,'Sjekkliste for utfylling'!L321,\" \")","v":" "}]
[{"$f":"'Sjekkliste for utfylling'!A322","v":189},{"$f":"IF('Sjekkliste for utfylling'!I322<>\"\",1,0)","v":0},0,null,{"$f":"IF($C190=1,'Sjekkliste for utfylling'!A322,\"\")","v":""},{"$f":"IF($C190=1,'Sjekkliste for utfylling'!B322,\"\")","v":""},null,{"$f":"IF(C190=1,'Sjekkliste for utfylling'!L322,\" \")","v":" "}]
[{"$f":"'Sjekkliste for utfylling'!A324","v":190},{"$f":"IF('Sjekkliste for utfylling'!I324<>\"\",1,0)","v":0},0,null,{"$f":"IF($C191=1,'Sjekkliste for utfylling'!A324,\"\")","v":""},{"$f":"IF($C191=1,'Sjekkliste for utfylling'!B324,\"\")","v":""},null,{"$f":"IF(C191=1,'Sjekkliste for utfylling'!L324,\" \")","v":" "}]
[{"$f":"'Sjekkliste for utfylling'!A325","v":191},{"$f":"IF('Sjekkliste for utfylling'!I325<>\"\",1,0)","v":0},0,null,{"$f":"IF($C192=1,'Sjekkliste for utfylling'!A325,\"\")","v":""},{"$f":"IF($C192=1,'Sjekkliste for utfylling'!B325,\"\")","v":""},null,{"$f":"IF(C192=1,'Sjekkliste for utfylling'!L325,\" \")","v":" "}]
[{"$f":"'Sjekkliste for utfylling'!A326","v":192},{"$f":"IF('Sjekkliste for utfylling'!I326<>\"\",1,0)","v":0},0,null,{"$f":"IF($C193=1,'Sjekkliste for utfylling'!A326,\"\")","v":""},{"$f":"IF($C193=1,'Sjekkliste for utfylling'!B326,\"\")","v":""},null,{"$f":"IF(C193=1,'Sjekkliste for utfylling'!L326,\" \")","v":" "}]
[{"$f":"'Sjekkliste for utfylling'!A327","v":193},{"$f":"IF('Sjekkliste for utfylling'!I327<>\"\",1,0)","v":0},{"$f":"SUM(B194:B194)","v":0},null,{"$f":"IF($C194=1,'Sjekkliste for utfylling'!A327,\"\")","v":""},{"$f":"IF($C194=1,'Sjekkliste for utfylling'!B327,\"\")","v":""},null,{"$f":"IF(C194=1,'Sjekkliste for utfylling'!L327,\" \")","v":" "}]
[{"$f":"'Sjekkliste for utfylling'!A328","v":194},{"$f":"IF('Sjekkliste for utfylling'!I328<>\"\",1,0)","v":0},0,null,{"$f":"IF($C195=1,'Sjekkliste for utfylling'!A328,\"\")","v":""},{"$f":"IF($C195=1,'Sjekkliste for utfylling'!B328,\"\")","v":""},null,{"$f":"IF(C195=1,'Sjekkliste for utfylling'!L328,\" \")","v":" "}]
[{"$f":"'Sjekkliste for utfylling'!A329","v":195},{"$f":"IF('Sjekkliste for utfylling'!I329<>\"\",1,0)","v":0},0,null,{"$f":"IF($C196=1,'Sjekkliste for utfylling'!A329,\"\")","v":""},{"$f":"IF($C196=1,'Sjekkliste for utfylling'!B329,\"\")","v":""},null,{"$f":"IF(C196=1,'Sjekkliste for utfylling'!L329,\" \")","v":" "}]
[{"$f":"'Sjekkliste for utfylling'!A330","v":196},{"$f":"IF('Sjekkliste for utfylling'!I330<>\"\",1,0)","v":0},0,null,{"$f":"IF($C197=1,'Sjekkliste for utfylling'!A330,\"\")","v":""},{"$f":"IF($C197=1,'Sjekkliste for utfylling'!B330,\"\")","v":""},null,{"$f":"IF(C197=1,'Sjekkliste for utfylling'!L330,\" \")","v":" "}]
[{"$f":"'Sjekkliste for utfylling'!A331","v":197},{"$f":"IF('Sjekkliste for utfylling'!I331<>\"\",1,0)","v":0},0,null,{"$f":"IF($C198=1,'Sjekkliste for utfylling'!A331,\"\")","v":""},{"$f":"IF($C198=1,'Sjekkliste for utfylling'!B331,\"\")","v":""},null,{"$f":"IF(C198=1,'Sjekkliste for utfylling'!L331,\" \")","v":" "}]
[{"$f":"'Sjekkliste for utfylling'!A332","v":198},{"$f":"IF('Sjekkliste for utfylling'!I332<>\"\",1,0)","v":0},0,null,{"$f":"IF($C199=1,'Sjekkliste for utfylling'!A332,\"\")","v":""},{"$f":"IF($C199=1,'Sjekkliste for utfylling'!B332,\"\")","v":""},null,{"$f":"IF(C199=1,'Sjekkliste for utfylling'!L332,\" \")","v":" "}]
[{"$f":"'Sjekkliste for utfylling'!A333","v":199},{"$f":"IF('Sjekkliste for utfylling'!I333<>\"\",1,0)","v":0},0,null,{"$f":"IF($C200=1,'Sjekkliste for utfylling'!A333,\"\")","v":""},{"$f":"IF($C200=1,'Sjekkliste for utfylling'!B333,\"\")","v":""},null,{"$f":"IF(C200=1,'Sjekkliste for utfylling'!L333,\" \")","v":" "}]
[{"$f":"'Sjekkliste for utfylling'!A334","v":200},{"$f":"IF('Sjekkliste for utfylling'!I334<>\"\",1,0)","v":0},0,null,{"$f":"IF($C201=1,'Sjekkliste for utfylling'!A334,\"\")","v":""},{"$f":"IF($C201=1,'Sjekkliste for utfylling'!B334,\"\")","v":""},null,{"$f":"IF(C201=1,'Sjekkliste for utfylling'!L334,\" \")","v":" "}]
[{"$f":"'Sjekkliste for utfylling'!A335","v":201},{"$f":"IF('Sjekkliste for utfylling'!I335<>\"\",1,0)","v":0},0,null,{"$f":"IF($C202=1,'Sjekkliste for utfylling'!A335,\"\")","v":""},{"$f":"IF($C202=1,'Sjekkliste for utfylling'!B335,\"\")","v":""},null,{"$f":"IF(C202=1,'Sjekkliste for utfylling'!L335,\" \")","v":" "}]
[{"$f":"'Sjekkliste for utfylling'!A336","v":202},{"$f":"IF('Sjekkliste for utfylling'!I336<>\"\",1,0)","v":0},0,null,{"$f":"IF($C203=1,'Sjekkliste for utfylling'!A336,\"\")","v":""},{"$f":"IF($C203=1,'Sjekkliste for utfylling'!B336,\"\")","v":""},null,{"$f":"IF(C203=1,'Sjekkliste for utfylling'!L336,\" \")","v":" "}]
[{"$f":"'Sjekkliste for utfylling'!A337","v":203},{"$f":"IF('Sjekkliste for utfylling'!I337<>\"\",1,0)","v":0},0,null,{"$f":"IF($C204=1,'Sjekkliste for utfylling'!A337,\"\")","v":""},{"$f":"IF($C204=1,'Sjekkliste for utfylling'!B337,\"\")","v":""},null,{"$f":"IF(C204=1,'Sjekkliste for utfylling'!L337,\" \")","v":" "}]
[{"$f":"'Sjekkliste for utfylling'!A338","v":204},{"$f":"IF('Sjekkliste for utfylling'!I338<>\"\",1,0)","v":0},0,null,{"$f":"IF($C205=1,'Sjekkliste for utfylling'!A338,\"\")","v":""},{"$f":"IF($C205=1,'Sjekkliste for utfylling'!B338,\"\")","v":""},null,{"$f":"IF(C205=1,'Sjekkliste for utfylling'!L338,\" \")","v":" "}]
[{"$f":"'Sjekkliste for utfylling'!A339","v":205},{"$f":"IF('Sjekkliste for utfylling'!I339<>\"\",1,0)","v":0},0,null,{"$f":"IF($C206=1,'Sjekkliste for utfylling'!A339,\"\")","v":""},{"$f":"IF($C206=1,'Sjekkliste for utfylling'!B339,\"\")","v":""},null,{"$f":"IF(C206=1,'Sjekkliste for utfylling'!L339,\" \")","v":" "}]
[{"$f":"'Sjekkliste for utfylling'!A340","v":206},{"$f":"IF('Sjekkliste for utfylling'!I340<>\"\",1,0)","v":0},0,null,{"$f":"IF($C207=1,'Sjekkliste for utfylling'!A340,\"\")","v":""},{"$f":"IF($C207=1,'Sjekkliste for utfylling'!B340,\"\")","v":""},null,{"$f":"IF(C207=1,'Sjekkliste for utfylling'!L340,\" \")","v":" "}]
[{"$f":"'Sjekkliste for utfylling'!A341","v":207},{"$f":"IF('Sjekkliste for utfylling'!I341<>\"\",1,0)","v":0},0,null,{"$f":"IF($C208=1,'Sjekkliste for utfylling'!A341,\"\")","v":""},{"$f":"IF($C208=1,'Sjekkliste for utfylling'!B341,\"\")","v":""},null,{"$f":"IF(C208=1,'Sjekkliste for utfylling'!L341,\" \")","v":" "}]
[{"$f":"'Sjekkliste for utfylling'!A342","v":208},{"$f":"IF('Sjekkliste for utfylling'!I342<>\"\",1,0)","v":0},0,null,{"$f":"IF($C209=1,'Sjekkliste for utfylling'!A342,\"\")","v":""},{"$f":"IF($C209=1,'Sjekkliste for utfylling'!B342,\"\")","v":""},null,{"$f":"IF(C209=1,'Sjekkliste for utfylling'!L342,\" \")","v":" "}]
[{"$f":"'Sjekkliste for utfylling'!A343","v":209},{"$f":"IF('Sjekkliste for utfylling'!I343<>\"\",1,0)","v":0},0,null,{"$f":"IF($C210=1,'Sjekkliste for utfylling'!A343,\"\")","v":""},{"$f":"IF($C210=1,'Sjekkliste for utfylling'!B343,\"\")","v":""},null,{"$f":"IF(C210=1,'Sjekkliste for utfylling'!L343,\" \")","v":" "}]
[{"$f":"'Sjekkliste for utfylling'!A344","v":210},{"$f":"IF('Sjekkliste for utfylling'!I344<>\"\",1,0)","v":0},0,null,{"$f":"IF($C211=1,'Sjekkliste for utfylling'!A344,\"\")","v":""},{"$f":"IF($C211=1,'Sjekkliste for utfylling'!B344,\"\")","v":""},null,{"$f":"IF(C211=1,'Sjekkliste for utfylling'!L344,\" \")","v":" "}]
[{"$f":"'Sjekkliste for utfylling'!A345","v":211},{"$f":"IF('Sjekkliste for utfylling'!I345<>\"\",1,0)","v":0},0,null,{"$f":"IF($C212=1,'Sjekkliste for utfylling'!A345,\"\")","v":""},{"$f":"IF($C212=1,'Sjekkliste for utfylling'!B345,\"\")","v":""},null,{"$f":"IF(C212=1,'Sjekkliste for utfylling'!L345,\" \")","v":" "}]
[{"$f":"'Sjekkliste for utfylling'!A347","v":212},{"$f":"IF('Sjekkliste for utfylling'!I347<>\"\",1,0)","v":0},0,null,{"$f":"IF($C213=1,'Sjekkliste for utfylling'!A347,\"\")","v":""},{"$f":"IF($C213=1,'Sjekkliste for utfylling'!B347,\"\")","v":""},null,{"$f":"IF(C213=1,'Sjekkliste for utfylling'!L347,\" \")","v":" "}]
[{"$f":"'Sjekkliste for utfylling'!A348","v":213},{"$f":"IF('Sjekkliste for utfylling'!I348<>\"\",1,0)","v":0},0,null,{"$f":"IF($C214=1,'Sjekkliste for utfylling'!A348,\"\")","v":""},{"$f":"IF($C214=1,'Sjekkliste for utfylling'!B348,\"\")","v":""},null,{"$f":"IF(C214=1,'Sjekkliste for utfylling'!L348,\" \")","v":" "}]
[{"$f":"'Sjekkliste for utfylling'!A349","v":214},{"$f":"IF('Sjekkliste for utfylling'!I349<>\"\",1,0)","v":0},0,null,{"$f":"IF($C215=1,'Sjekkliste for utfylling'!A349,\"\")","v":""},{"$f":"IF($C215=1,'Sjekkliste for utfylling'!B349,\"\")","v":""},null,{"$f":"IF(C215=1,'Sjekkliste for utfylling'!L349,\" \")","v":" "}]
[{"$f":"'Sjekkliste for utfylling'!A351","v":215},{"$f":"IF('Sjekkliste for utfylling'!I351<>\"\",1,0)","v":0},0,null,{"$f":"IF($C216=1,'Sjekkliste for utfylling'!A351,\"\")","v":""},{"$f":"IF($C216=1,'Sjekkliste for utfylling'!B351,\"\")","v":""},null,{"$f":"IF(C216=1,'Sjekkliste for utfylling'!L351,\" \")","v":" "}]
[{"$f":"'Sjekkliste for utfylling'!A353","v":216},{"$f":"IF('Sjekkliste for utfylling'!I353<>\"\",1,0)","v":0},0,null,{"$f":"IF($C217=1,'Sjekkliste for utfylling'!A353,\"\")","v":""},{"$f":"IF($C217=1,'Sjekkliste for utfylling'!B353,\"\")","v":""},null,{"$f":"IF(C217=1,'Sjekkliste for utfylling'!L353,\" \")","v":" "}]
[{"$f":"'Sjekkliste for utfylling'!A354","v":217},{"$f":"IF('Sjekkliste for utfylling'!I354<>\"\",1,0)","v":0},0,null,{"$f":"IF($C218=1,'Sjekkliste for utfylling'!A354,\"\")","v":""},{"$f":"IF($C218=1,'Sjekkliste for utfylling'!B354,\"\")","v":""},null,{"$f":"IF(C218=1,'Sjekkliste for utfylling'!L354,\" \")","v":" "}]
[{"$f":"'Sjekkliste for utfylling'!A355","v":218},{"$f":"IF('Sjekkliste for utfylling'!I355<>\"\",1,0)","v":0},0,null,{"$f":"IF($C219=1,'Sjekkliste for utfylling'!A355,\"\")","v":""},{"$f":"IF($C219=1,'Sjekkliste for utfylling'!B355,\"\")","v":""},null,{"$f":"IF(C219=1,'Sjekkliste for utfylling'!L355,\" \")","v":" "}]
[{"$f":"'Sjekkliste for utfylling'!A357","v":219},{"$f":"IF('Sjekkliste for utfylling'!I357<>\"\",1,0)","v":0},0,null,{"$f":"IF($C220=1,'Sjekkliste for utfylling'!A357,\"\")","v":""},{"$f":"IF($C220=1,'Sjekkliste for utfylling'!B357,\"\")","v":""},null,{"$f":"IF(C220=1,'Sjekkliste for utfylling'!L357,\" \")","v":" "}]
[{"$f":"'Sjekkliste for utfylling'!A359","v":220},{"$f":"IF('Sjekkliste for utfylling'!I359<>\"\",1,0)","v":0},0,null,{"$f":"IF($C221=1,'Sjekkliste for utfylling'!A359,\"\")","v":""},{"$f":"IF($C221=1,'Sjekkliste for utfylling'!B359,\"\")","v":""},null,{"$f":"IF(C221=1,'Sjekkliste for utfylling'!L359,\" \")","v":" "}]
[{"$f":"'Sjekkliste for utfylling'!A360","v":221},{"$f":"IF('Sjekkliste for utfylling'!I360<>\"\",1,0)","v":0},0,null,{"$f":"IF($C222=1,'Sjekkliste for utfylling'!A360,\"\")","v":""},{"$f":"IF($C222=1,'Sjekkliste for utfylling'!B360,\"\")","v":""},null,{"$f":"IF(C222=1,'Sjekkliste for utfylling'!L360,\" \")","v":" "}]
[{"$f":"'Sjekkliste for utfylling'!A361","v":222},{"$f":"IF('Sjekkliste for utfylling'!I361<>\"\",1,0)","v":0},0,null,{"$f":"IF($C223=1,'Sjekkliste for utfylling'!A361,\"\")","v":""},{"$f":"IF($C223=1,'Sjekkliste for utfylling'!B361,\"\")","v":""},null,{"$f":"IF(C223=1,'Sjekkliste for utfylling'!L361,\" \")","v":" "}]
[{"$f":"'Sjekkliste for utfylling'!A364","v":223},{"$f":"IF('Sjekkliste for utfylling'!I364<>\"\",1,0)","v":0},0,null,{"$f":"IF($C224=1,'Sjekkliste for utfylling'!A364,\"\")","v":""},{"$f":"IF($C224=1,'Sjekkliste for utfylling'!B364,\"\")","v":""},null,{"$f":"IF(C224=1,'Sjekkliste for utfylling'!L364,\" \")","v":" "}]
[{"$f":"'Sjekkliste for utfylling'!A365","v":224},{"$f":"IF('Sjekkliste for utfylling'!I365<>\"\",1,0)","v":0},0,null,{"$f":"IF($C225=1,'Sjekkliste for utfylling'!A365,\"\")","v":""},{"$f":"IF($C225=1,'Sjekkliste for utfylling'!B365,\"\")","v":""},null,{"$f":"IF(C225=1,'Sjekkliste for utfylling'!L365,\" \")","v":" "}]
[{"$f":"'Sjekkliste for utfylling'!A366","v":225},{"$f":"IF('Sjekkliste for utfylling'!I366<>\"\",1,0)","v":0},0,null,{"$f":"IF($C226=1,'Sjekkliste for utfylling'!A366,\"\")","v":""},{"$f":"IF($C226=1,'Sjekkliste for utfylling'!B366,\"\")","v":""},null,{"$f":"IF(C226=1,'Sjekkliste for utfylling'!L366,\" \")","v":" "}]
[{"$f":"'Sjekkliste for utfylling'!A367","v":226},{"$f":"IF('Sjekkliste for utfylling'!I367<>\"\",1,0)","v":0},0,null,{"$f":"IF($C227=1,'Sjekkliste for utfylling'!A367,\"\")","v":""},{"$f":"IF($C227=1,'Sjekkliste for utfylling'!B367,\"\")","v":""},null,{"$f":"IF(C227=1,'Sjekkliste for utfylling'!L367,\" \")","v":" "}]
[{"$f":"'Sjekkliste for utfylling'!A370","v":227},{"$f":"IF('Sjekkliste for utfylling'!I370<>\"\",1,0)","v":0},0,null,{"$f":"IF($C228=1,'Sjekkliste for utfylling'!A370,\"\")","v":""},{"$f":"IF($C228=1,'Sjekkliste for utfylling'!B370,\"\")","v":""},null,{"$f":"IF(C228=1,'Sjekkliste for utfylling'!L370,\" \")","v":" "}]
[{"$f":"'Sjekkliste for utfylling'!A371","v":228},{"$f":"IF('Sjekkliste for utfylling'!I371<>\"\",1,0)","v":0},0,null,{"$f":"IF($C229=1,'Sjekkliste for utfylling'!A371,\"\")","v":""},{"$f":"IF($C229=1,'Sjekkliste for utfylling'!B371,\"\")","v":""},null,{"$f":"IF(C229=1,'Sjekkliste for utfylling'!L371,\" \")","v":" "}]
[{"$f":"'Sjekkliste for utfylling'!A372","v":229},{"$f":"IF('Sjekkliste for utfylling'!I372<>\"\",1,0)","v":0},0,null,{"$f":"IF($C230=1,'Sjekkliste for utfylling'!A372,\"\")","v":""},{"$f":"IF($C230=1,'Sjekkliste for utfylling'!B372,\"\")","v":""},null,{"$f":"IF(C230=1,'Sjekkliste for utfylling'!L372,\" \")","v":" "}]
[{"$f":"'Sjekkliste for utfylling'!A373","v":230},{"$f":"IF('Sjekkliste for utfylling'!I373<>\"\",1,0)","v":0},0,null,{"$f":"IF($C231=1,'Sjekkliste for utfylling'!A373,\"\")","v":""},{"$f":"IF($C231=1,'Sjekkliste for utfylling'!B373,\"\")","v":""},null,{"$f":"IF(C231=1,'Sjekkliste for utfylling'!L373,\" \")","v":" "}]
[{"$f":"'Sjekkliste for utfylling'!A374","v":231},{"$f":"IF('Sjekkliste for utfylling'!I374<>\"\",1,0)","v":0},0,null,{"$f":"IF($C232=1,'Sjekkliste for utfylling'!A374,\"\")","v":""},{"$f":"IF($C232=1,'Sjekkliste for utfylling'!B374,\"\")","v":""},null,{"$f":"IF(C232=1,'Sjekkliste for utfylling'!L374,\" \")","v":" "}]
[{"$f":"'Sjekkliste for utfylling'!A376","v":232},{"$f":"IF('Sjekkliste for utfylling'!I376<>\"\",1,0)","v":0},0,null,{"$f":"IF($C233=1,'Sjekkliste for utfylling'!A376,\"\")","v":""},{"$f":"IF($C233=1,'Sjekkliste for utfylling'!B376,\"\")","v":""},null,{"$f":"IF(C233=1,'Sjekkliste for utfylling'!L376,\" \")","v":" "}]
[{"$f":"'Sjekkliste for utfylling'!A378","v":233},{"$f":"IF('Sjekkliste for utfylling'!I378<>\"\",1,0)","v":0},0,null,{"$f":"IF($C234=1,'Sjekkliste for utfylling'!A378,\"\")","v":""},{"$f":"IF($C234=1,'Sjekkliste for utfylling'!B378,\"\")","v":""},null,{"$f":"IF(C234=1,'Sjekkliste for utfylling'!L378,\" \")","v":" "}]
[{"$f":"'Sjekkliste for utfylling'!A380","v":234},{"$f":"IF('Sjekkliste for utfylling'!I380<>\"\",1,0)","v":0},0,null,{"$f":"IF($C235=1,'Sjekkliste for utfylling'!A380,\"\")","v":""},{"$f":"IF($C235=1,'Sjekkliste for utfylling'!B380,\"\")","v":""},null,{"$f":"IF(C235=1,'Sjekkliste for utfylling'!L380,\" \")","v":" "}]
[{"$f":"'Sjekkliste for utfylling'!A382","v":235},{"$f":"IF('Sjekkliste for utfylling'!I382<>\"\",1,0)","v":0},0,null,{"$f":"IF($C236=1,'Sjekkliste for utfylling'!A382,\"\")","v":""},{"$f":"IF($C236=1,'Sjekkliste for utfylling'!B382,\"\")","v":""},null,{"$f":"IF(C236=1,'Sjekkliste for utfylling'!L382,\" \")","v":" "}]
[{"$f":"'Sjekkliste for utfylling'!A384","v":236},{"$f":"IF('Sjekkliste for utfylling'!I384<>\"\",1,0)","v":0},0,null,{"$f":"IF($C237=1,'Sjekkliste for utfylling'!A384,\"\")","v":""},{"$f":"IF($C237=1,'Sjekkliste for utfylling'!B384,\"\")","v":""},null,{"$f":"IF(C237=1,'Sjekkliste for utfylling'!L384,\" \")","v":" "}]
[{"$f":"'Sjekkliste for utfylling'!A385","v":237},{"$f":"IF('Sjekkliste for utfylling'!I385<>\"\",1,0)","v":0},0,null,{"$f":"IF($C238=1,'Sjekkliste for utfylling'!A385,\"\")","v":""},{"$f":"IF($C238=1,'Sjekkliste for utfylling'!B385,\"\")","v":""},null,{"$f":"IF(C238=1,'Sjekkliste for utfylling'!L385,\" \")","v":" "}]
[{"$f":"'Sjekkliste for utfylling'!A387","v":238},{"$f":"IF('Sjekkliste for utfylling'!I387<>\"\",1,0)","v":0},0,null,{"$f":"IF($C239=1,'Sjekkliste for utfylling'!A387,\"\")","v":""},{"$f":"IF($C239=1,'Sjekkliste for utfylling'!B387,\"\")","v":""},null,{"$f":"IF(C239=1,'Sjekkliste for utfylling'!L387,\" \")","v":" "}]
[{"$f":"'Sjekkliste for utfylling'!A388","v":239},{"$f":"IF('Sjekkliste for utfylling'!I388<>\"\",1,0)","v":0},0,null,{"$f":"IF($C240=1,'Sjekkliste for utfylling'!A388,\"\")","v":""},{"$f":"IF($C240=1,'Sjekkliste for utfylling'!B388,\"\")","v":""},null,{"$f":"IF(C240=1,'Sjekkliste for utfylling'!L388,\" \")","v":" "}]
[{"$f":"'Sjekkliste for utfylling'!A389","v":240},{"$f":"IF('Sjekkliste for utfylling'!I389<>\"\",1,0)","v":0},0,null,{"$f":"IF($C241=1,'Sjekkliste for utfylling'!A389,\"\")","v":""},{"$f":"IF($C241=1,'Sjekkliste for utfylling'!B389,\"\")","v":""},null,{"$f":"IF(C241=1,'Sjekkliste for utfylling'!L389,\" \")","v":" "}]
[{"$f":"'Sjekkliste for utfylling'!A390","v":241},{"$f":"IF('Sjekkliste for utfylling'!I390<>\"\",1,0)","v":0},0,null,{"$f":"IF($C242=1,'Sjekkliste for utfylling'!A390,\"\")","v":""},{"$f":"IF($C242=1,'Sjekkliste for utfylling'!B390,\"\")","v":""},null,{"$f":"IF(C242=1,'Sjekkliste for utfylling'!L390,\" \")","v":" "}]
[{"$f":"'Sjekkliste for utfylling'!A391","v":242},{"$f":"IF('Sjekkliste for utfylling'!I391<>\"\",1,0)","v":0},0,null,{"$f":"IF($C243=1,'Sjekkliste for utfylling'!A391,\"\")","v":""},{"$f":"IF($C243=1,'Sjekkliste for utfylling'!B391,\"\")","v":""},null,{"$f":"IF(C243=1,'Sjekkliste for utfylling'!L391,\" \")","v":" "}]
[{"$f":"'Sjekkliste for utfylling'!A392","v":243},{"$f":"IF('Sjekkliste for utfylling'!I392<>\"\",1,0)","v":0},0,null,{"$f":"IF($C244=1,'Sjekkliste for utfylling'!A392,\"\")","v":""},{"$f":"IF($C244=1,'Sjekkliste for utfylling'!B392,\"\")","v":""},null,{"$f":"IF(C244=1,'Sjekkliste for utfylling'!L392,\" \")","v":" "}]
[{"$f":"'Sjekkliste for utfylling'!A393","v":244},{"$f":"IF('Sjekkliste for utfylling'!I393<>\"\",1,0)","v":0},0,null,{"$f":"IF($C245=1,'Sjekkliste for utfylling'!A393,\"\")","v":""},{"$f":"IF($C245=1,'Sjekkliste for utfylling'!B393,\"\")","v":""},null,{"$f":"IF(C245=1,'Sjekkliste for utfylling'!L393,\" \")","v":" "}]
[{"$f":"'Sjekkliste for utfylling'!A394","v":245},{"$f":"IF('Sjekkliste for utfylling'!I394<>\"\",1,0)","v":0},0,null,{"$f":"IF($C246=1,'Sjekkliste for utfylling'!A394,\"\")","v":""},{"$f":"IF($C246=1,'Sjekkliste for utfylling'!B394,\"\")","v":""},null,{"$f":"IF(C246=1,'Sjekkliste for utfylling'!L394,\" \")","v":" "}]
[{"$f":"'Sjekkliste for utfylling'!A395","v":246},{"$f":"IF('Sjekkliste for utfylling'!I395<>\"\",1,0)","v":0},0,null,{"$f":"IF($C247=1,'Sjekkliste for utfylling'!A395,\"\")","v":""},{"$f":"IF($C247=1,'Sjekkliste for utfylling'!B395,\"\")","v":""},null,{"$f":"IF(C247=1,'Sjekkliste for utfylling'!L395,\" \")","v":" "}]
[{"$f":"'Sjekkliste for utfylling'!A396","v":247},{"$f":"IF('Sjekkliste for utfylling'!I396<>\"\",1,0)","v":0},0,null,{"$f":"IF($C248=1,'Sjekkliste for utfylling'!A396,\"\")","v":""},{"$f":"IF($C248=1,'Sjekkliste for utfylling'!B396,\"\")","v":""},null,{"$f":"IF(C248=1,'Sjekkliste for utfylling'!L396,\" \")","v":" "}]
[{"$f":"'Sjekkliste for utfylling'!A397","v":248},{"$f":"IF('Sjekkliste for utfylling'!I397<>\"\",1,0)","v":0},0,null,{"$f":"IF($C249=1,'Sjekkliste for utfylling'!A397,\"\")","v":""},{"$f":"IF($C249=1,'Sjekkliste for utfylling'!B397,\"\")","v":""},null,{"$f":"IF(C249=1,'Sjekkliste for utfylling'!L397,\" \")","v":" "}]
[{"$f":"'Sjekkliste for utfylling'!A398","v":249},{"$f":"IF('Sjekkliste for utfylling'!I398<>\"\",1,0)","v":0},0,null,{"$f":"IF($C250=1,'Sjekkliste for utfylling'!A398,\"\")","v":""},{"$f":"IF($C250=1,'Sjekkliste for utfylling'!B398,\"\")","v":""},null,{"$f":"IF(C250=1,'Sjekkliste for utfylling'!L398,\" \")","v":" "}]
[{"$f":"'Sjekkliste for utfylling'!A399","v":250},{"$f":"IF('Sjekkliste for utfylling'!I399<>\"\",1,0)","v":0},0,null,{"$f":"IF($C251=1,'Sjekkliste for utfylling'!A399,\"\")","v":""},{"$f":"IF($C251=1,'Sjekkliste for utfylling'!B399,\"\")","v":""},null,{"$f":"IF(C251=1,'Sjekkliste for utfylling'!L399,\" \")","v":" "}]
[{"$f":"'Sjekkliste for utfylling'!A400","v":251},{"$f":"IF('Sjekkliste for utfylling'!I400<>\"\",1,0)","v":0},0,null,{"$f":"IF($C252=1,'Sjekkliste for utfylling'!A400,\"\")","v":""},{"$f":"IF($C252=1,'Sjekkliste for utfylling'!B400,\"\")","v":""},null,{"$f":"IF(C252=1,'Sjekkliste for utfylling'!L400,\" \")","v":" "}]
[{"$f":"'Sjekkliste for utfylling'!A401","v":252},{"$f":"IF('Sjekkliste for utfylling'!I401<>\"\",1,0)","v":0},0,null,{"$f":"IF($C253=1,'Sjekkliste for utfylling'!A401,\"\")","v":""},{"$f":"IF($C253=1,'Sjekkliste for utfylling'!B401,\"\")","v":""},null,{"$f":"IF(C253=1,'Sjekkliste for utfylling'!L401,\" \")","v":" "}]
[{"$f":"'Sjekkliste for utfylling'!A402","v":253},{"$f":"IF('Sjekkliste for utfylling'!I402<>\"\",1,0)","v":0},0,null,{"$f":"IF($C254=1,'Sjekkliste for utfylling'!A402,\"\")","v":""},{"$f":"IF($C254=1,'Sjekkliste for utfylling'!B402,\"\")","v":""},null,{"$f":"IF(C254=1,'Sjekkliste for utfylling'!L402,\" \")","v":" "}]
[{"$f":"'Sjekkliste for utfylling'!A403","v":254},{"$f":"IF('Sjekkliste for utfylling'!I403<>\"\",1,0)","v":0},0,null,{"$f":"IF($C255=1,'Sjekkliste for utfylling'!A403,\"\")","v":""},{"$f":"IF($C255=1,'Sjekkliste for utfylling'!B403,\"\")","v":""},null,{"$f":"IF(C255=1,'Sjekkliste for utfylling'!L403,\" \")","v":" "}]
[{"$f":"'Sjekkliste for utfylling'!A405","v":255},{"$f":"IF('Sjekkliste for utfylling'!I405<>\"\",1,0)","v":0},0,null,{"$f":"IF($C256=1,'Sjekkliste for utfylling'!A405,\"\")","v":""},{"$f":"IF($C256=1,'Sjekkliste for utfylling'!B405,\"\")","v":""},null,{"$f":"IF(C256=1,'Sjekkliste for utfylling'!L405,\" \")","v":" "}]
[{"$f":"'Sjekkliste for utfylling'!A406","v":256},{"$f":"IF('Sjekkliste for utfylling'!I406<>\"\",1,0)","v":0},0,null,{"$f":"IF($C257=1,'Sjekkliste for utfylling'!A406,\"\")","v":""},{"$f":"IF($C257=1,'Sjekkliste for utfylling'!B406,\"\")","v":""},null,{"$f":"IF(C257=1,'Sjekkliste for utfylling'!L406,\" \")","v":" "}]
[{"$f":"'Sjekkliste for utfylling'!A407","v":257},{"$f":"IF('Sjekkliste for utfylling'!I407<>\"\",1,0)","v":0},{"$f":"SUM(B258:B258)","v":0},null,{"$f":"IF($C258=1,'Sjekkliste for utfylling'!A407,\"\")","v":""},{"$f":"IF($C258=1,'Sjekkliste for utfylling'!B407,\"\")","v":""},null,{"$f":"IF(C258=1,'Sjekkliste for utfylling'!L407,\" \")","v":" "}]
[{"$f":"'Sjekkliste for utfylling'!A408","v":258},{"$f":"IF('Sjekkliste for utfylling'!I408<>\"\",1,0)","v":0},0,null,{"$f":"IF($C259=1,'Sjekkliste for utfylling'!A408,\"\")","v":""},{"$f":"IF($C259=1,'Sjekkliste for utfylling'!B408,\"\")","v":""},null,{"$f":"IF(C259=1,'Sjekkliste for utfylling'!L408,\" \")","v":" "}]
[{"$f":"'Sjekkliste for utfylling'!A410","v":259},{"$f":"IF('Sjekkliste for utfylling'!I410<>\"\",1,0)","v":0},0,null,{"$f":"IF($C260=1,'Sjekkliste for utfylling'!A410,\"\")","v":""},{"$f":"IF($C260=1,'Sjekkliste for utfylling'!B410,\"\")","v":""},null,{"$f":"IF(C260=1,'Sjekkliste for utfylling'!L410,\" \")","v":" "}]
[{"$f":"'Sjekkliste for utfylling'!A412","v":260},{"$f":"IF('Sjekkliste for utfylling'!I412<>\"\",1,0)","v":0},0,null,{"$f":"IF($C261=1,'Sjekkliste for utfylling'!A412,\"\")","v":""},{"$f":"IF($C261=1,'Sjekkliste for utfylling'!B412,\"\")","v":""},null,{"$f":"IF(C261=1,'Sjekkliste for utfylling'!L412,\" \")","v":" "}]
[{"$f":"'Sjekkliste for utfylling'!A414","v":261},{"$f":"IF('Sjekkliste for utfylling'!I414<>\"\",1,0)","v":0},0,null,{"$f":"IF($C262=1,'Sjekkliste for utfylling'!A414,\"\")","v":""},{"$f":"IF($C262=1,'Sjekkliste for utfylling'!B414,\"\")","v":""},null,{"$f":"IF(C262=1,'Sjekkliste for utfylling'!L414,\" \")","v":" "}]
[{"$f":"'Sjekkliste for utfylling'!A434","v":262},{"$f":"IF('Sjekkliste for utfylling'!I434<>\"\",1,0)","v":0},0,null,{"$f":"IF($C263=1,'Sjekkliste for utfylling'!A434,\"\")","v":""},{"$f":"IF($C263=1,'Sjekkliste for utfylling'!B434,\"\")","v":""},null,{"$f":"IF(C263=1,'Sjekkliste for utfylling'!L434,\" \")","v":" "}]
[{"$f":"'Sjekkliste for utfylling'!A436","v":263},{"$f":"IF('Sjekkliste for utfylling'!I436<>\"\",1,0)","v":0},0,null,{"$f":"IF($C264=1,'Sjekkliste for utfylling'!A436,\"\")","v":""},{"$f":"IF($C264=1,'Sjekkliste for utfylling'!B436,\"\")","v":""},null,{"$f":"IF(C264=1,'Sjekkliste for utfylling'!L436,\" \")","v":" "}]
[{"$f":"'Sjekkliste for utfylling'!A437","v":264},{"$f":"IF('Sjekkliste for utfylling'!I437<>\"\",1,0)","v":0},0,null,{"$f":"IF($C265=1,'Sjekkliste for utfylling'!A437,\"\")","v":""},{"$f":"IF($C265=1,'Sjekkliste for utfylling'!B437,\"\")","v":""},null,{"$f":"IF(C265=1,'Sjekkliste for utfylling'!L437,\" \")","v":" "}]
[{"$f":"'Sjekkliste for utfylling'!A438","v":265},{"$f":"IF('Sjekkliste for utfylling'!I438<>\"\",1,0)","v":0},0,null,{"$f":"IF($C266=1,'Sjekkliste for utfylling'!A438,\"\")","v":""},{"$f":"IF($C266=1,'Sjekkliste for utfylling'!B438,\"\")","v":""},null,{"$f":"IF(C266=1,'Sjekkliste for utfylling'!L438,\" \")","v":" "}]
[{"$f":"'Sjekkliste for utfylling'!A439","v":266},{"$f":"IF('Sjekkliste for utfylling'!I439<>\"\",1,0)","v":0},0,null,{"$f":"IF($C267=1,'Sjekkliste for utfylling'!A439,\"\")","v":""},{"$f":"IF($C267=1,'Sjekkliste for utfylling'!B439,\"\")","v":""},null,{"$f":"IF(C267=1,'Sjekkliste for utfylling'!L439,\" \")","v":" "}]
[{"$f":"'Sjekkliste for utfylling'!A440","v":267},{"$f":"IF('Sjekkliste for utfylling'!I440<>\"\",1,0)","v":0},0,null,{"$f":"IF($C268=1,'Sjekkliste for utfylling'!A440,\"\")","v":""},{"$f":"IF($C268=1,'Sjekkliste for utfylling'!B440,\"\")","v":""},null,{"$f":"IF(C268=1,'Sjekkliste for utfylling'!L440,\" \")","v":" "}]
[{"$f":"'Sjekkliste for utfylling'!A442","v":268},{"$f":"IF('Sjekkliste for utfylling'!I442<>\"\",1,0)","v":0},0,null,{"$f":"IF($C269=1,'Sjekkliste for utfylling'!A442,\"\")","v":""},{"$f":"IF($C269=1,'Sjekkliste for utfylling'!B442,\"\")","v":""},null,{"$f":"IF(C269=1,'Sjekkliste for utfylling'!L442,\" \")","v":" "}]
[{"$f":"'Sjekkliste for utfylling'!A444","v":269},{"$f":"IF('Sjekkliste for utfylling'!I444<>\"\",1,0)","v":0},0,null,{"$f":"IF($C270=1,'Sjekkliste for utfylling'!A444,\"\")","v":""},{"$f":"IF($C270=1,'Sjekkliste for utfylling'!B444,\"\")","v":""},null,{"$f":"IF(C270=1,'Sjekkliste for utfylling'!L444,\" \")","v":" "}]
[{"$f":"'Sjekkliste for utfylling'!A445","v":270},{"$f":"IF('Sjekkliste for utfylling'!I445<>\"\",1,0)","v":0},0,null,{"$f":"IF($C271=1,'Sjekkliste for utfylling'!A445,\"\")","v":""},{"$f":"IF($C271=1,'Sjekkliste for utfylling'!B445,\"\")","v":""},null,{"$f":"IF(C271=1,'Sjekkliste for utfylling'!L445,\" \")","v":" "}]
[{"$f":"'Sjekkliste for utfylling'!A446","v":271},{"$f":"IF('Sjekkliste for utfylling'!I446<>\"\",1,0)","v":0},0,null,{"$f":"IF($C272=1,'Sjekkliste for utfylling'!A446,\"\")","v":""},{"$f":"IF($C272=1,'Sjekkliste for utfylling'!B446,\"\")","v":""},null,{"$f":"IF(C272=1,'Sjekkliste for utfylling'!L446,\" \")","v":" "}]
[{"$f":"'Sjekkliste for utfylling'!A447","v":272},{"$f":"IF('Sjekkliste for utfylling'!I447<>\"\",1,0)","v":0},0,null,{"$f":"IF($C273=1,'Sjekkliste for utfylling'!A447,\"\")","v":""},{"$f":"IF($C273=1,'Sjekkliste for utfylling'!B447,\"\")","v":""},null,{"$f":"IF(C273=1,'Sjekkliste for utfylling'!L447,\" \")","v":" "}]
[{"$f":"'Sjekkliste for utfylling'!A448","v":273},{"$f":"IF('Sjekkliste for utfylling'!I448<>\"\",1,0)","v":0},0,null,{"$f":"IF($C274=1,'Sjekkliste for utfylling'!A448,\"\")","v":""},{"$f":"IF($C274=1,'Sjekkliste for utfylling'!B448,\"\")","v":""},null,{"$f":"IF(C274=1,'Sjekkliste for utfylling'!L448,\" \")","v":" "}]
[{"$f":"'Sjekkliste for utfylling'!A449","v":274},{"$f":"IF('Sjekkliste for utfylling'!I449<>\"\",1,0)","v":0},0,null,{"$f":"IF($C275=1,'Sjekkliste for utfylling'!A449,\"\")","v":""},{"$f":"IF($C275=1,'Sjekkliste for utfylling'!B449,\"\")","v":""},null,{"$f":"IF(C275=1,'Sjekkliste for utfylling'!L449,\" \")","v":" "}]
[{"$f":"'Sjekkliste for utfylling'!A450","v":275},{"$f":"IF('Sjekkliste for utfylling'!I450<>\"\",1,0)","v":0},0,null,{"$f":"IF($C276=1,'Sjekkliste for utfylling'!A450,\"\")","v":""},{"$f":"IF($C276=1,'Sjekkliste for utfylling'!B450,\"\")","v":""},null,{"$f":"IF(C276=1,'Sjekkliste for utfylling'!L450,\" \")","v":" "}]
[{"$f":"'Sjekkliste for utfylling'!A451","v":276},{"$f":"IF('Sjekkliste for utfylling'!I451<>\"\",1,0)","v":0},0,null,{"$f":"IF($C277=1,'Sjekkliste for utfylling'!A451,\"\")","v":""},{"$f":"IF($C277=1,'Sjekkliste for utfylling'!B451,\"\")","v":""},null,{"$f":"IF(C277=1,'Sjekkliste for utfylling'!L451,\" \")","v":" "}]
[{"$f":"'Sjekkliste for utfylling'!A452","v":277},{"$f":"IF('Sjekkliste for utfylling'!I452<>\"\",1,0)","v":0},0,null,{"$f":"IF($C278=1,'Sjekkliste for utfylling'!A452,\"\")","v":""},{"$f":"IF($C278=1,'Sjekkliste for utfylling'!B452,\"\")","v":""},null,{"$f":"IF(C278=1,'Sjekkliste for utfylling'!L452,\" \")","v":" "}]
[{"$f":"'Sjekkliste for utfylling'!A453","v":278},{"$f":"IF('Sjekkliste for utfylling'!I453<>\"\",1,0)","v":0},0,null,{"$f":"IF($C279=1,'Sjekkliste for utfylling'!A453,\"\")","v":""},{"$f":"IF($C279=1,'Sjekkliste for utfylling'!B453,\"\")","v":""},null,{"$f":"IF(C279=1,'Sjekkliste for utfylling'!L453,\" \")","v":" "}]
[{"$f":"'Sjekkliste for utfylling'!A454","v":279},{"$f":"IF('Sjekkliste for utfylling'!I454<>\"\",1,0)","v":0},0,null,{"$f":"IF($C280=1,'Sjekkliste for utfylling'!A454,\"\")","v":""},{"$f":"IF($C280=1,'Sjekkliste for utfylling'!B454,\"\")","v":""},null,{"$f":"IF(C280=1,'Sjekkliste for utfylling'!L454,\" \")","v":" "}]
[{"$f":"'Sjekkliste for utfylling'!A455","v":280},{"$f":"IF('Sjekkliste for utfylling'!I455<>\"\",1,0)","v":0},0,null,{"$f":"IF($C281=1,'Sjekkliste for utfylling'!A455,\"\")","v":""},{"$f":"IF($C281=1,'Sjekkliste for utfylling'!B455,\"\")","v":""},null,{"$f":"IF(C281=1,'Sjekkliste for utfylling'!L455,\" \")","v":" "}]
[{"$f":"'Sjekkliste for utfylling'!A456","v":281},{"$f":"IF('Sjekkliste for utfylling'!I456<>\"\",1,0)","v":0},0,null,{"$f":"IF($C282=1,'Sjekkliste for utfylling'!A456,\"\")","v":""},{"$f":"IF($C282=1,'Sjekkliste for utfylling'!B456,\"\")","v":""},null,{"$f":"IF(C282=1,'Sjekkliste for utfylling'!L456,\" \")","v":" "}]
[{"$f":"'Sjekkliste for utfylling'!A459","v":282},{"$f":"IF('Sjekkliste for utfylling'!I459<>\"\",1,0)","v":0},0,null,{"$f":"IF($C283=1,'Sjekkliste for utfylling'!A459,\"\")","v":""},{"$f":"IF($C283=1,'Sjekkliste for utfylling'!B459,\"\")","v":""},null,{"$f":"IF(C283=1,'Sjekkliste for utfylling'!L459,\" \")","v":" "}]
[{"$f":"'Sjekkliste for utfylling'!A460","v":283},{"$f":"IF('Sjekkliste for utfylling'!I460<>\"\",1,0)","v":0},0,null,{"$f":"IF($C284=1,'Sjekkliste for utfylling'!A460,\"\")","v":""},{"$f":"IF($C284=1,'Sjekkliste for utfylling'!B460,\"\")","v":""},null,{"$f":"IF(C284=1,'Sjekkliste for utfylling'!L460,\" \")","v":" "}]
[{"$f":"'Sjekkliste for utfylling'!A461","v":284},{"$f":"IF('Sjekkliste for utfylling'!I461<>\"\",1,0)","v":0},0,null,{"$f":"IF($C285=1,'Sjekkliste for utfylling'!A461,\"\")","v":""},{"$f":"IF($C285=1,'Sjekkliste for utfylling'!B461,\"\")","v":""},null,{"$f":"IF(C285=1,'Sjekkliste for utfylling'!L461,\" \")","v":" "}]
[{"$f":"'Sjekkliste for utfylling'!A462","v":285},{"$f":"IF('Sjekkliste for utfylling'!I462<>\"\",1,0)","v":0},0,null,{"$f":"IF($C286=1,'Sjekkliste for utfylling'!A462,\"\")","v":""},{"$f":"IF($C286=1,'Sjekkliste for utfylling'!B462,\"\")","v":""},null,{"$f":"IF(C286=1,'Sjekkliste for utfylling'!L462,\" \")","v":" "}]
[{"$f":"'Sjekkliste for utfylling'!A463","v":286},{"$f":"IF('Sjekkliste for utfylling'!I463<>\"\",1,0)","v":0},0,null,{"$f":"IF($C287=1,'Sjekkliste for utfylling'!A463,\"\")","v":""},{"$f":"IF($C287=1,'Sjekkliste for utfylling'!B463,\"\")","v":""},null,{"$f":"IF(C287=1,'Sjekkliste for utfylling'!L463,\" \")","v":" "}]
[{"$f":"'Sjekkliste for utfylling'!A466","v":287},{"$f":"IF('Sjekkliste for utfylling'!I466<>\"\",1,0)","v":0},0,null,{"$f":"IF($C288=1,'Sjekkliste for utfylling'!A466,\"\")","v":""},{"$f":"IF($C288=1,'Sjekkliste for utfylling'!B466,\"\")","v":""},null,{"$f":"IF(C288=1,'Sjekkliste for utfylling'!L466,\" \")","v":" "}]
[{"$f":"'Sjekkliste for utfylling'!A467","v":288},{"$f":"IF('Sjekkliste for utfylling'!I467<>\"\",1,0)","v":0},0,null,{"$f":"IF($C289=1,'Sjekkliste for utfylling'!A467,\"\")","v":""},{"$f":"IF($C289=1,'Sjekkliste for utfylling'!B467,\"\")","v":""},null,{"$f":"IF(C289=1,'Sjekkliste for utfylling'!L467,\" \")","v":" "}]
[{"$f":"'Sjekkliste for utfylling'!A468","v":289},{"$f":"IF('Sjekkliste for utfylling'!I468<>\"\",1,0)","v":0},0,null,{"$f":"IF($C290=1,'Sjekkliste for utfylling'!A468,\"\")","v":""},{"$f":"IF($C290=1,'Sjekkliste for utfylling'!B468,\"\")","v":""},null,{"$f":"IF(C290=1,'Sjekkliste for utfylling'!L468,\" \")","v":" "}]
[{"$f":"'Sjekkliste for utfylling'!A470","v":290},{"$f":"IF('Sjekkliste for utfylling'!I470<>\"\",1,0)","v":0},0,null,{"$f":"IF($C291=1,'Sjekkliste for utfylling'!A470,\"\")","v":""},{"$f":"IF($C291=1,'Sjekkliste for utfylling'!B470,\"\")","v":""},null,{"$f":"IF(C291=1,'Sjekkliste for utfylling'!L470,\" \")","v":" "}]
[{"$f":"'Sjekkliste for utfylling'!A471","v":291},{"$f":"IF('Sjekkliste for utfylling'!I471<>\"\",1,0)","v":0},0,null,{"$f":"IF($C292=1,'Sjekkliste for utfylling'!A471,\"\")","v":""},{"$f":"IF($C292=1,'Sjekkliste for utfylling'!B471,\"\")","v":""},null,{"$f":"IF(C292=1,'Sjekkliste for utfylling'!L471,\" \")","v":" "}]
[{"$f":"'Sjekkliste for utfylling'!A472","v":292},{"$f":"IF('Sjekkliste for utfylling'!I472<>\"\",1,0)","v":0},0,null,{"$f":"IF($C293=1,'Sjekkliste for utfylling'!A472,\"\")","v":""},{"$f":"IF($C293=1,'Sjekkliste for utfylling'!B472,\"\")","v":""},null,{"$f":"IF(C293=1,'Sjekkliste for utfylling'!L472,\" \")","v":" "}]
[{"$f":"'Sjekkliste for utfylling'!A476","v":293},{"$f":"IF('Sjekkliste for utfylling'!I476<>\"\",1,0)","v":0},0,null,{"$f":"IF($C294=1,'Sjekkliste for utfylling'!A476,\"\")","v":""},{"$f":"IF($C294=1,'Sjekkliste for utfylling'!B476,\"\")","v":""},null,{"$f":"IF(C294=1,'Sjekkliste for utfylling'!L476,\" \")","v":" "}]
[{"$f":"'Sjekkliste for utfylling'!A477","v":294},{"$f":"IF('Sjekkliste for utfylling'!I477<>\"\",1,0)","v":0},0,null,{"$f":"IF($C295=1,'Sjekkliste for utfylling'!A477,\"\")","v":""},{"$f":"IF($C295=1,'Sjekkliste for utfylling'!B477,\"\")","v":""},null,{"$f":"IF(C295=1,'Sjekkliste for utfylling'!L477,\" \")","v":" "}]
[{"$f":"'Sjekkliste for utfylling'!A478","v":295},{"$f":"IF('Sjekkliste for utfylling'!I478<>\"\",1,0)","v":0},0,null,{"$f":"IF($C296=1,'Sjekkliste for utfylling'!A478,\"\")","v":""},{"$f":"IF($C296=1,'Sjekkliste for utfylling'!B478,\"\")","v":""},null,{"$f":"IF(C296=1,'Sjekkliste for utfylling'!L478,\" \")","v":" "}]
[{"$f":"'Sjekkliste for utfylling'!A479","v":296},{"$f":"IF('Sjekkliste for utfylling'!I479<>\"\",1,0)","v":0},0,null,{"$f":"IF($C297=1,'Sjekkliste for utfylling'!A479,\"\")","v":""},{"$f":"IF($C297=1,'Sjekkliste for utfylling'!B479,\"\")","v":""},null,{"$f":"IF(C297=1,'Sjekkliste for utfylling'!L479,\" \")","v":" "}]
[{"$f":"'Sjekkliste for utfylling'!A482","v":297},{"$f":"IF('Sjekkliste for utfylling'!I482<>\"\",1,0)","v":0},0,null,{"$f":"IF($C298=1,'Sjekkliste for utfylling'!A482,\"\")","v":""},{"$f":"IF($C298=1,'Sjekkliste for utfylling'!B482,\"\")","v":""},null,{"$f":"IF(C298=1,'Sjekkliste for utfylling'!L482,\" \")","v":" "}]
[{"$f":"'Sjekkliste for utfylling'!A483","v":298},{"$f":"IF('Sjekkliste for utfylling'!I483<>\"\",1,0)","v":0},0,null,{"$f":"IF($C299=1,'Sjekkliste for utfylling'!A483,\"\")","v":""},{"$f":"IF($C299=1,'Sjekkliste for utfylling'!B483,\"\")","v":""},null,{"$f":"IF(C299=1,'Sjekkliste for utfylling'!L483,\" \")","v":" "}]
[{"$f":"'Sjekkliste for utfylling'!A484","v":299},{"$f":"IF('Sjekkliste for utfylling'!I484<>\"\",1,0)","v":0},0,null,{"$f":"IF($C300=1,'Sjekkliste for utfylling'!A484,\"\")","v":""},{"$f":"IF($C300=1,'Sjekkliste for utfylling'!B484,\"\")","v":""},null,{"$f":"IF(C300=1,'Sjekkliste for utfylling'!L484,\" \")","v":" "}]
[{"$f":"'Sjekkliste for utfylling'!A487","v":300},{"$f":"IF('Sjekkliste for utfylling'!I487<>\"\",1,0)","v":0},0,null,{"$f":"IF($C301=1,'Sjekkliste for utfylling'!A487,\"\")","v":""},{"$f":"IF($C301=1,'Sjekkliste for utfylling'!B487,\"\")","v":""},null,{"$f":"IF(C301=1,'Sjekkliste for utfylling'!L487,\" \")","v":" "}]
[{"$f":"'Sjekkliste for utfylling'!A494","v":301},{"$f":"IF('Sjekkliste for utfylling'!I494<>\"\",1,0)","v":0},0,{"$f":"IF($C302=1,1,0)","v":0},{"$f":"IF($C302=1,'Sjekkliste for utfylling'!A494,\"\")","v":""},{"$f":"IF($C302=1,'Sjekkliste for utfylling'!B494,\"\")","v":""},null,{"$f":"IF(C302=1,'Sjekkliste for utfylling'!L494,\" \")","v":" "}]
[{"$f":"'Sjekkliste for utfylling'!A495","v":302},{"$f":"IF('Sjekkliste for utfylling'!I495<>\"\",1,0)","v":0},0,0,{"$f":"IF($C303=1,'Sjekkliste for utfylling'!A495,\"\")","v":""},{"$f":"IF($C303=1,'Sjekkliste for utfylling'!B495,\"\")","v":""},null,{"$f":"IF(C303=1,'Sjekkliste for utfylling'!L495,\" \")","v":" "}]
[{"$f":"'Sjekkliste for utfylling'!A496","v":303},{"$f":"IF('Sjekkliste for utfylling'!I496<>\"\",1,0)","v":0},0,0,{"$f":"IF($C304=1,'Sjekkliste for utfylling'!A496,\"\")","v":""},{"$f":"IF($C304=1,'Sjekkliste for utfylling'!B496,\"\")","v":""},null,{"$f":"IF(C304=1,'Sjekkliste for utfylling'!L496,\" \")","v":" "}]
[{"$f":"'Sjekkliste for utfylling'!A497","v":304},{"$f":"IF('Sjekkliste for utfylling'!I497<>\"\",1,0)","v":0},0,0,{"$f":"IF($C305=1,'Sjekkliste for utfylling'!A497,\"\")","v":""},{"$f":"IF($C305=1,'Sjekkliste for utfylling'!B497,\"\")","v":""},null,{"$f":"IF(C305=1,'Sjekkliste for utfylling'!L497,\" \")","v":" "}]
[{"$f":"'Sjekkliste for utfylling'!A498","v":305},{"$f":"IF('Sjekkliste for utfylling'!I498<>\"\",1,0)","v":0},0,0,{"$f":"IF($C306=1,'Sjekkliste for utfylling'!A498,\"\")","v":""},{"$f":"IF($C306=1,'Sjekkliste for utfylling'!B498,\"\")","v":""},null,{"$f":"IF(C306=1,'Sjekkliste for utfylling'!L498,\" \")","v":" "}]
[{"$f":"'Sjekkliste for utfylling'!A499","v":306},{"$f":"IF('Sjekkliste for utfylling'!I499<>\"\",1,0)","v":0},0,0,{"$f":"IF($C307=1,'Sjekkliste for utfylling'!A499,\"\")","v":""},{"$f":"IF($C307=1,'Sjekkliste for utfylling'!B499,\"\")","v":""},null,{"$f":"IF(C307=1,'Sjekkliste for utfylling'!L499,\" \")","v":" "}]
[{"$f":"'Sjekkliste for utfylling'!A501","v":307},{"$f":"IF('Sjekkliste for utfylling'!I501<>\"\",1,0)","v":0},0,0,{"$f":"IF($C308=1,'Sjekkliste for utfylling'!A501,\"\")","v":""},{"$f":"IF($C308=1,'Sjekkliste for utfylling'!B501,\"\")","v":""},null,{"$f":"IF(C308=1,'Sjekkliste for utfylling'!L501,\" \")","v":" "}]
[{"$f":"'Sjekkliste for utfylling'!A502","v":308},{"$f":"IF('Sjekkliste for utfylling'!I502<>\"\",1,0)","v":0},0,0,{"$f":"IF($C309=1,'Sjekkliste for utfylling'!A502,\"\")","v":""},{"$f":"IF($C309=1,'Sjekkliste for utfylling'!B502,\"\")","v":""},null,{"$f":"IF(C309=1,'Sjekkliste for utfylling'!L502,\" \")","v":" "}]
[{"$f":"'Sjekkliste for utfylling'!A503","v":309},{"$f":"IF('Sjekkliste for utfylling'!I503<>\"\",1,0)","v":0},0,0,{"$f":"IF($C310=1,'Sjekkliste for utfylling'!A503,\"\")","v":""},{"$f":"IF($C310=1,'Sjekkliste for utfylling'!B503,\"\")","v":""},null,{"$f":"IF(C310=1,'Sjekkliste for utfylling'!L503,\" \")","v":" "}]
[{"$f":"'Sjekkliste for utfylling'!A504","v":310},{"$f":"IF('Sjekkliste for utfylling'!I504<>\"\",1,0)","v":0},0,0,{"$f":"IF($C311=1,'Sjekkliste for utfylling'!A504,\"\")","v":""},{"$f":"IF($C311=1,'Sjekkliste for utfylling'!B504,\"\")","v":""},null,{"$f":"IF(C311=1,'Sjekkliste for utfylling'!L504,\" \")","v":" "}]
[{"$f":"'Sjekkliste for utfylling'!A505","v":311},{"$f":"IF('Sjekkliste for utfylling'!I505<>\"\",1,0)","v":0},0,0,{"$f":"IF($C312=1,'Sjekkliste for utfylling'!A505,\"\")","v":""},{"$f":"IF($C312=1,'Sjekkliste for utfylling'!B505,\"\")","v":""},null,{"$f":"IF(C312=1,'Sjekkliste for utfylling'!L505,\" \")","v":" "}]
[{"$f":"'Sjekkliste for utfylling'!A506","v":312},{"$f":"IF('Sjekkliste for utfylling'!I506<>\"\",1,0)","v":0},0,0,{"$f":"IF($C313=1,'Sjekkliste for utfylling'!A506,\"\")","v":""},{"$f":"IF($C313=1,'Sjekkliste for utfylling'!B506,\"\")","v":""},null,{"$f":"IF(C313=1,'Sjekkliste for utfylling'!L506,\" \")","v":" "}]
[{"$f":"'Sjekkliste for utfylling'!A507","v":313},{"$f":"IF('Sjekkliste for utfylling'!I507<>\"\",1,0)","v":0},0,0,{"$f":"IF($C314=1,'Sjekkliste for utfylling'!A507,\"\")","v":""},{"$f":"IF($C314=1,'Sjekkliste for utfylling'!B507,\"\")","v":""},null,{"$f":"IF(C314=1,'Sjekkliste for utfylling'!L507,\" \")","v":" "}]
[{"$f":"'Sjekkliste for utfylling'!A508","v":314},{"$f":"IF('Sjekkliste for utfylling'!I508<>\"\",1,0)","v":0},0,0,{"$f":"IF($C315=1,'Sjekkliste for utfylling'!A508,\"\")","v":""},{"$f":"IF($C315=1,'Sjekkliste for utfylling'!B508,\"\")","v":""},null,{"$f":"IF(C315=1,'Sjekkliste for utfylling'!L508,\" \")","v":" "}]
[{"$f":"'Sjekkliste for utfylling'!A509","v":315},{"$f":"IF('Sjekkliste for utfylling'!I509<>\"\",1,0)","v":0},0,0,{"$f":"IF($C316=1,'Sjekkliste for utfylling'!A509,\"\")","v":""},{"$f":"IF($C316=1,'Sjekkliste for utfylling'!B509,\"\")","v":""},null,{"$f":"IF(C316=1,'Sjekkliste for utfylling'!L509,\" \")","v":" "}]
[{"$f":"'Sjekkliste for utfylling'!A510","v":316},{"$f":"IF('Sjekkliste for utfylling'!I510<>\"\",1,0)","v":0},0,0,{"$f":"IF($C317=1,'Sjekkliste for utfylling'!A510,\"\")","v":""},{"$f":"IF($C317=1,'Sjekkliste for utfylling'!B510,\"\")","v":""},null,{"$f":"IF(C317=1,'Sjekkliste for utfylling'!L510,\" \")","v":" "}]
[{"$f":"'Sjekkliste for utfylling'!A524","v":317},{"$f":"IF('Sjekkliste for utfylling'!I524<>\"\",1,0)","v":0},0,0,{"$f":"IF($C318=1,'Sjekkliste for utfylling'!A524,\"\")","v":""},{"$f":"IF($C318=1,'Sjekkliste for utfylling'!B524,\"\")","v":""},null,{"$f":"IF(C318=1,'Sjekkliste for utfylling'!L524,\" \")","v":" "}]
[{"$f":"'Sjekkliste for utfylling'!A525","v":318},{"$f":"IF('Sjekkliste for utfylling'!I525<>\"\",1,0)","v":0},0,0,{"$f":"IF($C319=1,'Sjekkliste for utfylling'!A525,\"\")","v":""},{"$f":"IF($C319=1,'Sjekkliste for utfylling'!B525,\"\")","v":""},null,{"$f":"IF(C319=1,'Sjekkliste for utfylling'!L525,\" \")","v":" "}]
[{"$f":"'Sjekkliste for utfylling'!A526","v":319},{"$f":"IF('Sjekkliste for utfylling'!I526<>\"\",1,0)","v":0},0,0,{"$f":"IF($C320=1,'Sjekkliste for utfylling'!A526,\"\")","v":""},{"$f":"IF($C320=1,'Sjekkliste for utfylling'!B526,\"\")","v":""},null,{"$f":"IF(C320=1,'Sjekkliste for utfylling'!L526,\" \")","v":" "}]
[{"$f":"'Sjekkliste for utfylling'!A527","v":320},{"$f":"IF('Sjekkliste for utfylling'!I527<>\"\",1,0)","v":0},0,0,{"$f":"IF($C321=1,'Sjekkliste for utfylling'!A527,\"\")","v":""},{"$f":"IF($C321=1,'Sjekkliste for utfylling'!B527,\"\")","v":""},null,{"$f":"IF(C321=1,'Sjekkliste for utfylling'!L527,\" \")","v":" "}]
[{"$f":"'Sjekkliste for utfylling'!A528","v":321},{"$f":"IF('Sjekkliste for utfylling'!I528<>\"\",1,0)","v":0},{"$f":"SUM(B322:B322)","v":0},0,{"$f":"IF($C322=1,'Sjekkliste for utfylling'!A528,\"\")","v":""},{"$f":"IF($C322=1,'Sjekkliste for utfylling'!B528,\"\")","v":""},null,{"$f":"IF(C322=1,'Sjekkliste for utfylling'!L528,\" \")","v":" "}]
[{"$f":"'Sjekkliste for utfylling'!A529","v":322},{"$f":"IF('Sjekkliste for utfylling'!I529<>\"\",1,0)","v":0},0,0,{"$f":"IF($C323=1,'Sjekkliste for utfylling'!A529,\"\")","v":""},{"$f":"IF($C323=1,'Sjekkliste for utfylling'!B529,\"\")","v":""},null,{"$f":"IF(C323=1,'Sjekkliste for utfylling'!L529,\" \")","v":" "}]
[{"$f":"'Sjekkliste for utfylling'!A531","v":323},{"$f":"IF('Sjekkliste for utfylling'!I531<>\"\",1,0)","v":0},0,0,{"$f":"IF($C324=1,'Sjekkliste for utfylling'!A531,\"\")","v":""},{"$f":"IF($C324=1,'Sjekkliste for utfylling'!B531,\"\")","v":""},null,{"$f":"IF(C324=1,'Sjekkliste for utfylling'!L531,\" \")","v":" "}]
[{"$f":"'Sjekkliste for utfylling'!A533","v":324},{"$f":"IF('Sjekkliste for utfylling'!I533<>\"\",1,0)","v":0},0,0,{"$f":"IF($C325=1,'Sjekkliste for utfylling'!A533,\"\")","v":""},{"$f":"IF($C325=1,'Sjekkliste for utfylling'!B533,\"\")","v":""},null,{"$f":"IF(C325=1,'Sjekkliste for utfylling'!L533,\" \")","v":" "}]
[{"$f":"'Sjekkliste for utfylling'!A534","v":325},{"$f":"IF('Sjekkliste for utfylling'!I534<>\"\",1,0)","v":0},0,0,{"$f":"IF($C326=1,'Sjekkliste for utfylling'!A534,\"\")","v":""},{"$f":"IF($C326=1,'Sjekkliste for utfylling'!B534,\"\")","v":""},null,{"$f":"IF(C326=1,'Sjekkliste for utfylling'!L534,\" \")","v":" "}]
[{"$f":"'Sjekkliste for utfylling'!A537","v":326},{"$f":"IF('Sjekkliste for utfylling'!I537<>\"\",1,0)","v":0},0,0,{"$f":"IF($C327=1,'Sjekkliste for utfylling'!A537,\"\")","v":""},{"$f":"IF($C327=1,'Sjekkliste for utfylling'!B537,\"\")","v":""},null,{"$f":"IF(C327=1,'Sjekkliste for utfylling'!L537,\" \")","v":" "}]
[{"$f":"'Sjekkliste for utfylling'!A539","v":327},{"$f":"IF('Sjekkliste for utfylling'!I539<>\"\",1,0)","v":0},0,0,{"$f":"IF($C328=1,'Sjekkliste for utfylling'!A539,\"\")","v":""},{"$f":"IF($C328=1,'Sjekkliste for utfylling'!B539,\"\")","v":""},null,{"$f":"IF(C328=1,'Sjekkliste for utfylling'!L539,\" \")","v":" "}]
[{"$f":"'Sjekkliste for utfylling'!A541","v":328},{"$f":"IF('Sjekkliste for utfylling'!I541<>\"\",1,0)","v":0},0,0,{"$f":"IF($C329=1,'Sjekkliste for utfylling'!A541,\"\")","v":""},{"$f":"IF($C329=1,'Sjekkliste for utfylling'!B541,\"\")","v":""},null,{"$f":"IF(C329=1,'Sjekkliste for utfylling'!L541,\" \")","v":" "}]
[{"$f":"'Sjekkliste for utfylling'!A542","v":329},{"$f":"IF('Sjekkliste for utfylling'!I542<>\"\",1,0)","v":0},0,0,{"$f":"IF($C330=1,'Sjekkliste for utfylling'!A542,\"\")","v":""},{"$f":"IF($C330=1,'Sjekkliste for utfylling'!B542,\"\")","v":""},null,{"$f":"IF(C330=1,'Sjekkliste for utfylling'!L542,\" \")","v":" "}]
[{"$f":"'Sjekkliste for utfylling'!A543","v":330},{"$f":"IF('Sjekkliste for utfylling'!I543<>\"\",1,0)","v":0},0,0,{"$f":"IF($C331=1,'Sjekkliste for utfylling'!A543,\"\")","v":""},{"$f":"IF($C331=1,'Sjekkliste for utfylling'!B543,\"\")","v":""},null,{"$f":"IF(C331=1,'Sjekkliste for utfylling'!L543,\" \")","v":" "}]
[{"$f":"'Sjekkliste for utfylling'!A544","v":331},{"$f":"IF('Sjekkliste for utfylling'!I544<>\"\",1,0)","v":0},0,0,{"$f":"IF($C332=1,'Sjekkliste for utfylling'!A544,\"\")","v":""},{"$f":"IF($C332=1,'Sjekkliste for utfylling'!B544,\"\")","v":""},null,{"$f":"IF(C332=1,'Sjekkliste for utfylling'!L544,\" \")","v":" "}]
[{"$f":"'Sjekkliste for utfylling'!A545","v":332},{"$f":"IF('Sjekkliste for utfylling'!I545<>\"\",1,0)","v":0},0,0,{"$f":"IF($C333=1,'Sjekkliste for utfylling'!A545,\"\")","v":""},{"$f":"IF($C333=1,'Sjekkliste for utfylling'!B545,\"\")","v":""},null,{"$f":"IF(C333=1,'Sjekkliste for utfylling'!L545,\" \")","v":" "}]
[{"$f":"'Sjekkliste for utfylling'!A546","v":333},{"$f":"IF('Sjekkliste for utfylling'!I546<>\"\",1,0)","v":0},0,{"$f":"IF($C334=1,1,0)","v":0},{"$f":"IF($C334=1,'Sjekkliste for utfylling'!A546,\"\")","v":""},{"$f":"IF($C334=1,'Sjekkliste for utfylling'!B546,\"\")","v":""},null,{"$f":"IF(C334=1,'Sjekkliste for utfylling'!L546,\" \")","v":" "}]
[{"$f":"'Sjekkliste for utfylling'!A547","v":334},{"$f":"IF('Sjekkliste for utfylling'!I547<>\"\",1,0)","v":0},0,0,{"$f":"IF($C335=1,'Sjekkliste for utfylling'!A547,\"\")","v":""},{"$f":"IF($C335=1,'Sjekkliste for utfylling'!B547,\"\")","v":""},null,{"$f":"IF(C335=1,'Sjekkliste for utfylling'!L547,\" \")","v":" "}]
[{"$f":"'Sjekkliste for utfylling'!A548","v":335},{"$f":"IF('Sjekkliste for utfylling'!I548<>\"\",1,0)","v":0},0,0,{"$f":"IF($C336=1,'Sjekkliste for utfylling'!A548,\"\")","v":""},{"$f":"IF($C336=1,'Sjekkliste for utfylling'!B548,\"\")","v":""},null,{"$f":"IF(C336=1,'Sjekkliste for utfylling'!L548,\" \")","v":" "}]
[{"$f":"'Sjekkliste for utfylling'!A549","v":336},{"$f":"IF('Sjekkliste for utfylling'!I549<>\"\",1,0)","v":0},0,0,{"$f":"IF($C337=1,'Sjekkliste for utfylling'!A549,\"\")","v":""},{"$f":"IF($C337=1,'Sjekkliste for utfylling'!B549,\"\")","v":""},null,{"$f":"IF(C337=1,'Sjekkliste for utfylling'!L549,\" \")","v":" "}]
[{"$f":"'Sjekkliste for utfylling'!A550","v":337},{"$f":"IF('Sjekkliste for utfylling'!I550<>\"\",1,0)","v":0},0,0,{"$f":"IF($C338=1,'Sjekkliste for utfylling'!A550,\"\")","v":""},{"$f":"IF($C338=1,'Sjekkliste for utfylling'!B550,\"\")","v":""},null,{"$f":"IF(C338=1,'Sjekkliste for utfylling'!L550,\" \")","v":" "}]
[{"$f":"'Sjekkliste for utfylling'!A551","v":338},{"$f":"IF('Sjekkliste for utfylling'!I551<>\"\",1,0)","v":0},0,0,{"$f":"IF($C339=1,'Sjekkliste for utfylling'!A551,\"\")","v":""},{"$f":"IF($C339=1,'Sjekkliste for utfylling'!B551,\"\")","v":""},null,{"$f":"IF(C339=1,'Sjekkliste for utfylling'!L551,\" \")","v":" "}]
[{"$f":"'Sjekkliste for utfylling'!A552","v":339},{"$f":"IF('Sjekkliste for utfylling'!I552<>\"\",1,0)","v":0},0,0,{"$f":"IF($C340=1,'Sjekkliste for utfylling'!A552,\"\")","v":""},{"$f":"IF($C340=1,'Sjekkliste for utfylling'!B552,\"\")","v":""},null,{"$f":"IF(C340=1,'Sjekkliste for utfylling'!L552,\" \")","v":" "}]
[{"$f":"'Sjekkliste for utfylling'!A553","v":340},{"$f":"IF('Sjekkliste for utfylling'!I553<>\"\",1,0)","v":0},0,0,{"$f":"IF($C341=1,'Sjekkliste for utfylling'!A553,\"\")","v":""},{"$f":"IF($C341=1,'Sjekkliste for utfylling'!B553,\"\")","v":""},null,{"$f":"IF(C341=1,'Sjekkliste for utfylling'!L553,\" \")","v":" "}]
[{"$f":"'Sjekkliste for utfylling'!A554","v":341},{"$f":"IF('Sjekkliste for utfylling'!I554<>\"\",1,0)","v":0},0,0,{"$f":"IF($C342=1,'Sjekkliste for utfylling'!A554,\"\")","v":""},{"$f":"IF($C342=1,'Sjekkliste for utfylling'!B554,\"\")","v":""},null,{"$f":"IF(C342=1,'Sjekkliste for utfylling'!L554,\" \")","v":" "}]
[{"$f":"'Sjekkliste for utfylling'!A555","v":342},{"$f":"IF('Sjekkliste for utfylling'!I555<>\"\",1,0)","v":0},0,0,{"$f":"IF($C343=1,'Sjekkliste for utfylling'!A555,\"\")","v":""},{"$f":"IF($C343=1,'Sjekkliste for utfylling'!B555,\"\")","v":""},null,{"$f":"IF(C343=1,'Sjekkliste for utfylling'!L555,\" \")","v":" "}]
[{"$f":"'Sjekkliste for utfylling'!A556","v":343},{"$f":"IF('Sjekkliste for utfylling'!I556<>\"\",1,0)","v":0},0,0,{"$f":"IF($C344=1,'Sjekkliste for utfylling'!A556,\"\")","v":""},{"$f":"IF($C344=1,'Sjekkliste for utfylling'!B556,\"\")","v":""},null,{"$f":"IF(C344=1,'Sjekkliste for utfylling'!L556,\" \")","v":" "}]
[{"$f":"'Sjekkliste for utfylling'!A557","v":344},{"$f":"IF('Sjekkliste for utfylling'!I557<>\"\",1,0)","v":0},0,0,{"$f":"IF($C345=1,'Sjekkliste for utfylling'!A557,\"\")","v":""},{"$f":"IF($C345=1,'Sjekkliste for utfylling'!B557,\"\")","v":""},null,{"$f":"IF(C345=1,'Sjekkliste for utfylling'!L557,\" \")","v":" "}]
[{"$f":"'Sjekkliste for utfylling'!A558","v":345},{"$f":"IF('Sjekkliste for utfylling'!I558<>\"\",1,0)","v":0},0,0,{"$f":"IF($C346=1,'Sjekkliste for utfylling'!A558,\"\")","v":""},{"$f":"IF($C346=1,'Sjekkliste for utfylling'!B558,\"\")","v":""},null,{"$f":"IF(C346=1,'Sjekkliste for utfylling'!L558,\" \")","v":" "}]
[{"$f":"'Sjekkliste for utfylling'!A560","v":346},{"$f":"IF('Sjekkliste for utfylling'!I560<>\"\",1,0)","v":0},0,0,{"$f":"IF($C347=1,'Sjekkliste for utfylling'!A560,\"\")","v":""},{"$f":"IF($C347=1,'Sjekkliste for utfylling'!B560,\"\")","v":""},null,{"$f":"IF(C347=1,'Sjekkliste for utfylling'!L560,\" \")","v":" "}]
[{"$f":"'Sjekkliste for utfylling'!A563","v":347},{"$f":"IF('Sjekkliste for utfylling'!I563<>\"\",1,0)","v":0},0,0,{"$f":"IF($C348=1,'Sjekkliste for utfylling'!A563,\"\")","v":""},{"$f":"IF($C348=1,'Sjekkliste for utfylling'!B563,\"\")","v":""},null,{"$f":"IF(C348=1,'Sjekkliste for utfylling'!L563,\" \")","v":" "}]
[{"$f":"'Sjekkliste for utfylling'!A564","v":348},{"$f":"IF('Sjekkliste for utfylling'!I564<>\"\",1,0)","v":0},0,0,{"$f":"IF($C349=1,'Sjekkliste for utfylling'!A564,\"\")","v":""},{"$f":"IF($C349=1,'Sjekkliste for utfylling'!B564,\"\")","v":""},null,{"$f":"IF(C349=1,'Sjekkliste for utfylling'!L564,\" \")","v":" "}]
[{"$f":"'Sjekkliste for utfylling'!A566","v":349},{"$f":"IF('Sjekkliste for utfylling'!I566<>\"\",1,0)","v":0},0,0,{"$f":"IF($C350=1,'Sjekkliste for utfylling'!A566,\"\")","v":""},{"$f":"IF($C350=1,'Sjekkliste for utfylling'!B566,\"\")","v":""},null,{"$f":"IF(C350=1,'Sjekkliste for utfylling'!L566,\" \")","v":" "}]
[{"$f":"'Sjekkliste for utfylling'!A567","v":350},{"$f":"IF('Sjekkliste for utfylling'!I567<>\"\",1,0)","v":0},0,0,{"$f":"IF($C351=1,'Sjekkliste for utfylling'!A567,\"\")","v":""},{"$f":"IF($C351=1,'Sjekkliste for utfylling'!B567,\"\")","v":""},null,{"$f":"IF(C351=1,'Sjekkliste for utfylling'!L567,\" \")","v":" "}]
[{"$f":"'Sjekkliste for utfylling'!A568","v":351},{"$f":"IF('Sjekkliste for utfylling'!I568<>\"\",1,0)","v":0},0,0,{"$f":"IF($C352=1,'Sjekkliste for utfylling'!A568,\"\")","v":""},{"$f":"IF($C352=1,'Sjekkliste for utfylling'!B568,\"\")","v":""},null,{"$f":"IF(C352=1,'Sjekkliste for utfylling'!L568,\" \")","v":" "}]
[{"$f":"'Sjekkliste for utfylling'!A569","v":352},{"$f":"IF('Sjekkliste for utfylling'!I569<>\"\",1,0)","v":0},0,0,{"$f":"IF($C353=1,'Sjekkliste for utfylling'!A569,\"\")","v":""},{"$f":"IF($C353=1,'Sjekkliste for utfylling'!B569,\"\")","v":""},null,{"$f":"IF(C353=1,'Sjekkliste for utfylling'!L569,\" \")","v":" "}]
[{"$f":"'Sjekkliste for utfylling'!A570","v":353},{"$f":"IF('Sjekkliste for utfylling'!I570<>\"\",1,0)","v":0},0,0,{"$f":"IF($C354=1,'Sjekkliste for utfylling'!A570,\"\")","v":""},{"$f":"IF($C354=1,'Sjekkliste for utfylling'!B570,\"\")","v":""},null,{"$f":"IF(C354=1,'Sjekkliste for utfylling'!L570,\" \")","v":" "}]
[{"$f":"'Sjekkliste for utfylling'!A571","v":354},{"$f":"IF('Sjekkliste for utfylling'!I571<>\"\",1,0)","v":0},0,0,{"$f":"IF($C355=1,'Sjekkliste for utfylling'!A571,\"\")","v":""},{"$f":"IF($C355=1,'Sjekkliste for utfylling'!B571,\"\")","v":""},null,{"$f":"IF(C355=1,'Sjekkliste for utfylling'!L571,\" \")","v":" "}]
[{"$f":"'Sjekkliste for utfylling'!A572","v":355},{"$f":"IF('Sjekkliste for utfylling'!I572<>\"\",1,0)","v":0},0,0,{"$f":"IF($C356=1,'Sjekkliste for utfylling'!A572,\"\")","v":""},{"$f":"IF($C356=1,'Sjekkliste for utfylling'!B572,\"\")","v":""},null,{"$f":"IF(C356=1,'Sjekkliste for utfylling'!L572,\" \")","v":" "}]
[{"$f":"'Sjekkliste for utfylling'!A573","v":356},{"$f":"IF('Sjekkliste for utfylling'!I573<>\"\",1,0)","v":0},0,0,{"$f":"IF($C357=1,'Sjekkliste for utfylling'!A573,\"\")","v":""},{"$f":"IF($C357=1,'Sjekkliste for utfylling'!B573,\"\")","v":""},null,{"$f":"IF(C357=1,'Sjekkliste for utfylling'!L573,\" \")","v":" "}]
[{"$f":"'Sjekkliste for utfylling'!A574","v":357},{"$f":"IF('Sjekkliste for utfylling'!I574<>\"\",1,0)","v":0},0,0,{"$f":"IF($C358=1,'Sjekkliste for utfylling'!A574,\"\")","v":""},{"$f":"IF($C358=1,'Sjekkliste for utfylling'!B574,\"\")","v":""},null,{"$f":"IF(C358=1,'Sjekkliste for utfylling'!L574,\" \")","v":" "}]
[{"$f":"'Sjekkliste for utfylling'!A575","v":358},{"$f":"IF('Sjekkliste for utfylling'!I575<>\"\",1,0)","v":0},0,0,{"$f":"IF($C359=1,'Sjekkliste for utfylling'!A575,\"\")","v":""},{"$f":"IF($C359=1,'Sjekkliste for utfylling'!B575,\"\")","v":""},null,{"$f":"IF(C359=1,'Sjekkliste for utfylling'!L575,\" \")","v":" "}]
[{"$f":"'Sjekkliste for utfylling'!A576","v":359},{"$f":"IF('Sjekkliste for utfylling'!I576<>\"\",1,0)","v":0},0,0,{"$f":"IF($C360=1,'Sjekkliste for utfylling'!A576,\"\")","v":""},{"$f":"IF($C360=1,'Sjekkliste for utfylling'!B576,\"\")","v":""},null,{"$f":"IF(C360=1,'Sjekkliste for utfylling'!L576,\" \")","v":" "}]
[{"$f":"'Sjekkliste for utfylling'!A577","v":360},{"$f":"IF('Sjekkliste for utfylling'!I577<>\"\",1,0)","v":0},0,0,{"$f":"IF($C361=1,'Sjekkliste for utfylling'!A577,\"\")","v":""},{"$f":"IF($C361=1,'Sjekkliste for utfylling'!B577,\"\")","v":""},null,{"$f":"IF(C361=1,'Sjekkliste for utfylling'!L577,\" \")","v":" "}]
[{"$f":"'Sjekkliste for utfylling'!A578","v":361},{"$f":"IF('Sjekkliste for utfylling'!I578<>\"\",1,0)","v":0},0,0,{"$f":"IF($C362=1,'Sjekkliste for utfylling'!A578,\"\")","v":""},{"$f":"IF($C362=1,'Sjekkliste for utfylling'!B578,\"\")","v":""},null,{"$f":"IF(C362=1,'Sjekkliste for utfylling'!L578,\" \")","v":" "}]
[{"$f":"'Sjekkliste for utfylling'!A579","v":362},{"$f":"IF('Sjekkliste for utfylling'!I579<>\"\",1,0)","v":0},0,0,{"$f":"IF($C363=1,'Sjekkliste for utfylling'!A579,\"\")","v":""},{"$f":"IF($C363=1,'Sjekkliste for utfylling'!B579,\"\")","v":""},null,{"$f":"IF(C363=1,'Sjekkliste for utfylling'!L579,\" \")","v":" "}]
[{"$f":"'Sjekkliste for utfylling'!A580","v":363},{"$f":"IF('Sjekkliste for utfylling'!I580<>\"\",1,0)","v":0},0,0,{"$f":"IF($C364=1,'Sjekkliste for utfylling'!A580,\"\")","v":""},{"$f":"IF($C364=1,'Sjekkliste for utfylling'!B580,\"\")","v":""},null,{"$f":"IF(C364=1,'Sjekkliste for utfylling'!L580,\" \")","v":" "}]
[{"$f":"'Sjekkliste for utfylling'!A581","v":364},{"$f":"IF('Sjekkliste for utfylling'!I581<>\"\",1,0)","v":0},0,0,{"$f":"IF($C365=1,'Sjekkliste for utfylling'!A581,\"\")","v":""},{"$f":"IF($C365=1,'Sjekkliste for utfylling'!B581,\"\")","v":""},null,{"$f":"IF(C365=1,'Sjekkliste for utfylling'!L581,\" \")","v":" "}]
[{"$f":"'Sjekkliste for utfylling'!A583","v":365},{"$f":"IF('Sjekkliste for utfylling'!I583<>\"\",1,0)","v":0},0,{"$f":"IF($C366=1,1,0)","v":0},{"$f":"IF($C366=1,'Sjekkliste for utfylling'!A583,\"\")","v":""},{"$f":"IF($C366=1,'Sjekkliste for utfylling'!B583,\"\")","v":""},null,{"$f":"IF(C366=1,'Sjekkliste for utfylling'!L583,\" \")","v":" "}]
[{"$f":"'Sjekkliste for utfylling'!A584","v":366},{"$f":"IF('Sjekkliste for utfylling'!I584<>\"\",1,0)","v":0},0,0,{"$f":"IF($C367=1,'Sjekkliste for utfylling'!A584,\"\")","v":""},{"$f":"IF($C367=1,'Sjekkliste for utfylling'!B584,\"\")","v":""},null,{"$f":"IF(C367=1,'Sjekkliste for utfylling'!L584,\" \")","v":" "}]
[{"$f":"'Sjekkliste for utfylling'!A585","v":367},{"$f":"IF('Sjekkliste for utfylling'!I585<>\"\",1,0)","v":0},0,0,{"$f":"IF($C368=1,'Sjekkliste for utfylling'!A585,\"\")","v":""},{"$f":"IF($C368=1,'Sjekkliste for utfylling'!B585,\"\")","v":""},null,{"$f":"IF(C368=1,'Sjekkliste for utfylling'!L585,\" \")","v":" "}]
[{"$f":"'Sjekkliste for utfylling'!A586","v":368},{"$f":"IF('Sjekkliste for utfylling'!I586<>\"\",1,0)","v":0},0,0,{"$f":"IF($C369=1,'Sjekkliste for utfylling'!A586,\"\")","v":""},{"$f":"IF($C369=1,'Sjekkliste for utfylling'!B586,\"\")","v":""},null,{"$f":"IF(C369=1,'Sjekkliste for utfylling'!L586,\" \")","v":" "}]
[{"$f":"'Sjekkliste for utfylling'!A587","v":369},{"$f":"IF('Sjekkliste for utfylling'!I587<>\"\",1,0)","v":0},0,0,{"$f":"IF($C370=1,'Sjekkliste for utfylling'!A587,\"\")","v":""},{"$f":"IF($C370=1,'Sjekkliste for utfylling'!B587,\"\")","v":""},null,{"$f":"IF(C370=1,'Sjekkliste for utfylling'!L587,\" \")","v":" "}]
[{"$f":"'Sjekkliste for utfylling'!A588","v":370},{"$f":"IF('Sjekkliste for utfylling'!I588<>\"\",1,0)","v":0},0,0,{"$f":"IF($C371=1,'Sjekkliste for utfylling'!A588,\"\")","v":""},{"$f":"IF($C371=1,'Sjekkliste for utfylling'!B588,\"\")","v":""},null,{"$f":"IF(C371=1,'Sjekkliste for utfylling'!L588,\" \")","v":" "}]
[{"$f":"'Sjekkliste for utfylling'!A589","v":371},{"$f":"IF('Sjekkliste for utfylling'!I589<>\"\",1,0)","v":0},0,0,{"$f":"IF($C372=1,'Sjekkliste for utfylling'!A589,\"\")","v":""},{"$f":"IF($C372=1,'Sjekkliste for utfylling'!B589,\"\")","v":""},null,{"$f":"IF(C372=1,'Sjekkliste for utfylling'!L589,\" \")","v":" "}]
[{"$f":"'Sjekkliste for utfylling'!A590","v":372},{"$f":"IF('Sjekkliste for utfylling'!I590<>\"\",1,0)","v":0},0,0,{"$f":"IF($C373=1,'Sjekkliste for utfylling'!A590,\"\")","v":""},{"$f":"IF($C373=1,'Sjekkliste for utfylling'!B590,\"\")","v":""},null,{"$f":"IF(C373=1,'Sjekkliste for utfylling'!L590,\" \")","v":" "}]
[{"$f":"'Sjekkliste for utfylling'!A591","v":373},{"$f":"IF('Sjekkliste for utfylling'!I591<>\"\",1,0)","v":0},0,0,{"$f":"IF($C374=1,'Sjekkliste for utfylling'!A591,\"\")","v":""},{"$f":"IF($C374=1,'Sjekkliste for utfylling'!B591,\"\")","v":""},null,{"$f":"IF(C374=1,'Sjekkliste for utfylling'!L591,\" \")","v":" "}]
[{"$f":"'Sjekkliste for utfylling'!A592","v":374},{"$f":"IF('Sjekkliste for utfylling'!I592<>\"\",1,0)","v":0},0,0,{"$f":"IF($C375=1,'Sjekkliste for utfylling'!A592,\"\")","v":""},{"$f":"IF($C375=1,'Sjekkliste for utfylling'!B592,\"\")","v":""},null,{"$f":"IF(C375=1,'Sjekkliste for utfylling'!L592,\" \")","v":" "}]
[{"$f":"'Sjekkliste for utfylling'!A593","v":375},{"$f":"IF('Sjekkliste for utfylling'!I593<>\"\",1,0)","v":0},0,0,{"$f":"IF($C376=1,'Sjekkliste for utfylling'!A593,\"\")","v":""},{"$f":"IF($C376=1,'Sjekkliste for utfylling'!B593,\"\")","v":""},null,{"$f":"IF(C376=1,'Sjekkliste for utfylling'!L593,\" \")","v":" "}]
[{"$f":"'Sjekkliste for utfylling'!A596","v":376},{"$f":"IF('Sjekkliste for utfylling'!I596<>\"\",1,0)","v":0},0,0,{"$f":"IF($C377=1,'Sjekkliste for utfylling'!A596,\"\")","v":""},{"$f":"IF($C377=1,'Sjekkliste for utfylling'!B596,\"\")","v":""},null,{"$f":"IF(C377=1,'Sjekkliste for utfylling'!L596,\" \")","v":" "}]
[{"$f":"'Sjekkliste for utfylling'!A597","v":377},{"$f":"IF('Sjekkliste for utfylling'!I597<>\"\",1,0)","v":0},0,0,{"$f":"IF($C378=1,'Sjekkliste for utfylling'!A597,\"\")","v":""},{"$f":"IF($C378=1,'Sjekkliste for utfylling'!B597,\"\")","v":""},null,{"$f":"IF(C378=1,'Sjekkliste for utfylling'!L597,\" \")","v":" "}]
[{"$f":"'Sjekkliste for utfylling'!A599","v":378},{"$f":"IF('Sjekkliste for utfylling'!I599<>\"\",1,0)","v":0},0,0,{"$f":"IF($C379=1,'Sjekkliste for utfylling'!A599,\"\")","v":""},{"$f":"IF($C379=1,'Sjekkliste for utfylling'!B599,\"\")","v":""},null,{"$f":"IF(C379=1,'Sjekkliste for utfylling'!L599,\" \")","v":" "}]
[{"$f":"'Sjekkliste for utfylling'!A600","v":379},{"$f":"IF('Sjekkliste for utfylling'!I600<>\"\",1,0)","v":0},0,0,{"$f":"IF($C380=1,'Sjekkliste for utfylling'!A600,\"\")","v":""},{"$f":"IF($C380=1,'Sjekkliste for utfylling'!B600,\"\")","v":""},null,{"$f":"IF(C380=1,'Sjekkliste for utfylling'!L600,\" \")","v":" "}]
[{"$f":"'Sjekkliste for utfylling'!A601","v":380},{"$f":"IF('Sjekkliste for utfylling'!I601<>\"\",1,0)","v":0},0,0,{"$f":"IF($C381=1,'Sjekkliste for utfylling'!A601,\"\")","v":""},{"$f":"IF($C381=1,'Sjekkliste for utfylling'!B601,\"\")","v":""},null,{"$f":"IF(C381=1,'Sjekkliste for utfylling'!L601,\" \")","v":" "}]
[{"$f":"'Sjekkliste for utfylling'!A602","v":381},{"$f":"IF('Sjekkliste for utfylling'!I602<>\"\",1,0)","v":0},0,0,{"$f":"IF($C382=1,'Sjekkliste for utfylling'!A602,\"\")","v":""},{"$f":"IF($C382=1,'Sjekkliste for utfylling'!B602,\"\")","v":""},null,{"$f":"IF(C382=1,'Sjekkliste for utfylling'!L602,\" \")","v":" "}]
[{"$f":"'Sjekkliste for utfylling'!A603","v":382},{"$f":"IF('Sjekkliste for utfylling'!I603<>\"\",1,0)","v":0},0,0,{"$f":"IF($C383=1,'Sjekkliste for utfylling'!A603,\"\")","v":""},{"$f":"IF($C383=1,'Sjekkliste for utfylling'!B603,\"\")","v":""},null,{"$f":"IF(C383=1,'Sjekkliste for utfylling'!L603,\" \")","v":" "}]
[{"$f":"'Sjekkliste for utfylling'!A604","v":383},{"$f":"IF('Sjekkliste for utfylling'!I604<>\"\",1,0)","v":0},0,0,{"$f":"IF($C384=1,'Sjekkliste for utfylling'!A604,\"\")","v":""},{"$f":"IF($C384=1,'Sjekkliste for utfylling'!B604,\"\")","v":""},null,{"$f":"IF(C384=1,'Sjekkliste for utfylling'!L604,\" \")","v":" "}]
[{"$f":"'Sjekkliste for utfylling'!A606","v":384},{"$f":"IF('Sjekkliste for utfylling'!I606<>\"\",1,0)","v":0},0,0,{"$f":"IF($C385=1,'Sjekkliste for utfylling'!A606,\"\")","v":""},{"$f":"IF($C385=1,'Sjekkliste for utfylling'!B606,\"\")","v":""},null,{"$f":"IF(C385=1,'Sjekkliste for utfylling'!L606,\" \")","v":" "}]
[{"$f":"'Sjekkliste for utfylling'!A607","v":385},{"$f":"IF('Sjekkliste for utfylling'!I607<>\"\",1,0)","v":0},{"$f":"SUM(B386:B386)","v":0},0,{"$f":"IF($C386=1,'Sjekkliste for utfylling'!A607,\"\")","v":""},{"$f":"IF($C386=1,'Sjekkliste for utfylling'!B607,\"\")","v":""},null,{"$f":"IF(C386=1,'Sjekkliste for utfylling'!L607,\" \")","v":" "}]
[{"$f":"'Sjekkliste for utfylling'!A609","v":386},{"$f":"IF('Sjekkliste for utfylling'!I609<>\"\",1,0)","v":0},0,0,{"$f":"IF($C387=1,'Sjekkliste for utfylling'!A609,\"\")","v":""},{"$f":"IF($C387=1,'Sjekkliste for utfylling'!B609,\"\")","v":""},null,{"$f":"IF(C387=1,'Sjekkliste for utfylling'!L609,\" \")","v":" "}]
[{"$f":"'Sjekkliste for utfylling'!A610","v":387},{"$f":"IF('Sjekkliste for utfylling'!I610<>\"\",1,0)","v":0},0,0,{"$f":"IF($C388=1,'Sjekkliste for utfylling'!A610,\"\")","v":""},{"$f":"IF($C388=1,'Sjekkliste for utfylling'!B610,\"\")","v":""},null,{"$f":"IF(C388=1,'Sjekkliste for utfylling'!L610,\" \")","v":" "}]
[{"$f":"'Sjekkliste for utfylling'!A611","v":388},{"$f":"IF('Sjekkliste for utfylling'!I611<>\"\",1,0)","v":0},0,0,{"$f":"IF($C389=1,'Sjekkliste for utfylling'!A611,\"\")","v":""},{"$f":"IF($C389=1,'Sjekkliste for utfylling'!B611,\"\")","v":""},null,{"$f":"IF(C389=1,'Sjekkliste for utfylling'!L611,\" \")","v":" "}]
[{"$f":"'Sjekkliste for utfylling'!A613","v":389},{"$f":"IF('Sjekkliste for utfylling'!I613<>\"\",1,0)","v":0},0,0,{"$f":"IF($C390=1,'Sjekkliste for utfylling'!A613,\"\")","v":""},{"$f":"IF($C390=1,'Sjekkliste for utfylling'!B613,\"\")","v":""},null,{"$f":"IF(C390=1,'Sjekkliste for utfylling'!L613,\" \")","v":" "}]
[{"$f":"'Sjekkliste for utfylling'!A614","v":390},{"$f":"IF('Sjekkliste for utfylling'!I614<>\"\",1,0)","v":0},0,0,{"$f":"IF($C391=1,'Sjekkliste for utfylling'!A614,\"\")","v":""},{"$f":"IF($C391=1,'Sjekkliste for utfylling'!B614,\"\")","v":""},null,{"$f":"IF(C391=1,'Sjekkliste for utfylling'!L614,\" \")","v":" "}]
[{"$f":"'Sjekkliste for utfylling'!A615","v":391},{"$f":"IF('Sjekkliste for utfylling'!I615<>\"\",1,0)","v":0},0,0,{"$f":"IF($C392=1,'Sjekkliste for utfylling'!A615,\"\")","v":""},{"$f":"IF($C392=1,'Sjekkliste for utfylling'!B615,\"\")","v":""},null,{"$f":"IF(C392=1,'Sjekkliste for utfylling'!L615,\" \")","v":" "}]
[{"$f":"'Sjekkliste for utfylling'!A616","v":392},{"$f":"IF('Sjekkliste for utfylling'!I616<>\"\",1,0)","v":0},0,0,{"$f":"IF($C393=1,'Sjekkliste for utfylling'!A616,\"\")","v":""},{"$f":"IF($C393=1,'Sjekkliste for utfylling'!B616,\"\")","v":""},null,{"$f":"IF(C393=1,'Sjekkliste for utfylling'!L616,\" \")","v":" "}]
[{"$f":"'Sjekkliste for utfylling'!A617","v":393},{"$f":"IF('Sjekkliste for utfylling'!I617<>\"\",1,0)","v":0},0,0,{"$f":"IF($C394=1,'Sjekkliste for utfylling'!A617,\"\")","v":""},{"$f":"IF($C394=1,'Sjekkliste for utfylling'!B617,\"\")","v":""},null,{"$f":"IF(C394=1,'Sjekkliste for utfylling'!L617,\" \")","v":" "}]
[{"$f":"'Sjekkliste for utfylling'!A620","v":394},{"$f":"IF('Sjekkliste for utfylling'!I620<>\"\",1,0)","v":0},0,0,{"$f":"IF($C395=1,'Sjekkliste for utfylling'!A620,\"\")","v":""},{"$f":"IF($C395=1,'Sjekkliste for utfylling'!B620,\"\")","v":""},null,{"$f":"IF(C395=1,'Sjekkliste for utfylling'!L620,\" \")","v":" "}]
[{"$f":"'Sjekkliste for utfylling'!A621","v":395},{"$f":"IF('Sjekkliste for utfylling'!I621<>\"\",1,0)","v":0},0,0,{"$f":"IF($C396=1,'Sjekkliste for utfylling'!A621,\"\")","v":""},{"$f":"IF($C396=1,'Sjekkliste for utfylling'!B621,\"\")","v":""},null,{"$f":"IF(C396=1,'Sjekkliste for utfylling'!L621,\" \")","v":" "}]
[{"$f":"'Sjekkliste for utfylling'!A622","v":396},{"$f":"IF('Sjekkliste for utfylling'!I622<>\"\",1,0)","v":0},0,0,{"$f":"IF($C397=1,'Sjekkliste for utfylling'!A622,\"\")","v":""},{"$f":"IF($C397=1,'Sjekkliste for utfylling'!B622,\"\")","v":""},null,{"$f":"IF(C397=1,'Sjekkliste for utfylling'!L622,\" \")","v":" "}]
[{"$f":"'Sjekkliste for utfylling'!A623","v":397},{"$f":"IF('Sjekkliste for utfylling'!I623<>\"\",1,0)","v":0},0,{"$f":"IF($C398=1,1,0)","v":0},{"$f":"IF($C398=1,'Sjekkliste for utfylling'!A623,\"\")","v":""},{"$f":"IF($C398=1,'Sjekkliste for utfylling'!B623,\"\")","v":""},null,{"$f":"IF(C398=1,'Sjekkliste for utfylling'!L623,\" \")","v":" "}]
[{"$f":"'Sjekkliste for utfylling'!A624","v":398},{"$f":"IF('Sjekkliste for utfylling'!I624<>\"\",1,0)","v":0},0,0,{"$f":"IF($C399=1,'Sjekkliste for utfylling'!A624,\"\")","v":""},{"$f":"IF($C399=1,'Sjekkliste for utfylling'!B624,\"\")","v":""},null,{"$f":"IF(C399=1,'Sjekkliste for utfylling'!L624,\" \")","v":" "}]
[{"$f":"'Sjekkliste for utfylling'!A626","v":399},{"$f":"IF('Sjekkliste for utfylling'!I626<>\"\",1,0)","v":0},0,0,{"$f":"IF($C400=1,'Sjekkliste for utfylling'!A626,\"\")","v":""},{"$f":"IF($C400=1,'Sjekkliste for utfylling'!B626,\"\")","v":""},null,{"$f":"IF(C400=1,'Sjekkliste for utfylling'!L626,\" \")","v":" "}]
[{"$f":"'Sjekkliste for utfylling'!A628","v":400},{"$f":"IF('Sjekkliste for utfylling'!I628<>\"\",1,0)","v":0},0,0,{"$f":"IF($C401=1,'Sjekkliste for utfylling'!A628,\"\")","v":""},{"$f":"IF($C401=1,'Sjekkliste for utfylling'!B628,\"\")","v":""},null,{"$f":"IF(C401=1,'Sjekkliste for utfylling'!L628,\" \")","v":" "}]
[{"$f":"'Sjekkliste for utfylling'!A629","v":401},{"$f":"IF('Sjekkliste for utfylling'!I629<>\"\",1,0)","v":0},0,0,{"$f":"IF($C402=1,'Sjekkliste for utfylling'!A629,\"\")","v":""},{"$f":"IF($C402=1,'Sjekkliste for utfylling'!B629,\"\")","v":""},null,{"$f":"IF(C402=1,'Sjekkliste for utfylling'!L629,\" \")","v":" "}]
[{"$f":"'Sjekkliste for utfylling'!A630","v":402},{"$f":"IF('Sjekkliste for utfylling'!I630<>\"\",1,0)","v":0},0,0,{"$f":"IF($C403=1,'Sjekkliste for utfylling'!A630,\"\")","v":""},{"$f":"IF($C403=1,'Sjekkliste for utfylling'!B630,\"\")","v":""},null,{"$f":"IF(C403=1,'Sjekkliste for utfylling'!L630,\" \")","v":" "}]
[{"$f":"'Sjekkliste for utfylling'!A631","v":403},{"$f":"IF('Sjekkliste for utfylling'!I631<>\"\",1,0)","v":0},0,0,{"$f":"IF($C404=1,'Sjekkliste for utfylling'!A631,\"\")","v":""},{"$f":"IF($C404=1,'Sjekkliste for utfylling'!B631,\"\")","v":""},null,{"$f":"IF(C404=1,'Sjekkliste for utfylling'!L631,\" \")","v":" "}]
[{"$f":"'Sjekkliste for utfylling'!A632","v":404},{"$f":"IF('Sjekkliste for utfylling'!I632<>\"\",1,0)","v":0},0,0,{"$f":"IF($C405=1,'Sjekkliste for utfylling'!A632,\"\")","v":""},{"$f":"IF($C405=1,'Sjekkliste for utfylling'!B632,\"\")","v":""},null,{"$f":"IF(C405=1,'Sjekkliste for utfylling'!L632,\" \")","v":" "}]
[{"$f":"'Sjekkliste for utfylling'!A633","v":405},{"$f":"IF('Sjekkliste for utfylling'!I633<>\"\",1,0)","v":0},0,0,{"$f":"IF($C406=1,'Sjekkliste for utfylling'!A633,\"\")","v":""},{"$f":"IF($C406=1,'Sjekkliste for utfylling'!B633,\"\")","v":""},null,{"$f":"IF(C406=1,'Sjekkliste for utfylling'!L633,\" \")","v":" "}]
[{"$f":"'Sjekkliste for utfylling'!A634","v":406},{"$f":"IF('Sjekkliste for utfylling'!I634<>\"\",1,0)","v":0},0,0,{"$f":"IF($C407=1,'Sjekkliste for utfylling'!A634,\"\")","v":""},{"$f":"IF($C407=1,'Sjekkliste for utfylling'!B634,\"\")","v":""},null,{"$f":"IF(C407=1,'Sjekkliste for utfylling'!L634,\" \")","v":" "}]
[{"$f":"'Sjekkliste for utfylling'!A635","v":407},{"$f":"IF('Sjekkliste for utfylling'!I635<>\"\",1,0)","v":0},0,0,{"$f":"IF($C408=1,'Sjekkliste for utfylling'!A635,\"\")","v":""},{"$f":"IF($C408=1,'Sjekkliste for utfylling'!B635,\"\")","v":""},null,{"$f":"IF(C408=1,'Sjekkliste for utfylling'!L635,\" \")","v":" "}]
[{"$f":"'Sjekkliste for utfylling'!A636","v":408},{"$f":"IF('Sjekkliste for utfylling'!I636<>\"\",1,0)","v":0},0,0,{"$f":"IF($C409=1,'Sjekkliste for utfylling'!A636,\"\")","v":""},{"$f":"IF($C409=1,'Sjekkliste for utfylling'!B636,\"\")","v":""},null,{"$f":"IF(C409=1,'Sjekkliste for utfylling'!L636,\" \")","v":" "}]
[{"$f":"'Sjekkliste for utfylling'!A637","v":409},{"$f":"IF('Sjekkliste for utfylling'!I637<>\"\",1,0)","v":0},0,0,{"$f":"IF($C410=1,'Sjekkliste for utfylling'!A637,\"\")","v":""},{"$f":"IF($C410=1,'Sjekkliste for utfylling'!B637,\"\")","v":""},null,{"$f":"IF(C410=1,'Sjekkliste for utfylling'!L637,\" \")","v":" "}]
[{"$f":"'Sjekkliste for utfylling'!A638","v":410},{"$f":"IF('Sjekkliste for utfylling'!I638<>\"\",1,0)","v":0},0,0,{"$f":"IF($C411=1,'Sjekkliste for utfylling'!A638,\"\")","v":""},{"$f":"IF($C411=1,'Sjekkliste for utfylling'!B638,\"\")","v":""},null,{"$f":"IF(C411=1,'Sjekkliste for utfylling'!L638,\" \")","v":" "}]
[{"$f":"'Sjekkliste for utfylling'!A639","v":411},{"$f":"IF('Sjekkliste for utfylling'!I639<>\"\",1,0)","v":0},0,0,{"$f":"IF($C412=1,'Sjekkliste for utfylling'!A639,\"\")","v":""},{"$f":"IF($C412=1,'Sjekkliste for utfylling'!B639,\"\")","v":""},null,{"$f":"IF(C412=1,'Sjekkliste for utfylling'!L639,\" \")","v":" "}]
[{"$f":"'Sjekkliste for utfylling'!A640","v":412},{"$f":"IF('Sjekkliste for utfylling'!I640<>\"\",1,0)","v":0},0,0,{"$f":"IF($C413=1,'Sjekkliste for utfylling'!A640,\"\")","v":""},{"$f":"IF($C413=1,'Sjekkliste for utfylling'!B640,\"\")","v":""},null,{"$f":"IF(C413=1,'Sjekkliste for utfylling'!L640,\" \")","v":" "}]
[{"$f":"'Sjekkliste for utfylling'!A641","v":413},{"$f":"IF('Sjekkliste for utfylling'!I641<>\"\",1,0)","v":0},0,0,{"$f":"IF($C414=1,'Sjekkliste for utfylling'!A641,\"\")","v":""},{"$f":"IF($C414=1,'Sjekkliste for utfylling'!B641,\"\")","v":""},null,{"$f":"IF(C414=1,'Sjekkliste for utfylling'!L641,\" \")","v":" "}]
[{"$f":"'Sjekkliste for utfylling'!A644","v":414},{"$f":"IF('Sjekkliste for utfylling'!I644<>\"\",1,0)","v":0},0,0,{"$f":"IF($C415=1,'Sjekkliste for utfylling'!A644,\"\")","v":""},{"$f":"IF($C415=1,'Sjekkliste for utfylling'!B644,\"\")","v":""},null,{"$f":"IF(C415=1,'Sjekkliste for utfylling'!L644,\" \")","v":" "}]
[{"$f":"'Sjekkliste for utfylling'!A645","v":415},{"$f":"IF('Sjekkliste for utfylling'!I645<>\"\",1,0)","v":0},0,0,{"$f":"IF($C416=1,'Sjekkliste for utfylling'!A645,\"\")","v":""},{"$f":"IF($C416=1,'Sjekkliste for utfylling'!B645,\"\")","v":""},null,{"$f":"IF(C416=1,'Sjekkliste for utfylling'!L645,\" \")","v":" "}]
[{"$f":"'Sjekkliste for utfylling'!A646","v":416},{"$f":"IF('Sjekkliste for utfylling'!I646<>\"\",1,0)","v":0},0,0,{"$f":"IF($C417=1,'Sjekkliste for utfylling'!A646,\"\")","v":""},{"$f":"IF($C417=1,'Sjekkliste for utfylling'!B646,\"\")","v":""},null,{"$f":"IF(C417=1,'Sjekkliste for utfylling'!L646,\" \")","v":" "}]
[{"$f":"'Sjekkliste for utfylling'!A647","v":417},{"$f":"IF('Sjekkliste for utfylling'!I647<>\"\",1,0)","v":0},0,0,{"$f":"IF($C418=1,'Sjekkliste for utfylling'!A647,\"\")","v":""},{"$f":"IF($C418=1,'Sjekkliste for utfylling'!B647,\"\")","v":""},null,{"$f":"IF(C418=1,'Sjekkliste for utfylling'!L647,\" \")","v":" "}]
[{"$f":"'Sjekkliste for utfylling'!A648","v":418},{"$f":"IF('Sjekkliste for utfylling'!I648<>\"\",1,0)","v":0},0,0,{"$f":"IF($C419=1,'Sjekkliste for utfylling'!A648,\"\")","v":""},{"$f":"IF($C419=1,'Sjekkliste for utfylling'!B648,\"\")","v":""},null,{"$f":"IF(C419=1,'Sjekkliste for utfylling'!L648,\" \")","v":" "}]
[{"$f":"'Sjekkliste for utfylling'!A649","v":419},{"$f":"IF('Sjekkliste for utfylling'!I649<>\"\",1,0)","v":0},0,0,{"$f":"IF($C420=1,'Sjekkliste for utfylling'!A649,\"\")","v":""},{"$f":"IF($C420=1,'Sjekkliste for utfylling'!B649,\"\")","v":""},null,{"$f":"IF(C420=1,'Sjekkliste for utfylling'!L649,\" \")","v":" "}]
[{"$f":"'Sjekkliste for utfylling'!A650","v":420},{"$f":"IF('Sjekkliste for utfylling'!I650<>\"\",1,0)","v":0},0,0,{"$f":"IF($C421=1,'Sjekkliste for utfylling'!A650,\"\")","v":""},{"$f":"IF($C421=1,'Sjekkliste for utfylling'!B650,\"\")","v":""},null,{"$f":"IF(C421=1,'Sjekkliste for utfylling'!L650,\" \")","v":" "}]
[{"$f":"'Sjekkliste for utfylling'!A651","v":421},{"$f":"IF('Sjekkliste for utfylling'!I651<>\"\",1,0)","v":0},0,0,{"$f":"IF($C422=1,'Sjekkliste for utfylling'!A651,\"\")","v":""},{"$f":"IF($C422=1,'Sjekkliste for utfylling'!B651,\"\")","v":""},null,{"$f":"IF(C422=1,'Sjekkliste for utfylling'!L651,\" \")","v":" "}]
[{"$f":"'Sjekkliste for utfylling'!A652","v":422},{"$f":"IF('Sjekkliste for utfylling'!I652<>\"\",1,0)","v":0},0,0,{"$f":"IF($C423=1,'Sjekkliste for utfylling'!A652,\"\")","v":""},{"$f":"IF($C423=1,'Sjekkliste for utfylling'!B652,\"\")","v":""},null,{"$f":"IF(C423=1,'Sjekkliste for utfylling'!L652,\" \")","v":" "}]
[{"$f":"'Sjekkliste for utfylling'!A653","v":423},{"$f":"IF('Sjekkliste for utfylling'!I653<>\"\",1,0)","v":0},0,0,{"$f":"IF($C424=1,'Sjekkliste for utfylling'!A653,\"\")","v":""},{"$f":"IF($C424=1,'Sjekkliste for utfylling'!B653,\"\")","v":""},null,{"$f":"IF(C424=1,'Sjekkliste for utfylling'!L653,\" \")","v":" "}]
[{"$f":"'Sjekkliste for utfylling'!A654","v":424},{"$f":"IF('Sjekkliste for utfylling'!I654<>\"\",1,0)","v":0},0,0,{"$f":"IF($C425=1,'Sjekkliste for utfylling'!A654,\"\")","v":""},{"$f":"IF($C425=1,'Sjekkliste for utfylling'!B654,\"\")","v":""},null,{"$f":"IF(C425=1,'Sjekkliste for utfylling'!L654,\" \")","v":" "}]
[{"$f":"'Sjekkliste for utfylling'!A656","v":425},{"$f":"IF('Sjekkliste for utfylling'!I656<>\"\",1,0)","v":0},0,0,{"$f":"IF($C426=1,'Sjekkliste for utfylling'!A656,\"\")","v":""},{"$f":"IF($C426=1,'Sjekkliste for utfylling'!B656,\"\")","v":""},null,{"$f":"IF(C426=1,'Sjekkliste for utfylling'!L656,\" \")","v":" "}]
[{"$f":"'Sjekkliste for utfylling'!A657","v":426},{"$f":"IF('Sjekkliste for utfylling'!I657<>\"\",1,0)","v":0},0,0,{"$f":"IF($C427=1,'Sjekkliste for utfylling'!A657,\"\")","v":""},{"$f":"IF($C427=1,'Sjekkliste for utfylling'!B657,\"\")","v":""},null,{"$f":"IF(C427=1,'Sjekkliste for utfylling'!L657,\" \")","v":" "}]
[{"$f":"'Sjekkliste for utfylling'!A658","v":427},{"$f":"IF('Sjekkliste for utfylling'!I658<>\"\",1,0)","v":0},0,0,{"$f":"IF($C428=1,'Sjekkliste for utfylling'!A658,\"\")","v":""},{"$f":"IF($C428=1,'Sjekkliste for utfylling'!B658,\"\")","v":""},null,{"$f":"IF(C428=1,'Sjekkliste for utfylling'!L658,\" \")","v":" "}]
[{"$f":"'Sjekkliste for utfylling'!A659","v":428},{"$f":"IF('Sjekkliste for utfylling'!I659<>\"\",1,0)","v":0},0,0,{"$f":"IF($C429=1,'Sjekkliste for utfylling'!A659,\"\")","v":""},{"$f":"IF($C429=1,'Sjekkliste for utfylling'!B659,\"\")","v":""},null,{"$f":"IF(C429=1,'Sjekkliste for utfylling'!L659,\" \")","v":" "}]
[{"$f":"'Sjekkliste for utfylling'!A660","v":429},{"$f":"IF('Sjekkliste for utfylling'!I660<>\"\",1,0)","v":0},0,{"$f":"IF($C430=1,1,0)","v":0},{"$f":"IF($C430=1,'Sjekkliste for utfylling'!A660,\"\")","v":""},{"$f":"IF($C430=1,'Sjekkliste for utfylling'!B660,\"\")","v":""},null,{"$f":"IF(C430=1,'Sjekkliste for utfylling'!L660,\" \")","v":" "}]
[{"$f":"'Sjekkliste for utfylling'!A661","v":430},{"$f":"IF('Sjekkliste for utfylling'!I661<>\"\",1,0)","v":0},0,0,{"$f":"IF($C431=1,'Sjekkliste for utfylling'!A661,\"\")","v":""},{"$f":"IF($C431=1,'Sjekkliste for utfylling'!B661,\"\")","v":""},null,{"$f":"IF(C431=1,'Sjekkliste for utfylling'!L661,\" \")","v":" "}]
[{"$f":"'Sjekkliste for utfylling'!A662","v":431},{"$f":"IF('Sjekkliste for utfylling'!I662<>\"\",1,0)","v":0},0,0,{"$f":"IF($C432=1,'Sjekkliste for utfylling'!A662,\"\")","v":""},{"$f":"IF($C432=1,'Sjekkliste for utfylling'!B662,\"\")","v":""},null,{"$f":"IF(C432=1,'Sjekkliste for utfylling'!L662,\" \")","v":" "}]
[{"$f":"'Sjekkliste for utfylling'!A663","v":432},{"$f":"IF('Sjekkliste for utfylling'!I663<>\"\",1,0)","v":0},0,0,{"$f":"IF($C433=1,'Sjekkliste for utfylling'!A663,\"\")","v":""},{"$f":"IF($C433=1,'Sjekkliste for utfylling'!B663,\"\")","v":""},null,{"$f":"IF(C433=1,'Sjekkliste for utfylling'!L663,\" \")","v":" "}]
[{"$f":"'Sjekkliste for utfylling'!A664","v":433},{"$f":"IF('Sjekkliste for utfylling'!I664<>\"\",1,0)","v":0},0,0,{"$f":"IF($C434=1,'Sjekkliste for utfylling'!A664,\"\")","v":""},{"$f":"IF($C434=1,'Sjekkliste for utfylling'!B664,\"\")","v":""},null,{"$f":"IF(C434=1,'Sjekkliste for utfylling'!L664,\" \")","v":" "}]
[{"$f":"'Sjekkliste for utfylling'!A665","v":434},{"$f":"IF('Sjekkliste for utfylling'!I665<>\"\",1,0)","v":0},0,0,{"$f":"IF($C435=1,'Sjekkliste for utfylling'!A665,\"\")","v":""},{"$f":"IF($C435=1,'Sjekkliste for utfylling'!B665,\"\")","v":""},null,{"$f":"IF(C435=1,'Sjekkliste for utfylling'!L665,\" \")","v":" "}]
[{"$f":"'Sjekkliste for utfylling'!A666","v":435},{"$f":"IF('Sjekkliste for utfylling'!I666<>\"\",1,0)","v":0},0,0,{"$f":"IF($C436=1,'Sjekkliste for utfylling'!A666,\"\")","v":""},{"$f":"IF($C436=1,'Sjekkliste for utfylling'!B666,\"\")","v":""},null,{"$f":"IF(C436=1,'Sjekkliste for utfylling'!L666,\" \")","v":" "}]
[{"$f":"'Sjekkliste for utfylling'!A667","v":436},{"$f":"IF('Sjekkliste for utfylling'!I667<>\"\",1,0)","v":0},0,0,{"$f":"IF($C437=1,'Sjekkliste for utfylling'!A667,\"\")","v":""},{"$f":"IF($C437=1,'Sjekkliste for utfylling'!B667,\"\")","v":""},null,{"$f":"IF(C437=1,'Sjekkliste for utfylling'!L667,\" \")","v":" "}]
[{"$f":"'Sjekkliste for utfylling'!A668","v":437},{"$f":"IF('Sjekkliste for utfylling'!I668<>\"\",1,0)","v":0},0,0,{"$f":"IF($C438=1,'Sjekkliste for utfylling'!A668,\"\")","v":""},{"$f":"IF($C438=1,'Sjekkliste for utfylling'!B668,\"\")","v":""},null,{"$f":"IF(C438=1,'Sjekkliste for utfylling'!L668,\" \")","v":" "}]
[{"$f":"'Sjekkliste for utfylling'!A669","v":438},{"$f":"IF('Sjekkliste for utfylling'!I669<>\"\",1,0)","v":0},0,0,{"$f":"IF($C439=1,'Sjekkliste for utfylling'!A669,\"\")","v":""},{"$f":"IF($C439=1,'Sjekkliste for utfylling'!B669,\"\")","v":""},null,{"$f":"IF(C439=1,'Sjekkliste for utfylling'!L669,\" \")","v":" "}]
[{"$f":"'Sjekkliste for utfylling'!A670","v":439},{"$f":"IF('Sjekkliste for utfylling'!I670<>\"\",1,0)","v":0},0,0,{"$f":"IF($C440=1,'Sjekkliste for utfylling'!A670,\"\")","v":""},{"$f":"IF($C440=1,'Sjekkliste for utfylling'!B670,\"\")","v":""},null,{"$f":"IF(C440=1,'Sjekkliste for utfylling'!L670,\" \")","v":" "}]
[{"$f":"'Sjekkliste for utfylling'!A671","v":440},{"$f":"IF('Sjekkliste for utfylling'!I671<>\"\",1,0)","v":0},0,0,{"$f":"IF($C441=1,'Sjekkliste for utfylling'!A671,\"\")","v":""},{"$f":"IF($C441=1,'Sjekkliste for utfylling'!B671,\"\")","v":""},null,{"$f":"IF(C441=1,'Sjekkliste for utfylling'!L671,\" \")","v":" "}]
[{"$f":"'Sjekkliste for utfylling'!A672","v":441},{"$f":"IF('Sjekkliste for utfylling'!I672<>\"\",1,0)","v":0},0,0,{"$f":"IF($C442=1,'Sjekkliste for utfylling'!A672,\"\")","v":""},{"$f":"IF($C442=1,'Sjekkliste for utfylling'!B672,\"\")","v":""},null,{"$f":"IF(C442=1,'Sjekkliste for utfylling'!L672,\" \")","v":" "}]
[{"$f":"'Sjekkliste for utfylling'!A673","v":442},{"$f":"IF('Sjekkliste for utfylling'!I673<>\"\",1,0)","v":0},0,0,{"$f":"IF($C443=1,'Sjekkliste for utfylling'!A673,\"\")","v":""},{"$f":"IF($C443=1,'Sjekkliste for utfylling'!B673,\"\")","v":""},null,{"$f":"IF(C443=1,'Sjekkliste for utfylling'!L673,\" \")","v":" "}]
[{"$f":"'Sjekkliste for utfylling'!A674","v":443},{"$f":"IF('Sjekkliste for utfylling'!I674<>\"\",1,0)","v":0},0,0,{"$f":"IF($C444=1,'Sjekkliste for utfylling'!A674,\"\")","v":""},{"$f":"IF($C444=1,'Sjekkliste for utfylling'!B674,\"\")","v":""},null,{"$f":"IF(C444=1,'Sjekkliste for utfylling'!L674,\" \")","v":" "}]
[{"$f":"'Sjekkliste for utfylling'!A675","v":444},{"$f":"IF('Sjekkliste for utfylling'!I675<>\"\",1,0)","v":0},0,0,{"$f":"IF($C445=1,'Sjekkliste for utfylling'!A675,\"\")","v":""},{"$f":"IF($C445=1,'Sjekkliste for utfylling'!B675,\"\")","v":""},null,{"$f":"IF(C445=1,'Sjekkliste for utfylling'!L675,\" \")","v":" "}]
[{"$f":"'Sjekkliste for utfylling'!A676","v":445},{"$f":"IF('Sjekkliste for utfylling'!I676<>\"\",1,0)","v":0},0,0,{"$f":"IF($C446=1,'Sjekkliste for utfylling'!A676,\"\")","v":""},{"$f":"IF($C446=1,'Sjekkliste for utfylling'!B676,\"\")","v":""},null,{"$f":"IF(C446=1,'Sjekkliste for utfylling'!L676,\" \")","v":" "}]
[{"$f":"'Sjekkliste for utfylling'!A677","v":446},{"$f":"IF('Sjekkliste for utfylling'!I677<>\"\",1,0)","v":0},0,0,{"$f":"IF($C447=1,'Sjekkliste for utfylling'!A677,\"\")","v":""},{"$f":"IF($C447=1,'Sjekkliste for utfylling'!B677,\"\")","v":""},null,{"$f":"IF(C447=1,'Sjekkliste for utfylling'!L677,\" \")","v":" "}]
[{"$f":"'Sjekkliste for utfylling'!A680","v":447},{"$f":"IF('Sjekkliste for utfylling'!I680<>\"\",1,0)","v":0},0,0,{"$f":"IF($C448=1,'Sjekkliste for utfylling'!A680,\"\")","v":""},{"$f":"IF($C448=1,'Sjekkliste for utfylling'!B680,\"\")","v":""},null,{"$f":"IF(C448=1,'Sjekkliste for utfylling'!L680,\" \")","v":" "}]
[{"$f":"'Sjekkliste for utfylling'!A682","v":448},{"$f":"IF('Sjekkliste for utfylling'!I682<>\"\",1,0)","v":0},0,0,{"$f":"IF($C449=1,'Sjekkliste for utfylling'!A682,\"\")","v":""},{"$f":"IF($C449=1,'Sjekkliste for utfylling'!B682,\"\")","v":""},null,{"$f":"IF(C449=1,'Sjekkliste for utfylling'!L682,\" \")","v":" "}]
[{"$f":"'Sjekkliste for utfylling'!A685","v":449},{"$f":"IF('Sjekkliste for utfylling'!I685<>\"\",1,0)","v":0},{"$f":"SUM(B450:B450)","v":0},{"$f":"IF($C450=1,1,0)","v":0},{"$f":"IF($C450=1,'Sjekkliste for utfylling'!A685,\"\")","v":""},{"$f":"IF($C450=1,'Sjekkliste for utfylling'!B685,\"\")","v":""},null,{"$f":"IF(C450=1,'Sjekkliste for utfylling'!L685,\" \")","v":" "}]
[{"$f":"'Sjekkliste for utfylling'!A688","v":450},{"$f":"IF('Sjekkliste for utfylling'!I688<>\"\",1,0)","v":0},0,0,{"$f":"IF($C451=1,'Sjekkliste for utfylling'!A688,\"\")","v":""},{"$f":"IF($C451=1,'Sjekkliste for utfylling'!B688,\"\")","v":""},null,{"$f":"IF(C451=1,'Sjekkliste for utfylling'!L688,\" \")","v":" "}]
[{"$f":"'Sjekkliste for utfylling'!A689","v":451},{"$f":"IF('Sjekkliste for utfylling'!I689<>\"\",1,0)","v":0},0,0,{"$f":"IF($C452=1,'Sjekkliste for utfylling'!A689,\"\")","v":""},{"$f":"IF($C452=1,'Sjekkliste for utfylling'!B689,\"\")","v":""},null,{"$f":"IF(C452=1,'Sjekkliste for utfylling'!L689,\" \")","v":" "}]
[{"$f":"'Sjekkliste for utfylling'!A694","v":452},{"$f":"IF('Sjekkliste for utfylling'!I694<>\"\",1,0)","v":0},0,0,{"$f":"IF($C453=1,'Sjekkliste for utfylling'!A694,\"\")","v":""},{"$f":"IF($C453=1,'Sjekkliste for utfylling'!B694,\"\")","v":""},null,{"$f":"IF(C453=1,'Sjekkliste for utfylling'!L694,\" \")","v":" "}]

{"sheet":"Nei-svar","index":5,"n_rows":453,"n_cols":8,"rows_kept":453,"cut":false,"hidden":true,"merged":[]}
[null,null,{"$f":"COUNTIF(B2:B506,\"=1\")-D1","v":0},{"$f":"SUM(D2:D506)","v":0},"Svart Nei",{"$f":"+'Sjekkliste for utfylling'!B2","v":0},{"$f":"+'Sjekkliste for utfylling'!B3","v":"2024"},"Kommentarer"]
[{"$f":"'Sjekkliste for utfylling'!A28","v":1},{"$f":"IF('Sjekkliste for utfylling'!J28<>\"\",1,0)","v":0},{"$f":"SUM(B2:B2)","v":0},null,{"$f":"IF($B2=1,'Sjekkliste for utfylling'!A28,\"\")","v":""},{"$f":"IF($B2=1,'Sjekkliste for utfylling'!B28,\"\")","v":""},null,{"$f":"IF(C2=1,'Sjekkliste for utfylling'!L28,\" \")","v":" "}]
[{"$f":"'Sjekkliste for utfylling'!A29","v":2},{"$f":"IF('Sjekkliste for utfylling'!J29<>\"\",1,0)","v":0},0,null,{"$f":"IF($B3=1,'Sjekkliste for utfylling'!A29,\"\")","v":""},{"$f":"IF($B3=1,'Sjekkliste for utfylling'!B29,\"\")","v":""},null,{"$f":"IF(C3=1,'Sjekkliste for utfylling'!L29,\" \")","v":" "}]
[{"$f":"'Sjekkliste for utfylling'!A30","v":3},{"$f":"IF('Sjekkliste for utfylling'!J30<>\"\",1,0)","v":0},0,null,{"$f":"IF($B4=1,'Sjekkliste for utfylling'!A30,\"\")","v":""},{"$f":"IF($B4=1,'Sjekkliste for utfylling'!B30,\"\")","v":""},null,{"$f":"IF(C4=1,'Sjekkliste for utfylling'!L30,\" \")","v":" "}]
[{"$f":"'Sjekkliste for utfylling'!A31","v":4},{"$f":"IF('Sjekkliste for utfylling'!J31<>\"\",1,0)","v":0},0,null,{"$f":"IF($B5=1,'Sjekkliste for utfylling'!A31,\"\")","v":""},{"$f":"IF($B5=1,'Sjekkliste for utfylling'!B31,\"\")","v":""},null,{"$f":"IF(C5=1,'Sjekkliste for utfylling'!L31,\" \")","v":" "}]
[{"$f":"'Sjekkliste for utfylling'!A36","v":5},{"$f":"IF('Sjekkliste for utfylling'!J36<>\"\",1,0)","v":0},0,null,{"$f":"IF($B6=1,'Sjekkliste for utfylling'!A36,\"\")","v":""},{"$f":"IF($B6=1,'Sjekkliste for utfylling'!B36,\"\")","v":""},null,{"$f":"IF(C6=1,'Sjekkliste for utfylling'!L36,\" \")","v":" "}]
[{"$f":"'Sjekkliste for utfylling'!A37","v":6},{"$f":"IF('Sjekkliste for utfylling'!J37<>\"\",1,0)","v":0},0,null,{"$f":"IF($B7=1,'Sjekkliste for utfylling'!A37,\"\")","v":""},{"$f":"IF($B7=1,'Sjekkliste for utfylling'!B37,\"\")","v":""},null,{"$f":"IF(C7=1,'Sjekkliste for utfylling'!L37,\" \")","v":" "}]
[{"$f":"'Sjekkliste for utfylling'!A38","v":7},{"$f":"IF('Sjekkliste for utfylling'!J38<>\"\",1,0)","v":0},0,null,{"$f":"IF($B8=1,'Sjekkliste for utfylling'!A38,\"\")","v":""},{"$f":"IF($B8=1,'Sjekkliste for utfylling'!B38,\"\")","v":""},null,{"$f":"IF(C8=1,'Sjekkliste for utfylling'!L38,\" \")","v":" "}]
[{"$f":"'Sjekkliste for utfylling'!A39","v":8},{"$f":"IF('Sjekkliste for utfylling'!J39<>\"\",1,0)","v":0},0,null,{"$f":"IF($B9=1,'Sjekkliste for utfylling'!A39,\"\")","v":""},{"$f":"IF($B9=1,'Sjekkliste for utfylling'!B39,\"\")","v":""},null,{"$f":"IF(C9=1,'Sjekkliste for utfylling'!L39,\" \")","v":" "}]
[{"$f":"'Sjekkliste for utfylling'!A40","v":9},{"$f":"IF('Sjekkliste for utfylling'!J40<>\"\",1,0)","v":0},0,null,{"$f":"IF($B10=1,'Sjekkliste for utfylling'!A40,\"\")","v":""},{"$f":"IF($B10=1,'Sjekkliste for utfylling'!B40,\"\")","v":""},null,{"$f":"IF(C10=1,'Sjekkliste for utfylling'!L40,\" \")","v":" "}]
[{"$f":"'Sjekkliste for utfylling'!A41","v":10},{"$f":"IF('Sjekkliste for utfylling'!J41<>\"\",1,0)","v":0},0,null,{"$f":"IF($B11=1,'Sjekkliste for utfylling'!A41,\"\")","v":""},{"$f":"IF($B11=1,'Sjekkliste for utfylling'!B41,\"\")","v":""},null,{"$f":"IF(C11=1,'Sjekkliste for utfylling'!L41,\" \")","v":" "}]
[{"$f":"'Sjekkliste for utfylling'!A42","v":11},{"$f":"IF('Sjekkliste for utfylling'!J42<>\"\",1,0)","v":0},0,null,{"$f":"IF($B12=1,'Sjekkliste for utfylling'!A42,\"\")","v":""},{"$f":"IF($B12=1,'Sjekkliste for utfylling'!B42,\"\")","v":""},null,{"$f":"IF(C12=1,'Sjekkliste for utfylling'!L42,\" \")","v":" "}]
[{"$f":"'Sjekkliste for utfylling'!A43","v":12},{"$f":"IF('Sjekkliste for utfylling'!J43<>\"\",1,0)","v":0},0,null,{"$f":"IF($B13=1,'Sjekkliste for utfylling'!A43,\"\")","v":""},{"$f":"IF($B13=1,'Sjekkliste for utfylling'!B43,\"\")","v":""},null,{"$f":"IF(C13=1,'Sjekkliste for utfylling'!L43,\" \")","v":" "}]
[{"$f":"'Sjekkliste for utfylling'!A45","v":13},{"$f":"IF('Sjekkliste for utfylling'!J45<>\"\",1,0)","v":0},0,null,{"$f":"IF($B14=1,'Sjekkliste for utfylling'!A45,\"\")","v":""},{"$f":"IF($B14=1,'Sjekkliste for utfylling'!B45,\"\")","v":""},null,{"$f":"IF(C14=1,'Sjekkliste for utfylling'!L45,\" \")","v":" "}]
[{"$f":"'Sjekkliste for utfylling'!A46","v":14},{"$f":"IF('Sjekkliste for utfylling'!J46<>\"\",1,0)","v":0},0,null,{"$f":"IF($B15=1,'Sjekkliste for utfylling'!A46,\"\")","v":""},{"$f":"IF($B15=1,'Sjekkliste for utfylling'!B46,\"\")","v":""},null,{"$f":"IF(C15=1,'Sjekkliste for utfylling'!L46,\" \")","v":" "}]
[{"$f":"'Sjekkliste for utfylling'!A47","v":15},{"$f":"IF('Sjekkliste for utfylling'!J47<>\"\",1,0)","v":0},0,null,{"$f":"IF($B16=1,'Sjekkliste for utfylling'!A47,\"\")","v":""},{"$f":"IF($B16=1,'Sjekkliste for utfylling'!B47,\"\")","v":""},null,{"$f":"IF(C16=1,'Sjekkliste for utfylling'!L47,\" \")","v":" "}]
[{"$f":"'Sjekkliste for utfylling'!A48","v":16},{"$f":"IF('Sjekkliste for utfylling'!J48<>\"\",1,0)","v":0},0,null,{"$f":"IF($B17=1,'Sjekkliste for utfylling'!A48,\"\")","v":""},{"$f":"IF($B17=1,'Sjekkliste for utfylling'!B48,\"\")","v":""},null,{"$f":"IF(C17=1,'Sjekkliste for utfylling'!L48,\" \")","v":" "}]
[{"$f":"'Sjekkliste for utfylling'!A49","v":17},{"$f":"IF('Sjekkliste for utfylling'!J49<>\"\",1,0)","v":0},0,null,{"$f":"IF($B18=1,'Sjekkliste for utfylling'!A49,\"\")","v":""},{"$f":"IF($B18=1,'Sjekkliste for utfylling'!B49,\"\")","v":""},null,{"$f":"IF(C18=1,'Sjekkliste for utfylling'!L49,\" \")","v":" "}]
[{"$f":"'Sjekkliste for utfylling'!A50","v":18},{"$f":"IF('Sjekkliste for utfylling'!J50<>\"\",1,0)","v":0},0,null,{"$f":"IF($B19=1,'Sjekkliste for utfylling'!A50,\"\")","v":""},{"$f":"IF($B19=1,'Sjekkliste for utfylling'!B50,\"\")","v":""},null,{"$f":"IF(C19=1,'Sjekkliste for utfylling'!L50,\" \")","v":" "}]
[{"$f":"'Sjekkliste for utfylling'!A51","v":19},{"$f":"IF('Sjekkliste for utfylling'!J51<>\"\",1,0)","v":0},0,null,{"$f":"IF($B20=1,'Sjekkliste for utfylling'!A51,\"\")","v":""},{"$f":"IF($B20=1,'Sjekkliste for utfylling'!B51,\"\")","v":""},null,{"$f":"IF(C20=1,'Sjekkliste for utfylling'!L51,\" \")","v":" "}]
[{"$f":"'Sjekkliste for utfylling'!A55","v":20},{"$f":"IF('Sjekkliste for utfylling'!J55<>\"\",1,0)","v":0},0,null,{"$f":"IF($B21=1,'Sjekkliste for utfylling'!A55,\"\")","v":""},{"$f":"IF($B21=1,'Sjekkliste for utfylling'!B55,\"\")","v":""},null,{"$f":"IF(C21=1,'Sjekkliste for utfylling'!L55,\" \")","v":" "}]
[{"$f":"'Sjekkliste for utfylling'!A56","v":21},{"$f":"IF('Sjekkliste for utfylling'!J56<>\"\",1,0)","v":0},0,null,{"$f":"IF($B22=1,'Sjekkliste for utfylling'!A56,\"\")","v":""},{"$f":"IF($B22=1,'Sjekkliste for utfylling'!B56,\"\")","v":""},null,{"$f":"IF(C22=1,'Sjekkliste for utfylling'!L56,\" \")","v":" "}]
[{"$f":"'Sjekkliste for utfylling'!A57","v":22},{"$f":"IF('Sjekkliste for utfylling'!J57<>\"\",1,0)","v":0},0,null,{"$f":"IF($B23=1,'Sjekkliste for utfylling'!A57,\"\")","v":""},{"$f":"IF($B23=1,'Sjekkliste for utfylling'!B57,\"\")","v":""},null,{"$f":"IF(C23=1,'Sjekkliste for utfylling'!L57,\" \")","v":" "}]
[{"$f":"'Sjekkliste for utfylling'!A58","v":23},{"$f":"IF('Sjekkliste for utfylling'!J58<>\"\",1,0)","v":0},0,null,{"$f":"IF($B24=1,'Sjekkliste for utfylling'!A58,\"\")","v":""},{"$f":"IF($B24=1,'Sjekkliste for utfylling'!B58,\"\")","v":""},null,{"$f":"IF(C24=1,'Sjekkliste for utfylling'!L58,\" \")","v":" "}]
[{"$f":"'Sjekkliste for utfylling'!A61","v":24},{"$f":"IF('Sjekkliste for utfylling'!J61<>\"\",1,0)","v":0},0,null,{"$f":"IF($B25=1,'Sjekkliste for utfylling'!A61,\"\")","v":""},{"$f":"IF($B25=1,'Sjekkliste for utfylling'!B61,\"\")","v":""},null,{"$f":"IF(C25=1,'Sjekkliste for utfylling'!L61,\" \")","v":" "}]
[{"$f":"'Sjekkliste for utfylling'!A62","v":25},{"$f":"IF('Sjekkliste for utfylling'!J62<>\"\",1,0)","v":0},0,null,{"$f":"IF($B26=1,'Sjekkliste for utfylling'!A62,\"\")","v":""},{"$f":"IF($B26=1,'Sjekkliste for utfylling'!B62,\"\")","v":""},null,{"$f":"IF(C26=1,'Sjekkliste for utfylling'!L62,\" \")","v":" "}]
[{"$f":"'Sjekkliste for utfylling'!A63","v":26},{"$f":"IF('Sjekkliste for utfylling'!J63<>\"\",1,0)","v":0},0,null,{"$f":"IF($B27=1,'Sjekkliste for utfylling'!A63,\"\")","v":""},{"$f":"IF($B27=1,'Sjekkliste for utfylling'!B63,\"\")","v":""},null,{"$f":"IF(C27=1,'Sjekkliste for utfylling'!L63,\" \")","v":" "}]
[{"$f":"'Sjekkliste for utfylling'!A66","v":27},{"$f":"IF('Sjekkliste for utfylling'!J66<>\"\",1,0)","v":0},0,null,{"$f":"IF($B28=1,'Sjekkliste for utfylling'!A66,\"\")","v":""},{"$f":"IF($B28=1,'Sjekkliste for utfylling'!B66,\"\")","v":""},null,{"$f":"IF(C28=1,'Sjekkliste for utfylling'!L66,\" \")","v":" "}]
[{"$f":"'Sjekkliste for utfylling'!A67","v":28},{"$f":"IF('Sjekkliste for utfylling'!J67<>\"\",1,0)","v":0},0,null,{"$f":"IF($B29=1,'Sjekkliste for utfylling'!A67,\"\")","v":""},{"$f":"IF($B29=1,'Sjekkliste for utfylling'!B67,\"\")","v":""},null,{"$f":"IF(C29=1,'Sjekkliste for utfylling'!L67,\" \")","v":" "}]
[{"$f":"'Sjekkliste for utfylling'!A69","v":29},{"$f":"IF('Sjekkliste for utfylling'!J69<>\"\",1,0)","v":0},0,null,{"$f":"IF($B30=1,'Sjekkliste for utfylling'!A69,\"\")","v":""},{"$f":"IF($B30=1,'Sjekkliste for utfylling'!B69,\"\")","v":""},null,{"$f":"IF(C30=1,'Sjekkliste for utfylling'!L69,\" \")","v":" "}]
[{"$f":"'Sjekkliste for utfylling'!A70","v":30},{"$f":"IF('Sjekkliste for utfylling'!J70<>\"\",1,0)","v":0},0,null,{"$f":"IF($B31=1,'Sjekkliste for utfylling'!A70,\"\")","v":""},{"$f":"IF($B31=1,'Sjekkliste for utfylling'!B70,\"\")","v":""},null,{"$f":"IF(C31=1,'Sjekkliste for utfylling'!L70,\" \")","v":" "}]
[{"$f":"'Sjekkliste for utfylling'!A76","v":31},{"$f":"IF('Sjekkliste for utfylling'!J76<>\"\",1,0)","v":0},0,null,{"$f":"IF($B32=1,'Sjekkliste for utfylling'!A76,\"\")","v":""},{"$f":"IF($B32=1,'Sjekkliste for utfylling'!B76,\"\")","v":""},null,{"$f":"IF(C32=1,'Sjekkliste for utfylling'!L76,\" \")","v":" "}]
[{"$f":"'Sjekkliste for utfylling'!A77","v":32},{"$f":"IF('Sjekkliste for utfylling'!J77<>\"\",1,0)","v":0},0,null,{"$f":"IF($B33=1,'Sjekkliste for utfylling'!A77,\"\")","v":""},{"$f":"IF($B33=1,'Sjekkliste for utfylling'!B77,\"\")","v":""},null,{"$f":"IF(C33=1,'Sjekkliste for utfylling'!L77,\" \")","v":" "}]
[{"$f":"'Sjekkliste for utfylling'!A81","v":33},{"$f":"IF('Sjekkliste for utfylling'!J81<>\"\",1,0)","v":0},0,null,{"$f":"IF($B34=1,'Sjekkliste for utfylling'!A81,\"\")","v":""},{"$f":"IF($B34=1,'Sjekkliste for utfylling'!B81,\"\")","v":""},null,{"$f":"IF(C34=1,'Sjekkliste for utfylling'!L81,\" \")","v":" "}]
[{"$f":"'Sjekkliste for utfylling'!A82","v":34},{"$f":"IF('Sjekkliste for utfylling'!J82<>\"\",1,0)","v":0},0,null,{"$f":"IF($B35=1,'Sjekkliste for utfylling'!A82,\"\")","v":""},{"$f":"IF($B35=1,'Sjekkliste for utfylling'!B82,\"\")","v":""},null,{"$f":"IF(C35=1,'Sjekkliste for utfylling'!L82,\" \")","v":" "}]
[{"$f":"'Sjekkliste for utfylling'!A83","v":35},{"$f":"IF('Sjekkliste for utfylling'!J83<>\"\",1,0)","v":0},0,null,{"$f":"IF($B36=1,'Sjekkliste for utfylling'!A83,\"\")","v":""},{"$f":"IF($B36=1,'Sjekkliste for utfylling'!B83,\"\")","v":""},null,{"$f":"IF(C36=1,'Sjekkliste for utfylling'!L83,\" \")","v":" "}]
[{"$f":"'Sjekkliste for utfylling'!A84","v":36},{"$f":"IF('Sjekkliste for utfylling'!J84<>\"\",1,0)","v":0},0,null,{"$f":"IF($B37=1,'Sjekkliste for utfylling'!A84,\"\")","v":""},{"$f":"IF($B37=1,'Sjekkliste for utfylling'!B84,\"\")","v":""},null,{"$f":"IF(C37=1,'Sjekkliste for utfylling'!L84,\" \")","v":" "}]
[{"$f":"'Sjekkliste for utfylling'!A85","v":37},{"$f":"IF('Sjekkliste for utfylling'!J85<>\"\",1,0)","v":0},0,null,{"$f":"IF($B38=1,'Sjekkliste for utfylling'!A85,\"\")","v":""},{"$f":"IF($B38=1,'Sjekkliste for utfylling'!B85,\"\")","v":""},null,{"$f":"IF(C38=1,'Sjekkliste for utfylling'!L85,\" \")","v":" "}]
[{"$f":"'Sjekkliste for utfylling'!A86","v":38},{"$f":"IF('Sjekkliste for utfylling'!J86<>\"\",1,0)","v":0},0,null,{"$f":"IF($B39=1,'Sjekkliste for utfylling'!A86,\"\")","v":""},{"$f":"IF($B39=1,'Sjekkliste for utfylling'!B86,\"\")","v":""},null,{"$f":"IF(C39=1,'Sjekkliste for utfylling'!L86,\" \")","v":" "}]
[{"$f":"'Sjekkliste for utfylling'!A87","v":39},{"$f":"IF('Sjekkliste for utfylling'!J87<>\"\",1,0)","v":0},0,null,{"$f":"IF($B40=1,'Sjekkliste for utfylling'!A87,\"\")","v":""},{"$f":"IF($B40=1,'Sjekkliste for utfylling'!B87,\"\")","v":""},null,{"$f":"IF(C40=1,'Sjekkliste for utfylling'!L87,\" \")","v":" "}]
[{"$f":"'Sjekkliste for utfylling'!A89","v":40},{"$f":"IF('Sjekkliste for utfylling'!J89<>\"\",1,0)","v":0},0,null,{"$f":"IF($B41=1,'Sjekkliste for utfylling'!A89,\"\")","v":""},{"$f":"IF($B41=1,'Sjekkliste for utfylling'!B89,\"\")","v":""},null,{"$f":"IF(C41=1,'Sjekkliste for utfylling'!L89,\" \")","v":" "}]
[{"$f":"'Sjekkliste for utfylling'!A90","v":41},{"$f":"IF('Sjekkliste for utfylling'!J90<>\"\",1,0)","v":0},0,null,{"$f":"IF($B42=1,'Sjekkliste for utfylling'!A90,\"\")","v":""},{"$f":"IF($B42=1,'Sjekkliste for utfylling'!B90,\"\")","v":""},null,{"$f":"IF(C42=1,'Sjekkliste for utfylling'!L90,\" \")","v":" "}]
[{"$f":"'Sjekkliste for utfylling'!A92","v":42},{"$f":"IF('Sjekkliste for utfylling'!J92<>\"\",1,0)","v":0},0,null,{"$f":"IF($B43=1,'Sjekkliste for utfylling'!A92,\"\")","v":""},{"$f":"IF($B43=1,'Sjekkliste for utfylling'!B92,\"\")","v":""},null,{"$f":"IF(C43=1,'Sjekkliste for utfylling'!L92,\" \")","v":" "}]
[{"$f":"'Sjekkliste for utfylling'!A93","v":43},{"$f":"IF('Sjekkliste for utfylling'!J93<>\"\",1,0)","v":0},0,null,{"$f":"IF($B44=1,'Sjekkliste for utfylling'!A93,\"\")","v":""},{"$f":"IF($B44=1,'Sjekkliste for utfylling'!B93,\"\")","v":""},null,{"$f":"IF(C44=1,'Sjekkliste for utfylling'!L93,\" \")","v":" "}]
[{"$f":"'Sjekkliste for utfylling'!A95","v":44},{"$f":"IF('Sjekkliste for utfylling'!J95<>\"\",1,0)","v":0},0,null,{"$f":"IF($B45=1,'Sjekkliste for utfylling'!A95,\"\")","v":""},{"$f":"IF($B45=1,'Sjekkliste for utfylling'!B95,\"\")","v":""},null,{"$f":"IF(C45=1,'Sjekkliste for utfylling'!L95,\" \")","v":" "}]
[{"$f":"'Sjekkliste for utfylling'!A96","v":45},{"$f":"IF('Sjekkliste for utfylling'!J96<>\"\",1,0)","v":0},0,null,{"$f":"IF($B46=1,'Sjekkliste for utfylling'!A96,\"\")","v":""},{"$f":"IF($B46=1,'Sjekkliste for utfylling'!B96,\"\")","v":""},null,{"$f":"IF(C46=1,'Sjekkliste for utfylling'!L96,\" \")","v":" "}]
[{"$f":"'Sjekkliste for utfylling'!A98","v":46},{"$f":"IF('Sjekkliste for utfylling'!J98<>\"\",1,0)","v":0},0,null,{"$f":"IF($B47=1,'Sjekkliste for utfylling'!A98,\"\")","v":""},{"$f":"IF($B47=1,'Sjekkliste for utfylling'!B98,\"\")","v":""},null,{"$f":"IF(C47=1,'Sjekkliste for utfylling'!L98,\" \")","v":" "}]
[{"$f":"'Sjekkliste for utfylling'!A100","v":47},{"$f":"IF('Sjekkliste for utfylling'!J100<>\"\",1,0)","v":0},0,null,{"$f":"IF($B48=1,'Sjekkliste for utfylling'!A100,\"\")","v":""},{"$f":"IF($B48=1,'Sjekkliste for utfylling'!B100,\"\")","v":""},null,{"$f":"IF(C48=1,'Sjekkliste for utfylling'!L100,\" \")","v":" "}]
[{"$f":"'Sjekkliste for utfylling'!A101","v":48},{"$f":"IF('Sjekkliste for utfylling'!J101<>\"\",1,0)","v":0},0,null,{"$f":"IF($B49=1,'Sjekkliste for utfylling'!A101,\"\")","v":""},{"$f":"IF($B49=1,'Sjekkliste for utfylling'!B101,\"\")","v":""},null,{"$f":"IF(C49=1,'Sjekkliste for utfylling'!L101,\" \")","v":" "}]
[{"$f":"'Sjekkliste for utfylling'!A102","v":49},{"$f":"IF('Sjekkliste for utfylling'!J102<>\"\",1,0)","v":0},0,null,{"$f":"IF($B50=1,'Sjekkliste for utfylling'!A102,\"\")","v":""},{"$f":"IF($B50=1,'Sjekkliste for utfylling'!B102,\"\")","v":""},null,{"$f":"IF(C50=1,'Sjekkliste for utfylling'!L102,\" \")","v":" "}]
[{"$f":"'Sjekkliste for utfylling'!A103","v":50},{"$f":"IF('Sjekkliste for utfylling'!J103<>\"\",1,0)","v":0},0,null,{"$f":"IF($B51=1,'Sjekkliste for utfylling'!A103,\"\")","v":""},{"$f":"IF($B51=1,'Sjekkliste for utfylling'!B103,\"\")","v":""},null,{"$f":"IF(C51=1,'Sjekkliste for utfylling'!L103,\" \")","v":" "}]
[{"$f":"'Sjekkliste for utfylling'!A104","v":51},{"$f":"IF('Sjekkliste for utfylling'!J104<>\"\",1,0)","v":0},0,null,{"$f":"IF($B52=1,'Sjekkliste for utfylling'!A104,\"\")","v":""},{"$f":"IF($B52=1,'Sjekkliste for utfylling'!B104,\"\")","v":""},null,{"$f":"IF(C52=1,'Sjekkliste for utfylling'!L104,\" \")","v":" "}]
[{"$f":"'Sjekkliste for utfylling'!A105","v":52},{"$f":"IF('Sjekkliste for utfylling'!J105<>\"\",1,0)","v":0},0,null,{"$f":"IF($B53=1,'Sjekkliste for utfylling'!A105,\"\")","v":""},{"$f":"IF($B53=1,'Sjekkliste for utfylling'!B105,\"\")","v":""},null,{"$f":"IF(C53=1,'Sjekkliste for utfylling'!L105,\" \")","v":" "}]
[{"$f":"'Sjekkliste for utfylling'!A107","v":53},{"$f":"IF('Sjekkliste for utfylling'!J107<>\"\",1,0)","v":0},0,null,{"$f":"IF($B54=1,'Sjekkliste for utfylling'!A107,\"\")","v":""},{"$f":"IF($B54=1,'Sjekkliste for utfylling'!B107,\"\")","v":""},null,{"$f":"IF(C54=1,'Sjekkliste for utfylling'!L107,\" \")","v":" "}]
[{"$f":"'Sjekkliste for utfylling'!A108","v":54},{"$f":"IF('Sjekkliste for utfylling'!J108<>\"\",1,0)","v":0},0,null,{"$f":"IF($B55=1,'Sjekkliste for utfylling'!A108,\"\")","v":""},{"$f":"IF($B55=1,'Sjekkliste for utfylling'!B108,\"\")","v":""},null,{"$f":"IF(C55=1,'Sjekkliste for utfylling'!L108,\" \")","v":" "}]
[{"$f":"'Sjekkliste for utfylling'!A110","v":55},{"$f":"IF('Sjekkliste for utfylling'!J110<>\"\",1,0)","v":0},0,null,{"$f":"IF($B56=1,'Sjekkliste for utfylling'!A110,\"\")","v":""},{"$f":"IF($B56=1,'Sjekkliste for utfylling'!B110,\"\")","v":""},null,{"$f":"IF(C56=1,'Sjekkliste for utfylling'!L110,\" \")","v":" "}]
[{"$f":"'Sjekkliste for utfylling'!A111","v":56},{"$f":"IF('Sjekkliste for utfylling'!J111<>\"\",1,0)","v":0},0,null,{"$f":"IF($B57=1,'Sjekkliste for utfylling'!A111,\"\")","v":""},{"$f":"IF($B57=1,'Sjekkliste for utfylling'!B111,\"\")","v":""},null,{"$f":"IF(C57=1,'Sjekkliste for utfylling'!L111,\" \")","v":" "}]
[{"$f":"'Sjekkliste for utfylling'!A113","v":57},{"$f":"IF('Sjekkliste for utfylling'!J113<>\"\",1,0)","v":0},0,null,{"$f":"IF($B58=1,'Sjekkliste for utfylling'!A113,\"\")","v":""},{"$f":"IF($B58=1,'Sjekkliste for utfylling'!B113,\"\")","v":""},null,{"$f":"IF(C58=1,'Sjekkliste for utfylling'!L113,\" \")","v":" "}]
[{"$f":"'Sjekkliste for utfylling'!A115","v":58},{"$f":"IF('Sjekkliste for utfylling'!J115<>\"\",1,0)","v":0},0,null,{"$f":"IF($B59=1,'Sjekkliste for utfylling'!A115,\"\")","v":""},{"$f":"IF($B59=1,'Sjekkliste for utfylling'!B115,\"\")","v":""},null,{"$f":"IF(C59=1,'Sjekkliste for utfylling'!L115,\" \")","v":" "}]
[{"$f":"'Sjekkliste for utfylling'!A116","v":59},{"$f":"IF('Sjekkliste for utfylling'!J116<>\"\",1,0)","v":0},0,null,{"$f":"IF($B60=1,'Sjekkliste for utfylling'!A116,\"\")","v":""},{"$f":"IF($B60=1,'Sjekkliste for utfylling'!B116,\"\")","v":""},null,{"$f":"IF(C60=1,'Sjekkliste for utfylling'!L116,\" \")","v":" "}]
[{"$f":"'Sjekkliste for utfylling'!A117","v":60},{"$f":"IF('Sjekkliste for utfylling'!J117<>\"\",1,0)","v":0},0,null,{"$f":"IF($B61=1,'Sjekkliste for utfylling'!A117,\"\")","v":""},{"$f":"IF($B61=1,'Sjekkliste for utfylling'!B117,\"\")","v":""},null,{"$f":"IF(C61=1,'Sjekkliste for utfylling'!L117,\" \")","v":" "}]
[{"$f":"'Sjekkliste for utfylling'!A118","v":61},{"$f":"IF('Sjekkliste for utfylling'!J118<>\"\",1,0)","v":0},0,null,{"$f":"IF($B62=1,'Sjekkliste for utfylling'!A118,\"\")","v":""},{"$f":"IF($B62=1,'Sjekkliste for utfylling'!B118,\"\")","v":""},null,{"$f":"IF(C62=1,'Sjekkliste for utfylling'!L118,\" \")","v":" "}]
[{"$f":"'Sjekkliste for utfylling'!A119","v":62},{"$f":"IF('Sjekkliste for utfylling'!J119<>\"\",1,0)","v":0},0,null,{"$f":"IF($B63=1,'Sjekkliste for utfylling'!A119,\"\")","v":""},{"$f":"IF($B63=1,'Sjekkliste for utfylling'!B119,\"\")","v":""},null,{"$f":"IF(C63=1,'Sjekkliste for utfylling'!L119,\" \")","v":" "}]
[{"$f":"'Sjekkliste for utfylling'!A120","v":63},{"$f":"IF('Sjekkliste for utfylling'!J120<>\"\",1,0)","v":0},0,null,{"$f":"IF($B64=1,'Sjekkliste for utfylling'!A120,\"\")","v":""},{"$f":"IF($B64=1,'Sjekkliste for utfylling'!B120,\"\")","v":""},null,{"$f":"IF(C64=1,'Sjekkliste for utfylling'!L120,\" \")","v":" "}]
[{"$f":"'Sjekkliste for utfylling'!A122","v":64},{"$f":"IF('Sjekkliste for utfylling'!J122<>\"\",1,0)","v":0},0,null,{"$f":"IF($B65=1,'Sjekkliste for utfylling'!A122,\"\")","v":""},{"$f":"IF($B65=1,'Sjekkliste for utfylling'!B122,\"\")","v":""},null,{"$f":"IF(C65=1,'Sjekkliste for utfylling'!L122,\" \")","v":" "}]
[{"$f":"'Sjekkliste for utfylling'!A123","v":65},{"$f":"IF('Sjekkliste for utfylling'!J123<>\"\",1,0)","v":0},{"$f":"SUM(B66:B66)","v":0},null,{"$f":"IF($B66=1,'Sjekkliste for utfylling'!A123,\"\")","v":""},{"$f":"IF($B66=1,'Sjekkliste for utfylling'!B123,\"\")","v":""},null,{"$f":"IF(C66=1,'Sjekkliste for utfylling'!L123,\" \")","v":" "}]
[{"$f":"'Sjekkliste for utfylling'!A125","v":66},{"$f":"IF('Sjekkliste for utfylling'!J125<>\"\",1,0)","v":0},0,null,{"$f":"IF($B67=1,'Sjekkliste for utfylling'!A125,\"\")","v":""},{"$f":"IF($B67=1,'Sjekkliste for utfylling'!B125,\"\")","v":""},null,{"$f":"IF(C67=1,'Sjekkliste for utfylling'!L125,\" \")","v":" "}]
[{"$f":"'Sjekkliste for utfylling'!A126","v":67},{"$f":"IF('Sjekkliste for utfylling'!J126<>\"\",1,0)","v":0},0,null,{"$f":"IF($B68=1,'Sjekkliste for utfylling'!A126,\"\")","v":""},{"$f":"IF($B68=1,'Sjekkliste for utfylling'!B126,\"\")","v":""},null,{"$f":"IF(C68=1,'Sjekkliste for utfylling'!L126,\" \")","v":" "}]
[{"$f":"'Sjekkliste for utfylling'!A127","v":68},{"$f":"IF('Sjekkliste for utfylling'!J127<>\"\",1,0)","v":0},0,null,{"$f":"IF($B69=1,'Sjekkliste for utfylling'!A127,\"\")","v":""},{"$f":"IF($B69=1,'Sjekkliste for utfylling'!B127,\"\")","v":""},null,{"$f":"IF(C69=1,'Sjekkliste for utfylling'!L127,\" \")","v":" "}]
[{"$f":"'Sjekkliste for utfylling'!A128","v":69},{"$f":"IF('Sjekkliste for utfylling'!J128<>\"\",1,0)","v":0},0,null,{"$f":"IF($B70=1,'Sjekkliste for utfylling'!A128,\"\")","v":""},{"$f":"IF($B70=1,'Sjekkliste for utfylling'!B128,\"\")","v":""},null,{"$f":"IF(C70=1,'Sjekkliste for utfylling'!L128,\" \")","v":" "}]
[{"$f":"'Sjekkliste for utfylling'!A130","v":70},{"$f":"IF('Sjekkliste for utfylling'!J130<>\"\",1,0)","v":0},0,null,{"$f":"IF($B71=1,'Sjekkliste for utfylling'!A130,\"\")","v":""},{"$f":"IF($B71=1,'Sjekkliste for utfylling'!B130,\"\")","v":""},null,{"$f":"IF(C71=1,'Sjekkliste for utfylling'!L130,\" \")","v":" "}]
[{"$f":"'Sjekkliste for utfylling'!A131","v":71},{"$f":"IF('Sjekkliste for utfylling'!J131<>\"\",1,0)","v":0},0,null,{"$f":"IF($B72=1,'Sjekkliste for utfylling'!A131,\"\")","v":""},{"$f":"IF($B72=1,'Sjekkliste for utfylling'!B131,\"\")","v":""},null,{"$f":"IF(C72=1,'Sjekkliste for utfylling'!L131,\" \")","v":" "}]
[{"$f":"'Sjekkliste for utfylling'!A132","v":72},{"$f":"IF('Sjekkliste for utfylling'!J132<>\"\",1,0)","v":0},0,null,{"$f":"IF($B73=1,'Sjekkliste for utfylling'!A132,\"\")","v":""},{"$f":"IF($B73=1,'Sjekkliste for utfylling'!B132,\"\")","v":""},null,{"$f":"IF(C73=1,'Sjekkliste for utfylling'!L132,\" \")","v":" "}]
[{"$f":"'Sjekkliste for utfylling'!A133","v":73},{"$f":"IF('Sjekkliste for utfylling'!J133<>\"\",1,0)","v":0},0,null,{"$f":"IF($B74=1,'Sjekkliste for utfylling'!A133,\"\")","v":""},{"$f":"IF($B74=1,'Sjekkliste for utfylling'!B133,\"\")","v":""},null,{"$f":"IF(C74=1,'Sjekkliste for utfylling'!L133,\" \")","v":" "}]
[{"$f":"'Sjekkliste for utfylling'!A136","v":74},{"$f":"IF('Sjekkliste for utfylling'!J136<>\"\",1,0)","v":0},0,null,{"$f":"IF($B75=1,'Sjekkliste for utfylling'!A136,\"\")","v":""},{"$f":"IF($B75=1,'Sjekkliste for utfylling'!B136,\"\")","v":""},null,{"$f":"IF(C75=1,'Sjekkliste for utfylling'!L136,\" \")","v":" "}]
[{"$f":"'Sjekkliste for utfylling'!A137","v":75},{"$f":"IF('Sjekkliste for utfylling'!J137<>\"\",1,0)","v":0},0,null,{"$f":"IF($B76=1,'Sjekkliste for utfylling'!A137,\"\")","v":""},{"$f":"IF($B76=1,'Sjekkliste for utfylling'!B137,\"\")","v":""},null,{"$f":"IF(C76=1,'Sjekkliste for utfylling'!L137,\" \")","v":" "}]
[{"$f":"'Sjekkliste for utfylling'!A138","v":76},{"$f":"IF('Sjekkliste for utfylling'!J138<>\"\",1,0)","v":0},0,null,{"$f":"IF($B77=1,'Sjekkliste for utfylling'!A138,\"\")","v":""},{"$f":"IF($B77=1,'Sjekkliste for utfylling'!B138,\"\")","v":""},null,{"$f":"IF(C77=1,'Sjekkliste for utfylling'!L138,\" \")","v":" "}]
[{"$f":"'Sjekkliste for utfylling'!A141","v":77},{"$f":"IF('Sjekkliste for utfylling'!J141<>\"\",1,0)","v":0},0,null,{"$f":"IF($B78=1,'Sjekkliste for utfylling'!A141,\"\")","v":""},{"$f":"IF($B78=1,'Sjekkliste for utfylling'!B141,\"\")","v":""},null,{"$f":"IF(C78=1,'Sjekkliste for utfylling'!L141,\" \")","v":" "}]
[{"$f":"'Sjekkliste for utfylling'!A142","v":78},{"$f":"IF('Sjekkliste for utfylling'!J142<>\"\",1,0)","v":0},0,null,{"$f":"IF($B79=1,'Sjekkliste for utfylling'!A142,\"\")","v":""},{"$f":"IF($B79=1,'Sjekkliste for utfylling'!B142,\"\")","v":""},null,{"$f":"IF(C79=1,'Sjekkliste for utfylling'!L142,\" \")","v":" "}]
[{"$f":"'Sjekkliste for utfylling'!A144","v":79},{"$f":"IF('Sjekkliste for utfylling'!J144<>\"\",1,0)","v":0},0,null,{"$f":"IF($B80=1,'Sjekkliste for utfylling'!A144,\"\")","v":""},{"$f":"IF($B80=1,'Sjekkliste for utfylling'!B144,\"\")","v":""},null,{"$f":"IF(C80=1,'Sjekkliste for utfylling'!L144,\" \")","v":" "}]
[{"$f":"'Sjekkliste for utfylling'!A145","v":80},{"$f":"IF('Sjekkliste for utfylling'!J145<>\"\",1,0)","v":0},0,null,{"$f":"IF($B81=1,'Sjekkliste for utfylling'!A145,\"\")","v":""},{"$f":"IF($B81=1,'Sjekkliste for utfylling'!B145,\"\")","v":""},null,{"$f":"IF(C81=1,'Sjekkliste for utfylling'!L145,\" \")","v":" "}]
[{"$f":"'Sjekkliste for utfylling'!A146","v":81},{"$f":"IF('Sjekkliste for utfylling'!J146<>\"\",1,0)","v":0},0,null,{"$f":"IF($B82=1,'Sjekkliste for utfylling'!A146,\"\")","v":""},{"$f":"IF($B82=1,'Sjekkliste for utfylling'!B146,\"\")","v":""},null,{"$f":"IF(C82=1,'Sjekkliste for utfylling'!L146,\" \")","v":" "}]
[{"$f":"'Sjekkliste for utfylling'!A147","v":82},{"$f":"IF('Sjekkliste for utfylling'!J147<>\"\",1,0)","v":0},0,null,{"$f":"IF($B83=1,'Sjekkliste for utfylling'!A147,\"\")","v":""},{"$f":"IF($B83=1,'Sjekkliste for utfylling'!B147,\"\")","v":""},null,{"$f":"IF(C83=1,'Sjekkliste for utfylling'!L147,\" \")","v":" "}]
[{"$f":"'Sjekkliste for utfylling'!A148","v":83},{"$f":"IF('Sjekkliste for utfylling'!J148<>\"\",1,0)","v":0},0,null,{"$f":"IF($B84=1,'Sjekkliste for utfylling'!A148,\"\")","v":""},{"$f":"IF($B84=1,'Sjekkliste for utfylling'!B148,\"\")","v":""},null,{"$f":"IF(C84=1,'Sjekkliste for utfylling'!L148,\" \")","v":" "}]
[{"$f":"'Sjekkliste for utfylling'!A150","v":84},{"$f":"IF('Sjekkliste for utfylling'!J150<>\"\",1,0)","v":0},0,null,{"$f":"IF($B85=1,'Sjekkliste for utfylling'!A150,\"\")","v":""},{"$f":"IF($B85=1,'Sjekkliste for utfylling'!B150,\"\")","v":""},null,{"$f":"IF(C85=1,'Sjekkliste for utfylling'!L150,\" \")","v":" "}]
[{"$f":"'Sjekkliste for utfylling'!A151","v":85},{"$f":"IF('Sjekkliste for utfylling'!J151<>\"\",1,0)","v":0},0,null,{"$f":"IF($B86=1,'Sjekkliste for utfylling'!A151,\"\")","v":""},{"$f":"IF($B86=1,'Sjekkliste for utfylling'!B151,\"\")","v":""},null,{"$f":"IF(C86=1,'Sjekkliste for utfylling'!L151,\" \")","v":" "}]
[{"$f":"'Sjekkliste for utfylling'!A153","v":86},{"$f":"IF('Sjekkliste for utfylling'!J153<>\"\",1,0)","v":0},0,null,{"$f":"IF($B87=1,'Sjekkliste for utfylling'!A153,\"\")","v":""},{"$f":"IF($B87=1,'Sjekkliste for utfylling'!B153,\"\")","v":""},null,{"$f":"IF(C87=1,'Sjekkliste for utfylling'!L153,\" \")","v":" "}]
[{"$f":"'Sjekkliste for utfylling'!A154","v":87},{"$f":"IF('Sjekkliste for utfylling'!J154<>\"\",1,0)","v":0},0,null,{"$f":"IF($B88=1,'Sjekkliste for utfylling'!A154,\"\")","v":""},{"$f":"IF($B88=1,'Sjekkliste for utfylling'!B154,\"\")","v":""},null,{"$f":"IF(C88=1,'Sjekkliste for utfylling'!L154,\" \")","v":" "}]
[{"$f":"'Sjekkliste for utfylling'!A155","v":88},{"$f":"IF('Sjekkliste for utfylling'!J155<>\"\",1,0)","v":0},0,null,{"$f":"IF($B89=1,'Sjekkliste for utfylling'!A155,\"\")","v":""},{"$f":"IF($B89=1,'Sjekkliste for utfylling'!B155,\"\")","v":""},null,{"$f":"IF(C89=1,'Sjekkliste for utfylling'!L155,\" \")","v":" "}]
[{"$f":"'Sjekkliste for utfylling'!A156","v":89},{"$f":"IF('Sjekkliste for utfylling'!J156<>\"\",1,0)","v":0},0,null,{"$f":"IF($B90=1,'Sjekkliste for utfylling'!A156,\"\")","v":""},{"$f":"IF($B90=1,'Sjekkliste for utfylling'!B156,\"\")","v":""},null,{"$f":"IF(C90=1,'Sjekkliste for utfylling'!L156,\" \")","v":" "}]
[{"$f":"'Sjekkliste for utfylling'!A157","v":90},{"$f":"IF('Sjekkliste for utfylling'!J157<>\"\",1,0)","v":0},0,null,{"$f":"IF($B91=1,'Sjekkliste for utfylling'!A157,\"\")","v":""},{"$f":"IF($B91=1,'Sjekkliste for utfylling'!B157,\"\")","v":""},null,{"$f":"IF(C91=1,'Sjekkliste for utfylling'!L157,\" \")","v":" "}]
[{"$f":"'Sjekkliste for utfylling'!A158","v":91},{"$f":"IF('Sjekkliste for utfylling'!J158<>\"\",1,0)","v":0},0,null,{"$f":"IF($B92=1,'Sjekkliste for utfylling'!A158,\"\")","v":""},{"$f":"IF($B92=1,'Sjekkliste for utfylling'!B158,\"\")","v":""},null,{"$f":"IF(C92=1,'Sjekkliste for utfylling'!L158,\" \")","v":" "}]
[{"$f":"'Sjekkliste for utfylling'!A159","v":92},{"$f":"IF('Sjekkliste for utfylling'!J159<>\"\",1,0)","v":0},0,null,{"$f":"IF($B93=1,'Sjekkliste for utfylling'!A159,\"\")","v":""},{"$f":"IF($B93=1,'Sjekkliste for utfylling'!B159,\"\")","v":""},null,{"$f":"IF(C93=1,'Sjekkliste for utfylling'!L159,\" \")","v":" "}]
[{"$f":"'Sjekkliste for utfylling'!A160","v":93},{"$f":"IF('Sjekkliste for utfylling'!J160<>\"\",1,0)","v":0},0,null,{"$f":"IF($B94=1,'Sjekkliste for utfylling'!A160,\"\")","v":""},{"$f":"IF($B94=1,'Sjekkliste for utfylling'!B160,\"\")","v":""},null,{"$f":"IF(C94=1,'Sjekkliste for utfylling'!L160,\" \")","v":" "}]
[{"$f":"'Sjekkliste for utfylling'!A162","v":94},{"$f":"IF('Sjekkliste for utfylling'!J162<>\"\",1,0)","v":0},0,null,{"$f":"IF($B95=1,'Sjekkliste for utfylling'!A162,\"\")","v":""},{"$f":"IF($B95=1,'Sjekkliste for utfylling'!B162,\"\")","v":""},null,{"$f":"IF(C95=1,'Sjekkliste for utfylling'!L162,\" \")","v":" "}]
[{"$f":"'Sjekkliste for utfylling'!A164","v":95},{"$f":"IF('Sjekkliste for utfylling'!J164<>\"\",1,0)","v":0},0,null,{"$f":"IF($B96=1,'Sjekkliste for utfylling'!A164,\"\")","v":""},{"$f":"IF($B96=1,'Sjekkliste for utfylling'!B164,\"\")","v":""},null,{"$f":"IF(C96=1,'Sjekkliste for utfylling'!L164,\" \")","v":" "}]
[{"$f":"'Sjekkliste for utfylling'!A170","v":96},{"$f":"IF('Sjekkliste for utfylling'!J170<>\"\",1,0)","v":0},0,null,{"$f":"IF($B97=1,'Sjekkliste for utfylling'!A170,\"\")","v":""},{"$f":"IF($B97=1,'Sjekkliste for utfylling'!B170,\"\")","v":""},null,{"$f":"IF(C97=1,'Sjekkliste for utfylling'!L170,\" \")","v":" "}]
[{"$f":"'Sjekkliste for utfylling'!A171","v":97},{"$f":"IF('Sjekkliste for utfylling'!J171<>\"\",1,0)","v":0},0,null,{"$f":"IF($B98=1,'Sjekkliste for utfylling'!A171,\"\")","v":""},{"$f":"IF($B98=1,'Sjekkliste for utfylling'!B171,\"\")","v":""},null,{"$f":"IF(C98=1,'Sjekkliste for utfylling'!L171,\" \")","v":" "}]
[{"$f":"'Sjekkliste for utfylling'!A172","v":98},{"$f":"IF('Sjekkliste for utfylling'!J172<>\"\",1,0)","v":0},0,null,{"$f":"IF($B99=1,'Sjekkliste for utfylling'!A172,\"\")","v":""},{"$f":"IF($B99=1,'Sjekkliste for utfylling'!B172,\"\")","v":""},null,{"$f":"IF(C99=1,'Sjekkliste for utfylling'!L172,\" \")","v":" "}]
[{"$f":"'Sjekkliste for utfylling'!A173","v":99},{"$f":"IF('Sjekkliste for utfylling'!J173<>\"\",1,0)","v":0},0,null,{"$f":"IF($B100=1,'Sjekkliste for utfylling'!A173,\"\")","v":""},{"$f":"IF($B100=1,'Sjekkliste for utfylling'!B173,\"\")","v":""},null,{"$f":"IF(C100=1,'Sjekkliste for utfylling'!L173,\" \")","v":" "}]
[{"$f":"'Sjekkliste for utfylling'!A174","v":100},{"$f":"IF('Sjekkliste for utfylling'!J174<>\"\",1,0)","v":0},0,null,{"$f":"IF($B101=1,'Sjekkliste for utfylling'!A174,\"\")","v":""},{"$f":"IF($B101=1,'Sjekkliste for utfylling'!B174,\"\")","v":""},null,{"$f":"IF(C101=1,'Sjekkliste for utfylling'!L174,\" \")","v":" "}]
[{"$f":"'Sjekkliste for utfylling'!A175","v":101},{"$f":"IF('Sjekkliste for utfylling'!J175<>\"\",1,0)","v":0},0,null,{"$f":"IF($B102=1,'Sjekkliste for utfylling'!A175,\"\")","v":""},{"$f":"IF($B102=1,'Sjekkliste for utfylling'!B175,\"\")","v":""},null,{"$f":"IF(C102=1,'Sjekkliste for utfylling'!L175,\" \")","v":" "}]
[{"$f":"'Sjekkliste for utfylling'!A176","v":102},{"$f":"IF('Sjekkliste for utfylling'!J176<>\"\",1,0)","v":0},0,null,{"$f":"IF($B103=1,'Sjekkliste for utfylling'!A176,\"\")","v":""},{"$f":"IF($B103=1,'Sjekkliste for utfylling'!B176,\"\")","v":""},null,{"$f":"IF(C103=1,'Sjekkliste for utfylling'!L176,\" \")","v":" "}]
[{"$f":"'Sjekkliste for utfylling'!A177","v":103},{"$f":"IF('Sjekkliste for utfylling'!J177<>\"\",1,0)","v":0},0,null,{"$f":"IF($B104=1,'Sjekkliste for utfylling'!A177,\"\")","v":""},{"$f":"IF($B104=1,'Sjekkliste for utfylling'!B177,\"\")","v":""},null,{"$f":"IF(C104=1,'Sjekkliste for utfylling'!L177,\" \")","v":" "}]
[{"$f":"'Sjekkliste for utfylling'!A178","v":104},{"$f":"IF('Sjekkliste for utfylling'!J178<>\"\",1,0)","v":0},0,null,{"$f":"IF($B105=1,'Sjekkliste for utfylling'!A178,\"\")","v":""},{"$f":"IF($B105=1,'Sjekkliste for utfylling'!B178,\"\")","v":""},null,{"$f":"IF(C105=1,'Sjekkliste for utfylling'!L178,\" \")","v":" "}]
[{"$f":"'Sjekkliste for utfylling'!A181","v":105},{"$f":"IF('Sjekkliste for utfylling'!J181<>\"\",1,0)","v":0},0,null,{"$f":"IF($B106=1,'Sjekkliste for utfylling'!A181,\"\")","v":""},{"$f":"IF($B106=1,'Sjekkliste for utfylling'!B181,\"\")","v":""},null,{"$f":"IF(C106=1,'Sjekkliste for utfylling'!L181,\" \")","v":" "}]
[{"$f":"'Sjekkliste for utfylling'!A182","v":106},{"$f":"IF('Sjekkliste for utfylling'!J182<>\"\",1,0)","v":0},0,null,{"$f":"IF($B107=1,'Sjekkliste for utfylling'!A182,\"\")","v":""},{"$f":"IF($B107=1,'Sjekkliste for utfylling'!B182,\"\")","v":""},null,{"$f":"IF(C107=1,'Sjekkliste for utfylling'!L182,\" \")","v":" "}]
[{"$f":"'Sjekkliste for utfylling'!A184","v":107},{"$f":"IF('Sjekkliste for utfylling'!J184<>\"\",1,0)","v":0},0,null,{"$f":"IF($B108=1,'Sjekkliste for utfylling'!A184,\"\")","v":""},{"$f":"IF($B108=1,'Sjekkliste for utfylling'!B184,\"\")","v":""},null,{"$f":"IF(C108=1,'Sjekkliste for utfylling'!L184,\" \")","v":" "}]
[{"$f":"'Sjekkliste for utfylling'!A185","v":108},{"$f":"IF('Sjekkliste for utfylling'!J185<>\"\",1,0)","v":0},0,null,{"$f":"IF($B109=1,'Sjekkliste for utfylling'!A185,\"\")","v":""},{"$f":"IF($B109=1,'Sjekkliste for utfylling'!B185,\"\")","v":""},null,{"$f":"IF(C109=1,'Sjekkliste for utfylling'!L185,\" \")","v":" "}]
[{"$f":"'Sjekkliste for utfylling'!A187","v":109},{"$f":"IF('Sjekkliste for utfylling'!J187<>\"\",1,0)","v":0},0,null,{"$f":"IF($B110=1,'Sjekkliste for utfylling'!A187,\"\")","v":""},{"$f":"IF($B110=1,'Sjekkliste for utfylling'!B187,\"\")","v":""},null,{"$f":"IF(C110=1,'Sjekkliste for utfylling'!L187,\" \")","v":" "}]
[{"$f":"'Sjekkliste for utfylling'!A188","v":110},{"$f":"IF('Sjekkliste for utfylling'!J188<>\"\",1,0)","v":0},0,null,{"$f":"IF($B111=1,'Sjekkliste for utfylling'!A188,\"\")","v":""},{"$f":"IF($B111=1,'Sjekkliste for utfylling'!B188,\"\")","v":""},null,{"$f":"IF(C111=1,'Sjekkliste for utfylling'!L188,\" \")","v":" "}]
[{"$f":"'Sjekkliste for utfylling'!A190","v":111},{"$f":"IF('Sjekkliste for utfylling'!J190<>\"\",1,0)","v":0},0,null,{"$f":"IF($B112=1,'Sjekkliste for utfylling'!A190,\"\")","v":""},{"$f":"IF($B112=1,'Sjekkliste for utfylling'!B190,\"\")","v":""},null,{"$f":"IF(C112=1,'Sjekkliste for utfylling'!L190,\" \")","v":" "}]
[{"$f":"'Sjekkliste for utfylling'!A191","v":112},{"$f":"IF('Sjekkliste for utfylling'!J191<>\"\",1,0)","v":0},0,null,{"$f":"IF($B113=1,'Sjekkliste for utfylling'!A191,\"\")","v":""},{"$f":"IF($B113=1,'Sjekkliste for utfylling'!B191,\"\")","v":""},null,{"$f":"IF(C113=1,'Sjekkliste for utfylling'!L191,\" \")","v":" "}]
[{"$f":"'Sjekkliste for utfylling'!A192","v":113},{"$f":"IF('Sjekkliste for utfylling'!J192<>\"\",1,0)","v":0},0,null,{"$f":"IF($B114=1,'Sjekkliste for utfylling'!A192,\"\")","v":""},{"$f":"IF($B114=1,'Sjekkliste for utfylling'!B192,\"\")","v":""},null,{"$f":"IF(C114=1,'Sjekkliste for utfylling'!L192,\" \")","v":" "}]
[{"$f":"'Sjekkliste for utfylling'!A195","v":114},{"$f":"IF('Sjekkliste for utfylling'!J195<>\"\",1,0)","v":0},0,null,{"$f":"IF($B115=1,'Sjekkliste for utfylling'!A195,\"\")","v":""},{"$f":"IF($B115=1,'Sjekkliste for utfylling'!B195,\"\")","v":""},null,{"$f":"IF(C115=1,'Sjekkliste for utfylling'!L195,\" \")","v":" "}]
[{"$f":"'Sjekkliste for utfylling'!A196","v":115},{"$f":"IF('Sjekkliste for utfylling'!J196<>\"\",1,0)","v":0},0,null,{"$f":"IF($B116=1,'Sjekkliste for utfylling'!A196,\"\")","v":""},{"$f":"IF($B116=1,'Sjekkliste for utfylling'!B196,\"\")","v":""},null,{"$f":"IF(C116=1,'Sjekkliste for utfylling'!L196,\" \")","v":" "}]
[{"$f":"'Sjekkliste for utfylling'!A198","v":116},{"$f":"IF('Sjekkliste for utfylling'!J198<>\"\",1,0)","v":0},0,null,{"$f":"IF($B117=1,'Sjekkliste for utfylling'!A198,\"\")","v":""},{"$f":"IF($B117=1,'Sjekkliste for utfylling'!B198,\"\")","v":""},null,{"$f":"IF(C117=1,'Sjekkliste for utfylling'!L198,\" \")","v":" "}]
[{"$f":"'Sjekkliste for utfylling'!A200","v":117},{"$f":"IF('Sjekkliste for utfylling'!J200<>\"\",1,0)","v":0},0,null,{"$f":"IF($B118=1,'Sjekkliste for utfylling'!A200,\"\")","v":""},{"$f":"IF($B118=1,'Sjekkliste for utfylling'!B200,\"\")","v":""},null,{"$f":"IF(C118=1,'Sjekkliste for utfylling'!L200,\" \")","v":" "}]
[{"$f":"'Sjekkliste for utfylling'!A202","v":118},{"$f":"IF('Sjekkliste for utfylling'!J202<>\"\",1,0)","v":0},0,null,{"$f":"IF($B119=1,'Sjekkliste for utfylling'!A202,\"\")","v":""},{"$f":"IF($B119=1,'Sjekkliste for utfylling'!B202,\"\")","v":""},null,{"$f":"IF(C119=1,'Sjekkliste for utfylling'!L202,\" \")","v":" "}]
[{"$f":"'Sjekkliste for utfylling'!A209","v":119},{"$f":"IF('Sjekkliste for utfylling'!J209<>\"\",1,0)","v":0},0,null,{"$f":"IF($B120=1,'Sjekkliste for utfylling'!A209,\"\")","v":""},{"$f":"IF($B120=1,'Sjekkliste for utfylling'!B209,\"\")","v":""},null,{"$f":"IF(C120=1,'Sjekkliste for utfylling'!L209,\" \")","v":" "}]
[{"$f":"'Sjekkliste for utfylling'!A218","v":120},{"$f":"IF('Sjekkliste for utfylling'!J218<>\"\",1,0)","v":0},0,null,{"$f":"IF($B121=1,'Sjekkliste for utfylling'!A218,\"\")","v":""},{"$f":"IF($B121=1,'Sjekkliste for utfylling'!B218,\"\")","v":""},null,{"$f":"IF(C121=1,'Sjekkliste for utfylling'!L218,\" \")","v":" "}]
[{"$f":"'Sjekkliste for utfylling'!A221","v":121},{"$f":"IF('Sjekkliste for utfylling'!J221<>\"\",1,0)","v":0},0,null,{"$f":"IF($B122=1,'Sjekkliste for utfylling'!A221,\"\")","v":""},{"$f":"IF($B122=1,'Sjekkliste for utfylling'!B221,\"\")","v":""},null,{"$f":"IF(C122=1,'Sjekkliste for utfylling'!L221,\" \")","v":" "}]
[{"$f":"'Sjekkliste for utfylling'!A223","v":122},{"$f":"IF('Sjekkliste for utfylling'!J223<>\"\",1,0)","v":0},0,null,{"$f":"IF($B123=1,'Sjekkliste for utfylling'!A223,\"\")","v":""},{"$f":"IF($B123=1,'Sjekkliste for utfylling'!B223,\"\")","v":""},null,{"$f":"IF(C123=1,'Sjekkliste for utfylling'!L223,\" \")","v":" "}]
[{"$f":"'Sjekkliste for utfylling'!A224","v":123},{"$f":"IF('Sjekkliste for utfylling'!J224<>\"\",1,0)","v":0},0,null,{"$f":"IF($B124=1,'Sjekkliste for utfylling'!A224,\"\")","v":""},{"$f":"IF($B124=1,'Sjekkliste for utfylling'!B224,\"\")","v":""},null,{"$f":"IF(C124=1,'Sjekkliste for utfylling'!L224,\" \")","v":" "}]
[{"$f":"'Sjekkliste for utfylling'!A225","v":124},{"$f":"IF('Sjekkliste for utfylling'!J225<>\"\",1,0)","v":0},0,null,{"$f":"IF($B125=1,'Sjekkliste for utfylling'!A225,\"\")","v":""},{"$f":"IF($B125=1,'Sjekkliste for utfylling'!B225,\"\")","v":""},null,{"$f":"IF(C125=1,'Sjekkliste for utfylling'!L225,\" \")","v":" "}]
[{"$f":"'Sjekkliste for utfylling'!A227","v":125},{"$f":"IF('Sjekkliste for utfylling'!J227<>\"\",1,0)","v":0},0,null,{"$f":"IF($B126=1,'Sjekkliste for utfylling'!A227,\"\")","v":""},{"$f":"IF($B126=1,'Sjekkliste for utfylling'!B227,\"\")","v":""},null,{"$f":"IF(C126=1,'Sjekkliste for utfylling'!L227,\" \")","v":" "}]
[{"$f":"'Sjekkliste for utfylling'!A228","v":126},{"$f":"IF('Sjekkliste for utfylling'!J228<>\"\",1,0)","v":0},0,null,{"$f":"IF($B127=1,'Sjekkliste for utfylling'!A228,\"\")","v":""},{"$f":"IF($B127=1,'Sjekkliste for utfylling'!B228,\"\")","v":""},null,{"$f":"IF(C127=1,'Sjekkliste for utfylling'!L228,\" \")","v":" "}]
[{"$f":"'Sjekkliste for utfylling'!A229","v":127},{"$f":"IF('Sjekkliste for utfylling'!J229<>\"\",1,0)","v":0},0,null,{"$f":"IF($B128=1,'Sjekkliste for utfylling'!A229,\"\")","v":""},{"$f":"IF($B128=1,'Sjekkliste for utfylling'!B229,\"\")","v":""},null,{"$f":"IF(C128=1,'Sjekkliste for utfylling'!L229,\" \")","v":" "}]
[{"$f":"'Sjekkliste for utfylling'!A230","v":128},{"$f":"IF('Sjekkliste for utfylling'!J230<>\"\",1,0)","v":0},0,null,{"$f":"IF($B129=1,'Sjekkliste for utfylling'!A230,\"\")","v":""},{"$f":"IF($B129=1,'Sjekkliste for utfylling'!B230,\"\")","v":""},null,{"$f":"IF(C129=1,'Sjekkliste for utfylling'!L230,\" \")","v":" "}]
[{"$f":"'Sjekkliste for utfylling'!A232","v":129},{"$f":"IF('Sjekkliste for utfylling'!J232<>\"\",1,0)","v":0},{"$f":"SUM(B130:B130)","v":0},null,{"$f":"IF($B130=1,'Sjekkliste for utfylling'!A232,\"\")","v":""},{"$f":"IF($B130=1,'Sjekkliste for utfylling'!B232,\"\")","v":""},null,{"$f":"IF(C130=1,'Sjekkliste for utfylling'!L232,\" \")","v":" "}]
[{"$f":"'Sjekkliste for utfylling'!A233","v":130},{"$f":"IF('Sjekkliste for utfylling'!J233<>\"\",1,0)","v":0},0,null,{"$f":"IF($B131=1,'Sjekkliste for utfylling'!A233,\"\")","v":""},{"$f":"IF($B131=1,'Sjekkliste for utfylling'!B233,\"\")","v":""},null,{"$f":"IF(C131=1,'Sjekkliste for utfylling'!L233,\" \")","v":" "}]
[{"$f":"'Sjekkliste for utfylling'!A235","v":131},{"$f":"IF('Sjekkliste for utfylling'!J235<>\"\",1,0)","v":0},0,null,{"$f":"IF($B132=1,'Sjekkliste for utfylling'!A235,\"\")","v":""},{"$f":"IF($B132=1,'Sjekkliste for utfylling'!B235,\"\")","v":""},null,{"$f":"IF(C132=1,'Sjekkliste for utfylling'!L235,\" \")","v":" "}]
[{"$f":"'Sjekkliste for utfylling'!A237","v":132},{"$f":"IF('Sjekkliste for utfylling'!J237<>\"\",1,0)","v":0},0,null,{"$f":"IF($B133=1,'Sjekkliste for utfylling'!A237,\"\")","v":""},{"$f":"IF($B133=1,'Sjekkliste for utfylling'!B237,\"\")","v":""},null,{"$f":"IF(C133=1,'Sjekkliste for utfylling'!L237,\" \")","v":" "}]
[{"$f":"'Sjekkliste for utfylling'!A240","v":133},{"$f":"IF('Sjekkliste for utfylling'!J240<>\"\",1,0)","v":0},0,null,{"$f":"IF($B134=1,'Sjekkliste for utfylling'!A240,\"\")","v":""},{"$f":"IF($B134=1,'Sjekkliste for utfylling'!B240,\"\")","v":""},null,{"$f":"IF(C134=1,'Sjekkliste for utfylling'!L240,\" \")","v":" "}]
[{"$f":"'Sjekkliste for utfylling'!A242","v":134},{"$f":"IF('Sjekkliste for utfylling'!J242<>\"\",1,0)","v":0},0,null,{"$f":"IF($B135=1,'Sjekkliste for utfylling'!A242,\"\")","v":""},{"$f":"IF($B135=1,'Sjekkliste for utfylling'!B242,\"\")","v":""},null,{"$f":"IF(C135=1,'Sjekkliste for utfylling'!L242,\" \")","v":" "}]
[{"$f":"'Sjekkliste for utfylling'!A243","v":135},{"$f":"IF('Sjekkliste for utfylling'!J243<>\"\",1,0)","v":0},0,null,{"$f":"IF($B136=1,'Sjekkliste for utfylling'!A243,\"\")","v":""},{"$f":"IF($B136=1,'Sjekkliste for utfylling'!B243,\"\")","v":""},null,{"$f":"IF(C136=1,'Sjekkliste for utfylling'!L243,\" \")","v":" "}]
[{"$f":"'Sjekkliste for utfylling'!A245","v":136},{"$f":"IF('Sjekkliste for utfylling'!J245<>\"\",1,0)","v":0},0,null,{"$f":"IF($B137=1,'Sjekkliste for utfylling'!A245,\"\")","v":""},{"$f":"IF($B137=1,'Sjekkliste for utfylling'!B245,\"\")","v":""},null,{"$f":"IF(C137=1,'Sjekkliste for utfylling'!L245,\" \")","v":" "}]
[{"$f":"'Sjekkliste for utfylling'!A246","v":137},{"$f":"IF('Sjekkliste for utfylling'!J246<>\"\",1,0)","v":0},0,null,{"$f":"IF($B138=1,'Sjekkliste for utfylling'!A246,\"\")","v":""},{"$f":"IF($B138=1,'Sjekkliste for utfylling'!B246,\"\")","v":""},null,{"$f":"IF(C138=1,'Sjekkliste for utfylling'!L246,\" \")","v":" "}]
[{"$f":"'Sjekkliste for utfylling'!A247","v":138},{"$f":"IF('Sjekkliste for utfylling'!J247<>\"\",1,0)","v":0},0,null,{"$f":"IF($B139=1,'Sjekkliste for utfylling'!A247,\"\")","v":""},{"$f":"IF($B139=1,'Sjekkliste for utfylling'!B247,\"\")","v":""},null,{"$f":"IF(C139=1,'Sjekkliste for utfylling'!L247,\" \")","v":" "}]
[{"$f":"'Sjekkliste for utfylling'!A249","v":139},{"$f":"IF('Sjekkliste for utfylling'!J249<>\"\",1,0)","v":0},0,null,{"$f":"IF($B140=1,'Sjekkliste for utfylling'!A249,\"\")","v":""},{"$f":"IF($B140=1,'Sjekkliste for utfylling'!B249,\"\")","v":""},null,{"$f":"IF(C140=1,'Sjekkliste for utfylling'!L249,\" \")","v":" "}]
[{"$f":"'Sjekkliste for utfylling'!A250","v":140},{"$f":"IF('Sjekkliste for utfylling'!J250<>\"\",1,0)","v":0},0,null,{"$f":"IF($B141=1,'Sjekkliste for utfylling'!A250,\"\")","v":""},{"$f":"IF($B141=1,'Sjekkliste for utfylling'!B250,\"\")","v":""},null,{"$f":"IF(C141=1,'Sjekkliste for utfylling'!L250,\" \")","v":" "}]
[{"$f":"'Sjekkliste for utfylling'!A251","v":141},{"$f":"IF('Sjekkliste for utfylling'!J251<>\"\",1,0)","v":0},0,null,{"$f":"IF($B142=1,'Sjekkliste for utfylling'!A251,\"\")","v":""},{"$f":"IF($B142=1,'Sjekkliste for utfylling'!B251,\"\")","v":""},null,{"$f":"IF(C142=1,'Sjekkliste for utfylling'!L251,\" \")","v":" "}]
[{"$f":"'Sjekkliste for utfylling'!A252","v":142},{"$f":"IF('Sjekkliste for utfylling'!J252<>\"\",1,0)","v":0},0,null,{"$f":"IF($B143=1,'Sjekkliste for utfylling'!A252,\"\")","v":""},{"$f":"IF($B143=1,'Sjekkliste for utfylling'!B252,\"\")","v":""},null,{"$f":"IF(C143=1,'Sjekkliste for utfylling'!L252,\" \")","v":" "}]
[{"$f":"'Sjekkliste for utfylling'!A255","v":143},{"$f":"IF('Sjekkliste for utfylling'!J255<>\"\",1,0)","v":0},0,null,{"$f":"IF($B144=1,'Sjekkliste for utfylling'!A255,\"\")","v":""},{"$f":"IF($B144=1,'Sjekkliste for utfylling'!B255,\"\")","v":""},null,{"$f":"IF(C144=1,'Sjekkliste for utfylling'!L255,\" \")","v":" "}]
[{"$f":"'Sjekkliste for utfylling'!A256","v":144},{"$f":"IF('Sjekkliste for utfylling'!J256<>\"\",1,0)","v":0},0,null,{"$f":"IF($B145=1,'Sjekkliste for utfylling'!A256,\"\")","v":""},{"$f":"IF($B145=1,'Sjekkliste for utfylling'!B256,\"\")","v":""},null,{"$f":"IF(C145=1,'Sjekkliste for utfylling'!L256,\" \")","v":" "}]
[{"$f":"'Sjekkliste for utfylling'!A258","v":145},{"$f":"IF('Sjekkliste for utfylling'!J258<>\"\",1,0)","v":0},0,null,{"$f":"IF($B146=1,'Sjekkliste for utfylling'!A258,\"\")","v":""},{"$f":"IF($B146=1,'Sjekkliste for utfylling'!B258,\"\")","v":""},null,{"$f":"IF(C146=1,'Sjekkliste for utfylling'!L258,\" \")","v":" "}]
[{"$f":"'Sjekkliste for utfylling'!A260","v":146},{"$f":"IF('Sjekkliste for utfylling'!J260<>\"\",1,0)","v":0},0,null,{"$f":"IF($B147=1,'Sjekkliste for utfylling'!A260,\"\")","v":""},{"$f":"IF($B147=1,'Sjekkliste for utfylling'!B260,\"\")","v":""},null,{"$f":"IF(C147=1,'Sjekkliste for utfylling'!L260,\" \")","v":" "}]
[{"$f":"'Sjekkliste for utfylling'!A261","v":147},{"$f":"IF('Sjekkliste for utfylling'!J261<>\"\",1,0)","v":0},0,null,{"$f":"IF($B148=1,'Sjekkliste for utfylling'!A261,\"\")","v":""},{"$f":"IF($B148=1,'Sjekkliste for utfylling'!B261,\"\")","v":""},null,{"$f":"IF(C148=1,'Sjekkliste for utfylling'!L261,\" \")","v":" "}]
[{"$f":"'Sjekkliste for utfylling'!A263","v":148},{"$f":"IF('Sjekkliste for utfylling'!J263<>\"\",1,0)","v":0},0,null,{"$f":"IF($B149=1,'Sjekkliste for utfylling'!A263,\"\")","v":""},{"$f":"IF($B149=1,'Sjekkliste for utfylling'!B263,\"\")","v":""},null,{"$f":"IF(C149=1,'Sjekkliste for utfylling'!L263,\" \")","v":" "}]
[{"$f":"'Sjekkliste for utfylling'!A264","v":149},{"$f":"IF('Sjekkliste for utfylling'!J264<>\"\",1,0)","v":0},0,null,{"$f":"IF($B150=1,'Sjekkliste for utfylling'!A264,\"\")","v":""},{"$f":"IF($B150=1,'Sjekkliste for utfylling'!B264,\"\")","v":""},null,{"$f":"IF(C150=1,'Sjekkliste for utfylling'!L264,\" \")","v":" "}]
[{"$f":"'Sjekkliste for utfylling'!A266","v":150},{"$f":"IF('Sjekkliste for utfylling'!J266<>\"\",1,0)","v":0},0,null,{"$f":"IF($B151=1,'Sjekkliste for utfylling'!A266,\"\")","v":""},{"$f":"IF($B151=1,'Sjekkliste for utfylling'!B266,\"\")","v":""},null,{"$f":"IF(C151=1,'Sjekkliste for utfylling'!L266,\" \")","v":" "}]
[{"$f":"'Sjekkliste for utfylling'!A267","v":151},{"$f":"IF('Sjekkliste for utfylling'!J267<>\"\",1,0)","v":0},0,null,{"$f":"IF($B152=1,'Sjekkliste for utfylling'!A267,\"\")","v":""},{"$f":"IF($B152=1,'Sjekkliste for utfylling'!B267,\"\")","v":""},null,{"$f":"IF(C152=1,'Sjekkliste for utfylling'!L267,\" \")","v":" "}]
[{"$f":"'Sjekkliste for utfylling'!A269","v":152},{"$f":"IF('Sjekkliste for utfylling'!J269<>\"\",1,0)","v":0},0,null,{"$f":"IF($B153=1,'Sjekkliste for utfylling'!A269,\"\")","v":""},{"$f":"IF($B153=1,'Sjekkliste for utfylling'!B269,\"\")","v":""},null,{"$f":"IF(C153=1,'Sjekkliste for utfylling'!L269,\" \")","v":" "}]
[{"$f":"'Sjekkliste for utfylling'!A271","v":153},{"$f":"IF('Sjekkliste for utfylling'!J271<>\"\",1,0)","v":0},0,null,{"$f":"IF($B154=1,'Sjekkliste for utfylling'!A271,\"\")","v":""},{"$f":"IF($B154=1,'Sjekkliste for utfylling'!B271,\"\")","v":""},null,{"$f":"IF(C154=1,'Sjekkliste for utfylling'!L271,\" \")","v":" "}]
[{"$f":"'Sjekkliste for utfylling'!A273","v":154},{"$f":"IF('Sjekkliste for utfylling'!J273<>\"\",1,0)","v":0},0,null,{"$f":"IF($B155=1,'Sjekkliste for utfylling'!A273,\"\")","v":""},{"$f":"IF($B155=1,'Sjekkliste for utfylling'!B273,\"\")","v":""},null,{"$f":"IF(C155=1,'Sjekkliste for utfylling'!L273,\" \")","v":" "}]
[{"$f":"'Sjekkliste for utfylling'!A274","v":155},{"$f":"IF('Sjekkliste for utfylling'!J274<>\"\",1,0)","v":0},0,null,{"$f":"IF($B156=1,'Sjekkliste for utfylling'!A274,\"\")","v":""},{"$f":"IF($B156=1,'Sjekkliste for utfylling'!B274,\"\")","v":""},null,{"$f":"IF(C156=1,'Sjekkliste for utfylling'!L274,\" \")","v":" "}]
[{"$f":"'Sjekkliste for utfylling'!A275","v":156},{"$f":"IF('Sjekkliste for utfylling'!J275<>\"\",1,0)","v":0},0,null,{"$f":"IF($B157=1,'Sjekkliste for utfylling'!A275,\"\")","v":""},{"$f":"IF($B157=1,'Sjekkliste for utfylling'!B275,\"\")","v":""},null,{"$f":"IF(C157=1,'Sjekkliste for utfylling'!L275,\" \")","v":" "}]
[{"$f":"'Sjekkliste for utfylling'!A276","v":157},{"$f":"IF('Sjekkliste for utfylling'!J276<>\"\",1,0)","v":0},0,null,{"$f":"IF($B158=1,'Sjekkliste for utfylling'!A276,\"\")","v":""},{"$f":"IF($B158=1,'Sjekkliste for utfylling'!B276,\"\")","v":""},null,{"$f":"IF(C158=1,'Sjekkliste for utfylling'!L276,\" \")","v":" "}]
[{"$f":"'Sjekkliste for utfylling'!A277","v":158},{"$f":"IF('Sjekkliste for utfylling'!J277<>\"\",1,0)","v":0},0,null,{"$f":"IF($B159=1,'Sjekkliste for utfylling'!A277,\"\")","v":""},{"$f":"IF($B159=1,'Sjekkliste for utfylling'!B277,\"\")","v":""},null,{"$f":"IF(C159=1,'Sjekkliste for utfylling'!L277,\" \")","v":" "}]
[{"$f":"'Sjekkliste for utfylling'!A278","v":159},{"$f":"IF('Sjekkliste for utfylling'!J278<>\"\",1,0)","v":0},0,null,{"$f":"IF($B160=1,'Sjekkliste for utfylling'!A278,\"\")","v":""},{"$f":"IF($B160=1,'Sjekkliste for utfylling'!B278,\"\")","v":""},null,{"$f":"IF(C160=1,'Sjekkliste for utfylling'!L278,\" \")","v":" "}]
[{"$f":"'Sjekkliste for utfylling'!A279","v":160},{"$f":"IF('Sjekkliste for utfylling'!J279<>\"\",1,0)","v":0},0,null,{"$f":"IF($B161=1,'Sjekkliste for utfylling'!A279,\"\")","v":""},{"$f":"IF($B161=1,'Sjekkliste for utfylling'!B279,\"\")","v":""},null,{"$f":"IF(C161=1,'Sjekkliste for utfylling'!L279,\" \")","v":" "}]
[{"$f":"'Sjekkliste for utfylling'!A280","v":161},{"$f":"IF('Sjekkliste for utfylling'!J280<>\"\",1,0)","v":0},0,null,{"$f":"IF($B162=1,'Sjekkliste for utfylling'!A280,\"\")","v":""},{"$f":"IF($B162=1,'Sjekkliste for utfylling'!B280,\"\")","v":""},null,{"$f":"IF(C162=1,'Sjekkliste for utfylling'!L280,\" \")","v":" "}]
[{"$f":"'Sjekkliste for utfylling'!A281","v":162},{"$f":"IF('Sjekkliste for utfylling'!J281<>\"\",1,0)","v":0},0,null,{"$f":"IF($B163=1,'Sjekkliste for utfylling'!A281,\"\")","v":""},{"$f":"IF($B163=1,'Sjekkliste for utfylling'!B281,\"\")","v":""},null,{"$f":"IF(C163=1,'Sjekkliste for utfylling'!L281,\" \")","v":" "}]
[{"$f":"'Sjekkliste for utfylling'!A282","v":163},{"$f":"IF('Sjekkliste for utfylling'!J282<>\"\",1,0)","v":0},0,null,{"$f":"IF($B164=1,'Sjekkliste for utfylling'!A282,\"\")","v":""},{"$f":"IF($B164=1,'Sjekkliste for utfylling'!B282,\"\")","v":""},null,{"$f":"IF(C164=1,'Sjekkliste for utfylling'!L282,\" \")","v":" "}]
[{"$f":"'Sjekkliste for utfylling'!A283","v":164},{"$f":"IF('Sjekkliste for utfylling'!J283<>\"\",1,0)","v":0},0,null,{"$f":"IF($B165=1,'Sjekkliste for utfylling'!A283,\"\")","v":""},{"$f":"IF($B165=1,'Sjekkliste for utfylling'!B283,\"\")","v":""},null,{"$f":"IF(C165=1,'Sjekkliste for utfylling'!L283,\" \")","v":" "}]
[{"$f":"'Sjekkliste for utfylling'!A284","v":165},{"$f":"IF('Sjekkliste for utfylling'!J284<>\"\",1,0)","v":0},0,null,{"$f":"IF($B166=1,'Sjekkliste for utfylling'!A284,\"\")","v":""},{"$f":"IF($B166=1,'Sjekkliste for utfylling'!B284,\"\")","v":""},null,{"$f":"IF(C166=1,'Sjekkliste for utfylling'!L284,\" \")","v":" "}]
[{"$f":"'Sjekkliste for utfylling'!A286","v":166},{"$f":"IF('Sjekkliste for utfylling'!J286<>\"\",1,0)","v":0},0,null,{"$f":"IF($B167=1,'Sjekkliste for utfylling'!A286,\"\")","v":""},{"$f":"IF($B167=1,'Sjekkliste for utfylling'!B286,\"\")","v":""},null,{"$f":"IF(C167=1,'Sjekkliste for utfylling'!L286,\" \")","v":" "}]
[{"$f":"'Sjekkliste for utfylling'!A287","v":167},{"$f":"IF('Sjekkliste for utfylling'!J287<>\"\",1,0)","v":0},0,null,{"$f":"IF($B168=1,'Sjekkliste for utfylling'!A287,\"\")","v":""},{"$f":"IF($B168=1,'Sjekkliste for utfylling'!B287,\"\")","v":""},null,{"$f":"IF(C168=1,'Sjekkliste for utfylling'!L287,\" \")","v":" "}]
[{"$f":"'Sjekkliste for utfylling'!A288","v":168},{"$f":"IF('Sjekkliste for utfylling'!J288<>\"\",1,0)","v":0},0,null,{"$f":"IF($B169=1,'Sjekkliste for utfylling'!A288,\"\")","v":""},{"$f":"IF($B169=1,'Sjekkliste for utfylling'!B288,\"\")","v":""},null,{"$f":"IF(C169=1,'Sjekkliste for utfylling'!L288,\" \")","v":" "}]
[{"$f":"'Sjekkliste for utfylling'!A290","v":169},{"$f":"IF('Sjekkliste for utfylling'!J290<>\"\",1,0)","v":0},0,null,{"$f":"IF($B170=1,'Sjekkliste for utfylling'!A290,\"\")","v":""},{"$f":"IF($B170=1,'Sjekkliste for utfylling'!B290,\"\")","v":""},null,{"$f":"IF(C170=1,'Sjekkliste for utfylling'!L290,\" \")","v":" "}]
[{"$f":"'Sjekkliste for utfylling'!A291","v":170},{"$f":"IF('Sjekkliste for utfylling'!J291<>\"\",1,0)","v":0},0,null,{"$f":"IF($B171=1,'Sjekkliste for utfylling'!A291,\"\")","v":""},{"$f":"IF($B171=1,'Sjekkliste for utfylling'!B291,\"\")","v":""},null,{"$f":"IF(C171=1,'Sjekkliste for utfylling'!L291,\" \")","v":" "}]
[{"$f":"'Sjekkliste for utfylling'!A295","v":171},{"$f":"IF('Sjekkliste for utfylling'!J295<>\"\",1,0)","v":0},0,null,{"$f":"IF($B172=1,'Sjekkliste for utfylling'!A295,\"\")","v":""},{"$f":"IF($B172=1,'Sjekkliste for utfylling'!B295,\"\")","v":""},null,{"$f":"IF(C172=1,'Sjekkliste for utfylling'!L295,\" \")","v":" "}]
[{"$f":"'Sjekkliste for utfylling'!A296","v":172},{"$f":"IF('Sjekkliste for utfylling'!J296<>\"\",1,0)","v":0},0,null,{"$f":"IF($B173=1,'Sjekkliste for utfylling'!A296,\"\")","v":""},{"$f":"IF($B173=1,'Sjekkliste for utfylling'!B296,\"\")","v":""},null,{"$f":"IF(C173=1,'Sjekkliste for utfylling'!L296,\" \")","v":" "}]
[{"$f":"'Sjekkliste for utfylling'!A297","v":173},{"$f":"IF('Sjekkliste for utfylling'!J297<>\"\",1,0)","v":0},0,null,{"$f":"IF($B174=1,'Sjekkliste for utfylling'!A297,\"\")","v":""},{"$f":"IF($B174=1,'Sjekkliste for utfylling'!B297,\"\")","v":""},null,{"$f":"IF(C174=1,'Sjekkliste for utfylling'!L297,\" \")","v":" "}]
[{"$f":"'Sjekkliste for utfylling'!A301","v":174},{"$f":"IF('Sjekkliste for utfylling'!J301<>\"\",1,0)","v":0},0,null,{"$f":"IF($B175=1,'Sjekkliste for utfylling'!A301,\"\")","v":""},{"$f":"IF($B175=1,'Sjekkliste for utfylling'!B301,\"\")","v":""},null,{"$f":"IF(C175=1,'Sjekkliste for utfylling'!L301,\" \")","v":" "}]
[{"$f":"'Sjekkliste for utfylling'!A303","v":175},{"$f":"IF('Sjekkliste for utfylling'!J303<>\"\",1,0)","v":0},0,null,{"$f":"IF($B176=1,'Sjekkliste for utfylling'!A303,\"\")","v":""},{"$f":"IF($B176=1,'Sjekkliste for utfylling'!B303,\"\")","v":""},null,{"$f":"IF(C176=1,'Sjekkliste for utfylling'!L303,\" \")","v":" "}]
[{"$f":"'Sjekkliste for utfylling'!A304","v":176},{"$f":"IF('Sjekkliste for utfylling'!J304<>\"\",1,0)","v":0},0,null,{"$f":"IF($B177=1,'Sjekkliste for utfylling'!A304,\"\")","v":""},{"$f":"IF($B177=1,'Sjekkliste for utfylling'!B304,\"\")","v":""},null,{"$f":"IF(C177=1,'Sjekkliste for utfylling'!L304,\" \")","v":" "}]
[{"$f":"'Sjekkliste for utfylling'!A307","v":177},{"$f":"IF('Sjekkliste for utfylling'!J307<>\"\",1,0)","v":0},0,null,{"$f":"IF($B178=1,'Sjekkliste for utfylling'!A307,\"\")","v":""},{"$f":"IF($B178=1,'Sjekkliste for utfylling'!B307,\"\")","v":""},null,{"$f":"IF(C178=1,'Sjekkliste for utfylling'!L307,\" \")","v":" "}]
[{"$f":"'Sjekkliste for utfylling'!A308","v":178},{"$f":"IF('Sjekkliste for utfylling'!J308<>\"\",1,0)","v":0},0,null,{"$f":"IF($B179=1,'Sjekkliste for utfylling'!A308,\"\")","v":""},{"$f":"IF($B179=1,'Sjekkliste for utfylling'!B308,\"\")","v":""},null,{"$f":"IF(C179=1,'Sjekkliste for utfylling'!L308,\" \")","v":" "}]
[{"$f":"'Sjekkliste for utfylling'!A309","v":179},{"$f":"IF('Sjekkliste for utfylling'!J309<>\"\",1,0)","v":0},0,null,{"$f":"IF($B180=1,'Sjekkliste for utfylling'!A309,\"\")","v":""},{"$f":"IF($B180=1,'Sjekkliste for utfylling'!B309,\"\")","v":""},null,{"$f":"IF(C180=1,'Sjekkliste for utfylling'!L309,\" \")","v":" "}]
[{"$f":"'Sjekkliste for utfylling'!A310","v":180},{"$f":"IF('Sjekkliste for utfylling'!J310<>\"\",1,0)","v":0},0,null,{"$f":"IF($B181=1,'Sjekkliste for utfylling'!A310,\"\")","v":""},{"$f":"IF($B181=1,'Sjekkliste for utfylling'!B310,\"\")","v":""},null,{"$f":"IF(C181=1,'Sjekkliste for utfylling'!L310,\" \")","v":" "}]
[{"$f":"'Sjekkliste for utfylling'!A312","v":181},{"$f":"IF('Sjekkliste for utfylling'!J312<>\"\",1,0)","v":0},0,null,{"$f":"IF($B182=1,'Sjekkliste for utfylling'!A312,\"\")","v":""},{"$f":"IF($B182=1,'Sjekkliste for utfylling'!B312,\"\")","v":""},null,{"$f":"IF(C182=1,'Sjekkliste for utfylling'!L312,\" \")","v":" "}]
[{"$f":"'Sjekkliste for utfylling'!A313","v":182},{"$f":"IF('Sjekkliste for utfylling'!J313<>\"\",1,0)","v":0},0,null,{"$f":"IF($B183=1,'Sjekkliste for utfylling'!A313,\"\")","v":""},{"$f":"IF($B183=1,'Sjekkliste for utfylling'!B313,\"\")","v":""},null,{"$f":"IF(C183=1,'Sjekkliste for utfylling'!L313,\" \")","v":" "}]
[{"$f":"'Sjekkliste for utfylling'!A315","v":183},{"$f":"IF('Sjekkliste for utfylling'!J315<>\"\",1,0)","v":0},0,null,{"$f":"IF($B184=1,'Sjekkliste for utfylling'!A315,\"\")","v":""},{"$f":"IF($B184=1,'Sjekkliste for utfylling'!B315,\"\")","v":""},null,{"$f":"IF(C184=1,'Sjekkliste for utfylling'!L315,\" \")","v":" "}]
[{"$f":"'Sjekkliste for utfylling'!A316","v":184},{"$f":"IF('Sjekkliste for utfylling'!J316<>\"\",1,0)","v":0},0,null,{"$f":"IF($B185=1,'Sjekkliste for utfylling'!A316,\"\")","v":""},{"$f":"IF($B185=1,'Sjekkliste for utfylling'!B316,\"\")","v":""},null,{"$f":"IF(C185=1,'Sjekkliste for utfylling'!L316,\" \")","v":" "}]
[{"$f":"'Sjekkliste for utfylling'!A317","v":185},{"$f":"IF('Sjekkliste for utfylling'!J317<>\"\",1,0)","v":0},0,null,{"$f":"IF($B186=1,'Sjekkliste for utfylling'!A317,\"\")","v":""},{"$f":"IF($B186=1,'Sjekkliste for utfylling'!B317,\"\")","v":""},null,{"$f":"IF(C186=1,'Sjekkliste for utfylling'!L317,\" \")","v":" "}]
[{"$f":"'Sjekkliste for utfylling'!A318","v":186},{"$f":"IF('Sjekkliste for utfylling'!J318<>\"\",1,0)","v":0},0,null,{"$f":"IF($B187=1,'Sjekkliste for utfylling'!A318,\"\")","v":""},{"$f":"IF($B187=1,'Sjekkliste for utfylling'!B318,\"\")","v":""},null,{"$f":"IF(C187=1,'Sjekkliste for utfylling'!L318,\" \")","v":" "}]
[{"$f":"'Sjekkliste for utfylling'!A319","v":187},{"$f":"IF('Sjekkliste for utfylling'!J319<>\"\",1,0)","v":0},0,null,{"$f":"IF($B188=1,'Sjekkliste for utfylling'!A319,\"\")","v":""},{"$f":"IF($B188=1,'Sjekkliste for utfylling'!B319,\"\")","v":""},null,{"$f":"IF(C188=1,'Sjekkliste for utfylling'!L319,\" \")","v":" "}]
[{"$f":"'Sjekkliste for utfylling'!A321","v":188},{"$f":"IF('Sjekkliste for utfylling'!J321<>\"\",1,0)","v":0},0,null,{"$f":"IF($B189=1,'Sjekkliste for utfylling'!A321,\"\")","v":""},{"$f":"IF($B189=1,'Sjekkliste for utfylling'!B321,\"\")","v":""},null,{"$f":"IF(C189=1,'Sjekkliste for utfylling'!L321,\" \")","v":" "}]
[{"$f":"'Sjekkliste for utfylling'!A322","v":189},{"$f":"IF('Sjekkliste for utfylling'!J322<>\"\",1,0)","v":0},0,null,{"$f":"IF($B190=1,'Sjekkliste for utfylling'!A322,\"\")","v":""},{"$f":"IF($B190=1,'Sjekkliste for utfylling'!B322,\"\")","v":""},null,{"$f":"IF(C190=1,'Sjekkliste for utfylling'!L322,\" \")","v":" "}]
[{"$f":"'Sjekkliste for utfylling'!A324","v":190},{"$f":"IF('Sjekkliste for utfylling'!J324<>\"\",1,0)","v":0},0,null,{"$f":"IF($B191=1,'Sjekkliste for utfylling'!A324,\"\")","v":""},{"$f":"IF($B191=1,'Sjekkliste for utfylling'!B324,\"\")","v":""},null,{"$f":"IF(C191=1,'Sjekkliste for utfylling'!L324,\" \")","v":" "}]
[{"$f":"'Sjekkliste for utfylling'!A325","v":191},{"$f":"IF('Sjekkliste for utfylling'!J325<>\"\",1,0)","v":0},0,null,{"$f":"IF($B192=1,'Sjekkliste for utfylling'!A325,\"\")","v":""},{"$f":"IF($B192=1,'Sjekkliste for utfylling'!B325,\"\")","v":""},null,{"$f":"IF(C192=1,'Sjekkliste for utfylling'!L325,\" \")","v":" "}]
[{"$f":"'Sjekkliste for utfylling'!A326","v":192},{"$f":"IF('Sjekkliste for utfylling'!J326<>\"\",1,0)","v":0},0,null,{"$f":"IF($B193=1,'Sjekkliste for utfylling'!A326,\"\")","v":""},{"$f":"IF($B193=1,'Sjekkliste for utfylling'!B326,\"\")","v":""},null,{"$f":"IF(C193=1,'Sjekkliste for utfylling'!L326,\" \")","v":" "}]
[{"$f":"'Sjekkliste for utfylling'!A327","v":193},{"$f":"IF('Sjekkliste for utfylling'!J327<>\"\",1,0)","v":0},{"$f":"SUM(B194:B194)","v":0},null,{"$f":"IF($B194=1,'Sjekkliste for utfylling'!A327,\"\")","v":""},{"$f":"IF($B194=1,'Sjekkliste for utfylling'!B327,\"\")","v":""},null,{"$f":"IF(C194=1,'Sjekkliste for utfylling'!L327,\" \")","v":" "}]
[{"$f":"'Sjekkliste for utfylling'!A328","v":194},{"$f":"IF('Sjekkliste for utfylling'!J328<>\"\",1,0)","v":0},0,null,{"$f":"IF($B195=1,'Sjekkliste for utfylling'!A328,\"\")","v":""},{"$f":"IF($B195=1,'Sjekkliste for utfylling'!B328,\"\")","v":""},null,{"$f":"IF(C195=1,'Sjekkliste for utfylling'!L328,\" \")","v":" "}]
[{"$f":"'Sjekkliste for utfylling'!A329","v":195},{"$f":"IF('Sjekkliste for utfylling'!J329<>\"\",1,0)","v":0},0,null,{"$f":"IF($B196=1,'Sjekkliste for utfylling'!A329,\"\")","v":""},{"$f":"IF($B196=1,'Sjekkliste for utfylling'!B329,\"\")","v":""},null,{"$f":"IF(C196=1,'Sjekkliste for utfylling'!L329,\" \")","v":" "}]
[{"$f":"'Sjekkliste for utfylling'!A330","v":196},{"$f":"IF('Sjekkliste for utfylling'!J330<>\"\",1,0)","v":0},0,null,{"$f":"IF($B197=1,'Sjekkliste for utfylling'!A330,\"\")","v":""},{"$f":"IF($B197=1,'Sjekkliste for utfylling'!B330,\"\")","v":""},null,{"$f":"IF(C197=1,'Sjekkliste for utfylling'!L330,\" \")","v":" "}]
[{"$f":"'Sjekkliste for utfylling'!A331","v":197},{"$f":"IF('Sjekkliste for utfylling'!J331<>\"\",1,0)","v":0},0,null,{"$f":"IF($B198=1,'Sjekkliste for utfylling'!A331,\"\")","v":""},{"$f":"IF($B198=1,'Sjekkliste for utfylling'!B331,\"\")","v":""},null,{"$f":"IF(C198=1,'Sjekkliste for utfylling'!L331,\" \")","v":" "}]
[{"$f":"'Sjekkliste for utfylling'!A332","v":198},{"$f":"IF('Sjekkliste for utfylling'!J332<>\"\",1,0)","v":0},0,null,{"$f":"IF($B199=1,'Sjekkliste for utfylling'!A332,\"\")","v":""},{"$f":"IF($B199=1,'Sjekkliste for utfylling'!B332,\"\")","v":""},null,{"$f":"IF(C199=1,'Sjekkliste for utfylling'!L332,\" \")","v":" "}]
[{"$f":"'Sjekkliste for utfylling'!A333","v":199},{"$f":"IF('Sjekkliste for utfylling'!J333<>\"\",1,0)","v":0},0,null,{"$f":"IF($B200=1,'Sjekkliste for utfylling'!A333,\"\")","v":""},{"$f":"IF($B200=1,'Sjekkliste for utfylling'!B333,\"\")","v":""},null,{"$f":"IF(C200=1,'Sjekkliste for utfylling'!L333,\" \")","v":" "}]
[{"$f":"'Sjekkliste for utfylling'!A334","v":200},{"$f":"IF('Sjekkliste for utfylling'!J334<>\"\",1,0)","v":0},0,null,{"$f":"IF($B201=1,'Sjekkliste for utfylling'!A334,\"\")","v":""},{"$f":"IF($B201=1,'Sjekkliste for utfylling'!B334,\"\")","v":""},null,{"$f":"IF(C201=1,'Sjekkliste for utfylling'!L334,\" \")","v":" "}]
[{"$f":"'Sjekkliste for utfylling'!A335","v":201},{"$f":"IF('Sjekkliste for utfylling'!J335<>\"\",1,0)","v":0},0,null,{"$f":"IF($B202=1,'Sjekkliste for utfylling'!A335,\"\")","v":""},{"$f":"IF($B202=1,'Sjekkliste for utfylling'!B335,\"\")","v":""},null,{"$f":"IF(C202=1,'Sjekkliste for utfylling'!L335,\" \")","v":" "}]
[{"$f":"'Sjekkliste for utfylling'!A336","v":202},{"$f":"IF('Sjekkliste for utfylling'!J336<>\"\",1,0)","v":0},0,null,{"$f":"IF($B203=1,'Sjekkliste for utfylling'!A336,\"\")","v":""},{"$f":"IF($B203=1,'Sjekkliste for utfylling'!B336,\"\")","v":""},null,{"$f":"IF(C203=1,'Sjekkliste for utfylling'!L336,\" \")","v":" "}]
[{"$f":"'Sjekkliste for utfylling'!A337","v":203},{"$f":"IF('Sjekkliste for utfylling'!J337<>\"\",1,0)","v":0},0,null,{"$f":"IF($B204=1,'Sjekkliste for utfylling'!A337,\"\")","v":""},{"$f":"IF($B204=1,'Sjekkliste for utfylling'!B337,\"\")","v":""},null,{"$f":"IF(C204=1,'Sjekkliste for utfylling'!L337,\" \")","v":" "}]
[{"$f":"'Sjekkliste for utfylling'!A338","v":204},{"$f":"IF('Sjekkliste for utfylling'!J338<>\"\",1,0)","v":0},0,null,{"$f":"IF($B205=1,'Sjekkliste for utfylling'!A338,\"\")","v":""},{"$f":"IF($B205=1,'Sjekkliste for utfylling'!B338,\"\")","v":""},null,{"$f":"IF(C205=1,'Sjekkliste for utfylling'!L338,\" \")","v":" "}]
[{"$f":"'Sjekkliste for utfylling'!A339","v":205},{"$f":"IF('Sjekkliste for utfylling'!J339<>\"\",1,0)","v":0},0,null,{"$f":"IF($B206=1,'Sjekkliste for utfylling'!A339,\"\")","v":""},{"$f":"IF($B206=1,'Sjekkliste for utfylling'!B339,\"\")","v":""},null,{"$f":"IF(C206=1,'Sjekkliste for utfylling'!L339,\" \")","v":" "}]
[{"$f":"'Sjekkliste for utfylling'!A340","v":206},{"$f":"IF('Sjekkliste for utfylling'!J340<>\"\",1,0)","v":0},0,null,{"$f":"IF($B207=1,'Sjekkliste for utfylling'!A340,\"\")","v":""},{"$f":"IF($B207=1,'Sjekkliste for utfylling'!B340,\"\")","v":""},null,{"$f":"IF(C207=1,'Sjekkliste for utfylling'!L340,\" \")","v":" "}]
[{"$f":"'Sjekkliste for utfylling'!A341","v":207},{"$f":"IF('Sjekkliste for utfylling'!J341<>\"\",1,0)","v":0},0,null,{"$f":"IF($B208=1,'Sjekkliste for utfylling'!A341,\"\")","v":""},{"$f":"IF($B208=1,'Sjekkliste for utfylling'!B341,\"\")","v":""},null,{"$f":"IF(C208=1,'Sjekkliste for utfylling'!L341,\" \")","v":" "}]
[{"$f":"'Sjekkliste for utfylling'!A342","v":208},{"$f":"IF('Sjekkliste for utfylling'!J342<>\"\",1,0)","v":0},0,null,{"$f":"IF($B209=1,'Sjekkliste for utfylling'!A342,\"\")","v":""},{"$f":"IF($B209=1,'Sjekkliste for utfylling'!B342,\"\")","v":""},null,{"$f":"IF(C209=1,'Sjekkliste for utfylling'!L342,\" \")","v":" "}]
[{"$f":"'Sjekkliste for utfylling'!A343","v":209},{"$f":"IF('Sjekkliste for utfylling'!J343<>\"\",1,0)","v":0},0,null,{"$f":"IF($B210=1,'Sjekkliste for utfylling'!A343,\"\")","v":""},{"$f":"IF($B210=1,'Sjekkliste for utfylling'!B343,\"\")","v":""},null,{"$f":"IF(C210=1,'Sjekkliste for utfylling'!L343,\" \")","v":" "}]
[{"$f":"'Sjekkliste for utfylling'!A344","v":210},{"$f":"IF('Sjekkliste for utfylling'!J344<>\"\",1,0)","v":0},0,null,{"$f":"IF($B211=1,'Sjekkliste for utfylling'!A344,\"\")","v":""},{"$f":"IF($B211=1,'Sjekkliste for utfylling'!B344,\"\")","v":""},null,{"$f":"IF(C211=1,'Sjekkliste for utfylling'!L344,\" \")","v":" "}]
[{"$f":"'Sjekkliste for utfylling'!A345","v":211},{"$f":"IF('Sjekkliste for utfylling'!J345<>\"\",1,0)","v":0},0,null,{"$f":"IF($B212=1,'Sjekkliste for utfylling'!A345,\"\")","v":""},{"$f":"IF($B212=1,'Sjekkliste for utfylling'!B345,\"\")","v":""},null,{"$f":"IF(C212=1,'Sjekkliste for utfylling'!L345,\" \")","v":" "}]
[{"$f":"'Sjekkliste for utfylling'!A347","v":212},{"$f":"IF('Sjekkliste for utfylling'!J347<>\"\",1,0)","v":0},0,null,{"$f":"IF($B213=1,'Sjekkliste for utfylling'!A347,\"\")","v":""},{"$f":"IF($B213=1,'Sjekkliste for utfylling'!B347,\"\")","v":""},null,{"$f":"IF(C213=1,'Sjekkliste for utfylling'!L347,\" \")","v":" "}]
[{"$f":"'Sjekkliste for utfylling'!A348","v":213},{"$f":"IF('Sjekkliste for utfylling'!J348<>\"\",1,0)","v":0},0,null,{"$f":"IF($B214=1,'Sjekkliste for utfylling'!A348,\"\")","v":""},{"$f":"IF($B214=1,'Sjekkliste for utfylling'!B348,\"\")","v":""},null,{"$f":"IF(C214=1,'Sjekkliste for utfylling'!L348,\" \")","v":" "}]
[{"$f":"'Sjekkliste for utfylling'!A349","v":214},{"$f":"IF('Sjekkliste for utfylling'!J349<>\"\",1,0)","v":0},0,null,{"$f":"IF($B215=1,'Sjekkliste for utfylling'!A349,\"\")","v":""},{"$f":"IF($B215=1,'Sjekkliste for utfylling'!B349,\"\")","v":""},null,{"$f":"IF(C215=1,'Sjekkliste for utfylling'!L349,\" \")","v":" "}]
[{"$f":"'Sjekkliste for utfylling'!A351","v":215},{"$f":"IF('Sjekkliste for utfylling'!J351<>\"\",1,0)","v":0},0,null,{"$f":"IF($B216=1,'Sjekkliste for utfylling'!A351,\"\")","v":""},{"$f":"IF($B216=1,'Sjekkliste for utfylling'!B351,\"\")","v":""},null,{"$f":"IF(C216=1,'Sjekkliste for utfylling'!L351,\" \")","v":" "}]
[{"$f":"'Sjekkliste for utfylling'!A353","v":216},{"$f":"IF('Sjekkliste for utfylling'!J353<>\"\",1,0)","v":0},0,null,{"$f":"IF($B217=1,'Sjekkliste for utfylling'!A353,\"\")","v":""},{"$f":"IF($B217=1,'Sjekkliste for utfylling'!B353,\"\")","v":""},null,{"$f":"IF(C217=1,'Sjekkliste for utfylling'!L353,\" \")","v":" "}]
[{"$f":"'Sjekkliste for utfylling'!A354","v":217},{"$f":"IF('Sjekkliste for utfylling'!J354<>\"\",1,0)","v":0},0,null,{"$f":"IF($B218=1,'Sjekkliste for utfylling'!A354,\"\")","v":""},{"$f":"IF($B218=1,'Sjekkliste for utfylling'!B354,\"\")","v":""},null,{"$f":"IF(C218=1,'Sjekkliste for utfylling'!L354,\" \")","v":" "}]
[{"$f":"'Sjekkliste for utfylling'!A355","v":218},{"$f":"IF('Sjekkliste for utfylling'!J355<>\"\",1,0)","v":0},0,null,{"$f":"IF($B219=1,'Sjekkliste for utfylling'!A355,\"\")","v":""},{"$f":"IF($B219=1,'Sjekkliste for utfylling'!B355,\"\")","v":""},null,{"$f":"IF(C219=1,'Sjekkliste for utfylling'!L355,\" \")","v":" "}]
[{"$f":"'Sjekkliste for utfylling'!A357","v":219},{"$f":"IF('Sjekkliste for utfylling'!J357<>\"\",1,0)","v":0},0,null,{"$f":"IF($B220=1,'Sjekkliste for utfylling'!A357,\"\")","v":""},{"$f":"IF($B220=1,'Sjekkliste for utfylling'!B357,\"\")","v":""},null,{"$f":"IF(C220=1,'Sjekkliste for utfylling'!L357,\" \")","v":" "}]
[{"$f":"'Sjekkliste for utfylling'!A359","v":220},{"$f":"IF('Sjekkliste for utfylling'!J359<>\"\",1,0)","v":0},0,null,{"$f":"IF($B221=1,'Sjekkliste for utfylling'!A359,\"\")","v":""},{"$f":"IF($B221=1,'Sjekkliste for utfylling'!B359,\"\")","v":""},null,{"$f":"IF(C221=1,'Sjekkliste for utfylling'!L359,\" \")","v":" "}]
[{"$f":"'Sjekkliste for utfylling'!A360","v":221},{"$f":"IF('Sjekkliste for utfylling'!J360<>\"\",1,0)","v":0},0,null,{"$f":"IF($B222=1,'Sjekkliste for utfylling'!A360,\"\")","v":""},{"$f":"IF($B222=1,'Sjekkliste for utfylling'!B360,\"\")","v":""},null,{"$f":"IF(C222=1,'Sjekkliste for utfylling'!L360,\" \")","v":" "}]
[{"$f":"'Sjekkliste for utfylling'!A361","v":222},{"$f":"IF('Sjekkliste for utfylling'!J361<>\"\",1,0)","v":0},0,null,{"$f":"IF($B223=1,'Sjekkliste for utfylling'!A361,\"\")","v":""},{"$f":"IF($B223=1,'Sjekkliste for utfylling'!B361,\"\")","v":""},null,{"$f":"IF(C223=1,'Sjekkliste for utfylling'!L361,\" \")","v":" "}]
[{"$f":"'Sjekkliste for utfylling'!A364","v":223},{"$f":"IF('Sjekkliste for utfylling'!J364<>\"\",1,0)","v":0},0,null,{"$f":"IF($B224=1,'Sjekkliste for utfylling'!A364,\"\")","v":""},{"$f":"IF($B224=1,'Sjekkliste for utfylling'!B364,\"\")","v":""},null,{"$f":"IF(C224=1,'Sjekkliste for utfylling'!L364,\" \")","v":" "}]
[{"$f":"'Sjekkliste for utfylling'!A365","v":224},{"$f":"IF('Sjekkliste for utfylling'!J365<>\"\",1,0)","v":0},0,null,{"$f":"IF($B225=1,'Sjekkliste for utfylling'!A365,\"\")","v":""},{"$f":"IF($B225=1,'Sjekkliste for utfylling'!B365,\"\")","v":""},null,{"$f":"IF(C225=1,'Sjekkliste for utfylling'!L365,\" \")","v":" "}]
[{"$f":"'Sjekkliste for utfylling'!A366","v":225},{"$f":"IF('Sjekkliste for utfylling'!J366<>\"\",1,0)","v":0},0,null,{"$f":"IF($B226=1,'Sjekkliste for utfylling'!A366,\"\")","v":""},{"$f":"IF($B226=1,'Sjekkliste for utfylling'!B366,\"\")","v":""},null,{"$f":"IF(C226=1,'Sjekkliste for utfylling'!L366,\" \")","v":" "}]
[{"$f":"'Sjekkliste for utfylling'!A367","v":226},{"$f":"IF('Sjekkliste for utfylling'!J367<>\"\",1,0)","v":0},0,null,{"$f":"IF($B227=1,'Sjekkliste for utfylling'!A367,\"\")","v":""},{"$f":"IF($B227=1,'Sjekkliste for utfylling'!B367,\"\")","v":""},null,{"$f":"IF(C227=1,'Sjekkliste for utfylling'!L367,\" \")","v":" "}]
[{"$f":"'Sjekkliste for utfylling'!A370","v":227},{"$f":"IF('Sjekkliste for utfylling'!J370<>\"\",1,0)","v":0},0,null,{"$f":"IF($B228=1,'Sjekkliste for utfylling'!A370,\"\")","v":""},{"$f":"IF($B228=1,'Sjekkliste for utfylling'!B370,\"\")","v":""},null,{"$f":"IF(C228=1,'Sjekkliste for utfylling'!L370,\" \")","v":" "}]
[{"$f":"'Sjekkliste for utfylling'!A371","v":228},{"$f":"IF('Sjekkliste for utfylling'!J371<>\"\",1,0)","v":0},0,null,{"$f":"IF($B229=1,'Sjekkliste for utfylling'!A371,\"\")","v":""},{"$f":"IF($B229=1,'Sjekkliste for utfylling'!B371,\"\")","v":""},null,{"$f":"IF(C229=1,'Sjekkliste for utfylling'!L371,\" \")","v":" "}]
[{"$f":"'Sjekkliste for utfylling'!A372","v":229},{"$f":"IF('Sjekkliste for utfylling'!J372<>\"\",1,0)","v":0},0,null,{"$f":"IF($B230=1,'Sjekkliste for utfylling'!A372,\"\")","v":""},{"$f":"IF($B230=1,'Sjekkliste for utfylling'!B372,\"\")","v":""},null,{"$f":"IF(C230=1,'Sjekkliste for utfylling'!L372,\" \")","v":" "}]
[{"$f":"'Sjekkliste for utfylling'!A373","v":230},{"$f":"IF('Sjekkliste for utfylling'!J373<>\"\",1,0)","v":0},0,null,{"$f":"IF($B231=1,'Sjekkliste for utfylling'!A373,\"\")","v":""},{"$f":"IF($B231=1,'Sjekkliste for utfylling'!B373,\"\")","v":""},null,{"$f":"IF(C231=1,'Sjekkliste for utfylling'!L373,\" \")","v":" "}]
[{"$f":"'Sjekkliste for utfylling'!A374","v":231},{"$f":"IF('Sjekkliste for utfylling'!J374<>\"\",1,0)","v":0},0,null,{"$f":"IF($B232=1,'Sjekkliste for utfylling'!A374,\"\")","v":""},{"$f":"IF($B232=1,'Sjekkliste for utfylling'!B374,\"\")","v":""},null,{"$f":"IF(C232=1,'Sjekkliste for utfylling'!L374,\" \")","v":" "}]
[{"$f":"'Sjekkliste for utfylling'!A376","v":232},{"$f":"IF('Sjekkliste for utfylling'!J376<>\"\",1,0)","v":0},0,null,{"$f":"IF($B233=1,'Sjekkliste for utfylling'!A376,\"\")","v":""},{"$f":"IF($B233=1,'Sjekkliste for utfylling'!B376,\"\")","v":""},null,{"$f":"IF(C233=1,'Sjekkliste for utfylling'!L376,\" \")","v":" "}]
[{"$f":"'Sjekkliste for utfylling'!A378","v":233},{"$f":"IF('Sjekkliste for utfylling'!J378<>\"\",1,0)","v":0},0,null,{"$f":"IF($B234=1,'Sjekkliste for utfylling'!A378,\"\")","v":""},{"$f":"IF($B234=1,'Sjekkliste for utfylling'!B378,\"\")","v":""},null,{"$f":"IF(C234=1,'Sjekkliste for utfylling'!L378,\" \")","v":" "}]
[{"$f":"'Sjekkliste for utfylling'!A380","v":234},{"$f":"IF('Sjekkliste for utfylling'!J380<>\"\",1,0)","v":0},0,null,{"$f":"IF($B235=1,'Sjekkliste for utfylling'!A380,\"\")","v":""},{"$f":"IF($B235=1,'Sjekkliste for utfylling'!B380,\"\")","v":""},null,{"$f":"IF(C235=1,'Sjekkliste for utfylling'!L380,\" \")","v":" "}]
[{"$f":"'Sjekkliste for utfylling'!A382","v":235},{"$f":"IF('Sjekkliste for utfylling'!J382<>\"\",1,0)","v":0},0,null,{"$f":"IF($B236=1,'Sjekkliste for utfylling'!A382,\"\")","v":""},{"$f":"IF($B236=1,'Sjekkliste for utfylling'!B382,\"\")","v":""},null,{"$f":"IF(C236=1,'Sjekkliste for utfylling'!L382,\" \")","v":" "}]
[{"$f":"'Sjekkliste for utfylling'!A384","v":236},{"$f":"IF('Sjekkliste for utfylling'!J384<>\"\",1,0)","v":0},0,null,{"$f":"IF($B237=1,'Sjekkliste for utfylling'!A384,\"\")","v":""},{"$f":"IF($B237=1,'Sjekkliste for utfylling'!B384,\"\")","v":""},null,{"$f":"IF(C237=1,'Sjekkliste for utfylling'!L384,\" \")","v":" "}]
[{"$f":"'Sjekkliste for utfylling'!A385","v":237},{"$f":"IF('Sjekkliste for utfylling'!J385<>\"\",1,0)","v":0},0,null,{"$f":"IF($B238=1,'Sjekkliste for utfylling'!A385,\"\")","v":""},{"$f":"IF($B238=1,'Sjekkliste for utfylling'!B385,\"\")","v":""},null,{"$f":"IF(C238=1,'Sjekkliste for utfylling'!L385,\" \")","v":" "}]
[{"$f":"'Sjekkliste for utfylling'!A387","v":238},{"$f":"IF('Sjekkliste for utfylling'!J387<>\"\",1,0)","v":0},0,null,{"$f":"IF($B239=1,'Sjekkliste for utfylling'!A387,\"\")","v":""},{"$f":"IF($B239=1,'Sjekkliste for utfylling'!B387,\"\")","v":""},null,{"$f":"IF(C239=1,'Sjekkliste for utfylling'!L387,\" \")","v":" "}]
[{"$f":"'Sjekkliste for utfylling'!A388","v":239},{"$f":"IF('Sjekkliste for utfylling'!J388<>\"\",1,0)","v":0},0,null,{"$f":"IF($B240=1,'Sjekkliste for utfylling'!A388,\"\")","v":""},{"$f":"IF($B240=1,'Sjekkliste for utfylling'!B388,\"\")","v":""},null,{"$f":"IF(C240=1,'Sjekkliste for utfylling'!L388,\" \")","v":" "}]
[{"$f":"'Sjekkliste for utfylling'!A389","v":240},{"$f":"IF('Sjekkliste for utfylling'!J389<>\"\",1,0)","v":0},0,null,{"$f":"IF($B241=1,'Sjekkliste for utfylling'!A389,\"\")","v":""},{"$f":"IF($B241=1,'Sjekkliste for utfylling'!B389,\"\")","v":""},null,{"$f":"IF(C241=1,'Sjekkliste for utfylling'!L389,\" \")","v":" "}]
[{"$f":"'Sjekkliste for utfylling'!A390","v":241},{"$f":"IF('Sjekkliste for utfylling'!J390<>\"\",1,0)","v":0},0,null,{"$f":"IF($B242=1,'Sjekkliste for utfylling'!A390,\"\")","v":""},{"$f":"IF($B242=1,'Sjekkliste for utfylling'!B390,\"\")","v":""},null,{"$f":"IF(C242=1,'Sjekkliste for utfylling'!L390,\" \")","v":" "}]
[{"$f":"'Sjekkliste for utfylling'!A391","v":242},{"$f":"IF('Sjekkliste for utfylling'!J391<>\"\",1,0)","v":0},0,null,{"$f":"IF($B243=1,'Sjekkliste for utfylling'!A391,\"\")","v":""},{"$f":"IF($B243=1,'Sjekkliste for utfylling'!B391,\"\")","v":""},null,{"$f":"IF(C243=1,'Sjekkliste for utfylling'!L391,\" \")","v":" "}]
[{"$f":"'Sjekkliste for utfylling'!A392","v":243},{"$f":"IF('Sjekkliste for utfylling'!J392<>\"\",1,0)","v":0},0,null,{"$f":"IF($B244=1,'Sjekkliste for utfylling'!A392,\"\")","v":""},{"$f":"IF($B244=1,'Sjekkliste for utfylling'!B392,\"\")","v":""},null,{"$f":"IF(C244=1,'Sjekkliste for utfylling'!L392,\" \")","v":" "}]
[{"$f":"'Sjekkliste for utfylling'!A393","v":244},{"$f":"IF('Sjekkliste for utfylling'!J393<>\"\",1,0)","v":0},0,null,{"$f":"IF($B245=1,'Sjekkliste for utfylling'!A393,\"\")","v":""},{"$f":"IF($B245=1,'Sjekkliste for utfylling'!B393,\"\")","v":""},null,{"$f":"IF(C245=1,'Sjekkliste for utfylling'!L393,\" \")","v":" "}]
[{"$f":"'Sjekkliste for utfylling'!A394","v":245},{"$f":"IF('Sjekkliste for utfylling'!J394<>\"\",1,0)","v":0},0,null,{"$f":"IF($B246=1,'Sjekkliste for utfylling'!A394,\"\")","v":""},{"$f":"IF($B246=1,'Sjekkliste for utfylling'!B394,\"\")","v":""},null,{"$f":"IF(C246=1,'Sjekkliste for utfylling'!L394,\" \")","v":" "}]
[{"$f":"'Sjekkliste for utfylling'!A395","v":246},{"$f":"IF('Sjekkliste for utfylling'!J395<>\"\",1,0)","v":0},0,null,{"$f":"IF($B247=1,'Sjekkliste for utfylling'!A395,\"\")","v":""},{"$f":"IF($B247=1,'Sjekkliste for utfylling'!B395,\"\")","v":""},null,{"$f":"IF(C247=1,'Sjekkliste for utfylling'!L395,\" \")","v":" "}]
[{"$f":"'Sjekkliste for utfylling'!A396","v":247},{"$f":"IF('Sjekkliste for utfylling'!J396<>\"\",1,0)","v":0},0,null,{"$f":"IF($B248=1,'Sjekkliste for utfylling'!A396,\"\")","v":""},{"$f":"IF($B248=1,'Sjekkliste for utfylling'!B396,\"\")","v":""},null,{"$f":"IF(C248=1,'Sjekkliste for utfylling'!L396,\" \")","v":" "}]
[{"$f":"'Sjekkliste for utfylling'!A397","v":248},{"$f":"IF('Sjekkliste for utfylling'!J397<>\"\",1,0)","v":0},0,null,{"$f":"IF($B249=1,'Sjekkliste for utfylling'!A397,\"\")","v":""},{"$f":"IF($B249=1,'Sjekkliste for utfylling'!B397,\"\")","v":""},null,{"$f":"IF(C249=1,'Sjekkliste for utfylling'!L397,\" \")","v":" "}]
[{"$f":"'Sjekkliste for utfylling'!A398","v":249},{"$f":"IF('Sjekkliste for utfylling'!J398<>\"\",1,0)","v":0},0,null,{"$f":"IF($B250=1,'Sjekkliste for utfylling'!A398,\"\")","v":""},{"$f":"IF($B250=1,'Sjekkliste for utfylling'!B398,\"\")","v":""},null,{"$f":"IF(C250=1,'Sjekkliste for utfylling'!L398,\" \")","v":" "}]
[{"$f":"'Sjekkliste for utfylling'!A399","v":250},{"$f":"IF('Sjekkliste for utfylling'!J399<>\"\",1,0)","v":0},0,null,{"$f":"IF($B251=1,'Sjekkliste for utfylling'!A399,\"\")","v":""},{"$f":"IF($B251=1,'Sjekkliste for utfylling'!B399,\"\")","v":""},null,{"$f":"IF(C251=1,'Sjekkliste for utfylling'!L399,\" \")","v":" "}]
[{"$f":"'Sjekkliste for utfylling'!A400","v":251},{"$f":"IF('Sjekkliste for utfylling'!J400<>\"\",1,0)","v":0},0,null,{"$f":"IF($B252=1,'Sjekkliste for utfylling'!A400,\"\")","v":""},{"$f":"IF($B252=1,'Sjekkliste for utfylling'!B400,\"\")","v":""},null,{"$f":"IF(C252=1,'Sjekkliste for utfylling'!L400,\" \")","v":" "}]
[{"$f":"'Sjekkliste for utfylling'!A401","v":252},{"$f":"IF('Sjekkliste for utfylling'!J401<>\"\",1,0)","v":0},0,null,{"$f":"IF($B253=1,'Sjekkliste for utfylling'!A401,\"\")","v":""},{"$f":"IF($B253=1,'Sjekkliste for utfylling'!B401,\"\")","v":""},null,{"$f":"IF(C253=1,'Sjekkliste for utfylling'!L401,\" \")","v":" "}]
[{"$f":"'Sjekkliste for utfylling'!A402","v":253},{"$f":"IF('Sjekkliste for utfylling'!J402<>\"\",1,0)","v":0},0,null,{"$f":"IF($B254=1,'Sjekkliste for utfylling'!A402,\"\")","v":""},{"$f":"IF($B254=1,'Sjekkliste for utfylling'!B402,\"\")","v":""},null,{"$f":"IF(C254=1,'Sjekkliste for utfylling'!L402,\" \")","v":" "}]
[{"$f":"'Sjekkliste for utfylling'!A403","v":254},{"$f":"IF('Sjekkliste for utfylling'!J403<>\"\",1,0)","v":0},0,null,{"$f":"IF($B255=1,'Sjekkliste for utfylling'!A403,\"\")","v":""},{"$f":"IF($B255=1,'Sjekkliste for utfylling'!B403,\"\")","v":""},null,{"$f":"IF(C255=1,'Sjekkliste for utfylling'!L403,\" \")","v":" "}]
[{"$f":"'Sjekkliste for utfylling'!A405","v":255},{"$f":"IF('Sjekkliste for utfylling'!J405<>\"\",1,0)","v":0},0,null,{"$f":"IF($B256=1,'Sjekkliste for utfylling'!A405,\"\")","v":""},{"$f":"IF($B256=1,'Sjekkliste for utfylling'!B405,\"\")","v":""},null,{"$f":"IF(C256=1,'Sjekkliste for utfylling'!L405,\" \")","v":" "}]
[{"$f":"'Sjekkliste for utfylling'!A406","v":256},{"$f":"IF('Sjekkliste for utfylling'!J406<>\"\",1,0)","v":0},0,null,{"$f":"IF($B257=1,'Sjekkliste for utfylling'!A406,\"\")","v":""},{"$f":"IF($B257=1,'Sjekkliste for utfylling'!B406,\"\")","v":""},null,{"$f":"IF(C257=1,'Sjekkliste for utfylling'!L406,\" \")","v":" "}]
[{"$f":"'Sjekkliste for utfylling'!A407","v":257},{"$f":"IF('Sjekkliste for utfylling'!J407<>\"\",1,0)","v":0},{"$f":"SUM(B258:B258)","v":0},null,{"$f":"IF($B258=1,'Sjekkliste for utfylling'!A407,\"\")","v":""},{"$f":"IF($B258=1,'Sjekkliste for utfylling'!B407,\"\")","v":""},null,{"$f":"IF(C258=1,'Sjekkliste for utfylling'!L407,\" \")","v":" "}]
[{"$f":"'Sjekkliste for utfylling'!A408","v":258},{"$f":"IF('Sjekkliste for utfylling'!J408<>\"\",1,0)","v":0},0,null,{"$f":"IF($B259=1,'Sjekkliste for utfylling'!A408,\"\")","v":""},{"$f":"IF($B259=1,'Sjekkliste for utfylling'!B408,\"\")","v":""},null,{"$f":"IF(C259=1,'Sjekkliste for utfylling'!L408,\" \")","v":" "}]
[{"$f":"'Sjekkliste for utfylling'!A410","v":259},{"$f":"IF('Sjekkliste for utfylling'!J410<>\"\",1,0)","v":0},0,null,{"$f":"IF($B260=1,'Sjekkliste for utfylling'!A410,\"\")","v":""},{"$f":"IF($B260=1,'Sjekkliste for utfylling'!B410,\"\")","v":""},null,{"$f":"IF(C260=1,'Sjekkliste for utfylling'!L410,\" \")","v":" "}]
[{"$f":"'Sjekkliste for utfylling'!A412","v":260},{"$f":"IF('Sjekkliste for utfylling'!J412<>\"\",1,0)","v":0},0,null,{"$f":"IF($B261=1,'Sjekkliste for utfylling'!A412,\"\")","v":""},{"$f":"IF($B261=1,'Sjekkliste for utfylling'!B412,\"\")","v":""},null,{"$f":"IF(C261=1,'Sjekkliste for utfylling'!L412,\" \")","v":" "}]
[{"$f":"'Sjekkliste for utfylling'!A414","v":261},{"$f":"IF('Sjekkliste for utfylling'!J414<>\"\",1,0)","v":0},0,null,{"$f":"IF($B262=1,'Sjekkliste for utfylling'!A414,\"\")","v":""},{"$f":"IF($B262=1,'Sjekkliste for utfylling'!B414,\"\")","v":""},null,{"$f":"IF(C262=1,'Sjekkliste for utfylling'!L414,\" \")","v":" "}]
[{"$f":"'Sjekkliste for utfylling'!A434","v":262},{"$f":"IF('Sjekkliste for utfylling'!J434<>\"\",1,0)","v":0},0,null,{"$f":"IF($B263=1,'Sjekkliste for utfylling'!A434,\"\")","v":""},{"$f":"IF($B263=1,'Sjekkliste for utfylling'!B434,\"\")","v":""},null,{"$f":"IF(C263=1,'Sjekkliste for utfylling'!L434,\" \")","v":" "}]
[{"$f":"'Sjekkliste for utfylling'!A436","v":263},{"$f":"IF('Sjekkliste for utfylling'!J436<>\"\",1,0)","v":0},0,null,{"$f":"IF($B264=1,'Sjekkliste for utfylling'!A436,\"\")","v":""},{"$f":"IF($B264=1,'Sjekkliste for utfylling'!B436,\"\")","v":""},null,{"$f":"IF(C264=1,'Sjekkliste for utfylling'!L436,\" \")","v":" "}]
[{"$f":"'Sjekkliste for utfylling'!A437","v":264},{"$f":"IF('Sjekkliste for utfylling'!J437<>\"\",1,0)","v":0},0,null,{"$f":"IF($B265=1,'Sjekkliste for utfylling'!A437,\"\")","v":""},{"$f":"IF($B265=1,'Sjekkliste for utfylling'!B437,\"\")","v":""},null,{"$f":"IF(C265=1,'Sjekkliste for utfylling'!L437,\" \")","v":" "}]
[{"$f":"'Sjekkliste for utfylling'!A438","v":265},{"$f":"IF('Sjekkliste for utfylling'!J438<>\"\",1,0)","v":0},0,null,{"$f":"IF($B266=1,'Sjekkliste for utfylling'!A438,\"\")","v":""},{"$f":"IF($B266=1,'Sjekkliste for utfylling'!B438,\"\")","v":""},null,{"$f":"IF(C266=1,'Sjekkliste for utfylling'!L438,\" \")","v":" "}]
[{"$f":"'Sjekkliste for utfylling'!A439","v":266},{"$f":"IF('Sjekkliste for utfylling'!J439<>\"\",1,0)","v":0},0,null,{"$f":"IF($B267=1,'Sjekkliste for utfylling'!A439,\"\")","v":""},{"$f":"IF($B267=1,'Sjekkliste for utfylling'!B439,\"\")","v":""},null,{"$f":"IF(C267=1,'Sjekkliste for utfylling'!L439,\" \")","v":" "}]
[{"$f":"'Sjekkliste for utfylling'!A440","v":267},{"$f":"IF('Sjekkliste for utfylling'!J440<>\"\",1,0)","v":0},0,null,{"$f":"IF($B268=1,'Sjekkliste for utfylling'!A440,\"\")","v":""},{"$f":"IF($B268=1,'Sjekkliste for utfylling'!B440,\"\")","v":""},null,{"$f":"IF(C268=1,'Sjekkliste for utfylling'!L440,\" \")","v":" "}]
[{"$f":"'Sjekkliste for utfylling'!A442","v":268},{"$f":"IF('Sjekkliste for utfylling'!J442<>\"\",1,0)","v":0},0,null,{"$f":"IF($B269=1,'Sjekkliste for utfylling'!A442,\"\")","v":""},{"$f":"IF($B269=1,'Sjekkliste for utfylling'!B442,\"\")","v":""},null,{"$f":"IF(C269=1,'Sjekkliste for utfylling'!L442,\" \")","v":" "}]
[{"$f":"'Sjekkliste for utfylling'!A444","v":269},{"$f":"IF('Sjekkliste for utfylling'!J444<>\"\",1,0)","v":0},0,null,{"$f":"IF($B270=1,'Sjekkliste for utfylling'!A444,\"\")","v":""},{"$f":"IF($B270=1,'Sjekkliste for utfylling'!B444,\"\")","v":""},null,{"$f":"IF(C270=1,'Sjekkliste for utfylling'!L444,\" \")","v":" "}]
[{"$f":"'Sjekkliste for utfylling'!A445","v":270},{"$f":"IF('Sjekkliste for utfylling'!J445<>\"\",1,0)","v":0},0,null,{"$f":"IF($B271=1,'Sjekkliste for utfylling'!A445,\"\")","v":""},{"$f":"IF($B271=1,'Sjekkliste for utfylling'!B445,\"\")","v":""},null,{"$f":"IF(C271=1,'Sjekkliste for utfylling'!L445,\" \")","v":" "}]
[{"$f":"'Sjekkliste for utfylling'!A446","v":271},{"$f":"IF('Sjekkliste for utfylling'!J446<>\"\",1,0)","v":0},0,null,{"$f":"IF($B272=1,'Sjekkliste for utfylling'!A446,\"\")","v":""},{"$f":"IF($B272=1,'Sjekkliste for utfylling'!B446,\"\")","v":""},null,{"$f":"IF(C272=1,'Sjekkliste for utfylling'!L446,\" \")","v":" "}]
[{"$f":"'Sjekkliste for utfylling'!A447","v":272},{"$f":"IF('Sjekkliste for utfylling'!J447<>\"\",1,0)","v":0},0,null,{"$f":"IF($B273=1,'Sjekkliste for utfylling'!A447,\"\")","v":""},{"$f":"IF($B273=1,'Sjekkliste for utfylling'!B447,\"\")","v":""},null,{"$f":"IF(C273=1,'Sjekkliste for utfylling'!L447,\" \")","v":" "}]
[{"$f":"'Sjekkliste for utfylling'!A448","v":273},{"$f":"IF('Sjekkliste for utfylling'!J448<>\"\",1,0)","v":0},0,null,{"$f":"IF($B274=1,'Sjekkliste for utfylling'!A448,\"\")","v":""},{"$f":"IF($B274=1,'Sjekkliste for utfylling'!B448,\"\")","v":""},null,{"$f":"IF(C274=1,'Sjekkliste for utfylling'!L448,\" \")","v":" "}]
[{"$f":"'Sjekkliste for utfylling'!A449","v":274},{"$f":"IF('Sjekkliste for utfylling'!J449<>\"\",1,0)","v":0},0,null,{"$f":"IF($B275=1,'Sjekkliste for utfylling'!A449,\"\")","v":""},{"$f":"IF($B275=1,'Sjekkliste for utfylling'!B449,\"\")","v":""},null,{"$f":"IF(C275=1,'Sjekkliste for utfylling'!L449,\" \")","v":" "}]
[{"$f":"'Sjekkliste for utfylling'!A450","v":275},{"$f":"IF('Sjekkliste for utfylling'!J450<>\"\",1,0)","v":0},0,null,{"$f":"IF($B276=1,'Sjekkliste for utfylling'!A450,\"\")","v":""},{"$f":"IF($B276=1,'Sjekkliste for utfylling'!B450,\"\")","v":""},null,{"$f":"IF(C276=1,'Sjekkliste for utfylling'!L450,\" \")","v":" "}]
[{"$f":"'Sjekkliste for utfylling'!A451","v":276},{"$f":"IF('Sjekkliste for utfylling'!J451<>\"\",1,0)","v":0},0,null,{"$f":"IF($B277=1,'Sjekkliste for utfylling'!A451,\"\")","v":""},{"$f":"IF($B277=1,'Sjekkliste for utfylling'!B451,\"\")","v":""},null,{"$f":"IF(C277=1,'Sjekkliste for utfylling'!L451,\" \")","v":" "}]
[{"$f":"'Sjekkliste for utfylling'!A452","v":277},{"$f":"IF('Sjekkliste for utfylling'!J452<>\"\",1,0)","v":0},0,null,{"$f":"IF($B278=1,'Sjekkliste for utfylling'!A452,\"\")","v":""},{"$f":"IF($B278=1,'Sjekkliste for utfylling'!B452,\"\")","v":""},null,{"$f":"IF(C278=1,'Sjekkliste for utfylling'!L452,\" \")","v":" "}]
[{"$f":"'Sjekkliste for utfylling'!A453","v":278},{"$f":"IF('Sjekkliste for utfylling'!J453<>\"\",1,0)","v":0},0,null,{"$f":"IF($B279=1,'Sjekkliste for utfylling'!A453,\"\")","v":""},{"$f":"IF($B279=1,'Sjekkliste for utfylling'!B453,\"\")","v":""},null,{"$f":"IF(C279=1,'Sjekkliste for utfylling'!L453,\" \")","v":" "}]
[{"$f":"'Sjekkliste for utfylling'!A454","v":279},{"$f":"IF('Sjekkliste for utfylling'!J454<>\"\",1,0)","v":0},0,null,{"$f":"IF($B280=1,'Sjekkliste for utfylling'!A454,\"\")","v":""},{"$f":"IF($B280=1,'Sjekkliste for utfylling'!B454,\"\")","v":""},null,{"$f":"IF(C280=1,'Sjekkliste for utfylling'!L454,\" \")","v":" "}]
[{"$f":"'Sjekkliste for utfylling'!A455","v":280},{"$f":"IF('Sjekkliste for utfylling'!J455<>\"\",1,0)","v":0},0,null,{"$f":"IF($B281=1,'Sjekkliste for utfylling'!A455,\"\")","v":""},{"$f":"IF($B281=1,'Sjekkliste for utfylling'!B455,\"\")","v":""},null,{"$f":"IF(C281=1,'Sjekkliste for utfylling'!L455,\" \")","v":" "}]
[{"$f":"'Sjekkliste for utfylling'!A456","v":281},{"$f":"IF('Sjekkliste for utfylling'!J456<>\"\",1,0)","v":0},0,null,{"$f":"IF($B282=1,'Sjekkliste for utfylling'!A456,\"\")","v":""},{"$f":"IF($B282=1,'Sjekkliste for utfylling'!B456,\"\")","v":""},null,{"$f":"IF(C282=1,'Sjekkliste for utfylling'!L456,\" \")","v":" "}]
[{"$f":"'Sjekkliste for utfylling'!A459","v":282},{"$f":"IF('Sjekkliste for utfylling'!J459<>\"\",1,0)","v":0},0,null,{"$f":"IF($B283=1,'Sjekkliste for utfylling'!A459,\"\")","v":""},{"$f":"IF($B283=1,'Sjekkliste for utfylling'!B459,\"\")","v":""},null,{"$f":"IF(C283=1,'Sjekkliste for utfylling'!L459,\" \")","v":" "}]
[{"$f":"'Sjekkliste for utfylling'!A460","v":283},{"$f":"IF('Sjekkliste for utfylling'!J460<>\"\",1,0)","v":0},0,null,{"$f":"IF($B284=1,'Sjekkliste for utfylling'!A460,\"\")","v":""},{"$f":"IF($B284=1,'Sjekkliste for utfylling'!B460,\"\")","v":""},null,{"$f":"IF(C284=1,'Sjekkliste for utfylling'!L460,\" \")","v":" "}]
[{"$f":"'Sjekkliste for utfylling'!A461","v":284},{"$f":"IF('Sjekkliste for utfylling'!J461<>\"\",1,0)","v":0},0,null,{"$f":"IF($B285=1,'Sjekkliste for utfylling'!A461,\"\")","v":""},{"$f":"IF($B285=1,'Sjekkliste for utfylling'!B461,\"\")","v":""},null,{"$f":"IF(C285=1,'Sjekkliste for utfylling'!L461,\" \")","v":" "}]
[{"$f":"'Sjekkliste for utfylling'!A462","v":285},{"$f":"IF('Sjekkliste for utfylling'!J462<>\"\",1,0)","v":0},0,null,{"$f":"IF($B286=1,'Sjekkliste for utfylling'!A462,\"\")","v":""},{"$f":"IF($B286=1,'Sjekkliste for utfylling'!B462,\"\")","v":""},null,{"$f":"IF(C286=1,'Sjekkliste for utfylling'!L462,\" \")","v":" "}]
[{"$f":"'Sjekkliste for utfylling'!A463","v":286},{"$f":"IF('Sjekkliste for utfylling'!J463<>\"\",1,0)","v":0},0,null,{"$f":"IF($B287=1,'Sjekkliste for utfylling'!A463,\"\")","v":""},{"$f":"IF($B287=1,'Sjekkliste for utfylling'!B463,\"\")","v":""},null,{"$f":"IF(C287=1,'Sjekkliste for utfylling'!L463,\" \")","v":" "}]
[{"$f":"'Sjekkliste for utfylling'!A466","v":287},{"$f":"IF('Sjekkliste for utfylling'!J466<>\"\",1,0)","v":0},0,null,{"$f":"IF($B288=1,'Sjekkliste for utfylling'!A466,\"\")","v":""},{"$f":"IF($B288=1,'Sjekkliste for utfylling'!B466,\"\")","v":""},null,{"$f":"IF(C288=1,'Sjekkliste for utfylling'!L466,\" \")","v":" "}]
[{"$f":"'Sjekkliste for utfylling'!A467","v":288},{"$f":"IF('Sjekkliste for utfylling'!J467<>\"\",1,0)","v":0},0,null,{"$f":"IF($B289=1,'Sjekkliste for utfylling'!A467,\"\")","v":""},{"$f":"IF($B289=1,'Sjekkliste for utfylling'!B467,\"\")","v":""},null,{"$f":"IF(C289=1,'Sjekkliste for utfylling'!L467,\" \")","v":" "}]
[{"$f":"'Sjekkliste for utfylling'!A468","v":289},{"$f":"IF('Sjekkliste for utfylling'!J468<>\"\",1,0)","v":0},0,null,{"$f":"IF($B290=1,'Sjekkliste for utfylling'!A468,\"\")","v":""},{"$f":"IF($B290=1,'Sjekkliste for utfylling'!B468,\"\")","v":""},null,{"$f":"IF(C290=1,'Sjekkliste for utfylling'!L468,\" \")","v":" "}]
[{"$f":"'Sjekkliste for utfylling'!A470","v":290},{"$f":"IF('Sjekkliste for utfylling'!J470<>\"\",1,0)","v":0},0,null,{"$f":"IF($B291=1,'Sjekkliste for utfylling'!A470,\"\")","v":""},{"$f":"IF($B291=1,'Sjekkliste for utfylling'!B470,\"\")","v":""},null,{"$f":"IF(C291=1,'Sjekkliste for utfylling'!L470,\" \")","v":" "}]
[{"$f":"'Sjekkliste for utfylling'!A471","v":291},{"$f":"IF('Sjekkliste for utfylling'!J471<>\"\",1,0)","v":0},0,null,{"$f":"IF($B292=1,'Sjekkliste for utfylling'!A471,\"\")","v":""},{"$f":"IF($B292=1,'Sjekkliste for utfylling'!B471,\"\")","v":""},null,{"$f":"IF(C292=1,'Sjekkliste for utfylling'!L471,\" \")","v":" "}]
[{"$f":"'Sjekkliste for utfylling'!A472","v":292},{"$f":"IF('Sjekkliste for utfylling'!J472<>\"\",1,0)","v":0},0,null,{"$f":"IF($B293=1,'Sjekkliste for utfylling'!A472,\"\")","v":""},{"$f":"IF($B293=1,'Sjekkliste for utfylling'!B472,\"\")","v":""},null,{"$f":"IF(C293=1,'Sjekkliste for utfylling'!L472,\" \")","v":" "}]
[{"$f":"'Sjekkliste for utfylling'!A476","v":293},{"$f":"IF('Sjekkliste for utfylling'!J476<>\"\",1,0)","v":0},0,null,{"$f":"IF($B294=1,'Sjekkliste for utfylling'!A476,\"\")","v":""},{"$f":"IF($B294=1,'Sjekkliste for utfylling'!B476,\"\")","v":""},null,{"$f":"IF(C294=1,'Sjekkliste for utfylling'!L476,\" \")","v":" "}]
[{"$f":"'Sjekkliste for utfylling'!A477","v":294},{"$f":"IF('Sjekkliste for utfylling'!J477<>\"\",1,0)","v":0},0,null,{"$f":"IF($B295=1,'Sjekkliste for utfylling'!A477,\"\")","v":""},{"$f":"IF($B295=1,'Sjekkliste for utfylling'!B477,\"\")","v":""},null,{"$f":"IF(C295=1,'Sjekkliste for utfylling'!L477,\" \")","v":" "}]
[{"$f":"'Sjekkliste for utfylling'!A478","v":295},{"$f":"IF('Sjekkliste for utfylling'!J478<>\"\",1,0)","v":0},0,null,{"$f":"IF($B296=1,'Sjekkliste for utfylling'!A478,\"\")","v":""},{"$f":"IF($B296=1,'Sjekkliste for utfylling'!B478,\"\")","v":""},null,{"$f":"IF(C296=1,'Sjekkliste for utfylling'!L478,\" \")","v":" "}]
[{"$f":"'Sjekkliste for utfylling'!A479","v":296},{"$f":"IF('Sjekkliste for utfylling'!J479<>\"\",1,0)","v":0},0,null,{"$f":"IF($B297=1,'Sjekkliste for utfylling'!A479,\"\")","v":""},{"$f":"IF($B297=1,'Sjekkliste for utfylling'!B479,\"\")","v":""},null,{"$f":"IF(C297=1,'Sjekkliste for utfylling'!L479,\" \")","v":" "}]
[{"$f":"'Sjekkliste for utfylling'!A482","v":297},{"$f":"IF('Sjekkliste for utfylling'!J482<>\"\",1,0)","v":0},0,null,{"$f":"IF($B298=1,'Sjekkliste for utfylling'!A482,\"\")","v":""},{"$f":"IF($B298=1,'Sjekkliste for utfylling'!B482,\"\")","v":""},null,{"$f":"IF(C298=1,'Sjekkliste for utfylling'!L482,\" \")","v":" "}]
[{"$f":"'Sjekkliste for utfylling'!A483","v":298},{"$f":"IF('Sjekkliste for utfylling'!J483<>\"\",1,0)","v":0},0,null,{"$f":"IF($B299=1,'Sjekkliste for utfylling'!A483,\"\")","v":""},{"$f":"IF($B299=1,'Sjekkliste for utfylling'!B483,\"\")","v":""},null,{"$f":"IF(C299=1,'Sjekkliste for utfylling'!L483,\" \")","v":" "}]
[{"$f":"'Sjekkliste for utfylling'!A484","v":299},{"$f":"IF('Sjekkliste for utfylling'!J484<>\"\",1,0)","v":0},0,null,{"$f":"IF($B300=1,'Sjekkliste for utfylling'!A484,\"\")","v":""},{"$f":"IF($B300=1,'Sjekkliste for utfylling'!B484,\"\")","v":""},null,{"$f":"IF(C300=1,'Sjekkliste for utfylling'!L484,\" \")","v":" "}]
[{"$f":"'Sjekkliste for utfylling'!A487","v":300},{"$f":"IF('Sjekkliste for utfylling'!J487<>\"\",1,0)","v":0},0,null,{"$f":"IF($B301=1,'Sjekkliste for utfylling'!A487,\"\")","v":""},{"$f":"IF($B301=1,'Sjekkliste for utfylling'!B487,\"\")","v":""},null,{"$f":"IF(C301=1,'Sjekkliste for utfylling'!L487,\" \")","v":" "}]
[{"$f":"'Sjekkliste for utfylling'!A494","v":301},{"$f":"IF('Sjekkliste for utfylling'!J494<>\"\",1,0)","v":0},0,{"$f":"IF($C302=1,1,0)","v":0},{"$f":"IF($B302=1,'Sjekkliste for utfylling'!A494,\"\")","v":""},{"$f":"IF($B302=1,'Sjekkliste for utfylling'!B494,\"\")","v":""},null,{"$f":"IF(C302=1,'Sjekkliste for utfylling'!L494,\" \")","v":" "}]
[{"$f":"'Sjekkliste for utfylling'!A495","v":302},{"$f":"IF('Sjekkliste for utfylling'!J495<>\"\",1,0)","v":0},0,0,{"$f":"IF($B303=1,'Sjekkliste for utfylling'!A495,\"\")","v":""},{"$f":"IF($B303=1,'Sjekkliste for utfylling'!B495,\"\")","v":""},null,{"$f":"IF(C303=1,'Sjekkliste for utfylling'!L495,\" \")","v":" "}]
[{"$f":"'Sjekkliste for utfylling'!A496","v":303},{"$f":"IF('Sjekkliste for utfylling'!J496<>\"\",1,0)","v":0},0,0,{"$f":"IF($B304=1,'Sjekkliste for utfylling'!A496,\"\")","v":""},{"$f":"IF($B304=1,'Sjekkliste for utfylling'!B496,\"\")","v":""},null,{"$f":"IF(C304=1,'Sjekkliste for utfylling'!L496,\" \")","v":" "}]
[{"$f":"'Sjekkliste for utfylling'!A497","v":304},{"$f":"IF('Sjekkliste for utfylling'!J497<>\"\",1,0)","v":0},0,0,{"$f":"IF($B305=1,'Sjekkliste for utfylling'!A497,\"\")","v":""},{"$f":"IF($B305=1,'Sjekkliste for utfylling'!B497,\"\")","v":""},null,{"$f":"IF(C305=1,'Sjekkliste for utfylling'!L497,\" \")","v":" "}]
[{"$f":"'Sjekkliste for utfylling'!A498","v":305},{"$f":"IF('Sjekkliste for utfylling'!J498<>\"\",1,0)","v":0},0,0,{"$f":"IF($B306=1,'Sjekkliste for utfylling'!A498,\"\")","v":""},{"$f":"IF($B306=1,'Sjekkliste for utfylling'!B498,\"\")","v":""},null,{"$f":"IF(C306=1,'Sjekkliste for utfylling'!L498,\" \")","v":" "}]
[{"$f":"'Sjekkliste for utfylling'!A499","v":306},{"$f":"IF('Sjekkliste for utfylling'!J499<>\"\",1,0)","v":0},0,0,{"$f":"IF($B307=1,'Sjekkliste for utfylling'!A499,\"\")","v":""},{"$f":"IF($B307=1,'Sjekkliste for utfylling'!B499,\"\")","v":""},null,{"$f":"IF(C307=1,'Sjekkliste for utfylling'!L499,\" \")","v":" "}]
[{"$f":"'Sjekkliste for utfylling'!A501","v":307},{"$f":"IF('Sjekkliste for utfylling'!J501<>\"\",1,0)","v":0},0,0,{"$f":"IF($B308=1,'Sjekkliste for utfylling'!A501,\"\")","v":""},{"$f":"IF($B308=1,'Sjekkliste for utfylling'!B501,\"\")","v":""},null,{"$f":"IF(C308=1,'Sjekkliste for utfylling'!L501,\" \")","v":" "}]
[{"$f":"'Sjekkliste for utfylling'!A502","v":308},{"$f":"IF('Sjekkliste for utfylling'!J502<>\"\",1,0)","v":0},0,0,{"$f":"IF($B309=1,'Sjekkliste for utfylling'!A502,\"\")","v":""},{"$f":"IF($B309=1,'Sjekkliste for utfylling'!B502,\"\")","v":""},null,{"$f":"IF(C309=1,'Sjekkliste for utfylling'!L502,\" \")","v":" "}]
[{"$f":"'Sjekkliste for utfylling'!A503","v":309},{"$f":"IF('Sjekkliste for utfylling'!J503<>\"\",1,0)","v":0},0,0,{"$f":"IF($B310=1,'Sjekkliste for utfylling'!A503,\"\")","v":""},{"$f":"IF($B310=1,'Sjekkliste for utfylling'!B503,\"\")","v":""},null,{"$f":"IF(C310=1,'Sjekkliste for utfylling'!L503,\" \")","v":" "}]
[{"$f":"'Sjekkliste for utfylling'!A504","v":310},{"$f":"IF('Sjekkliste for utfylling'!J504<>\"\",1,0)","v":0},0,0,{"$f":"IF($B311=1,'Sjekkliste for utfylling'!A504,\"\")","v":""},{"$f":"IF($B311=1,'Sjekkliste for utfylling'!B504,\"\")","v":""},null,{"$f":"IF(C311=1,'Sjekkliste for utfylling'!L504,\" \")","v":" "}]
[{"$f":"'Sjekkliste for utfylling'!A505","v":311},{"$f":"IF('Sjekkliste for utfylling'!J505<>\"\",1,0)","v":0},0,0,{"$f":"IF($B312=1,'Sjekkliste for utfylling'!A505,\"\")","v":""},{"$f":"IF($B312=1,'Sjekkliste for utfylling'!B505,\"\")","v":""},null,{"$f":"IF(C312=1,'Sjekkliste for utfylling'!L505,\" \")","v":" "}]
[{"$f":"'Sjekkliste for utfylling'!A506","v":312},{"$f":"IF('Sjekkliste for utfylling'!J506<>\"\",1,0)","v":0},0,0,{"$f":"IF($B313=1,'Sjekkliste for utfylling'!A506,\"\")","v":""},{"$f":"IF($B313=1,'Sjekkliste for utfylling'!B506,\"\")","v":""},null,{"$f":"IF(C313=1,'Sjekkliste for utfylling'!L506,\" \")","v":" "}]
[{"$f":"'Sjekkliste for utfylling'!A507","v":313},{"$f":"IF('Sjekkliste for utfylling'!J507<>\"\",1,0)","v":0},0,0,{"$f":"IF($B314=1,'Sjekkliste for utfylling'!A507,\"\")","v":""},{"$f":"IF($B314=1,'Sjekkliste for utfylling'!B507,\"\")","v":""},null,{"$f":"IF(C314=1,'Sjekkliste for utfylling'!L507,\" \")","v":" "}]
[{"$f":"'Sjekkliste for utfylling'!A508","v":314},{"$f":"IF('Sjekkliste for utfylling'!J508<>\"\",1,0)","v":0},0,0,{"$f":"IF($B315=1,'Sjekkliste for utfylling'!A508,\"\")","v":""},{"$f":"IF($B315=1,'Sjekkliste for utfylling'!B508,\"\")","v":""},null,{"$f":"IF(C315=1,'Sjekkliste for utfylling'!L508,\" \")","v":" "}]
[{"$f":"'Sjekkliste for utfylling'!A509","v":315},{"$f":"IF('Sjekkliste for utfylling'!J509<>\"\",1,0)","v":0},0,0,{"$f":"IF($B316=1,'Sjekkliste for utfylling'!A509,\"\")","v":""},{"$f":"IF($B316=1,'Sjekkliste for utfylling'!B509,\"\")","v":""},null,{"$f":"IF(C316=1,'Sjekkliste for utfylling'!L509,\" \")","v":" "}]
[{"$f":"'Sjekkliste for utfylling'!A510","v":316},{"$f":"IF('Sjekkliste for utfylling'!J510<>\"\",1,0)","v":0},0,0,{"$f":"IF($B317=1,'Sjekkliste for utfylling'!A510,\"\")","v":""},{"$f":"IF($B317=1,'Sjekkliste for utfylling'!B510,\"\")","v":""},null,{"$f":"IF(C317=1,'Sjekkliste for utfylling'!L510,\" \")","v":" "}]
[{"$f":"'Sjekkliste for utfylling'!A524","v":317},{"$f":"IF('Sjekkliste for utfylling'!J524<>\"\",1,0)","v":0},0,0,{"$f":"IF($B318=1,'Sjekkliste for utfylling'!A524,\"\")","v":""},{"$f":"IF($B318=1,'Sjekkliste for utfylling'!B524,\"\")","v":""},null,{"$f":"IF(C318=1,'Sjekkliste for utfylling'!L524,\" \")","v":" "}]
[{"$f":"'Sjekkliste for utfylling'!A525","v":318},{"$f":"IF('Sjekkliste for utfylling'!J525<>\"\",1,0)","v":0},0,0,{"$f":"IF($B319=1,'Sjekkliste for utfylling'!A525,\"\")","v":""},{"$f":"IF($B319=1,'Sjekkliste for utfylling'!B525,\"\")","v":""},null,{"$f":"IF(C319=1,'Sjekkliste for utfylling'!L525,\" \")","v":" "}]
[{"$f":"'Sjekkliste for utfylling'!A526","v":319},{"$f":"IF('Sjekkliste for utfylling'!J526<>\"\",1,0)","v":0},0,0,{"$f":"IF($B320=1,'Sjekkliste for utfylling'!A526,\"\")","v":""},{"$f":"IF($B320=1,'Sjekkliste for utfylling'!B526,\"\")","v":""},null,{"$f":"IF(C320=1,'Sjekkliste for utfylling'!L526,\" \")","v":" "}]
[{"$f":"'Sjekkliste for utfylling'!A527","v":320},{"$f":"IF('Sjekkliste for utfylling'!J527<>\"\",1,0)","v":0},0,0,{"$f":"IF($B321=1,'Sjekkliste for utfylling'!A527,\"\")","v":""},{"$f":"IF($B321=1,'Sjekkliste for utfylling'!B527,\"\")","v":""},null,{"$f":"IF(C321=1,'Sjekkliste for utfylling'!L527,\" \")","v":" "}]
[{"$f":"'Sjekkliste for utfylling'!A528","v":321},{"$f":"IF('Sjekkliste for utfylling'!J528<>\"\",1,0)","v":0},{"$f":"SUM(B322:B322)","v":0},0,{"$f":"IF($B322=1,'Sjekkliste for utfylling'!A528,\"\")","v":""},{"$f":"IF($B322=1,'Sjekkliste for utfylling'!B528,\"\")","v":""},null,{"$f":"IF(C322=1,'Sjekkliste for utfylling'!L528,\" \")","v":" "}]
[{"$f":"'Sjekkliste for utfylling'!A529","v":322},{"$f":"IF('Sjekkliste for utfylling'!J529<>\"\",1,0)","v":0},0,0,{"$f":"IF($B323=1,'Sjekkliste for utfylling'!A529,\"\")","v":""},{"$f":"IF($B323=1,'Sjekkliste for utfylling'!B529,\"\")","v":""},null,{"$f":"IF(C323=1,'Sjekkliste for utfylling'!L529,\" \")","v":" "}]
[{"$f":"'Sjekkliste for utfylling'!A531","v":323},{"$f":"IF('Sjekkliste for utfylling'!J531<>\"\",1,0)","v":0},0,0,{"$f":"IF($B324=1,'Sjekkliste for utfylling'!A531,\"\")","v":""},{"$f":"IF($B324=1,'Sjekkliste for utfylling'!B531,\"\")","v":""},null,{"$f":"IF(C324=1,'Sjekkliste for utfylling'!L531,\" \")","v":" "}]
[{"$f":"'Sjekkliste for utfylling'!A533","v":324},{"$f":"IF('Sjekkliste for utfylling'!J533<>\"\",1,0)","v":0},0,0,{"$f":"IF($B325=1,'Sjekkliste for utfylling'!A533,\"\")","v":""},{"$f":"IF($B325=1,'Sjekkliste for utfylling'!B533,\"\")","v":""},null,{"$f":"IF(C325=1,'Sjekkliste for utfylling'!L533,\" \")","v":" "}]
[{"$f":"'Sjekkliste for utfylling'!A534","v":325},{"$f":"IF('Sjekkliste for utfylling'!J534<>\"\",1,0)","v":0},0,0,{"$f":"IF($B326=1,'Sjekkliste for utfylling'!A534,\"\")","v":""},{"$f":"IF($B326=1,'Sjekkliste for utfylling'!B534,\"\")","v":""},null,{"$f":"IF(C326=1,'Sjekkliste for utfylling'!L534,\" \")","v":" "}]
[{"$f":"'Sjekkliste for utfylling'!A537","v":326},{"$f":"IF('Sjekkliste for utfylling'!J537<>\"\",1,0)","v":0},0,0,{"$f":"IF($B327=1,'Sjekkliste for utfylling'!A537,\"\")","v":""},{"$f":"IF($B327=1,'Sjekkliste for utfylling'!B537,\"\")","v":""},null,{"$f":"IF(C327=1,'Sjekkliste for utfylling'!L537,\" \")","v":" "}]
[{"$f":"'Sjekkliste for utfylling'!A539","v":327},{"$f":"IF('Sjekkliste for utfylling'!J539<>\"\",1,0)","v":0},0,0,{"$f":"IF($B328=1,'Sjekkliste for utfylling'!A539,\"\")","v":""},{"$f":"IF($B328=1,'Sjekkliste for utfylling'!B539,\"\")","v":""},null,{"$f":"IF(C328=1,'Sjekkliste for utfylling'!L539,\" \")","v":" "}]
[{"$f":"'Sjekkliste for utfylling'!A541","v":328},{"$f":"IF('Sjekkliste for utfylling'!J541<>\"\",1,0)","v":0},0,0,{"$f":"IF($B329=1,'Sjekkliste for utfylling'!A541,\"\")","v":""},{"$f":"IF($B329=1,'Sjekkliste for utfylling'!B541,\"\")","v":""},null,{"$f":"IF(C329=1,'Sjekkliste for utfylling'!L541,\" \")","v":" "}]
[{"$f":"'Sjekkliste for utfylling'!A542","v":329},{"$f":"IF('Sjekkliste for utfylling'!J542<>\"\",1,0)","v":0},0,0,{"$f":"IF($B330=1,'Sjekkliste for utfylling'!A542,\"\")","v":""},{"$f":"IF($B330=1,'Sjekkliste for utfylling'!B542,\"\")","v":""}]
[{"$f":"'Sjekkliste for utfylling'!A543","v":330},{"$f":"IF('Sjekkliste for utfylling'!J543<>\"\",1,0)","v":0},0,0,{"$f":"IF($B331=1,'Sjekkliste for utfylling'!A543,\"\")","v":""},{"$f":"IF($B331=1,'Sjekkliste for utfylling'!B543,\"\")","v":""},null,{"$f":"IF(C331=1,'Sjekkliste for utfylling'!L543,\" \")","v":" "}]
[{"$f":"'Sjekkliste for utfylling'!A544","v":331},{"$f":"IF('Sjekkliste for utfylling'!J544<>\"\",1,0)","v":0},0,0,{"$f":"IF($B332=1,'Sjekkliste for utfylling'!A544,\"\")","v":""},{"$f":"IF($B332=1,'Sjekkliste for utfylling'!B544,\"\")","v":""},null,{"$f":"IF(C332=1,'Sjekkliste for utfylling'!L544,\" \")","v":" "}]
[{"$f":"'Sjekkliste for utfylling'!A545","v":332},{"$f":"IF('Sjekkliste for utfylling'!J545<>\"\",1,0)","v":0},0,0,{"$f":"IF($B333=1,'Sjekkliste for utfylling'!A545,\"\")","v":""},{"$f":"IF($B333=1,'Sjekkliste for utfylling'!B545,\"\")","v":""},null,{"$f":"IF(C333=1,'Sjekkliste for utfylling'!L545,\" \")","v":" "}]
[{"$f":"'Sjekkliste for utfylling'!A546","v":333},{"$f":"IF('Sjekkliste for utfylling'!J546<>\"\",1,0)","v":0},0,{"$f":"IF($C334=1,1,0)","v":0},{"$f":"IF($B334=1,'Sjekkliste for utfylling'!A546,\"\")","v":""},{"$f":"IF($B334=1,'Sjekkliste for utfylling'!B546,\"\")","v":""},null,{"$f":"IF(C334=1,'Sjekkliste for utfylling'!L546,\" \")","v":" "}]
[{"$f":"'Sjekkliste for utfylling'!A547","v":334},{"$f":"IF('Sjekkliste for utfylling'!J547<>\"\",1,0)","v":0},0,0,{"$f":"IF($B335=1,'Sjekkliste for utfylling'!A547,\"\")","v":""},{"$f":"IF($B335=1,'Sjekkliste for utfylling'!B547,\"\")","v":""},null,{"$f":"IF(C335=1,'Sjekkliste for utfylling'!L547,\" \")","v":" "}]
[{"$f":"'Sjekkliste for utfylling'!A548","v":335},{"$f":"IF('Sjekkliste for utfylling'!J548<>\"\",1,0)","v":0},0,0,{"$f":"IF($B336=1,'Sjekkliste for utfylling'!A548,\"\")","v":""},{"$f":"IF($B336=1,'Sjekkliste for utfylling'!B548,\"\")","v":""},null,{"$f":"IF(C336=1,'Sjekkliste for utfylling'!L548,\" \")","v":" "}]
[{"$f":"'Sjekkliste for utfylling'!A549","v":336},{"$f":"IF('Sjekkliste for utfylling'!J549<>\"\",1,0)","v":0},0,0,{"$f":"IF($B337=1,'Sjekkliste for utfylling'!A549,\"\")","v":""},{"$f":"IF($B337=1,'Sjekkliste for utfylling'!B549,\"\")","v":""},null,{"$f":"IF(C337=1,'Sjekkliste for utfylling'!L549,\" \")","v":" "}]
[{"$f":"'Sjekkliste for utfylling'!A550","v":337},{"$f":"IF('Sjekkliste for utfylling'!J550<>\"\",1,0)","v":0},0,0,{"$f":"IF($B338=1,'Sjekkliste for utfylling'!A550,\"\")","v":""},{"$f":"IF($B338=1,'Sjekkliste for utfylling'!B550,\"\")","v":""},null,{"$f":"IF(C338=1,'Sjekkliste for utfylling'!L550,\" \")","v":" "}]
[{"$f":"'Sjekkliste for utfylling'!A551","v":338},{"$f":"IF('Sjekkliste for utfylling'!J551<>\"\",1,0)","v":0},0,0,{"$f":"IF($B339=1,'Sjekkliste for utfylling'!A551,\"\")","v":""},{"$f":"IF($B339=1,'Sjekkliste for utfylling'!B551,\"\")","v":""},null,{"$f":"IF(C339=1,'Sjekkliste for utfylling'!L551,\" \")","v":" "}]
[{"$f":"'Sjekkliste for utfylling'!A552","v":339},{"$f":"IF('Sjekkliste for utfylling'!J552<>\"\",1,0)","v":0},0,0,{"$f":"IF($B340=1,'Sjekkliste for utfylling'!A552,\"\")","v":""},{"$f":"IF($B340=1,'Sjekkliste for utfylling'!B552,\"\")","v":""},null,{"$f":"IF(C340=1,'Sjekkliste for utfylling'!L552,\" \")","v":" "}]
[{"$f":"'Sjekkliste for utfylling'!A553","v":340},{"$f":"IF('Sjekkliste for utfylling'!J553<>\"\",1,0)","v":0},0,0,{"$f":"IF($B341=1,'Sjekkliste for utfylling'!A553,\"\")","v":""},{"$f":"IF($B341=1,'Sjekkliste for utfylling'!B553,\"\")","v":""},null,{"$f":"IF(C341=1,'Sjekkliste for utfylling'!L553,\" \")","v":" "}]
[{"$f":"'Sjekkliste for utfylling'!A554","v":341},{"$f":"IF('Sjekkliste for utfylling'!J554<>\"\",1,0)","v":0},0,0,{"$f":"IF($B342=1,'Sjekkliste for utfylling'!A554,\"\")","v":""},{"$f":"IF($B342=1,'Sjekkliste for utfylling'!B554,\"\")","v":""},null,{"$f":"IF(C342=1,'Sjekkliste for utfylling'!L554,\" \")","v":" "}]
[{"$f":"'Sjekkliste for utfylling'!A555","v":342},{"$f":"IF('Sjekkliste for utfylling'!J555<>\"\",1,0)","v":0},0,0,{"$f":"IF($B343=1,'Sjekkliste for utfylling'!A555,\"\")","v":""},{"$f":"IF($B343=1,'Sjekkliste for utfylling'!B555,\"\")","v":""},null,{"$f":"IF(C343=1,'Sjekkliste for utfylling'!L555,\" \")","v":" "}]
[{"$f":"'Sjekkliste for utfylling'!A556","v":343},{"$f":"IF('Sjekkliste for utfylling'!J556<>\"\",1,0)","v":0},0,0,{"$f":"IF($B344=1,'Sjekkliste for utfylling'!A556,\"\")","v":""},{"$f":"IF($B344=1,'Sjekkliste for utfylling'!B556,\"\")","v":""},null,{"$f":"IF(C344=1,'Sjekkliste for utfylling'!L556,\" \")","v":" "}]
[{"$f":"'Sjekkliste for utfylling'!A557","v":344},{"$f":"IF('Sjekkliste for utfylling'!J557<>\"\",1,0)","v":0},0,0,{"$f":"IF($B345=1,'Sjekkliste for utfylling'!A557,\"\")","v":""},{"$f":"IF($B345=1,'Sjekkliste for utfylling'!B557,\"\")","v":""},null,{"$f":"IF(C345=1,'Sjekkliste for utfylling'!L557,\" \")","v":" "}]
[{"$f":"'Sjekkliste for utfylling'!A558","v":345},{"$f":"IF('Sjekkliste for utfylling'!J558<>\"\",1,0)","v":0},0,0,{"$f":"IF($B346=1,'Sjekkliste for utfylling'!A558,\"\")","v":""},{"$f":"IF($B346=1,'Sjekkliste for utfylling'!B558,\"\")","v":""},null,{"$f":"IF(C346=1,'Sjekkliste for utfylling'!L558,\" \")","v":" "}]
[{"$f":"'Sjekkliste for utfylling'!A560","v":346},{"$f":"IF('Sjekkliste for utfylling'!J560<>\"\",1,0)","v":0},0,0,{"$f":"IF($B347=1,'Sjekkliste for utfylling'!A560,\"\")","v":""},{"$f":"IF($B347=1,'Sjekkliste for utfylling'!B560,\"\")","v":""},null,{"$f":"IF(C347=1,'Sjekkliste for utfylling'!L560,\" \")","v":" "}]
[{"$f":"'Sjekkliste for utfylling'!A563","v":347},{"$f":"IF('Sjekkliste for utfylling'!J563<>\"\",1,0)","v":0},0,0,{"$f":"IF($B348=1,'Sjekkliste for utfylling'!A563,\"\")","v":""},{"$f":"IF($B348=1,'Sjekkliste for utfylling'!B563,\"\")","v":""},null,{"$f":"IF(C348=1,'Sjekkliste for utfylling'!L563,\" \")","v":" "}]
[{"$f":"'Sjekkliste for utfylling'!A564","v":348},{"$f":"IF('Sjekkliste for utfylling'!J564<>\"\",1,0)","v":0},0,0,{"$f":"IF($B349=1,'Sjekkliste for utfylling'!A564,\"\")","v":""},{"$f":"IF($B349=1,'Sjekkliste for utfylling'!B564,\"\")","v":""},null,{"$f":"IF(C349=1,'Sjekkliste for utfylling'!L564,\" \")","v":" "}]
[{"$f":"'Sjekkliste for utfylling'!A566","v":349},{"$f":"IF('Sjekkliste for utfylling'!J566<>\"\",1,0)","v":0},0,0,{"$f":"IF($B350=1,'Sjekkliste for utfylling'!A566,\"\")","v":""},{"$f":"IF($B350=1,'Sjekkliste for utfylling'!B566,\"\")","v":""},null,{"$f":"IF(C350=1,'Sjekkliste for utfylling'!L566,\" \")","v":" "}]
[{"$f":"'Sjekkliste for utfylling'!A567","v":350},{"$f":"IF('Sjekkliste for utfylling'!J567<>\"\",1,0)","v":0},0,0,{"$f":"IF($B351=1,'Sjekkliste for utfylling'!A567,\"\")","v":""},{"$f":"IF($B351=1,'Sjekkliste for utfylling'!B567,\"\")","v":""},null,{"$f":"IF(C351=1,'Sjekkliste for utfylling'!L567,\" \")","v":" "}]
[{"$f":"'Sjekkliste for utfylling'!A568","v":351},{"$f":"IF('Sjekkliste for utfylling'!J568<>\"\",1,0)","v":0},0,0,{"$f":"IF($B352=1,'Sjekkliste for utfylling'!A568,\"\")","v":""},{"$f":"IF($B352=1,'Sjekkliste for utfylling'!B568,\"\")","v":""},null,{"$f":"IF(C352=1,'Sjekkliste for utfylling'!L568,\" \")","v":" "}]
[{"$f":"'Sjekkliste for utfylling'!A569","v":352},{"$f":"IF('Sjekkliste for utfylling'!J569<>\"\",1,0)","v":0},0,0,{"$f":"IF($B353=1,'Sjekkliste for utfylling'!A569,\"\")","v":""},{"$f":"IF($B353=1,'Sjekkliste for utfylling'!B569,\"\")","v":""},null,{"$f":"IF(C353=1,'Sjekkliste for utfylling'!L569,\" \")","v":" "}]
[{"$f":"'Sjekkliste for utfylling'!A570","v":353},{"$f":"IF('Sjekkliste for utfylling'!J570<>\"\",1,0)","v":0},0,0,{"$f":"IF($B354=1,'Sjekkliste for utfylling'!A570,\"\")","v":""},{"$f":"IF($B354=1,'Sjekkliste for utfylling'!B570,\"\")","v":""},null,{"$f":"IF(C354=1,'Sjekkliste for utfylling'!L570,\" \")","v":" "}]
[{"$f":"'Sjekkliste for utfylling'!A571","v":354},{"$f":"IF('Sjekkliste for utfylling'!J571<>\"\",1,0)","v":0},0,0,{"$f":"IF($B355=1,'Sjekkliste for utfylling'!A571,\"\")","v":""},{"$f":"IF($B355=1,'Sjekkliste for utfylling'!B571,\"\")","v":""},null,{"$f":"IF(C355=1,'Sjekkliste for utfylling'!L571,\" \")","v":" "}]
[{"$f":"'Sjekkliste for utfylling'!A572","v":355},{"$f":"IF('Sjekkliste for utfylling'!J572<>\"\",1,0)","v":0},0,0,{"$f":"IF($B356=1,'Sjekkliste for utfylling'!A572,\"\")","v":""},{"$f":"IF($B356=1,'Sjekkliste for utfylling'!B572,\"\")","v":""},null,{"$f":"IF(C356=1,'Sjekkliste for utfylling'!L572,\" \")","v":" "}]
[{"$f":"'Sjekkliste for utfylling'!A573","v":356},{"$f":"IF('Sjekkliste for utfylling'!J573<>\"\",1,0)","v":0},0,0,{"$f":"IF($B357=1,'Sjekkliste for utfylling'!A573,\"\")","v":""},{"$f":"IF($B357=1,'Sjekkliste for utfylling'!B573,\"\")","v":""},null,{"$f":"IF(C357=1,'Sjekkliste for utfylling'!L573,\" \")","v":" "}]
[{"$f":"'Sjekkliste for utfylling'!A574","v":357},{"$f":"IF('Sjekkliste for utfylling'!J574<>\"\",1,0)","v":0},0,0,{"$f":"IF($B358=1,'Sjekkliste for utfylling'!A574,\"\")","v":""},{"$f":"IF($B358=1,'Sjekkliste for utfylling'!B574,\"\")","v":""},null,{"$f":"IF(C358=1,'Sjekkliste for utfylling'!L574,\" \")","v":" "}]
[{"$f":"'Sjekkliste for utfylling'!A575","v":358},{"$f":"IF('Sjekkliste for utfylling'!J575<>\"\",1,0)","v":0},0,0,{"$f":"IF($B359=1,'Sjekkliste for utfylling'!A575,\"\")","v":""},{"$f":"IF($B359=1,'Sjekkliste for utfylling'!B575,\"\")","v":""},null,{"$f":"IF(C359=1,'Sjekkliste for utfylling'!L575,\" \")","v":" "}]
[{"$f":"'Sjekkliste for utfylling'!A576","v":359},{"$f":"IF('Sjekkliste for utfylling'!J576<>\"\",1,0)","v":0},0,0,{"$f":"IF($B360=1,'Sjekkliste for utfylling'!A576,\"\")","v":""},{"$f":"IF($B360=1,'Sjekkliste for utfylling'!B576,\"\")","v":""},null,{"$f":"IF(C360=1,'Sjekkliste for utfylling'!L576,\" \")","v":" "}]
[{"$f":"'Sjekkliste for utfylling'!A577","v":360},{"$f":"IF('Sjekkliste for utfylling'!J577<>\"\",1,0)","v":0},0,0,{"$f":"IF($B361=1,'Sjekkliste for utfylling'!A577,\"\")","v":""},{"$f":"IF($B361=1,'Sjekkliste for utfylling'!B577,\"\")","v":""},null,{"$f":"IF(C361=1,'Sjekkliste for utfylling'!L577,\" \")","v":" "}]
[{"$f":"'Sjekkliste for utfylling'!A578","v":361},{"$f":"IF('Sjekkliste for utfylling'!J578<>\"\",1,0)","v":0},0,0,{"$f":"IF($B362=1,'Sjekkliste for utfylling'!A578,\"\")","v":""},{"$f":"IF($B362=1,'Sjekkliste for utfylling'!B578,\"\")","v":""},null,{"$f":"IF(C362=1,'Sjekkliste for utfylling'!L578,\" \")","v":" "}]
[{"$f":"'Sjekkliste for utfylling'!A579","v":362},{"$f":"IF('Sjekkliste for utfylling'!J579<>\"\",1,0)","v":0},0,0,{"$f":"IF($B363=1,'Sjekkliste for utfylling'!A579,\"\")","v":""},{"$f":"IF($B363=1,'Sjekkliste for utfylling'!B579,\"\")","v":""},null,{"$f":"IF(C363=1,'Sjekkliste for utfylling'!L579,\" \")","v":" "}]
[{"$f":"'Sjekkliste for utfylling'!A580","v":363},{"$f":"IF('Sjekkliste for utfylling'!J580<>\"\",1,0)","v":0},0,0,{"$f":"IF($B364=1,'Sjekkliste for utfylling'!A580,\"\")","v":""},{"$f":"IF($B364=1,'Sjekkliste for utfylling'!B580,\"\")","v":""},null,{"$f":"IF(C364=1,'Sjekkliste for utfylling'!L580,\" \")","v":" "}]
[{"$f":"'Sjekkliste for utfylling'!A581","v":364},{"$f":"IF('Sjekkliste for utfylling'!J581<>\"\",1,0)","v":0},0,0,{"$f":"IF($B365=1,'Sjekkliste for utfylling'!A581,\"\")","v":""},{"$f":"IF($B365=1,'Sjekkliste for utfylling'!B581,\"\")","v":""},null,{"$f":"IF(C365=1,'Sjekkliste for utfylling'!L581,\" \")","v":" "}]
[{"$f":"'Sjekkliste for utfylling'!A583","v":365},{"$f":"IF('Sjekkliste for utfylling'!J583<>\"\",1,0)","v":0},0,{"$f":"IF($C366=1,1,0)","v":0},{"$f":"IF($B366=1,'Sjekkliste for utfylling'!A583,\"\")","v":""},{"$f":"IF($B366=1,'Sjekkliste for utfylling'!B583,\"\")","v":""},null,{"$f":"IF(C366=1,'Sjekkliste for utfylling'!L583,\" \")","v":" "}]
[{"$f":"'Sjekkliste for utfylling'!A584","v":366},{"$f":"IF('Sjekkliste for utfylling'!J584<>\"\",1,0)","v":0},0,0,{"$f":"IF($B367=1,'Sjekkliste for utfylling'!A584,\"\")","v":""},{"$f":"IF($B367=1,'Sjekkliste for utfylling'!B584,\"\")","v":""},null,{"$f":"IF(C367=1,'Sjekkliste for utfylling'!L584,\" \")","v":" "}]
[{"$f":"'Sjekkliste for utfylling'!A585","v":367},{"$f":"IF('Sjekkliste for utfylling'!J585<>\"\",1,0)","v":0},0,0,{"$f":"IF($B368=1,'Sjekkliste for utfylling'!A585,\"\")","v":""},{"$f":"IF($B368=1,'Sjekkliste for utfylling'!B585,\"\")","v":""},null,{"$f":"IF(C368=1,'Sjekkliste for utfylling'!L585,\" \")","v":" "}]
[{"$f":"'Sjekkliste for utfylling'!A586","v":368},{"$f":"IF('Sjekkliste for utfylling'!J586<>\"\",1,0)","v":0},0,0,{"$f":"IF($B369=1,'Sjekkliste for utfylling'!A586,\"\")","v":""},{"$f":"IF($B369=1,'Sjekkliste for utfylling'!B586,\"\")","v":""},null,{"$f":"IF(C369=1,'Sjekkliste for utfylling'!L586,\" \")","v":" "}]
[{"$f":"'Sjekkliste for utfylling'!A587","v":369},{"$f":"IF('Sjekkliste for utfylling'!J587<>\"\",1,0)","v":0},0,0,{"$f":"IF($B370=1,'Sjekkliste for utfylling'!A587,\"\")","v":""},{"$f":"IF($B370=1,'Sjekkliste for utfylling'!B587,\"\")","v":""},null,{"$f":"IF(C370=1,'Sjekkliste for utfylling'!L587,\" \")","v":" "}]
[{"$f":"'Sjekkliste for utfylling'!A588","v":370},{"$f":"IF('Sjekkliste for utfylling'!J588<>\"\",1,0)","v":0},0,0,{"$f":"IF($B371=1,'Sjekkliste for utfylling'!A588,\"\")","v":""},{"$f":"IF($B371=1,'Sjekkliste for utfylling'!B588,\"\")","v":""},null,{"$f":"IF(C371=1,'Sjekkliste for utfylling'!L588,\" \")","v":" "}]
[{"$f":"'Sjekkliste for utfylling'!A589","v":371},{"$f":"IF('Sjekkliste for utfylling'!J589<>\"\",1,0)","v":0},0,0,{"$f":"IF($B372=1,'Sjekkliste for utfylling'!A589,\"\")","v":""},{"$f":"IF($B372=1,'Sjekkliste for utfylling'!B589,\"\")","v":""},null,{"$f":"IF(C372=1,'Sjekkliste for utfylling'!L589,\" \")","v":" "}]
[{"$f":"'Sjekkliste for utfylling'!A590","v":372},{"$f":"IF('Sjekkliste for utfylling'!J590<>\"\",1,0)","v":0},0,0,{"$f":"IF($B373=1,'Sjekkliste for utfylling'!A590,\"\")","v":""},{"$f":"IF($B373=1,'Sjekkliste for utfylling'!B590,\"\")","v":""},null,{"$f":"IF(C373=1,'Sjekkliste for utfylling'!L590,\" \")","v":" "}]
[{"$f":"'Sjekkliste for utfylling'!A591","v":373},{"$f":"IF('Sjekkliste for utfylling'!J591<>\"\",1,0)","v":0},0,0,{"$f":"IF($B374=1,'Sjekkliste for utfylling'!A591,\"\")","v":""},{"$f":"IF($B374=1,'Sjekkliste for utfylling'!B591,\"\")","v":""},null,{"$f":"IF(C374=1,'Sjekkliste for utfylling'!L591,\" \")","v":" "}]
[{"$f":"'Sjekkliste for utfylling'!A592","v":374},{"$f":"IF('Sjekkliste for utfylling'!J592<>\"\",1,0)","v":0},0,0,{"$f":"IF($B375=1,'Sjekkliste for utfylling'!A592,\"\")","v":""},{"$f":"IF($B375=1,'Sjekkliste for utfylling'!B592,\"\")","v":""},null,{"$f":"IF(C375=1,'Sjekkliste for utfylling'!L592,\" \")","v":" "}]
[{"$f":"'Sjekkliste for utfylling'!A593","v":375},{"$f":"IF('Sjekkliste for utfylling'!J593<>\"\",1,0)","v":0},0,0,{"$f":"IF($B376=1,'Sjekkliste for utfylling'!A593,\"\")","v":""},{"$f":"IF($B376=1,'Sjekkliste for utfylling'!B593,\"\")","v":""},null,{"$f":"IF(C376=1,'Sjekkliste for utfylling'!L593,\" \")","v":" "}]
[{"$f":"'Sjekkliste for utfylling'!A596","v":376},{"$f":"IF('Sjekkliste for utfylling'!J596<>\"\",1,0)","v":0},0,0,{"$f":"IF($B377=1,'Sjekkliste for utfylling'!A596,\"\")","v":""},{"$f":"IF($B377=1,'Sjekkliste for utfylling'!B596,\"\")","v":""},null,{"$f":"IF(C377=1,'Sjekkliste for utfylling'!L596,\" \")","v":" "}]
[{"$f":"'Sjekkliste for utfylling'!A597","v":377},{"$f":"IF('Sjekkliste for utfylling'!J597<>\"\",1,0)","v":0},0,0,{"$f":"IF($B378=1,'Sjekkliste for utfylling'!A597,\"\")","v":""},{"$f":"IF($B378=1,'Sjekkliste for utfylling'!B597,\"\")","v":""},null,{"$f":"IF(C378=1,'Sjekkliste for utfylling'!L597,\" \")","v":" "}]
[{"$f":"'Sjekkliste for utfylling'!A599","v":378},{"$f":"IF('Sjekkliste for utfylling'!J599<>\"\",1,0)","v":0},0,0,{"$f":"IF($B379=1,'Sjekkliste for utfylling'!A599,\"\")","v":""},{"$f":"IF($B379=1,'Sjekkliste for utfylling'!B599,\"\")","v":""},null,{"$f":"IF(C379=1,'Sjekkliste for utfylling'!L599,\" \")","v":" "}]
[{"$f":"'Sjekkliste for utfylling'!A600","v":379},{"$f":"IF('Sjekkliste for utfylling'!J600<>\"\",1,0)","v":0},0,0,{"$f":"IF($B380=1,'Sjekkliste for utfylling'!A600,\"\")","v":""},{"$f":"IF($B380=1,'Sjekkliste for utfylling'!B600,\"\")","v":""},null,{"$f":"IF(C380=1,'Sjekkliste for utfylling'!L600,\" \")","v":" "}]
[{"$f":"'Sjekkliste for utfylling'!A601","v":380},{"$f":"IF('Sjekkliste for utfylling'!J601<>\"\",1,0)","v":0},0,0,{"$f":"IF($B381=1,'Sjekkliste for utfylling'!A601,\"\")","v":""},{"$f":"IF($B381=1,'Sjekkliste for utfylling'!B601,\"\")","v":""},null,{"$f":"IF(C381=1,'Sjekkliste for utfylling'!L601,\" \")","v":" "}]
[{"$f":"'Sjekkliste for utfylling'!A602","v":381},{"$f":"IF('Sjekkliste for utfylling'!J602<>\"\",1,0)","v":0},0,0,{"$f":"IF($B382=1,'Sjekkliste for utfylling'!A602,\"\")","v":""},{"$f":"IF($B382=1,'Sjekkliste for utfylling'!B602,\"\")","v":""},null,{"$f":"IF(C382=1,'Sjekkliste for utfylling'!L602,\" \")","v":" "}]
[{"$f":"'Sjekkliste for utfylling'!A603","v":382},{"$f":"IF('Sjekkliste for utfylling'!J603<>\"\",1,0)","v":0},0,0,{"$f":"IF($B383=1,'Sjekkliste for utfylling'!A603,\"\")","v":""},{"$f":"IF($B383=1,'Sjekkliste for utfylling'!B603,\"\")","v":""},null,{"$f":"IF(C383=1,'Sjekkliste for utfylling'!L603,\" \")","v":" "}]
[{"$f":"'Sjekkliste for utfylling'!A604","v":383},{"$f":"IF('Sjekkliste for utfylling'!J604<>\"\",1,0)","v":0},0,0,{"$f":"IF($B384=1,'Sjekkliste for utfylling'!A604,\"\")","v":""},{"$f":"IF($B384=1,'Sjekkliste for utfylling'!B604,\"\")","v":""},null,{"$f":"IF(C384=1,'Sjekkliste for utfylling'!L604,\" \")","v":" "}]
[{"$f":"'Sjekkliste for utfylling'!A606","v":384},{"$f":"IF('Sjekkliste for utfylling'!J606<>\"\",1,0)","v":0},0,0,{"$f":"IF($B385=1,'Sjekkliste for utfylling'!A606,\"\")","v":""},{"$f":"IF($B385=1,'Sjekkliste for utfylling'!B606,\"\")","v":""},null,{"$f":"IF(C385=1,'Sjekkliste for utfylling'!L606,\" \")","v":" "}]
[{"$f":"'Sjekkliste for utfylling'!A607","v":385},{"$f":"IF('Sjekkliste for utfylling'!J607<>\"\",1,0)","v":0},{"$f":"SUM(B386:B386)","v":0},0,{"$f":"IF($B386=1,'Sjekkliste for utfylling'!A607,\"\")","v":""},{"$f":"IF($B386=1,'Sjekkliste for utfylling'!B607,\"\")","v":""},null,{"$f":"IF(C386=1,'Sjekkliste for utfylling'!L607,\" \")","v":" "}]
[{"$f":"'Sjekkliste for utfylling'!A609","v":386},{"$f":"IF('Sjekkliste for utfylling'!J609<>\"\",1,0)","v":0},0,0,{"$f":"IF($B387=1,'Sjekkliste for utfylling'!A609,\"\")","v":""},{"$f":"IF($B387=1,'Sjekkliste for utfylling'!B609,\"\")","v":""},null,{"$f":"IF(C387=1,'Sjekkliste for utfylling'!L609,\" \")","v":" "}]
[{"$f":"'Sjekkliste for utfylling'!A610","v":387},{"$f":"IF('Sjekkliste for utfylling'!J610<>\"\",1,0)","v":0},0,0,{"$f":"IF($B388=1,'Sjekkliste for utfylling'!A610,\"\")","v":""},{"$f":"IF($B388=1,'Sjekkliste for utfylling'!B610,\"\")","v":""},null,{"$f":"IF(C388=1,'Sjekkliste for utfylling'!L610,\" \")","v":" "}]
[{"$f":"'Sjekkliste for utfylling'!A611","v":388},{"$f":"IF('Sjekkliste for utfylling'!J611<>\"\",1,0)","v":0},0,0,{"$f":"IF($B389=1,'Sjekkliste for utfylling'!A611,\"\")","v":""},{"$f":"IF($B389=1,'Sjekkliste for utfylling'!B611,\"\")","v":""},null,{"$f":"IF(C389=1,'Sjekkliste for utfylling'!L611,\" \")","v":" "}]
[{"$f":"'Sjekkliste for utfylling'!A613","v":389},{"$f":"IF('Sjekkliste for utfylling'!J613<>\"\",1,0)","v":0},0,0,{"$f":"IF($B390=1,'Sjekkliste for utfylling'!A613,\"\")","v":""},{"$f":"IF($B390=1,'Sjekkliste for utfylling'!B613,\"\")","v":""},null,{"$f":"IF(C390=1,'Sjekkliste for utfylling'!L613,\" \")","v":" "}]
[{"$f":"'Sjekkliste for utfylling'!A614","v":390},{"$f":"IF('Sjekkliste for utfylling'!J614<>\"\",1,0)","v":0},0,0,{"$f":"IF($B391=1,'Sjekkliste for utfylling'!A614,\"\")","v":""},{"$f":"IF($B391=1,'Sjekkliste for utfylling'!B614,\"\")","v":""},null,{"$f":"IF(C391=1,'Sjekkliste for utfylling'!L614,\" \")","v":" "}]
[{"$f":"'Sjekkliste for utfylling'!A615","v":391},{"$f":"IF('Sjekkliste for utfylling'!J615<>\"\",1,0)","v":0},0,0,{"$f":"IF($B392=1,'Sjekkliste for utfylling'!A615,\"\")","v":""},{"$f":"IF($B392=1,'Sjekkliste for utfylling'!B615,\"\")","v":""},null,{"$f":"IF(C392=1,'Sjekkliste for utfylling'!L615,\" \")","v":" "}]
[{"$f":"'Sjekkliste for utfylling'!A616","v":392},{"$f":"IF('Sjekkliste for utfylling'!J616<>\"\",1,0)","v":0},0,0,{"$f":"IF($B393=1,'Sjekkliste for utfylling'!A616,\"\")","v":""},{"$f":"IF($B393=1,'Sjekkliste for utfylling'!B616,\"\")","v":""},null,{"$f":"IF(C393=1,'Sjekkliste for utfylling'!L616,\" \")","v":" "}]
[{"$f":"'Sjekkliste for utfylling'!A617","v":393},{"$f":"IF('Sjekkliste for utfylling'!J617<>\"\",1,0)","v":0},0,0,{"$f":"IF($B394=1,'Sjekkliste for utfylling'!A617,\"\")","v":""},{"$f":"IF($B394=1,'Sjekkliste for utfylling'!B617,\"\")","v":""},null,{"$f":"IF(C394=1,'Sjekkliste for utfylling'!L617,\" \")","v":" "}]
[{"$f":"'Sjekkliste for utfylling'!A620","v":394},{"$f":"IF('Sjekkliste for utfylling'!J620<>\"\",1,0)","v":0},0,0,{"$f":"IF($B395=1,'Sjekkliste for utfylling'!A620,\"\")","v":""},{"$f":"IF($B395=1,'Sjekkliste for utfylling'!B620,\"\")","v":""},null,{"$f":"IF(C395=1,'Sjekkliste for utfylling'!L620,\" \")","v":" "}]
[{"$f":"'Sjekkliste for utfylling'!A621","v":395},{"$f":"IF('Sjekkliste for utfylling'!J621<>\"\",1,0)","v":0},0,0,{"$f":"IF($B396=1,'Sjekkliste for utfylling'!A621,\"\")","v":""},{"$f":"IF($B396=1,'Sjekkliste for utfylling'!B621,\"\")","v":""},null,{"$f":"IF(C396=1,'Sjekkliste for utfylling'!L621,\" \")","v":" "}]
[{"$f":"'Sjekkliste for utfylling'!A622","v":396},{"$f":"IF('Sjekkliste for utfylling'!J622<>\"\",1,0)","v":0},0,0,{"$f":"IF($B397=1,'Sjekkliste for utfylling'!A622,\"\")","v":""},{"$f":"IF($B397=1,'Sjekkliste for utfylling'!B622,\"\")","v":""},null,{"$f":"IF(C397=1,'Sjekkliste for utfylling'!L622,\" \")","v":" "}]
[{"$f":"'Sjekkliste for utfylling'!A623","v":397},{"$f":"IF('Sjekkliste for utfylling'!J623<>\"\",1,0)","v":0},0,{"$f":"IF($C398=1,1,0)","v":0},{"$f":"IF($B398=1,'Sjekkliste for utfylling'!A623,\"\")","v":""},{"$f":"IF($B398=1,'Sjekkliste for utfylling'!B623,\"\")","v":""},null,{"$f":"IF(C398=1,'Sjekkliste for utfylling'!L623,\" \")","v":" "}]
[{"$f":"'Sjekkliste for utfylling'!A624","v":398},{"$f":"IF('Sjekkliste for utfylling'!J624<>\"\",1,0)","v":0},0,0,{"$f":"IF($B399=1,'Sjekkliste for utfylling'!A624,\"\")","v":""},{"$f":"IF($B399=1,'Sjekkliste for utfylling'!B624,\"\")","v":""},null,{"$f":"IF(C399=1,'Sjekkliste for utfylling'!L624,\" \")","v":" "}]
[{"$f":"'Sjekkliste for utfylling'!A626","v":399},{"$f":"IF('Sjekkliste for utfylling'!J626<>\"\",1,0)","v":0},0,0,{"$f":"IF($B400=1,'Sjekkliste for utfylling'!A626,\"\")","v":""},{"$f":"IF($B400=1,'Sjekkliste for utfylling'!B626,\"\")","v":""},null,{"$f":"IF(C400=1,'Sjekkliste for utfylling'!L626,\" \")","v":" "}]
[{"$f":"'Sjekkliste for utfylling'!A628","v":400},{"$f":"IF('Sjekkliste for utfylling'!J628<>\"\",1,0)","v":0},0,0,{"$f":"IF($B401=1,'Sjekkliste for utfylling'!A628,\"\")","v":""},{"$f":"IF($B401=1,'Sjekkliste for utfylling'!B628,\"\")","v":""},null,{"$f":"IF(C401=1,'Sjekkliste for utfylling'!L628,\" \")","v":" "}]
[{"$f":"'Sjekkliste for utfylling'!A629","v":401},{"$f":"IF('Sjekkliste for utfylling'!J629<>\"\",1,0)","v":0},0,0,{"$f":"IF($B402=1,'Sjekkliste for utfylling'!A629,\"\")","v":""},{"$f":"IF($B402=1,'Sjekkliste for utfylling'!B629,\"\")","v":""},null,{"$f":"IF(C402=1,'Sjekkliste for utfylling'!L629,\" \")","v":" "}]
[{"$f":"'Sjekkliste for utfylling'!A630","v":402},{"$f":"IF('Sjekkliste for utfylling'!J630<>\"\",1,0)","v":0},0,0,{"$f":"IF($B403=1,'Sjekkliste for utfylling'!A630,\"\")","v":""},{"$f":"IF($B403=1,'Sjekkliste for utfylling'!B630,\"\")","v":""},null,{"$f":"IF(C403=1,'Sjekkliste for utfylling'!L630,\" \")","v":" "}]
[{"$f":"'Sjekkliste for utfylling'!A631","v":403},{"$f":"IF('Sjekkliste for utfylling'!J631<>\"\",1,0)","v":0},0,0,{"$f":"IF($B404=1,'Sjekkliste for utfylling'!A631,\"\")","v":""},{"$f":"IF($B404=1,'Sjekkliste for utfylling'!B631,\"\")","v":""},null,{"$f":"IF(C404=1,'Sjekkliste for utfylling'!L631,\" \")","v":" "}]
[{"$f":"'Sjekkliste for utfylling'!A632","v":404},{"$f":"IF('Sjekkliste for utfylling'!J632<>\"\",1,0)","v":0},0,0,{"$f":"IF($B405=1,'Sjekkliste for utfylling'!A632,\"\")","v":""},{"$f":"IF($B405=1,'Sjekkliste for utfylling'!B632,\"\")","v":""},null,{"$f":"IF(C405=1,'Sjekkliste for utfylling'!L632,\" \")","v":" "}]
[{"$f":"'Sjekkliste for utfylling'!A633","v":405},{"$f":"IF('Sjekkliste for utfylling'!J633<>\"\",1,0)","v":0},0,0,{"$f":"IF($B406=1,'Sjekkliste for utfylling'!A633,\"\")","v":""},{"$f":"IF($B406=1,'Sjekkliste for utfylling'!B633,\"\")","v":""},null,{"$f":"IF(C406=1,'Sjekkliste for utfylling'!L633,\" \")","v":" "}]
[{"$f":"'Sjekkliste for utfylling'!A634","v":406},{"$f":"IF('Sjekkliste for utfylling'!J634<>\"\",1,0)","v":0},0,0,{"$f":"IF($B407=1,'Sjekkliste for utfylling'!A634,\"\")","v":""},{"$f":"IF($B407=1,'Sjekkliste for utfylling'!B634,\"\")","v":""},null,{"$f":"IF(C407=1,'Sjekkliste for utfylling'!L634,\" \")","v":" "}]
[{"$f":"'Sjekkliste for utfylling'!A635","v":407},{"$f":"IF('Sjekkliste for utfylling'!J635<>\"\",1,0)","v":0},0,0,{"$f":"IF($B408=1,'Sjekkliste for utfylling'!A635,\"\")","v":""},{"$f":"IF($B408=1,'Sjekkliste for utfylling'!B635,\"\")","v":""},null,{"$f":"IF(C408=1,'Sjekkliste for utfylling'!L635,\" \")","v":" "}]
[{"$f":"'Sjekkliste for utfylling'!A636","v":408},{"$f":"IF('Sjekkliste for utfylling'!J636<>\"\",1,0)","v":0},0,0,{"$f":"IF($B409=1,'Sjekkliste for utfylling'!A636,\"\")","v":""},{"$f":"IF($B409=1,'Sjekkliste for utfylling'!B636,\"\")","v":""},null,{"$f":"IF(C409=1,'Sjekkliste for utfylling'!L636,\" \")","v":" "}]
[{"$f":"'Sjekkliste for utfylling'!A637","v":409},{"$f":"IF('Sjekkliste for utfylling'!J637<>\"\",1,0)","v":0},0,0,{"$f":"IF($B410=1,'Sjekkliste for utfylling'!A637,\"\")","v":""},{"$f":"IF($B410=1,'Sjekkliste for utfylling'!B637,\"\")","v":""},null,{"$f":"IF(C410=1,'Sjekkliste for utfylling'!L637,\" \")","v":" "}]
[{"$f":"'Sjekkliste for utfylling'!A638","v":410},{"$f":"IF('Sjekkliste for utfylling'!J638<>\"\",1,0)","v":0},0,0,{"$f":"IF($B411=1,'Sjekkliste for utfylling'!A638,\"\")","v":""},{"$f":"IF($B411=1,'Sjekkliste for utfylling'!B638,\"\")","v":""},null,{"$f":"IF(C411=1,'Sjekkliste for utfylling'!L638,\" \")","v":" "}]
[{"$f":"'Sjekkliste for utfylling'!A639","v":411},{"$f":"IF('Sjekkliste for utfylling'!J639<>\"\",1,0)","v":0},0,0,{"$f":"IF($B412=1,'Sjekkliste for utfylling'!A639,\"\")","v":""},{"$f":"IF($B412=1,'Sjekkliste for utfylling'!B639,\"\")","v":""},null,{"$f":"IF(C412=1,'Sjekkliste for utfylling'!L639,\" \")","v":" "}]
[{"$f":"'Sjekkliste for utfylling'!A640","v":412},{"$f":"IF('Sjekkliste for utfylling'!J640<>\"\",1,0)","v":0},0,0,{"$f":"IF($B413=1,'Sjekkliste for utfylling'!A640,\"\")","v":""},{"$f":"IF($B413=1,'Sjekkliste for utfylling'!B640,\"\")","v":""},null,{"$f":"IF(C413=1,'Sjekkliste for utfylling'!L640,\" \")","v":" "}]
[{"$f":"'Sjekkliste for utfylling'!A641","v":413},{"$f":"IF('Sjekkliste for utfylling'!J641<>\"\",1,0)","v":0},0,0,{"$f":"IF($B414=1,'Sjekkliste for utfylling'!A641,\"\")","v":""},{"$f":"IF($B414=1,'Sjekkliste for utfylling'!B641,\"\")","v":""},null,{"$f":"IF(C414=1,'Sjekkliste for utfylling'!L641,\" \")","v":" "}]
[{"$f":"'Sjekkliste for utfylling'!A644","v":414},{"$f":"IF('Sjekkliste for utfylling'!J644<>\"\",1,0)","v":0},0,0,{"$f":"IF($B415=1,'Sjekkliste for utfylling'!A644,\"\")","v":""},{"$f":"IF($B415=1,'Sjekkliste for utfylling'!B644,\"\")","v":""},null,{"$f":"IF(C415=1,'Sjekkliste for utfylling'!L644,\" \")","v":" "}]
[{"$f":"'Sjekkliste for utfylling'!A645","v":415},{"$f":"IF('Sjekkliste for utfylling'!J645<>\"\",1,0)","v":0},0,0,{"$f":"IF($B416=1,'Sjekkliste for utfylling'!A645,\"\")","v":""},{"$f":"IF($B416=1,'Sjekkliste for utfylling'!B645,\"\")","v":""},null,{"$f":"IF(C416=1,'Sjekkliste for utfylling'!L645,\" \")","v":" "}]
[{"$f":"'Sjekkliste for utfylling'!A646","v":416},{"$f":"IF('Sjekkliste for utfylling'!J646<>\"\",1,0)","v":0},0,0,{"$f":"IF($B417=1,'Sjekkliste for utfylling'!A646,\"\")","v":""},{"$f":"IF($B417=1,'Sjekkliste for utfylling'!B646,\"\")","v":""},null,{"$f":"IF(C417=1,'Sjekkliste for utfylling'!L646,\" \")","v":" "}]
[{"$f":"'Sjekkliste for utfylling'!A647","v":417},{"$f":"IF('Sjekkliste for utfylling'!J647<>\"\",1,0)","v":0},0,0,{"$f":"IF($B418=1,'Sjekkliste for utfylling'!A647,\"\")","v":""},{"$f":"IF($B418=1,'Sjekkliste for utfylling'!B647,\"\")","v":""},null,{"$f":"IF(C418=1,'Sjekkliste for utfylling'!L647,\" \")","v":" "}]
[{"$f":"'Sjekkliste for utfylling'!A648","v":418},{"$f":"IF('Sjekkliste for utfylling'!J648<>\"\",1,0)","v":0},0,0,{"$f":"IF($B419=1,'Sjekkliste for utfylling'!A648,\"\")","v":""},{"$f":"IF($B419=1,'Sjekkliste for utfylling'!B648,\"\")","v":""},null,{"$f":"IF(C419=1,'Sjekkliste for utfylling'!L648,\" \")","v":" "}]
[{"$f":"'Sjekkliste for utfylling'!A649","v":419},{"$f":"IF('Sjekkliste for utfylling'!J649<>\"\",1,0)","v":0},0,0,{"$f":"IF($B420=1,'Sjekkliste for utfylling'!A649,\"\")","v":""},{"$f":"IF($B420=1,'Sjekkliste for utfylling'!B649,\"\")","v":""},null,{"$f":"IF(C420=1,'Sjekkliste for utfylling'!L649,\" \")","v":" "}]
[{"$f":"'Sjekkliste for utfylling'!A650","v":420},{"$f":"IF('Sjekkliste for utfylling'!J650<>\"\",1,0)","v":0},0,0,{"$f":"IF($B421=1,'Sjekkliste for utfylling'!A650,\"\")","v":""},{"$f":"IF($B421=1,'Sjekkliste for utfylling'!B650,\"\")","v":""},null,{"$f":"IF(C421=1,'Sjekkliste for utfylling'!L650,\" \")","v":" "}]
[{"$f":"'Sjekkliste for utfylling'!A651","v":421},{"$f":"IF('Sjekkliste for utfylling'!J651<>\"\",1,0)","v":0},0,0,{"$f":"IF($B422=1,'Sjekkliste for utfylling'!A651,\"\")","v":""},{"$f":"IF($B422=1,'Sjekkliste for utfylling'!B651,\"\")","v":""},null,{"$f":"IF(C422=1,'Sjekkliste for utfylling'!L651,\" \")","v":" "}]
[{"$f":"'Sjekkliste for utfylling'!A652","v":422},{"$f":"IF('Sjekkliste for utfylling'!J652<>\"\",1,0)","v":0},0,0,{"$f":"IF($B423=1,'Sjekkliste for utfylling'!A652,\"\")","v":""},{"$f":"IF($B423=1,'Sjekkliste for utfylling'!B652,\"\")","v":""},null,{"$f":"IF(C423=1,'Sjekkliste for utfylling'!L652,\" \")","v":" "}]
[{"$f":"'Sjekkliste for utfylling'!A653","v":423},{"$f":"IF('Sjekkliste for utfylling'!J653<>\"\",1,0)","v":0},0,0,{"$f":"IF($B424=1,'Sjekkliste for utfylling'!A653,\"\")","v":""},{"$f":"IF($B424=1,'Sjekkliste for utfylling'!B653,\"\")","v":""},null,{"$f":"IF(C424=1,'Sjekkliste for utfylling'!L653,\" \")","v":" "}]
[{"$f":"'Sjekkliste for utfylling'!A654","v":424},{"$f":"IF('Sjekkliste for utfylling'!J654<>\"\",1,0)","v":0},0,0,{"$f":"IF($B425=1,'Sjekkliste for utfylling'!A654,\"\")","v":""},{"$f":"IF($B425=1,'Sjekkliste for utfylling'!B654,\"\")","v":""},null,{"$f":"IF(C425=1,'Sjekkliste for utfylling'!L654,\" \")","v":" "}]
[{"$f":"'Sjekkliste for utfylling'!A656","v":425},{"$f":"IF('Sjekkliste for utfylling'!J656<>\"\",1,0)","v":0},0,0,{"$f":"IF($B426=1,'Sjekkliste for utfylling'!A656,\"\")","v":""},{"$f":"IF($B426=1,'Sjekkliste for utfylling'!B656,\"\")","v":""},null,{"$f":"IF(C426=1,'Sjekkliste for utfylling'!L656,\" \")","v":" "}]
[{"$f":"'Sjekkliste for utfylling'!A657","v":426},{"$f":"IF('Sjekkliste for utfylling'!J657<>\"\",1,0)","v":0},0,0,{"$f":"IF($B427=1,'Sjekkliste for utfylling'!A657,\"\")","v":""},{"$f":"IF($B427=1,'Sjekkliste for utfylling'!B657,\"\")","v":""},null,{"$f":"IF(C427=1,'Sjekkliste for utfylling'!L657,\" \")","v":" "}]
[{"$f":"'Sjekkliste for utfylling'!A658","v":427},{"$f":"IF('Sjekkliste for utfylling'!J658<>\"\",1,0)","v":0},0,0,{"$f":"IF($B428=1,'Sjekkliste for utfylling'!A658,\"\")","v":""},{"$f":"IF($B428=1,'Sjekkliste for utfylling'!B658,\"\")","v":""},null,{"$f":"IF(C428=1,'Sjekkliste for utfylling'!L658,\" \")","v":" "}]
[{"$f":"'Sjekkliste for utfylling'!A659","v":428},{"$f":"IF('Sjekkliste for utfylling'!J659<>\"\",1,0)","v":0},0,0,{"$f":"IF($B429=1,'Sjekkliste for utfylling'!A659,\"\")","v":""},{"$f":"IF($B429=1,'Sjekkliste for utfylling'!B659,\"\")","v":""},null,{"$f":"IF(C429=1,'Sjekkliste for utfylling'!L659,\" \")","v":" "}]
[{"$f":"'Sjekkliste for utfylling'!A660","v":429},{"$f":"IF('Sjekkliste for utfylling'!J660<>\"\",1,0)","v":0},0,{"$f":"IF($C430=1,1,0)","v":0},{"$f":"IF($B430=1,'Sjekkliste for utfylling'!A660,\"\")","v":""},{"$f":"IF($B430=1,'Sjekkliste for utfylling'!B660,\"\")","v":""},null,{"$f":"IF(C430=1,'Sjekkliste for utfylling'!L660,\" \")","v":" "}]
[{"$f":"'Sjekkliste for utfylling'!A661","v":430},{"$f":"IF('Sjekkliste for utfylling'!J661<>\"\",1,0)","v":0},0,0,{"$f":"IF($B431=1,'Sjekkliste for utfylling'!A661,\"\")","v":""},{"$f":"IF($B431=1,'Sjekkliste for utfylling'!B661,\"\")","v":""},null,{"$f":"IF(C431=1,'Sjekkliste for utfylling'!L661,\" \")","v":" "}]
[{"$f":"'Sjekkliste for utfylling'!A662","v":431},{"$f":"IF('Sjekkliste for utfylling'!J662<>\"\",1,0)","v":0},0,0,{"$f":"IF($B432=1,'Sjekkliste for utfylling'!A662,\"\")","v":""},{"$f":"IF($B432=1,'Sjekkliste for utfylling'!B662,\"\")","v":""},null,{"$f":"IF(C432=1,'Sjekkliste for utfylling'!L662,\" \")","v":" "}]
[{"$f":"'Sjekkliste for utfylling'!A663","v":432},{"$f":"IF('Sjekkliste for utfylling'!J663<>\"\",1,0)","v":0},0,0,{"$f":"IF($B433=1,'Sjekkliste for utfylling'!A663,\"\")","v":""},{"$f":"IF($B433=1,'Sjekkliste for utfylling'!B663,\"\")","v":""},null,{"$f":"IF(C433=1,'Sjekkliste for utfylling'!L663,\" \")","v":" "}]
[{"$f":"'Sjekkliste for utfylling'!A664","v":433},{"$f":"IF('Sjekkliste for utfylling'!J664<>\"\",1,0)","v":0},0,0,{"$f":"IF($B434=1,'Sjekkliste for utfylling'!A664,\"\")","v":""},{"$f":"IF($B434=1,'Sjekkliste for utfylling'!B664,\"\")","v":""},null,{"$f":"IF(C434=1,'Sjekkliste for utfylling'!L664,\" \")","v":" "}]
[{"$f":"'Sjekkliste for utfylling'!A665","v":434},{"$f":"IF('Sjekkliste for utfylling'!J665<>\"\",1,0)","v":0},0,0,{"$f":"IF($B435=1,'Sjekkliste for utfylling'!A665,\"\")","v":""},{"$f":"IF($B435=1,'Sjekkliste for utfylling'!B665,\"\")","v":""},null,{"$f":"IF(C435=1,'Sjekkliste for utfylling'!L665,\" \")","v":" "}]
[{"$f":"'Sjekkliste for utfylling'!A666","v":435},{"$f":"IF('Sjekkliste for utfylling'!J666<>\"\",1,0)","v":0},0,0,{"$f":"IF($B436=1,'Sjekkliste for utfylling'!A666,\"\")","v":""},{"$f":"IF($B436=1,'Sjekkliste for utfylling'!B666,\"\")","v":""},null,{"$f":"IF(C436=1,'Sjekkliste for utfylling'!L666,\" \")","v":" "}]
[{"$f":"'Sjekkliste for utfylling'!A667","v":436},{"$f":"IF('Sjekkliste for utfylling'!J667<>\"\",1,0)","v":0},0,0,{"$f":"IF($B437=1,'Sjekkliste for utfylling'!A667,\"\")","v":""},{"$f":"IF($B437=1,'Sjekkliste for utfylling'!B667,\"\")","v":""},null,{"$f":"IF(C437=1,'Sjekkliste for utfylling'!L667,\" \")","v":" "}]
[{"$f":"'Sjekkliste for utfylling'!A668","v":437},{"$f":"IF('Sjekkliste for utfylling'!J668<>\"\",1,0)","v":0},0,0,{"$f":"IF($B438=1,'Sjekkliste for utfylling'!A668,\"\")","v":""},{"$f":"IF($B438=1,'Sjekkliste for utfylling'!B668,\"\")","v":""},null,{"$f":"IF(C438=1,'Sjekkliste for utfylling'!L668,\" \")","v":" "}]
[{"$f":"'Sjekkliste for utfylling'!A669","v":438},{"$f":"IF('Sjekkliste for utfylling'!J669<>\"\",1,0)","v":0},0,0,{"$f":"IF($B439=1,'Sjekkliste for utfylling'!A669,\"\")","v":""},{"$f":"IF($B439=1,'Sjekkliste for utfylling'!B669,\"\")","v":""},null,{"$f":"IF(C439=1,'Sjekkliste for utfylling'!L669,\" \")","v":" "}]
[{"$f":"'Sjekkliste for utfylling'!A670","v":439},{"$f":"IF('Sjekkliste for utfylling'!J670<>\"\",1,0)","v":0},0,0,{"$f":"IF($B440=1,'Sjekkliste for utfylling'!A670,\"\")","v":""},{"$f":"IF($B440=1,'Sjekkliste for utfylling'!B670,\"\")","v":""},null,{"$f":"IF(C440=1,'Sjekkliste for utfylling'!L670,\" \")","v":" "}]
[{"$f":"'Sjekkliste for utfylling'!A671","v":440},{"$f":"IF('Sjekkliste for utfylling'!J671<>\"\",1,0)","v":0},0,0,{"$f":"IF($B441=1,'Sjekkliste for utfylling'!A671,\"\")","v":""},{"$f":"IF($B441=1,'Sjekkliste for utfylling'!B671,\"\")","v":""},null,{"$f":"IF(C441=1,'Sjekkliste for utfylling'!L671,\" \")","v":" "}]
[{"$f":"'Sjekkliste for utfylling'!A672","v":441},{"$f":"IF('Sjekkliste for utfylling'!J672<>\"\",1,0)","v":0},0,0,{"$f":"IF($B442=1,'Sjekkliste for utfylling'!A672,\"\")","v":""},{"$f":"IF($B442=1,'Sjekkliste for utfylling'!B672,\"\")","v":""},null,{"$f":"IF(C442=1,'Sjekkliste for utfylling'!L672,\" \")","v":" "}]
[{"$f":"'Sjekkliste for utfylling'!A673","v":442},{"$f":"IF('Sjekkliste for utfylling'!J673<>\"\",1,0)","v":0},0,0,{"$f":"IF($B443=1,'Sjekkliste for utfylling'!A673,\"\")","v":""},{"$f":"IF($B443=1,'Sjekkliste for utfylling'!B673,\"\")","v":""},null,{"$f":"IF(C443=1,'Sjekkliste for utfylling'!L673,\" \")","v":" "}]
[{"$f":"'Sjekkliste for utfylling'!A674","v":443},{"$f":"IF('Sjekkliste for utfylling'!J674<>\"\",1,0)","v":0},0,0,{"$f":"IF($B444=1,'Sjekkliste for utfylling'!A674,\"\")","v":""},{"$f":"IF($B444=1,'Sjekkliste for utfylling'!B674,\"\")","v":""},null,{"$f":"IF(C444=1,'Sjekkliste for utfylling'!L674,\" \")","v":" "}]
[{"$f":"'Sjekkliste for utfylling'!A675","v":444},{"$f":"IF('Sjekkliste for utfylling'!J675<>\"\",1,0)","v":0},0,0,{"$f":"IF($B445=1,'Sjekkliste for utfylling'!A675,\"\")","v":""},{"$f":"IF($B445=1,'Sjekkliste for utfylling'!B675,\"\")","v":""},null,{"$f":"IF(C445=1,'Sjekkliste for utfylling'!L675,\" \")","v":" "}]
[{"$f":"'Sjekkliste for utfylling'!A676","v":445},{"$f":"IF('Sjekkliste for utfylling'!J676<>\"\",1,0)","v":0},0,0,{"$f":"IF($B446=1,'Sjekkliste for utfylling'!A676,\"\")","v":""},{"$f":"IF($B446=1,'Sjekkliste for utfylling'!B676,\"\")","v":""},null,{"$f":"IF(C446=1,'Sjekkliste for utfylling'!L676,\" \")","v":" "}]
[{"$f":"'Sjekkliste for utfylling'!A677","v":446},{"$f":"IF('Sjekkliste for utfylling'!J677<>\"\",1,0)","v":0},0,0,{"$f":"IF($B447=1,'Sjekkliste for utfylling'!A677,\"\")","v":""},{"$f":"IF($B447=1,'Sjekkliste for utfylling'!B677,\"\")","v":""},null,{"$f":"IF(C447=1,'Sjekkliste for utfylling'!L677,\" \")","v":" "}]
[{"$f":"'Sjekkliste for utfylling'!A680","v":447},{"$f":"IF('Sjekkliste for utfylling'!J680<>\"\",1,0)","v":0},0,0,{"$f":"IF($B448=1,'Sjekkliste for utfylling'!A680,\"\")","v":""},{"$f":"IF($B448=1,'Sjekkliste for utfylling'!B680,\"\")","v":""},null,{"$f":"IF(C448=1,'Sjekkliste for utfylling'!L680,\" \")","v":" "}]
[{"$f":"'Sjekkliste for utfylling'!A682","v":448},{"$f":"IF('Sjekkliste for utfylling'!J682<>\"\",1,0)","v":0},0,0,{"$f":"IF($B449=1,'Sjekkliste for utfylling'!A682,\"\")","v":""},{"$f":"IF($B449=1,'Sjekkliste for utfylling'!B682,\"\")","v":""},null,{"$f":"IF(C449=1,'Sjekkliste for utfylling'!L682,\" \")","v":" "}]
[{"$f":"'Sjekkliste for utfylling'!A685","v":449},{"$f":"IF('Sjekkliste for utfylling'!J685<>\"\",1,0)","v":0},{"$f":"SUM(B450:B450)","v":0},{"$f":"IF($C450=1,1,0)","v":0},{"$f":"IF($B450=1,'Sjekkliste for utfylling'!A685,\"\")","v":""},{"$f":"IF($B450=1,'Sjekkliste for utfylling'!B685,\"\")","v":""},null,{"$f":"IF(C450=1,'Sjekkliste for utfylling'!L685,\" \")","v":" "}]
[{"$f":"'Sjekkliste for utfylling'!A688","v":450},{"$f":"IF('Sjekkliste for utfylling'!J688<>\"\",1,0)","v":0},0,0,{"$f":"IF($B451=1,'Sjekkliste for utfylling'!A688,\"\")","v":""},{"$f":"IF($B451=1,'Sjekkliste for utfylling'!B688,\"\")","v":""},null,{"$f":"IF(C451=1,'Sjekkliste for utfylling'!L688,\" \")","v":" "}]
[{"$f":"'Sjekkliste for utfylling'!A689","v":451},{"$f":"IF('Sjekkliste for utfylling'!J689<>\"\",1,0)","v":0},0,0,{"$f":"IF($B452=1,'Sjekkliste for utfylling'!A689,\"\")","v":""},{"$f":"IF($B452=1,'Sjekkliste for utfylling'!B689,\"\")","v":""},null,{"$f":"IF(C452=1,'Sjekkliste for utfylling'!L689,\" \")","v":" "}]
[{"$f":"'Sjekkliste for utfylling'!A694","v":452},{"$f":"IF('Sjekkliste for utfylling'!J694<>\"\",1,0)","v":0},0,0,{"$f":"IF($B453=1,'Sjekkliste for utfylling'!A694,\"\")","v":""},{"$f":"IF($B453=1,'Sjekkliste for utfylling'!B694,\"\")","v":""},null,{"$f":"IF(C453=1,'Sjekkliste for utfylling'!L694,\" \")","v":" "}]

{"sheet":"IA-svar","index":6,"n_rows":453,"n_cols":8,"rows_kept":453,"cut":false,"hidden":true,"merged":[]}
[null,null,{"$f":"COUNTIF(C2:C507,\"=1\")-D1","v":0},{"$f":"SUM(D2:D507)","v":152},"IA-svar",{"$f":"'Sjekkliste for utfylling'!B2","v":0},{"$f":"'Sjekkliste for utfylling'!B3","v":"2024"},"Kommentarer"]
[{"$f":"'Sjekkliste for utfylling'!A28","v":1},{"$f":"IF('Sjekkliste for utfylling'!K28<>\"\",1,0)","v":0},{"$f":"SUM(B2:B2)","v":0},null,{"$f":"IF($C2=1,'Sjekkliste for utfylling'!A28,\"\")","v":""},{"$f":"IF($C2=1,'Sjekkliste for utfylling'!B28,\"\")","v":""},null,{"$f":"IF(C2=1,'Sjekkliste for utfylling'!L28,\" \")","v":" "}]
[{"$f":"'Sjekkliste for utfylling'!A29","v":2},{"$f":"IF('Sjekkliste for utfylling'!K29<>\"\",1,0)","v":0},0,null,{"$f":"IF($C3=1,'Sjekkliste for utfylling'!A29,\"\")","v":""},{"$f":"IF($C3=1,'Sjekkliste for utfylling'!B29,\"\")","v":""},null,{"$f":"IF(C3=1,'Sjekkliste for utfylling'!L29,\" \")","v":" "}]
[{"$f":"'Sjekkliste for utfylling'!A30","v":3},{"$f":"IF('Sjekkliste for utfylling'!K30<>\"\",1,0)","v":0},0,null,{"$f":"IF($C4=1,'Sjekkliste for utfylling'!A30,\"\")","v":""},{"$f":"IF($C4=1,'Sjekkliste for utfylling'!B30,\"\")","v":""},null,{"$f":"IF(C4=1,'Sjekkliste for utfylling'!L30,\" \")","v":" "}]
[{"$f":"'Sjekkliste for utfylling'!A31","v":4},{"$f":"IF('Sjekkliste for utfylling'!K31<>\"\",1,0)","v":0},0,null,{"$f":"IF($C5=1,'Sjekkliste for utfylling'!A31,\"\")","v":""},{"$f":"IF($C5=1,'Sjekkliste for utfylling'!B31,\"\")","v":""},null,{"$f":"IF(C5=1,'Sjekkliste for utfylling'!L31,\" \")","v":" "}]
[{"$f":"'Sjekkliste for utfylling'!A36","v":5},{"$f":"IF('Sjekkliste for utfylling'!K36<>\"\",1,0)","v":0},0,null,{"$f":"IF($C6=1,'Sjekkliste for utfylling'!A36,\"\")","v":""},{"$f":"IF($C6=1,'Sjekkliste for utfylling'!B36,\"\")","v":""},null,{"$f":"IF(C6=1,'Sjekkliste for utfylling'!L36,\" \")","v":" "}]
[{"$f":"'Sjekkliste for utfylling'!A37","v":6},{"$f":"IF('Sjekkliste for utfylling'!K37<>\"\",1,0)","v":0},0,null,{"$f":"IF($C7=1,'Sjekkliste for utfylling'!A37,\"\")","v":""},{"$f":"IF($C7=1,'Sjekkliste for utfylling'!B37,\"\")","v":""},null,{"$f":"IF(C7=1,'Sjekkliste for utfylling'!L37,\" \")","v":" "}]
[{"$f":"'Sjekkliste for utfylling'!A38","v":7},{"$f":"IF('Sjekkliste for utfylling'!K38<>\"\",1,0)","v":0},0,null,{"$f":"IF($C8=1,'Sjekkliste for utfylling'!A38,\"\")","v":""},{"$f":"IF($C8=1,'Sjekkliste for utfylling'!B38,\"\")","v":""},null,{"$f":"IF(C8=1,'Sjekkliste for utfylling'!L38,\" \")","v":" "}]
[{"$f":"'Sjekkliste for utfylling'!A39","v":8},{"$f":"IF('Sjekkliste for utfylling'!K39<>\"\",1,0)","v":0},0,null,{"$f":"IF($C9=1,'Sjekkliste for utfylling'!A39,\"\")","v":""},{"$f":"IF($C9=1,'Sjekkliste for utfylling'!B39,\"\")","v":""},null,{"$f":"IF(C9=1,'Sjekkliste for utfylling'!L39,\" \")","v":" "}]
[{"$f":"'Sjekkliste for utfylling'!A40","v":9},{"$f":"IF('Sjekkliste for utfylling'!K40<>\"\",1,0)","v":0},0,null,{"$f":"IF($C10=1,'Sjekkliste for utfylling'!A40,\"\")","v":""},{"$f":"IF($C10=1,'Sjekkliste for utfylling'!B40,\"\")","v":""},null,{"$f":"IF(C10=1,'Sjekkliste for utfylling'!L40,\" \")","v":" "}]
[{"$f":"'Sjekkliste for utfylling'!A41","v":10},{"$f":"IF('Sjekkliste for utfylling'!K41<>\"\",1,0)","v":0},0,null,{"$f":"IF($C11=1,'Sjekkliste for utfylling'!A41,\"\")","v":""},{"$f":"IF($C11=1,'Sjekkliste for utfylling'!B41,\"\")","v":""},null,{"$f":"IF(C11=1,'Sjekkliste for utfylling'!L41,\" \")","v":" "}]
[{"$f":"'Sjekkliste for utfylling'!A42","v":11},{"$f":"IF('Sjekkliste for utfylling'!K42<>\"\",1,0)","v":0},0,null,{"$f":"IF($C12=1,'Sjekkliste for utfylling'!A42,\"\")","v":""},{"$f":"IF($C12=1,'Sjekkliste for utfylling'!B42,\"\")","v":""},null,{"$f":"IF(C12=1,'Sjekkliste for utfylling'!L42,\" \")","v":" "}]
[{"$f":"'Sjekkliste for utfylling'!A43","v":12},{"$f":"IF('Sjekkliste for utfylling'!K43<>\"\",1,0)","v":0},0,null,{"$f":"IF($C13=1,'Sjekkliste for utfylling'!A43,\"\")","v":""},{"$f":"IF($C13=1,'Sjekkliste for utfylling'!B43,\"\")","v":""},null,{"$f":"IF(C13=1,'Sjekkliste for utfylling'!L43,\" \")","v":" "}]
[{"$f":"'Sjekkliste for utfylling'!A45","v":13},{"$f":"IF('Sjekkliste for utfylling'!K45<>\"\",1,0)","v":0},0,null,{"$f":"IF($C14=1,'Sjekkliste for utfylling'!A45,\"\")","v":""},{"$f":"IF($C14=1,'Sjekkliste for utfylling'!B45,\"\")","v":""},null,{"$f":"IF(C14=1,'Sjekkliste for utfylling'!L45,\" \")","v":" "}]
[{"$f":"'Sjekkliste for utfylling'!A46","v":14},{"$f":"IF('Sjekkliste for utfylling'!K46<>\"\",1,0)","v":0},0,null,{"$f":"IF($C15=1,'Sjekkliste for utfylling'!A46,\"\")","v":""},{"$f":"IF($C15=1,'Sjekkliste for utfylling'!B46,\"\")","v":""},null,{"$f":"IF(C15=1,'Sjekkliste for utfylling'!L46,\" \")","v":" "}]
[{"$f":"'Sjekkliste for utfylling'!A47","v":15},{"$f":"IF('Sjekkliste for utfylling'!K47<>\"\",1,0)","v":0},0,null,{"$f":"IF($C16=1,'Sjekkliste for utfylling'!A47,\"\")","v":""},{"$f":"IF($C16=1,'Sjekkliste for utfylling'!B47,\"\")","v":""},null,{"$f":"IF(C16=1,'Sjekkliste for utfylling'!L47,\" \")","v":" "}]
[{"$f":"'Sjekkliste for utfylling'!A48","v":16},{"$f":"IF('Sjekkliste for utfylling'!K48<>\"\",1,0)","v":0},0,null,{"$f":"IF($C17=1,'Sjekkliste for utfylling'!A48,\"\")","v":""},{"$f":"IF($C17=1,'Sjekkliste for utfylling'!B48,\"\")","v":""},null,{"$f":"IF(C17=1,'Sjekkliste for utfylling'!L48,\" \")","v":" "}]
[{"$f":"'Sjekkliste for utfylling'!A49","v":17},{"$f":"IF('Sjekkliste for utfylling'!K49<>\"\",1,0)","v":0},0,null,{"$f":"IF($C18=1,'Sjekkliste for utfylling'!A49,\"\")","v":""},{"$f":"IF($C18=1,'Sjekkliste for utfylling'!B49,\"\")","v":""},null,{"$f":"IF(C18=1,'Sjekkliste for utfylling'!L49,\" \")","v":" "}]
[{"$f":"'Sjekkliste for utfylling'!A50","v":18},{"$f":"IF('Sjekkliste for utfylling'!K50<>\"\",1,0)","v":0},0,null,{"$f":"IF($C19=1,'Sjekkliste for utfylling'!A50,\"\")","v":""},{"$f":"IF($C19=1,'Sjekkliste for utfylling'!B50,\"\")","v":""},null,{"$f":"IF(C19=1,'Sjekkliste for utfylling'!L50,\" \")","v":" "}]
[{"$f":"'Sjekkliste for utfylling'!A51","v":19},{"$f":"IF('Sjekkliste for utfylling'!K51<>\"\",1,0)","v":0},0,null,{"$f":"IF($C20=1,'Sjekkliste for utfylling'!A51,\"\")","v":""},{"$f":"IF($C20=1,'Sjekkliste for utfylling'!B51,\"\")","v":""},null,{"$f":"IF(C20=1,'Sjekkliste for utfylling'!L51,\" \")","v":" "}]
[{"$f":"'Sjekkliste for utfylling'!A55","v":20},{"$f":"IF('Sjekkliste for utfylling'!K55<>\"\",1,0)","v":0},0,null,{"$f":"IF($C21=1,'Sjekkliste for utfylling'!A55,\"\")","v":""},{"$f":"IF($C21=1,'Sjekkliste for utfylling'!B55,\"\")","v":""},null,{"$f":"IF(C21=1,'Sjekkliste for utfylling'!L55,\" \")","v":" "}]
[{"$f":"'Sjekkliste for utfylling'!A56","v":21},{"$f":"IF('Sjekkliste for utfylling'!K56<>\"\",1,0)","v":0},0,null,{"$f":"IF($C22=1,'Sjekkliste for utfylling'!A56,\"\")","v":""},{"$f":"IF($C22=1,'Sjekkliste for utfylling'!B56,\"\")","v":""},null,{"$f":"IF(C22=1,'Sjekkliste for utfylling'!L56,\" \")","v":" "}]
[{"$f":"'Sjekkliste for utfylling'!A57","v":22},{"$f":"IF('Sjekkliste for utfylling'!K57<>\"\",1,0)","v":0},0,null,{"$f":"IF($C23=1,'Sjekkliste for utfylling'!A57,\"\")","v":""},{"$f":"IF($C23=1,'Sjekkliste for utfylling'!B57,\"\")","v":""},null,{"$f":"IF(C23=1,'Sjekkliste for utfylling'!L57,\" \")","v":" "}]
[{"$f":"'Sjekkliste for utfylling'!A58","v":23},{"$f":"IF('Sjekkliste for utfylling'!K58<>\"\",1,0)","v":0},0,null,{"$f":"IF($C24=1,'Sjekkliste for utfylling'!A58,\"\")","v":""},{"$f":"IF($C24=1,'Sjekkliste for utfylling'!B58,\"\")","v":""},null,{"$f":"IF(C24=1,'Sjekkliste for utfylling'!L58,\" \")","v":" "}]
[{"$f":"'Sjekkliste for utfylling'!A61","v":24},{"$f":"IF('Sjekkliste for utfylling'!K61<>\"\",1,0)","v":0},0,null,{"$f":"IF($C25=1,'Sjekkliste for utfylling'!A61,\"\")","v":""},{"$f":"IF($C25=1,'Sjekkliste for utfylling'!B61,\"\")","v":""},null,{"$f":"IF(C25=1,'Sjekkliste for utfylling'!L61,\" \")","v":" "}]
[{"$f":"'Sjekkliste for utfylling'!A62","v":25},{"$f":"IF('Sjekkliste for utfylling'!K62<>\"\",1,0)","v":0},0,null,{"$f":"IF($C26=1,'Sjekkliste for utfylling'!A62,\"\")","v":""},{"$f":"IF($C26=1,'Sjekkliste for utfylling'!B62,\"\")","v":""},null,{"$f":"IF(C26=1,'Sjekkliste for utfylling'!L62,\" \")","v":" "}]
[{"$f":"'Sjekkliste for utfylling'!A63","v":26},{"$f":"IF('Sjekkliste for utfylling'!K63<>\"\",1,0)","v":0},0,null,{"$f":"IF($C27=1,'Sjekkliste for utfylling'!A63,\"\")","v":""},{"$f":"IF($C27=1,'Sjekkliste for utfylling'!B63,\"\")","v":""},null,{"$f":"IF(C27=1,'Sjekkliste for utfylling'!L63,\" \")","v":" "}]
[{"$f":"'Sjekkliste for utfylling'!A66","v":27},{"$f":"IF('Sjekkliste for utfylling'!K66<>\"\",1,0)","v":0},0,null,{"$f":"IF($C28=1,'Sjekkliste for utfylling'!A66,\"\")","v":""},{"$f":"IF($C28=1,'Sjekkliste for utfylling'!B66,\"\")","v":""},null,{"$f":"IF(C28=1,'Sjekkliste for utfylling'!L66,\" \")","v":" "}]
[{"$f":"'Sjekkliste for utfylling'!A67","v":28},{"$f":"IF('Sjekkliste for utfylling'!K67<>\"\",1,0)","v":0},0,null,{"$f":"IF($C29=1,'Sjekkliste for utfylling'!A67,\"\")","v":""},{"$f":"IF($C29=1,'Sjekkliste for utfylling'!B67,\"\")","v":""},null,{"$f":"IF(C29=1,'Sjekkliste for utfylling'!L67,\" \")","v":" "}]
[{"$f":"'Sjekkliste for utfylling'!A69","v":29},{"$f":"IF('Sjekkliste for utfylling'!K69<>\"\",1,0)","v":0},0,null,{"$f":"IF($C30=1,'Sjekkliste for utfylling'!A69,\"\")","v":""},{"$f":"IF($C30=1,'Sjekkliste for utfylling'!B69,\"\")","v":""},null,{"$f":"IF(C30=1,'Sjekkliste for utfylling'!L69,\" \")","v":" "}]
[{"$f":"'Sjekkliste for utfylling'!A70","v":30},{"$f":"IF('Sjekkliste for utfylling'!K70<>\"\",1,0)","v":0},0,null,{"$f":"IF($C31=1,'Sjekkliste for utfylling'!A70,\"\")","v":""},{"$f":"IF($C31=1,'Sjekkliste for utfylling'!B70,\"\")","v":""},null,{"$f":"IF(C31=1,'Sjekkliste for utfylling'!L70,\" \")","v":" "}]
[{"$f":"'Sjekkliste for utfylling'!A76","v":31},{"$f":"IF('Sjekkliste for utfylling'!K76<>\"\",1,0)","v":0},0,null,{"$f":"IF($C32=1,'Sjekkliste for utfylling'!A76,\"\")","v":""},{"$f":"IF($C32=1,'Sjekkliste for utfylling'!B76,\"\")","v":""},null,{"$f":"IF(C32=1,'Sjekkliste for utfylling'!L76,\" \")","v":" "}]
[{"$f":"'Sjekkliste for utfylling'!A77","v":32},{"$f":"IF('Sjekkliste for utfylling'!K77<>\"\",1,0)","v":0},0,null,{"$f":"IF($C33=1,'Sjekkliste for utfylling'!A77,\"\")","v":""},{"$f":"IF($C33=1,'Sjekkliste for utfylling'!B77,\"\")","v":""},null,{"$f":"IF(C33=1,'Sjekkliste for utfylling'!L77,\" \")","v":" "}]
[{"$f":"'Sjekkliste for utfylling'!A81","v":33},{"$f":"IF('Sjekkliste for utfylling'!K81<>\"\",1,0)","v":0},0,null,{"$f":"IF($C34=1,'Sjekkliste for utfylling'!A81,\"\")","v":""},{"$f":"IF($C34=1,'Sjekkliste for utfylling'!B81,\"\")","v":""},null,{"$f":"IF(C34=1,'Sjekkliste for utfylling'!L81,\" \")","v":" "}]
[{"$f":"'Sjekkliste for utfylling'!A82","v":34},{"$f":"IF('Sjekkliste for utfylling'!K82<>\"\",1,0)","v":0},0,null,{"$f":"IF($C35=1,'Sjekkliste for utfylling'!A82,\"\")","v":""},{"$f":"IF($C35=1,'Sjekkliste for utfylling'!B82,\"\")","v":""},null,{"$f":"IF(C35=1,'Sjekkliste for utfylling'!L82,\" \")","v":" "}]
[{"$f":"'Sjekkliste for utfylling'!A83","v":35},{"$f":"IF('Sjekkliste for utfylling'!K83<>\"\",1,0)","v":0},0,null,{"$f":"IF($C36=1,'Sjekkliste for utfylling'!A83,\"\")","v":""},{"$f":"IF($C36=1,'Sjekkliste for utfylling'!B83,\"\")","v":""},null,{"$f":"IF(C36=1,'Sjekkliste for utfylling'!L83,\" \")","v":" "}]
[{"$f":"'Sjekkliste for utfylling'!A84","v":36},{"$f":"IF('Sjekkliste for utfylling'!K84<>\"\",1,0)","v":0},0,null,{"$f":"IF($C37=1,'Sjekkliste for utfylling'!A84,\"\")","v":""},{"$f":"IF($C37=1,'Sjekkliste for utfylling'!B84,\"\")","v":""},null,{"$f":"IF(C37=1,'Sjekkliste for utfylling'!L84,\" \")","v":" "}]
[{"$f":"'Sjekkliste for utfylling'!A85","v":37},{"$f":"IF('Sjekkliste for utfylling'!K85<>\"\",1,0)","v":0},0,null,{"$f":"IF($C38=1,'Sjekkliste for utfylling'!A85,\"\")","v":""},{"$f":"IF($C38=1,'Sjekkliste for utfylling'!B85,\"\")","v":""},null,{"$f":"IF(C38=1,'Sjekkliste for utfylling'!L85,\" \")","v":" "}]
[{"$f":"'Sjekkliste for utfylling'!A86","v":38},{"$f":"IF('Sjekkliste for utfylling'!K86<>\"\",1,0)","v":0},0,null,{"$f":"IF($C39=1,'Sjekkliste for utfylling'!A86,\"\")","v":""},{"$f":"IF($C39=1,'Sjekkliste for utfylling'!B86,\"\")","v":""},null,{"$f":"IF(C39=1,'Sjekkliste for utfylling'!L86,\" \")","v":" "}]
[{"$f":"'Sjekkliste for utfylling'!A87","v":39},{"$f":"IF('Sjekkliste for utfylling'!K87<>\"\",1,0)","v":0},0,null,{"$f":"IF($C40=1,'Sjekkliste for utfylling'!A87,\"\")","v":""},{"$f":"IF($C40=1,'Sjekkliste for utfylling'!B87,\"\")","v":""},null,{"$f":"IF(C40=1,'Sjekkliste for utfylling'!L87,\" \")","v":" "}]
[{"$f":"'Sjekkliste for utfylling'!A89","v":40},{"$f":"IF('Sjekkliste for utfylling'!K89<>\"\",1,0)","v":0},0,null,{"$f":"IF($C41=1,'Sjekkliste for utfylling'!A89,\"\")","v":""},{"$f":"IF($C41=1,'Sjekkliste for utfylling'!B89,\"\")","v":""},null,{"$f":"IF(C41=1,'Sjekkliste for utfylling'!L89,\" \")","v":" "}]
[{"$f":"'Sjekkliste for utfylling'!A90","v":41},{"$f":"IF('Sjekkliste for utfylling'!K90<>\"\",1,0)","v":0},0,null,{"$f":"IF($C42=1,'Sjekkliste for utfylling'!A90,\"\")","v":""},{"$f":"IF($C42=1,'Sjekkliste for utfylling'!B90,\"\")","v":""},null,{"$f":"IF(C42=1,'Sjekkliste for utfylling'!L90,\" \")","v":" "}]
[{"$f":"'Sjekkliste for utfylling'!A92","v":42},{"$f":"IF('Sjekkliste for utfylling'!K92<>\"\",1,0)","v":0},0,null,{"$f":"IF($C43=1,'Sjekkliste for utfylling'!A92,\"\")","v":""},{"$f":"IF($C43=1,'Sjekkliste for utfylling'!B92,\"\")","v":""},null,{"$f":"IF(C43=1,'Sjekkliste for utfylling'!L92,\" \")","v":" "}]
[{"$f":"'Sjekkliste for utfylling'!A93","v":43},{"$f":"IF('Sjekkliste for utfylling'!K93<>\"\",1,0)","v":0},0,null,{"$f":"IF($C44=1,'Sjekkliste for utfylling'!A93,\"\")","v":""},{"$f":"IF($C44=1,'Sjekkliste for utfylling'!B93,\"\")","v":""},null,{"$f":"IF(C44=1,'Sjekkliste for utfylling'!L93,\" \")","v":" "}]
[{"$f":"'Sjekkliste for utfylling'!A95","v":44},{"$f":"IF('Sjekkliste for utfylling'!K95<>\"\",1,0)","v":0},0,null,{"$f":"IF($C45=1,'Sjekkliste for utfylling'!A95,\"\")","v":""},{"$f":"IF($C45=1,'Sjekkliste for utfylling'!B95,\"\")","v":""},null,{"$f":"IF(C45=1,'Sjekkliste for utfylling'!L95,\" \")","v":" "}]
[{"$f":"'Sjekkliste for utfylling'!A96","v":45},{"$f":"IF('Sjekkliste for utfylling'!K96<>\"\",1,0)","v":0},0,null,{"$f":"IF($C46=1,'Sjekkliste for utfylling'!A96,\"\")","v":""},{"$f":"IF($C46=1,'Sjekkliste for utfylling'!B96,\"\")","v":""},null,{"$f":"IF(C46=1,'Sjekkliste for utfylling'!L96,\" \")","v":" "}]
[{"$f":"'Sjekkliste for utfylling'!A98","v":46},{"$f":"IF('Sjekkliste for utfylling'!K98<>\"\",1,0)","v":0},0,null,{"$f":"IF($C47=1,'Sjekkliste for utfylling'!A98,\"\")","v":""},{"$f":"IF($C47=1,'Sjekkliste for utfylling'!B98,\"\")","v":""},null,{"$f":"IF(C47=1,'Sjekkliste for utfylling'!L98,\" \")","v":" "}]
[{"$f":"'Sjekkliste for utfylling'!A100","v":47},{"$f":"IF('Sjekkliste for utfylling'!K100<>\"\",1,0)","v":0},0,null,{"$f":"IF($C48=1,'Sjekkliste for utfylling'!A100,\"\")","v":""},{"$f":"IF($C48=1,'Sjekkliste for utfylling'!B100,\"\")","v":""},null,{"$f":"IF(C48=1,'Sjekkliste for utfylling'!L100,\" \")","v":" "}]
[{"$f":"'Sjekkliste for utfylling'!A101","v":48},{"$f":"IF('Sjekkliste for utfylling'!K101<>\"\",1,0)","v":0},0,null,{"$f":"IF($C49=1,'Sjekkliste for utfylling'!A101,\"\")","v":""},{"$f":"IF($C49=1,'Sjekkliste for utfylling'!B101,\"\")","v":""},null,{"$f":"IF(C49=1,'Sjekkliste for utfylling'!L101,\" \")","v":" "}]
[{"$f":"'Sjekkliste for utfylling'!A102","v":49},{"$f":"IF('Sjekkliste for utfylling'!K102<>\"\",1,0)","v":0},0,null,{"$f":"IF($C50=1,'Sjekkliste for utfylling'!A102,\"\")","v":""},{"$f":"IF($C50=1,'Sjekkliste for utfylling'!B102,\"\")","v":""},null,{"$f":"IF(C50=1,'Sjekkliste for utfylling'!L102,\" \")","v":" "}]
[{"$f":"'Sjekkliste for utfylling'!A103","v":50},{"$f":"IF('Sjekkliste for utfylling'!K103<>\"\",1,0)","v":0},0,null,{"$f":"IF($C51=1,'Sjekkliste for utfylling'!A103,\"\")","v":""},{"$f":"IF($C51=1,'Sjekkliste for utfylling'!B103,\"\")","v":""},null,{"$f":"IF(C51=1,'Sjekkliste for utfylling'!L103,\" \")","v":" "}]
[{"$f":"'Sjekkliste for utfylling'!A104","v":51},{"$f":"IF('Sjekkliste for utfylling'!K104<>\"\",1,0)","v":0},0,null,{"$f":"IF($C52=1,'Sjekkliste for utfylling'!A104,\"\")","v":""},{"$f":"IF($C52=1,'Sjekkliste for utfylling'!B104,\"\")","v":""},null,{"$f":"IF(C52=1,'Sjekkliste for utfylling'!L104,\" \")","v":" "}]
[{"$f":"'Sjekkliste for utfylling'!A105","v":52},{"$f":"IF('Sjekkliste for utfylling'!K105<>\"\",1,0)","v":0},0,null,{"$f":"IF($C53=1,'Sjekkliste for utfylling'!A105,\"\")","v":""},{"$f":"IF($C53=1,'Sjekkliste for utfylling'!B105,\"\")","v":""},null,{"$f":"IF(C53=1,'Sjekkliste for utfylling'!L105,\" \")","v":" "}]
[{"$f":"'Sjekkliste for utfylling'!A107","v":53},{"$f":"IF('Sjekkliste for utfylling'!K107<>\"\",1,0)","v":0},0,null,{"$f":"IF($C54=1,'Sjekkliste for utfylling'!A107,\"\")","v":""},{"$f":"IF($C54=1,'Sjekkliste for utfylling'!B107,\"\")","v":""},null,{"$f":"IF(C54=1,'Sjekkliste for utfylling'!L107,\" \")","v":" "}]
[{"$f":"'Sjekkliste for utfylling'!A108","v":54},{"$f":"IF('Sjekkliste for utfylling'!K108<>\"\",1,0)","v":0},0,null,{"$f":"IF($C55=1,'Sjekkliste for utfylling'!A108,\"\")","v":""},{"$f":"IF($C55=1,'Sjekkliste for utfylling'!B108,\"\")","v":""},null,{"$f":"IF(C55=1,'Sjekkliste for utfylling'!L108,\" \")","v":" "}]
[{"$f":"'Sjekkliste for utfylling'!A110","v":55},{"$f":"IF('Sjekkliste for utfylling'!K110<>\"\",1,0)","v":0},0,null,{"$f":"IF($C56=1,'Sjekkliste for utfylling'!A110,\"\")","v":""},{"$f":"IF($C56=1,'Sjekkliste for utfylling'!B110,\"\")","v":""},null,{"$f":"IF(C56=1,'Sjekkliste for utfylling'!L110,\" \")","v":" "}]
[{"$f":"'Sjekkliste for utfylling'!A111","v":56},{"$f":"IF('Sjekkliste for utfylling'!K111<>\"\",1,0)","v":0},0,null,{"$f":"IF($C57=1,'Sjekkliste for utfylling'!A111,\"\")","v":""},{"$f":"IF($C57=1,'Sjekkliste for utfylling'!B111,\"\")","v":""},null,{"$f":"IF(C57=1,'Sjekkliste for utfylling'!L111,\" \")","v":" "}]
[{"$f":"'Sjekkliste for utfylling'!A113","v":57},{"$f":"IF('Sjekkliste for utfylling'!K113<>\"\",1,0)","v":0},0,null,{"$f":"IF($C58=1,'Sjekkliste for utfylling'!A113,\"\")","v":""},{"$f":"IF($C58=1,'Sjekkliste for utfylling'!B113,\"\")","v":""},null,{"$f":"IF(C58=1,'Sjekkliste for utfylling'!L113,\" \")","v":" "}]
[{"$f":"'Sjekkliste for utfylling'!A115","v":58},{"$f":"IF('Sjekkliste for utfylling'!K115<>\"\",1,0)","v":0},0,null,{"$f":"IF($C59=1,'Sjekkliste for utfylling'!A115,\"\")","v":""},{"$f":"IF($C59=1,'Sjekkliste for utfylling'!B115,\"\")","v":""},null,{"$f":"IF(C59=1,'Sjekkliste for utfylling'!L115,\" \")","v":" "}]
[{"$f":"'Sjekkliste for utfylling'!A116","v":59},{"$f":"IF('Sjekkliste for utfylling'!K116<>\"\",1,0)","v":0},0,null,{"$f":"IF($C60=1,'Sjekkliste for utfylling'!A116,\"\")","v":""},{"$f":"IF($C60=1,'Sjekkliste for utfylling'!B116,\"\")","v":""},null,{"$f":"IF(C60=1,'Sjekkliste for utfylling'!L116,\" \")","v":" "}]
[{"$f":"'Sjekkliste for utfylling'!A117","v":60},{"$f":"IF('Sjekkliste for utfylling'!K117<>\"\",1,0)","v":0},0,null,{"$f":"IF($C61=1,'Sjekkliste for utfylling'!A117,\"\")","v":""},{"$f":"IF($C61=1,'Sjekkliste for utfylling'!B117,\"\")","v":""},null,{"$f":"IF(C61=1,'Sjekkliste for utfylling'!L117,\" \")","v":" "}]
[{"$f":"'Sjekkliste for utfylling'!A118","v":61},{"$f":"IF('Sjekkliste for utfylling'!K118<>\"\",1,0)","v":0},0,null,{"$f":"IF($C62=1,'Sjekkliste for utfylling'!A118,\"\")","v":""},{"$f":"IF($C62=1,'Sjekkliste for utfylling'!B118,\"\")","v":""},null,{"$f":"IF(C62=1,'Sjekkliste for utfylling'!L118,\" \")","v":" "}]
[{"$f":"'Sjekkliste for utfylling'!A119","v":62},{"$f":"IF('Sjekkliste for utfylling'!K119<>\"\",1,0)","v":0},0,null,{"$f":"IF($C63=1,'Sjekkliste for utfylling'!A119,\"\")","v":""},{"$f":"IF($C63=1,'Sjekkliste for utfylling'!B119,\"\")","v":""},null,{"$f":"IF(C63=1,'Sjekkliste for utfylling'!L119,\" \")","v":" "}]
[{"$f":"'Sjekkliste for utfylling'!A120","v":63},{"$f":"IF('Sjekkliste for utfylling'!K120<>\"\",1,0)","v":0},0,null,{"$f":"IF($C64=1,'Sjekkliste for utfylling'!A120,\"\")","v":""},{"$f":"IF($C64=1,'Sjekkliste for utfylling'!B120,\"\")","v":""},null,{"$f":"IF(C64=1,'Sjekkliste for utfylling'!L120,\" \")","v":" "}]
[{"$f":"'Sjekkliste for utfylling'!A122","v":64},{"$f":"IF('Sjekkliste for utfylling'!K122<>\"\",1,0)","v":0},0,null,{"$f":"IF($C65=1,'Sjekkliste for utfylling'!A122,\"\")","v":""},{"$f":"IF($C65=1,'Sjekkliste for utfylling'!B122,\"\")","v":""},null,{"$f":"IF(C65=1,'Sjekkliste for utfylling'!L122,\" \")","v":" "}]
[{"$f":"'Sjekkliste for utfylling'!A123","v":65},{"$f":"IF('Sjekkliste for utfylling'!K123<>\"\",1,0)","v":0},{"$f":"SUM(B66:B66)","v":0},null,{"$f":"IF($C66=1,'Sjekkliste for utfylling'!A123,\"\")","v":""},{"$f":"IF($C66=1,'Sjekkliste for utfylling'!B123,\"\")","v":""},null,{"$f":"IF(C66=1,'Sjekkliste for utfylling'!L123,\" \")","v":" "}]
[{"$f":"'Sjekkliste for utfylling'!A125","v":66},{"$f":"IF('Sjekkliste for utfylling'!K125<>\"\",1,0)","v":0},0,null,{"$f":"IF($C67=1,'Sjekkliste for utfylling'!A125,\"\")","v":""},{"$f":"IF($C67=1,'Sjekkliste for utfylling'!B125,\"\")","v":""},null,{"$f":"IF(C67=1,'Sjekkliste for utfylling'!L125,\" \")","v":" "}]
[{"$f":"'Sjekkliste for utfylling'!A126","v":67},{"$f":"IF('Sjekkliste for utfylling'!K126<>\"\",1,0)","v":0},0,null,{"$f":"IF($C68=1,'Sjekkliste for utfylling'!A126,\"\")","v":""},{"$f":"IF($C68=1,'Sjekkliste for utfylling'!B126,\"\")","v":""},null,{"$f":"IF(C68=1,'Sjekkliste for utfylling'!L126,\" \")","v":" "}]
[{"$f":"'Sjekkliste for utfylling'!A127","v":68},{"$f":"IF('Sjekkliste for utfylling'!K127<>\"\",1,0)","v":0},0,null,{"$f":"IF($C69=1,'Sjekkliste for utfylling'!A127,\"\")","v":""},{"$f":"IF($C69=1,'Sjekkliste for utfylling'!B127,\"\")","v":""},null,{"$f":"IF(C69=1,'Sjekkliste for utfylling'!L127,\" \")","v":" "}]
[{"$f":"'Sjekkliste for utfylling'!A128","v":69},{"$f":"IF('Sjekkliste for utfylling'!K128<>\"\",1,0)","v":0},0,null,{"$f":"IF($C70=1,'Sjekkliste for utfylling'!A128,\"\")","v":""},{"$f":"IF($C70=1,'Sjekkliste for utfylling'!B128,\"\")","v":""},null,{"$f":"IF(C70=1,'Sjekkliste for utfylling'!L128,\" \")","v":" "}]
[{"$f":"'Sjekkliste for utfylling'!A130","v":70},{"$f":"IF('Sjekkliste for utfylling'!K130<>\"\",1,0)","v":0},0,null,{"$f":"IF($C71=1,'Sjekkliste for utfylling'!A130,\"\")","v":""},{"$f":"IF($C71=1,'Sjekkliste for utfylling'!B130,\"\")","v":""},null,{"$f":"IF(C71=1,'Sjekkliste for utfylling'!L130,\" \")","v":" "}]
[{"$f":"'Sjekkliste for utfylling'!A131","v":71},{"$f":"IF('Sjekkliste for utfylling'!K131<>\"\",1,0)","v":0},0,null,{"$f":"IF($C72=1,'Sjekkliste for utfylling'!A131,\"\")","v":""},{"$f":"IF($C72=1,'Sjekkliste for utfylling'!B131,\"\")","v":""},null,{"$f":"IF(C72=1,'Sjekkliste for utfylling'!L131,\" \")","v":" "}]
[{"$f":"'Sjekkliste for utfylling'!A132","v":72},{"$f":"IF('Sjekkliste for utfylling'!K132<>\"\",1,0)","v":0},0,null,{"$f":"IF($C73=1,'Sjekkliste for utfylling'!A132,\"\")","v":""},{"$f":"IF($C73=1,'Sjekkliste for utfylling'!B132,\"\")","v":""},null,{"$f":"IF(C73=1,'Sjekkliste for utfylling'!L132,\" \")","v":" "}]
[{"$f":"'Sjekkliste for utfylling'!A133","v":73},{"$f":"IF('Sjekkliste for utfylling'!K133<>\"\",1,0)","v":0},0,null,{"$f":"IF($C74=1,'Sjekkliste for utfylling'!A133,\"\")","v":""},{"$f":"IF($C74=1,'Sjekkliste for utfylling'!B133,\"\")","v":""},null,{"$f":"IF(C74=1,'Sjekkliste for utfylling'!L133,\" \")","v":" "}]
[{"$f":"'Sjekkliste for utfylling'!A136","v":74},{"$f":"IF('Sjekkliste for utfylling'!K136<>\"\",1,0)","v":0},0,null,{"$f":"IF($C75=1,'Sjekkliste for utfylling'!A136,\"\")","v":""},{"$f":"IF($C75=1,'Sjekkliste for utfylling'!B136,\"\")","v":""},null,{"$f":"IF(C75=1,'Sjekkliste for utfylling'!L136,\" \")","v":" "}]
[{"$f":"'Sjekkliste for utfylling'!A137","v":75},{"$f":"IF('Sjekkliste for utfylling'!K137<>\"\",1,0)","v":0},0,null,{"$f":"IF($C76=1,'Sjekkliste for utfylling'!A137,\"\")","v":""},{"$f":"IF($C76=1,'Sjekkliste for utfylling'!B137,\"\")","v":""},null,{"$f":"IF(C76=1,'Sjekkliste for utfylling'!L137,\" \")","v":" "}]
[{"$f":"'Sjekkliste for utfylling'!A138","v":76},{"$f":"IF('Sjekkliste for utfylling'!K138<>\"\",1,0)","v":0},0,null,{"$f":"IF($C77=1,'Sjekkliste for utfylling'!A138,\"\")","v":""},{"$f":"IF($C77=1,'Sjekkliste for utfylling'!B138,\"\")","v":""},null,{"$f":"IF(C77=1,'Sjekkliste for utfylling'!L138,\" \")","v":" "}]
[{"$f":"'Sjekkliste for utfylling'!A141","v":77},{"$f":"IF('Sjekkliste for utfylling'!K141<>\"\",1,0)","v":0},0,null,{"$f":"IF($C78=1,'Sjekkliste for utfylling'!A141,\"\")","v":""},{"$f":"IF($C78=1,'Sjekkliste for utfylling'!B141,\"\")","v":""},null,{"$f":"IF(C78=1,'Sjekkliste for utfylling'!L141,\" \")","v":" "}]
[{"$f":"'Sjekkliste for utfylling'!A142","v":78},{"$f":"IF('Sjekkliste for utfylling'!K142<>\"\",1,0)","v":0},0,null,{"$f":"IF($C79=1,'Sjekkliste for utfylling'!A142,\"\")","v":""},{"$f":"IF($C79=1,'Sjekkliste for utfylling'!B142,\"\")","v":""},null,{"$f":"IF(C79=1,'Sjekkliste for utfylling'!L142,\" \")","v":" "}]
[{"$f":"'Sjekkliste for utfylling'!A144","v":79},{"$f":"IF('Sjekkliste for utfylling'!K144<>\"\",1,0)","v":0},0,null,{"$f":"IF($C80=1,'Sjekkliste for utfylling'!A144,\"\")","v":""},{"$f":"IF($C80=1,'Sjekkliste for utfylling'!B144,\"\")","v":""},null,{"$f":"IF(C80=1,'Sjekkliste for utfylling'!L144,\" \")","v":" "}]
[{"$f":"'Sjekkliste for utfylling'!A145","v":80},{"$f":"IF('Sjekkliste for utfylling'!K145<>\"\",1,0)","v":0},0,null,{"$f":"IF($C81=1,'Sjekkliste for utfylling'!A145,\"\")","v":""},{"$f":"IF($C81=1,'Sjekkliste for utfylling'!B145,\"\")","v":""},null,{"$f":"IF(C81=1,'Sjekkliste for utfylling'!L145,\" \")","v":" "}]
[{"$f":"'Sjekkliste for utfylling'!A146","v":81},{"$f":"IF('Sjekkliste for utfylling'!K146<>\"\",1,0)","v":0},0,null,{"$f":"IF($C82=1,'Sjekkliste for utfylling'!A146,\"\")","v":""},{"$f":"IF($C82=1,'Sjekkliste for utfylling'!B146,\"\")","v":""},null,{"$f":"IF(C82=1,'Sjekkliste for utfylling'!L146,\" \")","v":" "}]
[{"$f":"'Sjekkliste for utfylling'!A147","v":82},{"$f":"IF('Sjekkliste for utfylling'!K147<>\"\",1,0)","v":0},0,null,{"$f":"IF($C83=1,'Sjekkliste for utfylling'!A147,\"\")","v":""},{"$f":"IF($C83=1,'Sjekkliste for utfylling'!B147,\"\")","v":""},null,{"$f":"IF(C83=1,'Sjekkliste for utfylling'!L147,\" \")","v":" "}]
[{"$f":"'Sjekkliste for utfylling'!A148","v":83},{"$f":"IF('Sjekkliste for utfylling'!K148<>\"\",1,0)","v":0},0,null,{"$f":"IF($C84=1,'Sjekkliste for utfylling'!A148,\"\")","v":""},{"$f":"IF($C84=1,'Sjekkliste for utfylling'!B148,\"\")","v":""},null,{"$f":"IF(C84=1,'Sjekkliste for utfylling'!L148,\" \")","v":" "}]
[{"$f":"'Sjekkliste for utfylling'!A150","v":84},{"$f":"IF('Sjekkliste for utfylling'!K150<>\"\",1,0)","v":0},0,null,{"$f":"IF($C85=1,'Sjekkliste for utfylling'!A150,\"\")","v":""},{"$f":"IF($C85=1,'Sjekkliste for utfylling'!B150,\"\")","v":""},null,{"$f":"IF(C85=1,'Sjekkliste for utfylling'!L150,\" \")","v":" "}]
[{"$f":"'Sjekkliste for utfylling'!A151","v":85},{"$f":"IF('Sjekkliste for utfylling'!K151<>\"\",1,0)","v":0},0,null,{"$f":"IF($C86=1,'Sjekkliste for utfylling'!A151,\"\")","v":""},{"$f":"IF($C86=1,'Sjekkliste for utfylling'!B151,\"\")","v":""},null,{"$f":"IF(C86=1,'Sjekkliste for utfylling'!L151,\" \")","v":" "}]
[{"$f":"'Sjekkliste for utfylling'!A153","v":86},{"$f":"IF('Sjekkliste for utfylling'!K153<>\"\",1,0)","v":0},0,null,{"$f":"IF($C87=1,'Sjekkliste for utfylling'!A153,\"\")","v":""},{"$f":"IF($C87=1,'Sjekkliste for utfylling'!B153,\"\")","v":""},null,{"$f":"IF(C87=1,'Sjekkliste for utfylling'!L153,\" \")","v":" "}]
[{"$f":"'Sjekkliste for utfylling'!A154","v":87},{"$f":"IF('Sjekkliste for utfylling'!K154<>\"\",1,0)","v":0},0,null,{"$f":"IF($C88=1,'Sjekkliste for utfylling'!A154,\"\")","v":""},{"$f":"IF($C88=1,'Sjekkliste for utfylling'!B154,\"\")","v":""},null,{"$f":"IF(C88=1,'Sjekkliste for utfylling'!L154,\" \")","v":" "}]
[{"$f":"'Sjekkliste for utfylling'!A155","v":88},{"$f":"IF('Sjekkliste for utfylling'!K155<>\"\",1,0)","v":0},0,null,{"$f":"IF($C89=1,'Sjekkliste for utfylling'!A155,\"\")","v":""},{"$f":"IF($C89=1,'Sjekkliste for utfylling'!B155,\"\")","v":""},null,{"$f":"IF(C89=1,'Sjekkliste for utfylling'!L155,\" \")","v":" "}]
[{"$f":"'Sjekkliste for utfylling'!A156","v":89},{"$f":"IF('Sjekkliste for utfylling'!K156<>\"\",1,0)","v":0},0,null,{"$f":"IF($C90=1,'Sjekkliste for utfylling'!A156,\"\")","v":""},{"$f":"IF($C90=1,'Sjekkliste for utfylling'!B156,\"\")","v":""},null,{"$f":"IF(C90=1,'Sjekkliste for utfylling'!L156,\" \")","v":" "}]
[{"$f":"'Sjekkliste for utfylling'!A157","v":90},{"$f":"IF('Sjekkliste for utfylling'!K157<>\"\",1,0)","v":0},0,null,{"$f":"IF($C91=1,'Sjekkliste for utfylling'!A157,\"\")","v":""},{"$f":"IF($C91=1,'Sjekkliste for utfylling'!B157,\"\")","v":""},null,{"$f":"IF(C91=1,'Sjekkliste for utfylling'!L157,\" \")","v":" "}]
[{"$f":"'Sjekkliste for utfylling'!A158","v":91},{"$f":"IF('Sjekkliste for utfylling'!K158<>\"\",1,0)","v":0},0,null,{"$f":"IF($C92=1,'Sjekkliste for utfylling'!A158,\"\")","v":""},{"$f":"IF($C92=1,'Sjekkliste for utfylling'!B158,\"\")","v":""},null,{"$f":"IF(C92=1,'Sjekkliste for utfylling'!L158,\" \")","v":" "}]
[{"$f":"'Sjekkliste for utfylling'!A159","v":92},{"$f":"IF('Sjekkliste for utfylling'!K159<>\"\",1,0)","v":0},0,null,{"$f":"IF($C93=1,'Sjekkliste for utfylling'!A159,\"\")","v":""},{"$f":"IF($C93=1,'Sjekkliste for utfylling'!B159,\"\")","v":""},null,{"$f":"IF(C93=1,'Sjekkliste for utfylling'!L159,\" \")","v":" "}]
[{"$f":"'Sjekkliste for utfylling'!A160","v":93},{"$f":"IF('Sjekkliste for utfylling'!K160<>\"\",1,0)","v":0},0,null,{"$f":"IF($C94=1,'Sjekkliste for utfylling'!A160,\"\")","v":""},{"$f":"IF($C94=1,'Sjekkliste for utfylling'!B160,\"\")","v":""},null,{"$f":"IF(C94=1,'Sjekkliste for utfylling'!L160,\" \")","v":" "}]
[{"$f":"'Sjekkliste for utfylling'!A162","v":94},{"$f":"IF('Sjekkliste for utfylling'!K162<>\"\",1,0)","v":0},0,null,{"$f":"IF($C95=1,'Sjekkliste for utfylling'!A162,\"\")","v":""},{"$f":"IF($C95=1,'Sjekkliste for utfylling'!B162,\"\")","v":""},null,{"$f":"IF(C95=1,'Sjekkliste for utfylling'!L162,\" \")","v":" "}]
[{"$f":"'Sjekkliste for utfylling'!A164","v":95},{"$f":"IF('Sjekkliste for utfylling'!K164<>\"\",1,0)","v":0},0,null,{"$f":"IF($C96=1,'Sjekkliste for utfylling'!A164,\"\")","v":""},{"$f":"IF($C96=1,'Sjekkliste for utfylling'!B164,\"\")","v":""},null,{"$f":"IF(C96=1,'Sjekkliste for utfylling'!L164,\" \")","v":" "}]
[{"$f":"'Sjekkliste for utfylling'!A170","v":96},{"$f":"IF('Sjekkliste for utfylling'!K170<>\"\",1,0)","v":0},0,null,{"$f":"IF($C97=1,'Sjekkliste for utfylling'!A170,\"\")","v":""},{"$f":"IF($C97=1,'Sjekkliste for utfylling'!B170,\"\")","v":""},null,{"$f":"IF(C97=1,'Sjekkliste for utfylling'!L170,\" \")","v":" "}]
[{"$f":"'Sjekkliste for utfylling'!A171","v":97},{"$f":"IF('Sjekkliste for utfylling'!K171<>\"\",1,0)","v":0},0,null,{"$f":"IF($C98=1,'Sjekkliste for utfylling'!A171,\"\")","v":""},{"$f":"IF($C98=1,'Sjekkliste for utfylling'!B171,\"\")","v":""},null,{"$f":"IF(C98=1,'Sjekkliste for utfylling'!L171,\" \")","v":" "}]
[{"$f":"'Sjekkliste for utfylling'!A172","v":98},{"$f":"IF('Sjekkliste for utfylling'!K172<>\"\",1,0)","v":0},0,null,{"$f":"IF($C99=1,'Sjekkliste for utfylling'!A172,\"\")","v":""},{"$f":"IF($C99=1,'Sjekkliste for utfylling'!B172,\"\")","v":""},null,{"$f":"IF(C99=1,'Sjekkliste for utfylling'!L172,\" \")","v":" "}]
[{"$f":"'Sjekkliste for utfylling'!A173","v":99},{"$f":"IF('Sjekkliste for utfylling'!K173<>\"\",1,0)","v":0},0,null,{"$f":"IF($C100=1,'Sjekkliste for utfylling'!A173,\"\")","v":""},{"$f":"IF($C100=1,'Sjekkliste for utfylling'!B173,\"\")","v":""},null,{"$f":"IF(C100=1,'Sjekkliste for utfylling'!L173,\" \")","v":" "}]
[{"$f":"'Sjekkliste for utfylling'!A174","v":100},{"$f":"IF('Sjekkliste for utfylling'!K174<>\"\",1,0)","v":0},0,null,{"$f":"IF($C101=1,'Sjekkliste for utfylling'!A174,\"\")","v":""},{"$f":"IF($C101=1,'Sjekkliste for utfylling'!B174,\"\")","v":""},null,{"$f":"IF(C101=1,'Sjekkliste for utfylling'!L174,\" \")","v":" "}]
[{"$f":"'Sjekkliste for utfylling'!A175","v":101},{"$f":"IF('Sjekkliste for utfylling'!K175<>\"\",1,0)","v":0},0,null,{"$f":"IF($C102=1,'Sjekkliste for utfylling'!A175,\"\")","v":""},{"$f":"IF($C102=1,'Sjekkliste for utfylling'!B175,\"\")","v":""},null,{"$f":"IF(C102=1,'Sjekkliste for utfylling'!L175,\" \")","v":" "}]
[{"$f":"'Sjekkliste for utfylling'!A176","v":102},{"$f":"IF('Sjekkliste for utfylling'!K176<>\"\",1,0)","v":0},0,null,{"$f":"IF($C103=1,'Sjekkliste for utfylling'!A176,\"\")","v":""},{"$f":"IF($C103=1,'Sjekkliste for utfylling'!B176,\"\")","v":""},null,{"$f":"IF(C103=1,'Sjekkliste for utfylling'!L176,\" \")","v":" "}]
[{"$f":"'Sjekkliste for utfylling'!A177","v":103},{"$f":"IF('Sjekkliste for utfylling'!K177<>\"\",1,0)","v":0},0,null,{"$f":"IF($C104=1,'Sjekkliste for utfylling'!A177,\"\")","v":""},{"$f":"IF($C104=1,'Sjekkliste for utfylling'!B177,\"\")","v":""},null,{"$f":"IF(C104=1,'Sjekkliste for utfylling'!L177,\" \")","v":" "}]
[{"$f":"'Sjekkliste for utfylling'!A178","v":104},{"$f":"IF('Sjekkliste for utfylling'!K178<>\"\",1,0)","v":0},0,null,{"$f":"IF($C105=1,'Sjekkliste for utfylling'!A178,\"\")","v":""},{"$f":"IF($C105=1,'Sjekkliste for utfylling'!B178,\"\")","v":""},null,{"$f":"IF(C105=1,'Sjekkliste for utfylling'!L178,\" \")","v":" "}]
[{"$f":"'Sjekkliste for utfylling'!A181","v":105},{"$f":"IF('Sjekkliste for utfylling'!K181<>\"\",1,0)","v":0},0,null,{"$f":"IF($C106=1,'Sjekkliste for utfylling'!A181,\"\")","v":""},{"$f":"IF($C106=1,'Sjekkliste for utfylling'!B181,\"\")","v":""},null,{"$f":"IF(C106=1,'Sjekkliste for utfylling'!L181,\" \")","v":" "}]
[{"$f":"'Sjekkliste for utfylling'!A182","v":106},{"$f":"IF('Sjekkliste for utfylling'!K182<>\"\",1,0)","v":0},0,null,{"$f":"IF($C107=1,'Sjekkliste for utfylling'!A182,\"\")","v":""},{"$f":"IF($C107=1,'Sjekkliste for utfylling'!B182,\"\")","v":""},null,{"$f":"IF(C107=1,'Sjekkliste for utfylling'!L182,\" \")","v":" "}]
[{"$f":"'Sjekkliste for utfylling'!A184","v":107},{"$f":"IF('Sjekkliste for utfylling'!K184<>\"\",1,0)","v":0},0,null,{"$f":"IF($C108=1,'Sjekkliste for utfylling'!A184,\"\")","v":""},{"$f":"IF($C108=1,'Sjekkliste for utfylling'!B184,\"\")","v":""},null,{"$f":"IF(C108=1,'Sjekkliste for utfylling'!L184,\" \")","v":" "}]
[{"$f":"'Sjekkliste for utfylling'!A185","v":108},{"$f":"IF('Sjekkliste for utfylling'!K185<>\"\",1,0)","v":0},0,null,{"$f":"IF($C109=1,'Sjekkliste for utfylling'!A185,\"\")","v":""},{"$f":"IF($C109=1,'Sjekkliste for utfylling'!B185,\"\")","v":""},null,{"$f":"IF(C109=1,'Sjekkliste for utfylling'!L185,\" \")","v":" "}]
[{"$f":"'Sjekkliste for utfylling'!A187","v":109},{"$f":"IF('Sjekkliste for utfylling'!K187<>\"\",1,0)","v":0},0,null,{"$f":"IF($C110=1,'Sjekkliste for utfylling'!A187,\"\")","v":""},{"$f":"IF($C110=1,'Sjekkliste for utfylling'!B187,\"\")","v":""},null,{"$f":"IF(C110=1,'Sjekkliste for utfylling'!L187,\" \")","v":" "}]
[{"$f":"'Sjekkliste for utfylling'!A188","v":110},{"$f":"IF('Sjekkliste for utfylling'!K188<>\"\",1,0)","v":0},0,null,{"$f":"IF($C111=1,'Sjekkliste for utfylling'!A188,\"\")","v":""},{"$f":"IF($C111=1,'Sjekkliste for utfylling'!B188,\"\")","v":""},null,{"$f":"IF(C111=1,'Sjekkliste for utfylling'!L188,\" \")","v":" "}]
[{"$f":"'Sjekkliste for utfylling'!A190","v":111},{"$f":"IF('Sjekkliste for utfylling'!K190<>\"\",1,0)","v":0},0,null,{"$f":"IF($C112=1,'Sjekkliste for utfylling'!A190,\"\")","v":""},{"$f":"IF($C112=1,'Sjekkliste for utfylling'!B190,\"\")","v":""},null,{"$f":"IF(C112=1,'Sjekkliste for utfylling'!L190,\" \")","v":" "}]
[{"$f":"'Sjekkliste for utfylling'!A191","v":112},{"$f":"IF('Sjekkliste for utfylling'!K191<>\"\",1,0)","v":0},0,null,{"$f":"IF($C113=1,'Sjekkliste for utfylling'!A191,\"\")","v":""},{"$f":"IF($C113=1,'Sjekkliste for utfylling'!B191,\"\")","v":""},null,{"$f":"IF(C113=1,'Sjekkliste for utfylling'!L191,\" \")","v":" "}]
[{"$f":"'Sjekkliste for utfylling'!A192","v":113},{"$f":"IF('Sjekkliste for utfylling'!K192<>\"\",1,0)","v":0},0,null,{"$f":"IF($C114=1,'Sjekkliste for utfylling'!A192,\"\")","v":""},{"$f":"IF($C114=1,'Sjekkliste for utfylling'!B192,\"\")","v":""},null,{"$f":"IF(C114=1,'Sjekkliste for utfylling'!L192,\" \")","v":" "}]
[{"$f":"'Sjekkliste for utfylling'!A195","v":114},{"$f":"IF('Sjekkliste for utfylling'!K195<>\"\",1,0)","v":0},0,null,{"$f":"IF($C115=1,'Sjekkliste for utfylling'!A195,\"\")","v":""},{"$f":"IF($C115=1,'Sjekkliste for utfylling'!B195,\"\")","v":""},null,{"$f":"IF(C115=1,'Sjekkliste for utfylling'!L195,\" \")","v":" "}]
[{"$f":"'Sjekkliste for utfylling'!A196","v":115},{"$f":"IF('Sjekkliste for utfylling'!K196<>\"\",1,0)","v":0},0,null,{"$f":"IF($C116=1,'Sjekkliste for utfylling'!A196,\"\")","v":""},{"$f":"IF($C116=1,'Sjekkliste for utfylling'!B196,\"\")","v":""},null,{"$f":"IF(C116=1,'Sjekkliste for utfylling'!L196,\" \")","v":" "}]
[{"$f":"'Sjekkliste for utfylling'!A198","v":116},{"$f":"IF('Sjekkliste for utfylling'!K198<>\"\",1,0)","v":0},0,null,{"$f":"IF($C117=1,'Sjekkliste for utfylling'!A198,\"\")","v":""},{"$f":"IF($C117=1,'Sjekkliste for utfylling'!B198,\"\")","v":""},null,{"$f":"IF(C117=1,'Sjekkliste for utfylling'!L198,\" \")","v":" "}]
[{"$f":"'Sjekkliste for utfylling'!A200","v":117},{"$f":"IF('Sjekkliste for utfylling'!K200<>\"\",1,0)","v":0},0,null,{"$f":"IF($C118=1,'Sjekkliste for utfylling'!A200,\"\")","v":""},{"$f":"IF($C118=1,'Sjekkliste for utfylling'!B200,\"\")","v":""},null,{"$f":"IF(C118=1,'Sjekkliste for utfylling'!L200,\" \")","v":" "}]
[{"$f":"'Sjekkliste for utfylling'!A202","v":118},{"$f":"IF('Sjekkliste for utfylling'!K202<>\"\",1,0)","v":0},0,null,{"$f":"IF($C119=1,'Sjekkliste for utfylling'!A202,\"\")","v":""},{"$f":"IF($C119=1,'Sjekkliste for utfylling'!B202,\"\")","v":""},null,{"$f":"IF(C119=1,'Sjekkliste for utfylling'!L202,\" \")","v":" "}]
[{"$f":"'Sjekkliste for utfylling'!A209","v":119},{"$f":"IF('Sjekkliste for utfylling'!K209<>\"\",1,0)","v":0},0,null,{"$f":"IF($C120=1,'Sjekkliste for utfylling'!A209,\"\")","v":""},{"$f":"IF($C120=1,'Sjekkliste for utfylling'!B209,\"\")","v":""},null,{"$f":"IF(C120=1,'Sjekkliste for utfylling'!L209,\" \")","v":" "}]
[{"$f":"'Sjekkliste for utfylling'!A218","v":120},{"$f":"IF('Sjekkliste for utfylling'!K218<>\"\",1,0)","v":0},0,null,{"$f":"IF($C121=1,'Sjekkliste for utfylling'!A218,\"\")","v":""},{"$f":"IF($C121=1,'Sjekkliste for utfylling'!B218,\"\")","v":""},null,{"$f":"IF(C121=1,'Sjekkliste for utfylling'!L218,\" \")","v":" "}]
[{"$f":"'Sjekkliste for utfylling'!A221","v":121},{"$f":"IF('Sjekkliste for utfylling'!K221<>\"\",1,0)","v":0},0,null,{"$f":"IF($C122=1,'Sjekkliste for utfylling'!A221,\"\")","v":""},{"$f":"IF($C122=1,'Sjekkliste for utfylling'!B221,\"\")","v":""},null,{"$f":"IF(C122=1,'Sjekkliste for utfylling'!L221,\" \")","v":" "}]
[{"$f":"'Sjekkliste for utfylling'!A223","v":122},{"$f":"IF('Sjekkliste for utfylling'!K223<>\"\",1,0)","v":0},0,null,{"$f":"IF($C123=1,'Sjekkliste for utfylling'!A223,\"\")","v":""},{"$f":"IF($C123=1,'Sjekkliste for utfylling'!B223,\"\")","v":""},null,{"$f":"IF(C123=1,'Sjekkliste for utfylling'!L223,\" \")","v":" "}]
[{"$f":"'Sjekkliste for utfylling'!A224","v":123},{"$f":"IF('Sjekkliste for utfylling'!K224<>\"\",1,0)","v":0},0,null,{"$f":"IF($C124=1,'Sjekkliste for utfylling'!A224,\"\")","v":""},{"$f":"IF($C124=1,'Sjekkliste for utfylling'!B224,\"\")","v":""},null,{"$f":"IF(C124=1,'Sjekkliste for utfylling'!L224,\" \")","v":" "}]
[{"$f":"'Sjekkliste for utfylling'!A225","v":124},{"$f":"IF('Sjekkliste for utfylling'!K225<>\"\",1,0)","v":0},0,null,{"$f":"IF($C125=1,'Sjekkliste for utfylling'!A225,\"\")","v":""},{"$f":"IF($C125=1,'Sjekkliste for utfylling'!B225,\"\")","v":""},null,{"$f":"IF(C125=1,'Sjekkliste for utfylling'!L225,\" \")","v":" "}]
[{"$f":"'Sjekkliste for utfylling'!A227","v":125},{"$f":"IF('Sjekkliste for utfylling'!K227<>\"\",1,0)","v":0},0,null,{"$f":"IF($C126=1,'Sjekkliste for utfylling'!A227,\"\")","v":""},{"$f":"IF($C126=1,'Sjekkliste for utfylling'!B227,\"\")","v":""},null,{"$f":"IF(C126=1,'Sjekkliste for utfylling'!L227,\" \")","v":" "}]
[{"$f":"'Sjekkliste for utfylling'!A228","v":126},{"$f":"IF('Sjekkliste for utfylling'!K228<>\"\",1,0)","v":0},0,null,{"$f":"IF($C127=1,'Sjekkliste for utfylling'!A228,\"\")","v":""},{"$f":"IF($C127=1,'Sjekkliste for utfylling'!B228,\"\")","v":""},null,{"$f":"IF(C127=1,'Sjekkliste for utfylling'!L228,\" \")","v":" "}]
[{"$f":"'Sjekkliste for utfylling'!A229","v":127},{"$f":"IF('Sjekkliste for utfylling'!K229<>\"\",1,0)","v":0},0,null,{"$f":"IF($C128=1,'Sjekkliste for utfylling'!A229,\"\")","v":""},{"$f":"IF($C128=1,'Sjekkliste for utfylling'!B229,\"\")","v":""},null,{"$f":"IF(C128=1,'Sjekkliste for utfylling'!L229,\" \")","v":" "}]
[{"$f":"'Sjekkliste for utfylling'!A230","v":128},{"$f":"IF('Sjekkliste for utfylling'!K230<>\"\",1,0)","v":0},0,null,{"$f":"IF($C129=1,'Sjekkliste for utfylling'!A230,\"\")","v":""},{"$f":"IF($C129=1,'Sjekkliste for utfylling'!B230,\"\")","v":""},null,{"$f":"IF(C129=1,'Sjekkliste for utfylling'!L230,\" \")","v":" "}]
[{"$f":"'Sjekkliste for utfylling'!A232","v":129},{"$f":"IF('Sjekkliste for utfylling'!K232<>\"\",1,0)","v":0},{"$f":"SUM(B130:B130)","v":0},null,{"$f":"IF($C130=1,'Sjekkliste for utfylling'!A232,\"\")","v":""},{"$f":"IF($C130=1,'Sjekkliste for utfylling'!B232,\"\")","v":""},null,{"$f":"IF(C130=1,'Sjekkliste for utfylling'!L232,\" \")","v":" "}]
[{"$f":"'Sjekkliste for utfylling'!A233","v":130},{"$f":"IF('Sjekkliste for utfylling'!K233<>\"\",1,0)","v":0},0,null,{"$f":"IF($C131=1,'Sjekkliste for utfylling'!A233,\"\")","v":""},{"$f":"IF($C131=1,'Sjekkliste for utfylling'!B233,\"\")","v":""},null,{"$f":"IF(C131=1,'Sjekkliste for utfylling'!L233,\" \")","v":" "}]
[{"$f":"'Sjekkliste for utfylling'!A235","v":131},{"$f":"IF('Sjekkliste for utfylling'!K235<>\"\",1,0)","v":0},0,null,{"$f":"IF($C132=1,'Sjekkliste for utfylling'!A235,\"\")","v":""},{"$f":"IF($C132=1,'Sjekkliste for utfylling'!B235,\"\")","v":""},null,{"$f":"IF(C132=1,'Sjekkliste for utfylling'!L235,\" \")","v":" "}]
[{"$f":"'Sjekkliste for utfylling'!A237","v":132},{"$f":"IF('Sjekkliste for utfylling'!K237<>\"\",1,0)","v":0},0,null,{"$f":"IF($C133=1,'Sjekkliste for utfylling'!A237,\"\")","v":""},{"$f":"IF($C133=1,'Sjekkliste for utfylling'!B237,\"\")","v":""},null,{"$f":"IF(C133=1,'Sjekkliste for utfylling'!L237,\" \")","v":" "}]
[{"$f":"'Sjekkliste for utfylling'!A240","v":133},{"$f":"IF('Sjekkliste for utfylling'!K240<>\"\",1,0)","v":0},0,null,{"$f":"IF($C134=1,'Sjekkliste for utfylling'!A240,\"\")","v":""},{"$f":"IF($C134=1,'Sjekkliste for utfylling'!B240,\"\")","v":""},null,{"$f":"IF(C134=1,'Sjekkliste for utfylling'!L240,\" \")","v":" "}]
[{"$f":"'Sjekkliste for utfylling'!A242","v":134},{"$f":"IF('Sjekkliste for utfylling'!K242<>\"\",1,0)","v":0},0,null,{"$f":"IF($C135=1,'Sjekkliste for utfylling'!A242,\"\")","v":""},{"$f":"IF($C135=1,'Sjekkliste for utfylling'!B242,\"\")","v":""},null,{"$f":"IF(C135=1,'Sjekkliste for utfylling'!L242,\" \")","v":" "}]
[{"$f":"'Sjekkliste for utfylling'!A243","v":135},{"$f":"IF('Sjekkliste for utfylling'!K243<>\"\",1,0)","v":0},0,null,{"$f":"IF($C136=1,'Sjekkliste for utfylling'!A243,\"\")","v":""},{"$f":"IF($C136=1,'Sjekkliste for utfylling'!B243,\"\")","v":""},null,{"$f":"IF(C136=1,'Sjekkliste for utfylling'!L243,\" \")","v":" "}]
[{"$f":"'Sjekkliste for utfylling'!A245","v":136},{"$f":"IF('Sjekkliste for utfylling'!K245<>\"\",1,0)","v":0},0,null,{"$f":"IF($C137=1,'Sjekkliste for utfylling'!A245,\"\")","v":""},{"$f":"IF($C137=1,'Sjekkliste for utfylling'!B245,\"\")","v":""},null,{"$f":"IF(C137=1,'Sjekkliste for utfylling'!L245,\" \")","v":" "}]
[{"$f":"'Sjekkliste for utfylling'!A246","v":137},{"$f":"IF('Sjekkliste for utfylling'!K246<>\"\",1,0)","v":0},0,null,{"$f":"IF($C138=1,'Sjekkliste for utfylling'!A246,\"\")","v":""},{"$f":"IF($C138=1,'Sjekkliste for utfylling'!B246,\"\")","v":""},null,{"$f":"IF(C138=1,'Sjekkliste for utfylling'!L246,\" \")","v":" "}]
[{"$f":"'Sjekkliste for utfylling'!A247","v":138},{"$f":"IF('Sjekkliste for utfylling'!K247<>\"\",1,0)","v":0},0,null,{"$f":"IF($C139=1,'Sjekkliste for utfylling'!A247,\"\")","v":""},{"$f":"IF($C139=1,'Sjekkliste for utfylling'!B247,\"\")","v":""},null,{"$f":"IF(C139=1,'Sjekkliste for utfylling'!L247,\" \")","v":" "}]
[{"$f":"'Sjekkliste for utfylling'!A249","v":139},{"$f":"IF('Sjekkliste for utfylling'!K249<>\"\",1,0)","v":0},0,null,{"$f":"IF($C140=1,'Sjekkliste for utfylling'!A249,\"\")","v":""},{"$f":"IF($C140=1,'Sjekkliste for utfylling'!B249,\"\")","v":""},null,{"$f":"IF(C140=1,'Sjekkliste for utfylling'!L249,\" \")","v":" "}]
[{"$f":"'Sjekkliste for utfylling'!A250","v":140},{"$f":"IF('Sjekkliste for utfylling'!K250<>\"\",1,0)","v":0},0,null,{"$f":"IF($C141=1,'Sjekkliste for utfylling'!A250,\"\")","v":""},{"$f":"IF($C141=1,'Sjekkliste for utfylling'!B250,\"\")","v":""},null,{"$f":"IF(C141=1,'Sjekkliste for utfylling'!L250,\" \")","v":" "}]
[{"$f":"'Sjekkliste for utfylling'!A251","v":141},{"$f":"IF('Sjekkliste for utfylling'!K251<>\"\",1,0)","v":0},0,null,{"$f":"IF($C142=1,'Sjekkliste for utfylling'!A251,\"\")","v":""},{"$f":"IF($C142=1,'Sjekkliste for utfylling'!B251,\"\")","v":""},null,{"$f":"IF(C142=1,'Sjekkliste for utfylling'!L251,\" \")","v":" "}]
[{"$f":"'Sjekkliste for utfylling'!A252","v":142},{"$f":"IF('Sjekkliste for utfylling'!K252<>\"\",1,0)","v":0},0,null,{"$f":"IF($C143=1,'Sjekkliste for utfylling'!A252,\"\")","v":""},{"$f":"IF($C143=1,'Sjekkliste for utfylling'!B252,\"\")","v":""},null,{"$f":"IF(C143=1,'Sjekkliste for utfylling'!L252,\" \")","v":" "}]
[{"$f":"'Sjekkliste for utfylling'!A255","v":143},{"$f":"IF('Sjekkliste for utfylling'!K255<>\"\",1,0)","v":0},0,null,{"$f":"IF($C144=1,'Sjekkliste for utfylling'!A255,\"\")","v":""},{"$f":"IF($C144=1,'Sjekkliste for utfylling'!B255,\"\")","v":""},null,{"$f":"IF(C144=1,'Sjekkliste for utfylling'!L255,\" \")","v":" "}]
[{"$f":"'Sjekkliste for utfylling'!A256","v":144},{"$f":"IF('Sjekkliste for utfylling'!K256<>\"\",1,0)","v":0},0,null,{"$f":"IF($C145=1,'Sjekkliste for utfylling'!A256,\"\")","v":""},{"$f":"IF($C145=1,'Sjekkliste for utfylling'!B256,\"\")","v":""},null,{"$f":"IF(C145=1,'Sjekkliste for utfylling'!L256,\" \")","v":" "}]
[{"$f":"'Sjekkliste for utfylling'!A258","v":145},{"$f":"IF('Sjekkliste for utfylling'!K258<>\"\",1,0)","v":0},0,null,{"$f":"IF($C146=1,'Sjekkliste for utfylling'!A258,\"\")","v":""},{"$f":"IF($C146=1,'Sjekkliste for utfylling'!B258,\"\")","v":""},null,{"$f":"IF(C146=1,'Sjekkliste for utfylling'!L258,\" \")","v":" "}]
[{"$f":"'Sjekkliste for utfylling'!A260","v":146},{"$f":"IF('Sjekkliste for utfylling'!K260<>\"\",1,0)","v":0},0,null,{"$f":"IF($C147=1,'Sjekkliste for utfylling'!A260,\"\")","v":""},{"$f":"IF($C147=1,'Sjekkliste for utfylling'!B260,\"\")","v":""},null,{"$f":"IF(C147=1,'Sjekkliste for utfylling'!L260,\" \")","v":" "}]
[{"$f":"'Sjekkliste for utfylling'!A261","v":147},{"$f":"IF('Sjekkliste for utfylling'!K261<>\"\",1,0)","v":0},0,null,{"$f":"IF($C148=1,'Sjekkliste for utfylling'!A261,\"\")","v":""},{"$f":"IF($C148=1,'Sjekkliste for utfylling'!B261,\"\")","v":""},null,{"$f":"IF(C148=1,'Sjekkliste for utfylling'!L261,\" \")","v":" "}]
[{"$f":"'Sjekkliste for utfylling'!A263","v":148},{"$f":"IF('Sjekkliste for utfylling'!K263<>\"\",1,0)","v":0},0,null,{"$f":"IF($C149=1,'Sjekkliste for utfylling'!A263,\"\")","v":""},{"$f":"IF($C149=1,'Sjekkliste for utfylling'!B263,\"\")","v":""},null,{"$f":"IF(C149=1,'Sjekkliste for utfylling'!L263,\" \")","v":" "}]
[{"$f":"'Sjekkliste for utfylling'!A264","v":149},{"$f":"IF('Sjekkliste for utfylling'!K264<>\"\",1,0)","v":0},0,null,{"$f":"IF($C150=1,'Sjekkliste for utfylling'!A264,\"\")","v":""},{"$f":"IF($C150=1,'Sjekkliste for utfylling'!B264,\"\")","v":""},null,{"$f":"IF(C150=1,'Sjekkliste for utfylling'!L264,\" \")","v":" "}]
[{"$f":"'Sjekkliste for utfylling'!A266","v":150},{"$f":"IF('Sjekkliste for utfylling'!K266<>\"\",1,0)","v":0},0,null,{"$f":"IF($C151=1,'Sjekkliste for utfylling'!A266,\"\")","v":""},{"$f":"IF($C151=1,'Sjekkliste for utfylling'!B266,\"\")","v":""},null,{"$f":"IF(C151=1,'Sjekkliste for utfylling'!L266,\" \")","v":" "}]
[{"$f":"'Sjekkliste for utfylling'!A267","v":151},{"$f":"IF('Sjekkliste for utfylling'!K267<>\"\",1,0)","v":0},0,null,{"$f":"IF($C152=1,'Sjekkliste for utfylling'!A267,\"\")","v":""},{"$f":"IF($C152=1,'Sjekkliste for utfylling'!B267,\"\")","v":""},null,{"$f":"IF(C152=1,'Sjekkliste for utfylling'!L267,\" \")","v":" "}]
[{"$f":"'Sjekkliste for utfylling'!A269","v":152},{"$f":"IF('Sjekkliste for utfylling'!K269<>\"\",1,0)","v":0},0,null,{"$f":"IF($C153=1,'Sjekkliste for utfylling'!A269,\"\")","v":""},{"$f":"IF($C153=1,'Sjekkliste for utfylling'!B269,\"\")","v":""},null,{"$f":"IF(C153=1,'Sjekkliste for utfylling'!L269,\" \")","v":" "}]
[{"$f":"'Sjekkliste for utfylling'!A271","v":153},{"$f":"IF('Sjekkliste for utfylling'!K271<>\"\",1,0)","v":0},0,null,{"$f":"IF($C154=1,'Sjekkliste for utfylling'!A271,\"\")","v":""},{"$f":"IF($C154=1,'Sjekkliste for utfylling'!B271,\"\")","v":""},null,{"$f":"IF(C154=1,'Sjekkliste for utfylling'!L271,\" \")","v":" "}]
[{"$f":"'Sjekkliste for utfylling'!A273","v":154},{"$f":"IF('Sjekkliste for utfylling'!K273<>\"\",1,0)","v":0},0,null,{"$f":"IF($C155=1,'Sjekkliste for utfylling'!A273,\"\")","v":""},{"$f":"IF($C155=1,'Sjekkliste for utfylling'!B273,\"\")","v":""},null,{"$f":"IF(C155=1,'Sjekkliste for utfylling'!L273,\" \")","v":" "}]
[{"$f":"'Sjekkliste for utfylling'!A274","v":155},{"$f":"IF('Sjekkliste for utfylling'!K274<>\"\",1,0)","v":0},0,null,{"$f":"IF($C156=1,'Sjekkliste for utfylling'!A274,\"\")","v":""},{"$f":"IF($C156=1,'Sjekkliste for utfylling'!B274,\"\")","v":""},null,{"$f":"IF(C156=1,'Sjekkliste for utfylling'!L274,\" \")","v":" "}]
[{"$f":"'Sjekkliste for utfylling'!A275","v":156},{"$f":"IF('Sjekkliste for utfylling'!K275<>\"\",1,0)","v":0},0,null,{"$f":"IF($C157=1,'Sjekkliste for utfylling'!A275,\"\")","v":""},{"$f":"IF($C157=1,'Sjekkliste for utfylling'!B275,\"\")","v":""},null,{"$f":"IF(C157=1,'Sjekkliste for utfylling'!L275,\" \")","v":" "}]
[{"$f":"'Sjekkliste for utfylling'!A276","v":157},{"$f":"IF('Sjekkliste for utfylling'!K276<>\"\",1,0)","v":0},0,null,{"$f":"IF($C158=1,'Sjekkliste for utfylling'!A276,\"\")","v":""},{"$f":"IF($C158=1,'Sjekkliste for utfylling'!B276,\"\")","v":""},null,{"$f":"IF(C158=1,'Sjekkliste for utfylling'!L276,\" \")","v":" "}]
[{"$f":"'Sjekkliste for utfylling'!A277","v":158},{"$f":"IF('Sjekkliste for utfylling'!K277<>\"\",1,0)","v":0},0,null,{"$f":"IF($C159=1,'Sjekkliste for utfylling'!A277,\"\")","v":""},{"$f":"IF($C159=1,'Sjekkliste for utfylling'!B277,\"\")","v":""},null,{"$f":"IF(C159=1,'Sjekkliste for utfylling'!L277,\" \")","v":" "}]
[{"$f":"'Sjekkliste for utfylling'!A278","v":159},{"$f":"IF('Sjekkliste for utfylling'!K278<>\"\",1,0)","v":0},0,null,{"$f":"IF($C160=1,'Sjekkliste for utfylling'!A278,\"\")","v":""},{"$f":"IF($C160=1,'Sjekkliste for utfylling'!B278,\"\")","v":""},null,{"$f":"IF(C160=1,'Sjekkliste for utfylling'!L278,\" \")","v":" "}]
[{"$f":"'Sjekkliste for utfylling'!A279","v":160},{"$f":"IF('Sjekkliste for utfylling'!K279<>\"\",1,0)","v":0},0,null,{"$f":"IF($C161=1,'Sjekkliste for utfylling'!A279,\"\")","v":""},{"$f":"IF($C161=1,'Sjekkliste for utfylling'!B279,\"\")","v":""},null,{"$f":"IF(C161=1,'Sjekkliste for utfylling'!L279,\" \")","v":" "}]
[{"$f":"'Sjekkliste for utfylling'!A280","v":161},{"$f":"IF('Sjekkliste for utfylling'!K280<>\"\",1,0)","v":0},0,null,{"$f":"IF($C162=1,'Sjekkliste for utfylling'!A280,\"\")","v":""},{"$f":"IF($C162=1,'Sjekkliste for utfylling'!B280,\"\")","v":""},null,{"$f":"IF(C162=1,'Sjekkliste for utfylling'!L280,\" \")","v":" "}]
[{"$f":"'Sjekkliste for utfylling'!A281","v":162},{"$f":"IF('Sjekkliste for utfylling'!K281<>\"\",1,0)","v":0},0,null,{"$f":"IF($C163=1,'Sjekkliste for utfylling'!A281,\"\")","v":""},{"$f":"IF($C163=1,'Sjekkliste for utfylling'!B281,\"\")","v":""},null,{"$f":"IF(C163=1,'Sjekkliste for utfylling'!L281,\" \")","v":" "}]
[{"$f":"'Sjekkliste for utfylling'!A282","v":163},{"$f":"IF('Sjekkliste for utfylling'!K282<>\"\",1,0)","v":0},0,null,{"$f":"IF($C164=1,'Sjekkliste for utfylling'!A282,\"\")","v":""},{"$f":"IF($C164=1,'Sjekkliste for utfylling'!B282,\"\")","v":""},null,{"$f":"IF(C164=1,'Sjekkliste for utfylling'!L282,\" \")","v":" "}]
[{"$f":"'Sjekkliste for utfylling'!A283","v":164},{"$f":"IF('Sjekkliste for utfylling'!K283<>\"\",1,0)","v":0},0,null,{"$f":"IF($C165=1,'Sjekkliste for utfylling'!A283,\"\")","v":""},{"$f":"IF($C165=1,'Sjekkliste for utfylling'!B283,\"\")","v":""},null,{"$f":"IF(C165=1,'Sjekkliste for utfylling'!L283,\" \")","v":" "}]
[{"$f":"'Sjekkliste for utfylling'!A284","v":165},{"$f":"IF('Sjekkliste for utfylling'!K284<>\"\",1,0)","v":0},0,null,{"$f":"IF($C166=1,'Sjekkliste for utfylling'!A284,\"\")","v":""},{"$f":"IF($C166=1,'Sjekkliste for utfylling'!B284,\"\")","v":""},null,{"$f":"IF(C166=1,'Sjekkliste for utfylling'!L284,\" \")","v":" "}]
[{"$f":"'Sjekkliste for utfylling'!A286","v":166},{"$f":"IF('Sjekkliste for utfylling'!K286<>\"\",1,0)","v":0},0,null,{"$f":"IF($C167=1,'Sjekkliste for utfylling'!A286,\"\")","v":""},{"$f":"IF($C167=1,'Sjekkliste for utfylling'!B286,\"\")","v":""},null,{"$f":"IF(C167=1,'Sjekkliste for utfylling'!L286,\" \")","v":" "}]
[{"$f":"'Sjekkliste for utfylling'!A287","v":167},{"$f":"IF('Sjekkliste for utfylling'!K287<>\"\",1,0)","v":0},0,null,{"$f":"IF($C168=1,'Sjekkliste for utfylling'!A287,\"\")","v":""},{"$f":"IF($C168=1,'Sjekkliste for utfylling'!B287,\"\")","v":""},null,{"$f":"IF(C168=1,'Sjekkliste for utfylling'!L287,\" \")","v":" "}]
[{"$f":"'Sjekkliste for utfylling'!A288","v":168},{"$f":"IF('Sjekkliste for utfylling'!K288<>\"\",1,0)","v":0},0,null,{"$f":"IF($C169=1,'Sjekkliste for utfylling'!A288,\"\")","v":""},{"$f":"IF($C169=1,'Sjekkliste for utfylling'!B288,\"\")","v":""},null,{"$f":"IF(C169=1,'Sjekkliste for utfylling'!L288,\" \")","v":" "}]
[{"$f":"'Sjekkliste for utfylling'!A290","v":169},{"$f":"IF('Sjekkliste for utfylling'!K290<>\"\",1,0)","v":0},0,null,{"$f":"IF($C170=1,'Sjekkliste for utfylling'!A290,\"\")","v":""},{"$f":"IF($C170=1,'Sjekkliste for utfylling'!B290,\"\")","v":""},null,{"$f":"IF(C170=1,'Sjekkliste for utfylling'!L290,\" \")","v":" "}]
[{"$f":"'Sjekkliste for utfylling'!A291","v":170},{"$f":"IF('Sjekkliste for utfylling'!K291<>\"\",1,0)","v":0},0,null,{"$f":"IF($C171=1,'Sjekkliste for utfylling'!A291,\"\")","v":""},{"$f":"IF($C171=1,'Sjekkliste for utfylling'!B291,\"\")","v":""},null,{"$f":"IF(C171=1,'Sjekkliste for utfylling'!L291,\" \")","v":" "}]
[{"$f":"'Sjekkliste for utfylling'!A295","v":171},{"$f":"IF('Sjekkliste for utfylling'!K295<>\"\",1,0)","v":0},0,null,{"$f":"IF($C172=1,'Sjekkliste for utfylling'!A295,\"\")","v":""},{"$f":"IF($C172=1,'Sjekkliste for utfylling'!B295,\"\")","v":""},null,{"$f":"IF(C172=1,'Sjekkliste for utfylling'!L295,\" \")","v":" "}]
[{"$f":"'Sjekkliste for utfylling'!A296","v":172},{"$f":"IF('Sjekkliste for utfylling'!K296<>\"\",1,0)","v":0},0,null,{"$f":"IF($C173=1,'Sjekkliste for utfylling'!A296,\"\")","v":""},{"$f":"IF($C173=1,'Sjekkliste for utfylling'!B296,\"\")","v":""},null,{"$f":"IF(C173=1,'Sjekkliste for utfylling'!L296,\" \")","v":" "}]
[{"$f":"'Sjekkliste for utfylling'!A297","v":173},{"$f":"IF('Sjekkliste for utfylling'!K297<>\"\",1,0)","v":0},0,null,{"$f":"IF($C174=1,'Sjekkliste for utfylling'!A297,\"\")","v":""},{"$f":"IF($C174=1,'Sjekkliste for utfylling'!B297,\"\")","v":""},null,{"$f":"IF(C174=1,'Sjekkliste for utfylling'!L297,\" \")","v":" "}]
[{"$f":"'Sjekkliste for utfylling'!A301","v":174},{"$f":"IF('Sjekkliste for utfylling'!K301<>\"\",1,0)","v":0},0,null,{"$f":"IF($C175=1,'Sjekkliste for utfylling'!A301,\"\")","v":""},{"$f":"IF($C175=1,'Sjekkliste for utfylling'!B301,\"\")","v":""},null,{"$f":"IF(C175=1,'Sjekkliste for utfylling'!L301,\" \")","v":" "}]
[{"$f":"'Sjekkliste for utfylling'!A303","v":175},{"$f":"IF('Sjekkliste for utfylling'!K303<>\"\",1,0)","v":0},0,null,{"$f":"IF($C176=1,'Sjekkliste for utfylling'!A303,\"\")","v":""},{"$f":"IF($C176=1,'Sjekkliste for utfylling'!B303,\"\")","v":""},null,{"$f":"IF(C176=1,'Sjekkliste for utfylling'!L303,\" \")","v":" "}]
[{"$f":"'Sjekkliste for utfylling'!A304","v":176},{"$f":"IF('Sjekkliste for utfylling'!K304<>\"\",1,0)","v":0},0,null,{"$f":"IF($C177=1,'Sjekkliste for utfylling'!A304,\"\")","v":""},{"$f":"IF($C177=1,'Sjekkliste for utfylling'!B304,\"\")","v":""},null,{"$f":"IF(C177=1,'Sjekkliste for utfylling'!L304,\" \")","v":" "}]
[{"$f":"'Sjekkliste for utfylling'!A307","v":177},{"$f":"IF('Sjekkliste for utfylling'!K307<>\"\",1,0)","v":0},0,null,{"$f":"IF($C178=1,'Sjekkliste for utfylling'!A307,\"\")","v":""},{"$f":"IF($C178=1,'Sjekkliste for utfylling'!B307,\"\")","v":""},null,{"$f":"IF(C178=1,'Sjekkliste for utfylling'!L307,\" \")","v":" "}]
[{"$f":"'Sjekkliste for utfylling'!A308","v":178},{"$f":"IF('Sjekkliste for utfylling'!K308<>\"\",1,0)","v":0},0,null,{"$f":"IF($C179=1,'Sjekkliste for utfylling'!A308,\"\")","v":""},{"$f":"IF($C179=1,'Sjekkliste for utfylling'!B308,\"\")","v":""},null,{"$f":"IF(C179=1,'Sjekkliste for utfylling'!L308,\" \")","v":" "}]
[{"$f":"'Sjekkliste for utfylling'!A309","v":179},{"$f":"IF('Sjekkliste for utfylling'!K309<>\"\",1,0)","v":0},0,null,{"$f":"IF($C180=1,'Sjekkliste for utfylling'!A309,\"\")","v":""},{"$f":"IF($C180=1,'Sjekkliste for utfylling'!B309,\"\")","v":""},null,{"$f":"IF(C180=1,'Sjekkliste for utfylling'!L309,\" \")","v":" "}]
[{"$f":"'Sjekkliste for utfylling'!A310","v":180},{"$f":"IF('Sjekkliste for utfylling'!K310<>\"\",1,0)","v":0},0,null,{"$f":"IF($C181=1,'Sjekkliste for utfylling'!A310,\"\")","v":""},{"$f":"IF($C181=1,'Sjekkliste for utfylling'!B310,\"\")","v":""},null,{"$f":"IF(C181=1,'Sjekkliste for utfylling'!L310,\" \")","v":" "}]
[{"$f":"'Sjekkliste for utfylling'!A312","v":181},{"$f":"IF('Sjekkliste for utfylling'!K312<>\"\",1,0)","v":0},0,null,{"$f":"IF($C182=1,'Sjekkliste for utfylling'!A312,\"\")","v":""},{"$f":"IF($C182=1,'Sjekkliste for utfylling'!B312,\"\")","v":""},null,{"$f":"IF(C182=1,'Sjekkliste for utfylling'!L312,\" \")","v":" "}]
[{"$f":"'Sjekkliste for utfylling'!A313","v":182},{"$f":"IF('Sjekkliste for utfylling'!K313<>\"\",1,0)","v":0},0,null,{"$f":"IF($C183=1,'Sjekkliste for utfylling'!A313,\"\")","v":""},{"$f":"IF($C183=1,'Sjekkliste for utfylling'!B313,\"\")","v":""},null,{"$f":"IF(C183=1,'Sjekkliste for utfylling'!L313,\" \")","v":" "}]
[{"$f":"'Sjekkliste for utfylling'!A315","v":183},{"$f":"IF('Sjekkliste for utfylling'!K315<>\"\",1,0)","v":0},0,null,{"$f":"IF($C184=1,'Sjekkliste for utfylling'!A315,\"\")","v":""},{"$f":"IF($C184=1,'Sjekkliste for utfylling'!B315,\"\")","v":""},null,{"$f":"IF(C184=1,'Sjekkliste for utfylling'!L315,\" \")","v":" "}]
[{"$f":"'Sjekkliste for utfylling'!A316","v":184},{"$f":"IF('Sjekkliste for utfylling'!K316<>\"\",1,0)","v":0},0,null,{"$f":"IF($C185=1,'Sjekkliste for utfylling'!A316,\"\")","v":""},{"$f":"IF($C185=1,'Sjekkliste for utfylling'!B316,\"\")","v":""},null,{"$f":"IF(C185=1,'Sjekkliste for utfylling'!L316,\" \")","v":" "}]
[{"$f":"'Sjekkliste for utfylling'!A317","v":185},{"$f":"IF('Sjekkliste for utfylling'!K317<>\"\",1,0)","v":0},0,null,{"$f":"IF($C186=1,'Sjekkliste for utfylling'!A317,\"\")","v":""},{"$f":"IF($C186=1,'Sjekkliste for utfylling'!B317,\"\")","v":""},null,{"$f":"IF(C186=1,'Sjekkliste for utfylling'!L317,\" \")","v":" "}]
[{"$f":"'Sjekkliste for utfylling'!A318","v":186},{"$f":"IF('Sjekkliste for utfylling'!K318<>\"\",1,0)","v":0},0,null,{"$f":"IF($C187=1,'Sjekkliste for utfylling'!A318,\"\")","v":""},{"$f":"IF($C187=1,'Sjekkliste for utfylling'!B318,\"\")","v":""},null,{"$f":"IF(C187=1,'Sjekkliste for utfylling'!L318,\" \")","v":" "}]
[{"$f":"'Sjekkliste for utfylling'!A319","v":187},{"$f":"IF('Sjekkliste for utfylling'!K319<>\"\",1,0)","v":0},0,null,{"$f":"IF($C188=1,'Sjekkliste for utfylling'!A319,\"\")","v":""},{"$f":"IF($C188=1,'Sjekkliste for utfylling'!B319,\"\")","v":""},null,{"$f":"IF(C188=1,'Sjekkliste for utfylling'!L319,\" \")","v":" "}]
[{"$f":"'Sjekkliste for utfylling'!A321","v":188},{"$f":"IF('Sjekkliste for utfylling'!K321<>\"\",1,0)","v":0},0,null,{"$f":"IF($C189=1,'Sjekkliste for utfylling'!A321,\"\")","v":""},{"$f":"IF($C189=1,'Sjekkliste for utfylling'!B321,\"\")","v":""},null,{"$f":"IF(C189=1,'Sjekkliste for utfylling'!L321,\" \")","v":" "}]
[{"$f":"'Sjekkliste for utfylling'!A322","v":189},{"$f":"IF('Sjekkliste for utfylling'!K322<>\"\",1,0)","v":0},0,null,{"$f":"IF($C190=1,'Sjekkliste for utfylling'!A322,\"\")","v":""},{"$f":"IF($C190=1,'Sjekkliste for utfylling'!B322,\"\")","v":""},null,{"$f":"IF(C190=1,'Sjekkliste for utfylling'!L322,\" \")","v":" "}]
[{"$f":"'Sjekkliste for utfylling'!A324","v":190},{"$f":"IF('Sjekkliste for utfylling'!K324<>\"\",1,0)","v":0},0,null,{"$f":"IF($C191=1,'Sjekkliste for utfylling'!A324,\"\")","v":""},{"$f":"IF($C191=1,'Sjekkliste for utfylling'!B324,\"\")","v":""},null,{"$f":"IF(C191=1,'Sjekkliste for utfylling'!L324,\" \")","v":" "}]
[{"$f":"'Sjekkliste for utfylling'!A325","v":191},{"$f":"IF('Sjekkliste for utfylling'!K325<>\"\",1,0)","v":0},0,null,{"$f":"IF($C192=1,'Sjekkliste for utfylling'!A325,\"\")","v":""},{"$f":"IF($C192=1,'Sjekkliste for utfylling'!B325,\"\")","v":""},null,{"$f":"IF(C192=1,'Sjekkliste for utfylling'!L325,\" \")","v":" "}]
[{"$f":"'Sjekkliste for utfylling'!A326","v":192},{"$f":"IF('Sjekkliste for utfylling'!K326<>\"\",1,0)","v":0},0,null,{"$f":"IF($C193=1,'Sjekkliste for utfylling'!A326,\"\")","v":""},{"$f":"IF($C193=1,'Sjekkliste for utfylling'!B326,\"\")","v":""},null,{"$f":"IF(C193=1,'Sjekkliste for utfylling'!L326,\" \")","v":" "}]
[{"$f":"'Sjekkliste for utfylling'!A327","v":193},{"$f":"IF('Sjekkliste for utfylling'!K327<>\"\",1,0)","v":0},{"$f":"SUM(B194:B194)","v":0},null,{"$f":"IF($C194=1,'Sjekkliste for utfylling'!A327,\"\")","v":""},{"$f":"IF($C194=1,'Sjekkliste for utfylling'!B327,\"\")","v":""},null,{"$f":"IF(C194=1,'Sjekkliste for utfylling'!L327,\" \")","v":" "}]
[{"$f":"'Sjekkliste for utfylling'!A328","v":194},{"$f":"IF('Sjekkliste for utfylling'!K328<>\"\",1,0)","v":0},0,null,{"$f":"IF($C195=1,'Sjekkliste for utfylling'!A328,\"\")","v":""},{"$f":"IF($C195=1,'Sjekkliste for utfylling'!B328,\"\")","v":""},null,{"$f":"IF(C195=1,'Sjekkliste for utfylling'!L328,\" \")","v":" "}]
[{"$f":"'Sjekkliste for utfylling'!A329","v":195},{"$f":"IF('Sjekkliste for utfylling'!K329<>\"\",1,0)","v":0},0,null,{"$f":"IF($C196=1,'Sjekkliste for utfylling'!A329,\"\")","v":""},{"$f":"IF($C196=1,'Sjekkliste for utfylling'!B329,\"\")","v":""},null,{"$f":"IF(C196=1,'Sjekkliste for utfylling'!L329,\" \")","v":" "}]
[{"$f":"'Sjekkliste for utfylling'!A330","v":196},{"$f":"IF('Sjekkliste for utfylling'!K330<>\"\",1,0)","v":0},0,null,{"$f":"IF($C197=1,'Sjekkliste for utfylling'!A330,\"\")","v":""},{"$f":"IF($C197=1,'Sjekkliste for utfylling'!B330,\"\")","v":""},null,{"$f":"IF(C197=1,'Sjekkliste for utfylling'!L330,\" \")","v":" "}]
[{"$f":"'Sjekkliste for utfylling'!A331","v":197},{"$f":"IF('Sjekkliste for utfylling'!K331<>\"\",1,0)","v":0},0,null,{"$f":"IF($C198=1,'Sjekkliste for utfylling'!A331,\"\")","v":""},{"$f":"IF($C198=1,'Sjekkliste for utfylling'!B331,\"\")","v":""},null,{"$f":"IF(C198=1,'Sjekkliste for utfylling'!L331,\" \")","v":" "}]
[{"$f":"'Sjekkliste for utfylling'!A332","v":198},{"$f":"IF('Sjekkliste for utfylling'!K332<>\"\",1,0)","v":0},0,null,{"$f":"IF($C199=1,'Sjekkliste for utfylling'!A332,\"\")","v":""},{"$f":"IF($C199=1,'Sjekkliste for utfylling'!B332,\"\")","v":""},null,{"$f":"IF(C199=1,'Sjekkliste for utfylling'!L332,\" \")","v":" "}]
[{"$f":"'Sjekkliste for utfylling'!A333","v":199},{"$f":"IF('Sjekkliste for utfylling'!K333<>\"\",1,0)","v":0},0,null,{"$f":"IF($C200=1,'Sjekkliste for utfylling'!A333,\"\")","v":""},{"$f":"IF($C200=1,'Sjekkliste for utfylling'!B333,\"\")","v":""},null,{"$f":"IF(C200=1,'Sjekkliste for utfylling'!L333,\" \")","v":" "}]
[{"$f":"'Sjekkliste for utfylling'!A334","v":200},{"$f":"IF('Sjekkliste for utfylling'!K334<>\"\",1,0)","v":0},0,null,{"$f":"IF($C201=1,'Sjekkliste for utfylling'!A334,\"\")","v":""},{"$f":"IF($C201=1,'Sjekkliste for utfylling'!B334,\"\")","v":""},null,{"$f":"IF(C201=1,'Sjekkliste for utfylling'!L334,\" \")","v":" "}]
[{"$f":"'Sjekkliste for utfylling'!A335","v":201},{"$f":"IF('Sjekkliste for utfylling'!K335<>\"\",1,0)","v":0},0,null,{"$f":"IF($C202=1,'Sjekkliste for utfylling'!A335,\"\")","v":""},{"$f":"IF($C202=1,'Sjekkliste for utfylling'!B335,\"\")","v":""},null,{"$f":"IF(C202=1,'Sjekkliste for utfylling'!L335,\" \")","v":" "}]
[{"$f":"'Sjekkliste for utfylling'!A336","v":202},{"$f":"IF('Sjekkliste for utfylling'!K336<>\"\",1,0)","v":0},0,null,{"$f":"IF($C203=1,'Sjekkliste for utfylling'!A336,\"\")","v":""},{"$f":"IF($C203=1,'Sjekkliste for utfylling'!B336,\"\")","v":""},null,{"$f":"IF(C203=1,'Sjekkliste for utfylling'!L336,\" \")","v":" "}]
[{"$f":"'Sjekkliste for utfylling'!A337","v":203},{"$f":"IF('Sjekkliste for utfylling'!K337<>\"\",1,0)","v":0},0,null,{"$f":"IF($C204=1,'Sjekkliste for utfylling'!A337,\"\")","v":""},{"$f":"IF($C204=1,'Sjekkliste for utfylling'!B337,\"\")","v":""},null,{"$f":"IF(C204=1,'Sjekkliste for utfylling'!L337,\" \")","v":" "}]
[{"$f":"'Sjekkliste for utfylling'!A338","v":204},{"$f":"IF('Sjekkliste for utfylling'!K338<>\"\",1,0)","v":0},0,null,{"$f":"IF($C205=1,'Sjekkliste for utfylling'!A338,\"\")","v":""},{"$f":"IF($C205=1,'Sjekkliste for utfylling'!B338,\"\")","v":""},null,{"$f":"IF(C205=1,'Sjekkliste for utfylling'!L338,\" \")","v":" "}]
[{"$f":"'Sjekkliste for utfylling'!A339","v":205},{"$f":"IF('Sjekkliste for utfylling'!K339<>\"\",1,0)","v":0},0,null,{"$f":"IF($C206=1,'Sjekkliste for utfylling'!A339,\"\")","v":""},{"$f":"IF($C206=1,'Sjekkliste for utfylling'!B339,\"\")","v":""},null,{"$f":"IF(C206=1,'Sjekkliste for utfylling'!L339,\" \")","v":" "}]
[{"$f":"'Sjekkliste for utfylling'!A340","v":206},{"$f":"IF('Sjekkliste for utfylling'!K340<>\"\",1,0)","v":0},0,null,{"$f":"IF($C207=1,'Sjekkliste for utfylling'!A340,\"\")","v":""},{"$f":"IF($C207=1,'Sjekkliste for utfylling'!B340,\"\")","v":""},null,{"$f":"IF(C207=1,'Sjekkliste for utfylling'!L340,\" \")","v":" "}]
[{"$f":"'Sjekkliste for utfylling'!A341","v":207},{"$f":"IF('Sjekkliste for utfylling'!K341<>\"\",1,0)","v":0},0,null,{"$f":"IF($C208=1,'Sjekkliste for utfylling'!A341,\"\")","v":""},{"$f":"IF($C208=1,'Sjekkliste for utfylling'!B341,\"\")","v":""},null,{"$f":"IF(C208=1,'Sjekkliste for utfylling'!L341,\" \")","v":" "}]
[{"$f":"'Sjekkliste for utfylling'!A342","v":208},{"$f":"IF('Sjekkliste for utfylling'!K342<>\"\",1,0)","v":0},0,null,{"$f":"IF($C209=1,'Sjekkliste for utfylling'!A342,\"\")","v":""},{"$f":"IF($C209=1,'Sjekkliste for utfylling'!B342,\"\")","v":""},null,{"$f":"IF(C209=1,'Sjekkliste for utfylling'!L342,\" \")","v":" "}]
[{"$f":"'Sjekkliste for utfylling'!A343","v":209},{"$f":"IF('Sjekkliste for utfylling'!K343<>\"\",1,0)","v":0},0,null,{"$f":"IF($C210=1,'Sjekkliste for utfylling'!A343,\"\")","v":""},{"$f":"IF($C210=1,'Sjekkliste for utfylling'!B343,\"\")","v":""},null,{"$f":"IF(C210=1,'Sjekkliste for utfylling'!L343,\" \")","v":" "}]
[{"$f":"'Sjekkliste for utfylling'!A344","v":210},{"$f":"IF('Sjekkliste for utfylling'!K344<>\"\",1,0)","v":0},0,null,{"$f":"IF($C211=1,'Sjekkliste for utfylling'!A344,\"\")","v":""},{"$f":"IF($C211=1,'Sjekkliste for utfylling'!B344,\"\")","v":""},null,{"$f":"IF(C211=1,'Sjekkliste for utfylling'!L344,\" \")","v":" "}]
[{"$f":"'Sjekkliste for utfylling'!A345","v":211},{"$f":"IF('Sjekkliste for utfylling'!K345<>\"\",1,0)","v":0},0,null,{"$f":"IF($C212=1,'Sjekkliste for utfylling'!A345,\"\")","v":""},{"$f":"IF($C212=1,'Sjekkliste for utfylling'!B345,\"\")","v":""},null,{"$f":"IF(C212=1,'Sjekkliste for utfylling'!L345,\" \")","v":" "}]
[{"$f":"'Sjekkliste for utfylling'!A347","v":212},{"$f":"IF('Sjekkliste for utfylling'!K347<>\"\",1,0)","v":0},0,null,{"$f":"IF($C213=1,'Sjekkliste for utfylling'!A347,\"\")","v":""},{"$f":"IF($C213=1,'Sjekkliste for utfylling'!B347,\"\")","v":""},null,{"$f":"IF(C213=1,'Sjekkliste for utfylling'!L347,\" \")","v":" "}]
[{"$f":"'Sjekkliste for utfylling'!A348","v":213},{"$f":"IF('Sjekkliste for utfylling'!K348<>\"\",1,0)","v":0},0,null,{"$f":"IF($C214=1,'Sjekkliste for utfylling'!A348,\"\")","v":""},{"$f":"IF($C214=1,'Sjekkliste for utfylling'!B348,\"\")","v":""},null,{"$f":"IF(C214=1,'Sjekkliste for utfylling'!L348,\" \")","v":" "}]
[{"$f":"'Sjekkliste for utfylling'!A349","v":214},{"$f":"IF('Sjekkliste for utfylling'!K349<>\"\",1,0)","v":0},0,null,{"$f":"IF($C215=1,'Sjekkliste for utfylling'!A349,\"\")","v":""},{"$f":"IF($C215=1,'Sjekkliste for utfylling'!B349,\"\")","v":""},null,{"$f":"IF(C215=1,'Sjekkliste for utfylling'!L349,\" \")","v":" "}]
[{"$f":"'Sjekkliste for utfylling'!A351","v":215},{"$f":"IF('Sjekkliste for utfylling'!K351<>\"\",1,0)","v":0},0,null,{"$f":"IF($C216=1,'Sjekkliste for utfylling'!A351,\"\")","v":""},{"$f":"IF($C216=1,'Sjekkliste for utfylling'!B351,\"\")","v":""},null,{"$f":"IF(C216=1,'Sjekkliste for utfylling'!L351,\" \")","v":" "}]
[{"$f":"'Sjekkliste for utfylling'!A353","v":216},{"$f":"IF('Sjekkliste for utfylling'!K353<>\"\",1,0)","v":0},0,null,{"$f":"IF($C217=1,'Sjekkliste for utfylling'!A353,\"\")","v":""},{"$f":"IF($C217=1,'Sjekkliste for utfylling'!B353,\"\")","v":""},null,{"$f":"IF(C217=1,'Sjekkliste for utfylling'!L353,\" \")","v":" "}]
[{"$f":"'Sjekkliste for utfylling'!A354","v":217},{"$f":"IF('Sjekkliste for utfylling'!K354<>\"\",1,0)","v":0},0,null,{"$f":"IF($C218=1,'Sjekkliste for utfylling'!A354,\"\")","v":""},{"$f":"IF($C218=1,'Sjekkliste for utfylling'!B354,\"\")","v":""},null,{"$f":"IF(C218=1,'Sjekkliste for utfylling'!L354,\" \")","v":" "}]
[{"$f":"'Sjekkliste for utfylling'!A355","v":218},{"$f":"IF('Sjekkliste for utfylling'!K355<>\"\",1,0)","v":0},0,null,{"$f":"IF($C219=1,'Sjekkliste for utfylling'!A355,\"\")","v":""},{"$f":"IF($C219=1,'Sjekkliste for utfylling'!B355,\"\")","v":""},null,{"$f":"IF(C219=1,'Sjekkliste for utfylling'!L355,\" \")","v":" "}]
[{"$f":"'Sjekkliste for utfylling'!A357","v":219},{"$f":"IF('Sjekkliste for utfylling'!K357<>\"\",1,0)","v":0},0,null,{"$f":"IF($C220=1,'Sjekkliste for utfylling'!A357,\"\")","v":""},{"$f":"IF($C220=1,'Sjekkliste for utfylling'!B357,\"\")","v":""},null,{"$f":"IF(C220=1,'Sjekkliste for utfylling'!L357,\" \")","v":" "}]
[{"$f":"'Sjekkliste for utfylling'!A359","v":220},{"$f":"IF('Sjekkliste for utfylling'!K359<>\"\",1,0)","v":0},0,null,{"$f":"IF($C221=1,'Sjekkliste for utfylling'!A359,\"\")","v":""},{"$f":"IF($C221=1,'Sjekkliste for utfylling'!B359,\"\")","v":""},null,{"$f":"IF(C221=1,'Sjekkliste for utfylling'!L359,\" \")","v":" "}]
[{"$f":"'Sjekkliste for utfylling'!A360","v":221},{"$f":"IF('Sjekkliste for utfylling'!K360<>\"\",1,0)","v":0},0,null,{"$f":"IF($C222=1,'Sjekkliste for utfylling'!A360,\"\")","v":""},{"$f":"IF($C222=1,'Sjekkliste for utfylling'!B360,\"\")","v":""},null,{"$f":"IF(C222=1,'Sjekkliste for utfylling'!L360,\" \")","v":" "}]
[{"$f":"'Sjekkliste for utfylling'!A361","v":222},{"$f":"IF('Sjekkliste for utfylling'!K361<>\"\",1,0)","v":0},0,null,{"$f":"IF($C223=1,'Sjekkliste for utfylling'!A361,\"\")","v":""},{"$f":"IF($C223=1,'Sjekkliste for utfylling'!B361,\"\")","v":""},null,{"$f":"IF(C223=1,'Sjekkliste for utfylling'!L361,\" \")","v":" "}]
[{"$f":"'Sjekkliste for utfylling'!A364","v":223},{"$f":"IF('Sjekkliste for utfylling'!K364<>\"\",1,0)","v":0},0,null,{"$f":"IF($C224=1,'Sjekkliste for utfylling'!A364,\"\")","v":""},{"$f":"IF($C224=1,'Sjekkliste for utfylling'!B364,\"\")","v":""},null,{"$f":"IF(C224=1,'Sjekkliste for utfylling'!L364,\" \")","v":" "}]
[{"$f":"'Sjekkliste for utfylling'!A365","v":224},{"$f":"IF('Sjekkliste for utfylling'!K365<>\"\",1,0)","v":0},0,null,{"$f":"IF($C225=1,'Sjekkliste for utfylling'!A365,\"\")","v":""},{"$f":"IF($C225=1,'Sjekkliste for utfylling'!B365,\"\")","v":""},null,{"$f":"IF(C225=1,'Sjekkliste for utfylling'!L365,\" \")","v":" "}]
[{"$f":"'Sjekkliste for utfylling'!A366","v":225},{"$f":"IF('Sjekkliste for utfylling'!K366<>\"\",1,0)","v":0},0,null,{"$f":"IF($C226=1,'Sjekkliste for utfylling'!A366,\"\")","v":""},{"$f":"IF($C226=1,'Sjekkliste for utfylling'!B366,\"\")","v":""},null,{"$f":"IF(C226=1,'Sjekkliste for utfylling'!L366,\" \")","v":" "}]
[{"$f":"'Sjekkliste for utfylling'!A367","v":226},{"$f":"IF('Sjekkliste for utfylling'!K367<>\"\",1,0)","v":0},0,null,{"$f":"IF($C227=1,'Sjekkliste for utfylling'!A367,\"\")","v":""},{"$f":"IF($C227=1,'Sjekkliste for utfylling'!B367,\"\")","v":""},null,{"$f":"IF(C227=1,'Sjekkliste for utfylling'!L367,\" \")","v":" "}]
[{"$f":"'Sjekkliste for utfylling'!A370","v":227},{"$f":"IF('Sjekkliste for utfylling'!K370<>\"\",1,0)","v":0},0,null,{"$f":"IF($C228=1,'Sjekkliste for utfylling'!A370,\"\")","v":""},{"$f":"IF($C228=1,'Sjekkliste for utfylling'!B370,\"\")","v":""},null,{"$f":"IF(C228=1,'Sjekkliste for utfylling'!L370,\" \")","v":" "}]
[{"$f":"'Sjekkliste for utfylling'!A371","v":228},{"$f":"IF('Sjekkliste for utfylling'!K371<>\"\",1,0)","v":0},0,null,{"$f":"IF($C229=1,'Sjekkliste for utfylling'!A371,\"\")","v":""},{"$f":"IF($C229=1,'Sjekkliste for utfylling'!B371,\"\")","v":""},null,{"$f":"IF(C229=1,'Sjekkliste for utfylling'!L371,\" \")","v":" "}]
[{"$f":"'Sjekkliste for utfylling'!A372","v":229},{"$f":"IF('Sjekkliste for utfylling'!K372<>\"\",1,0)","v":0},0,null,{"$f":"IF($C230=1,'Sjekkliste for utfylling'!A372,\"\")","v":""},{"$f":"IF($C230=1,'Sjekkliste for utfylling'!B372,\"\")","v":""},null,{"$f":"IF(C230=1,'Sjekkliste for utfylling'!L372,\" \")","v":" "}]
[{"$f":"'Sjekkliste for utfylling'!A373","v":230},{"$f":"IF('Sjekkliste for utfylling'!K373<>\"\",1,0)","v":0},0,null,{"$f":"IF($C231=1,'Sjekkliste for utfylling'!A373,\"\")","v":""},{"$f":"IF($C231=1,'Sjekkliste for utfylling'!B373,\"\")","v":""},null,{"$f":"IF(C231=1,'Sjekkliste for utfylling'!L373,\" \")","v":" "}]
[{"$f":"'Sjekkliste for utfylling'!A374","v":231},{"$f":"IF('Sjekkliste for utfylling'!K374<>\"\",1,0)","v":0},0,null,{"$f":"IF($C232=1,'Sjekkliste for utfylling'!A374,\"\")","v":""},{"$f":"IF($C232=1,'Sjekkliste for utfylling'!B374,\"\")","v":""},null,{"$f":"IF(C232=1,'Sjekkliste for utfylling'!L374,\" \")","v":" "}]
[{"$f":"'Sjekkliste for utfylling'!A376","v":232},{"$f":"IF('Sjekkliste for utfylling'!K376<>\"\",1,0)","v":0},0,null,{"$f":"IF($C233=1,'Sjekkliste for utfylling'!A376,\"\")","v":""},{"$f":"IF($C233=1,'Sjekkliste for utfylling'!B376,\"\")","v":""},null,{"$f":"IF(C233=1,'Sjekkliste for utfylling'!L376,\" \")","v":" "}]
[{"$f":"'Sjekkliste for utfylling'!A378","v":233},{"$f":"IF('Sjekkliste for utfylling'!K378<>\"\",1,0)","v":0},0,null,{"$f":"IF($C234=1,'Sjekkliste for utfylling'!A378,\"\")","v":""},{"$f":"IF($C234=1,'Sjekkliste for utfylling'!B378,\"\")","v":""},null,{"$f":"IF(C234=1,'Sjekkliste for utfylling'!L378,\" \")","v":" "}]
[{"$f":"'Sjekkliste for utfylling'!A380","v":234},{"$f":"IF('Sjekkliste for utfylling'!K380<>\"\",1,0)","v":0},0,null,{"$f":"IF($C235=1,'Sjekkliste for utfylling'!A380,\"\")","v":""},{"$f":"IF($C235=1,'Sjekkliste for utfylling'!B380,\"\")","v":""},null,{"$f":"IF(C235=1,'Sjekkliste for utfylling'!L380,\" \")","v":" "}]
[{"$f":"'Sjekkliste for utfylling'!A382","v":235},{"$f":"IF('Sjekkliste for utfylling'!K382<>\"\",1,0)","v":0},0,null,{"$f":"IF($C236=1,'Sjekkliste for utfylling'!A382,\"\")","v":""},{"$f":"IF($C236=1,'Sjekkliste for utfylling'!B382,\"\")","v":""},null,{"$f":"IF(C236=1,'Sjekkliste for utfylling'!L382,\" \")","v":" "}]
[{"$f":"'Sjekkliste for utfylling'!A384","v":236},{"$f":"IF('Sjekkliste for utfylling'!K384<>\"\",1,0)","v":0},0,null,{"$f":"IF($C237=1,'Sjekkliste for utfylling'!A384,\"\")","v":""},{"$f":"IF($C237=1,'Sjekkliste for utfylling'!B384,\"\")","v":""},null,{"$f":"IF(C237=1,'Sjekkliste for utfylling'!L384,\" \")","v":" "}]
[{"$f":"'Sjekkliste for utfylling'!A385","v":237},{"$f":"IF('Sjekkliste for utfylling'!K385<>\"\",1,0)","v":0},0,null,{"$f":"IF($C238=1,'Sjekkliste for utfylling'!A385,\"\")","v":""},{"$f":"IF($C238=1,'Sjekkliste for utfylling'!B385,\"\")","v":""},null,{"$f":"IF(C238=1,'Sjekkliste for utfylling'!L385,\" \")","v":" "}]
[{"$f":"'Sjekkliste for utfylling'!A387","v":238},{"$f":"IF('Sjekkliste for utfylling'!K387<>\"\",1,0)","v":0},0,null,{"$f":"IF($C239=1,'Sjekkliste for utfylling'!A387,\"\")","v":""},{"$f":"IF($C239=1,'Sjekkliste for utfylling'!B387,\"\")","v":""},null,{"$f":"IF(C239=1,'Sjekkliste for utfylling'!L387,\" \")","v":" "}]
[{"$f":"'Sjekkliste for utfylling'!A388","v":239},{"$f":"IF('Sjekkliste for utfylling'!K388<>\"\",1,0)","v":0},0,null,{"$f":"IF($C240=1,'Sjekkliste for utfylling'!A388,\"\")","v":""},{"$f":"IF($C240=1,'Sjekkliste for utfylling'!B388,\"\")","v":""},null,{"$f":"IF(C240=1,'Sjekkliste for utfylling'!L388,\" \")","v":" "}]
[{"$f":"'Sjekkliste for utfylling'!A389","v":240},{"$f":"IF('Sjekkliste for utfylling'!K389<>\"\",1,0)","v":0},0,null,{"$f":"IF($C241=1,'Sjekkliste for utfylling'!A389,\"\")","v":""},{"$f":"IF($C241=1,'Sjekkliste for utfylling'!B389,\"\")","v":""},null,{"$f":"IF(C241=1,'Sjekkliste for utfylling'!L389,\" \")","v":" "}]
[{"$f":"'Sjekkliste for utfylling'!A390","v":241},{"$f":"IF('Sjekkliste for utfylling'!K390<>\"\",1,0)","v":0},0,null,{"$f":"IF($C242=1,'Sjekkliste for utfylling'!A390,\"\")","v":""},{"$f":"IF($C242=1,'Sjekkliste for utfylling'!B390,\"\")","v":""},null,{"$f":"IF(C242=1,'Sjekkliste for utfylling'!L390,\" \")","v":" "}]
[{"$f":"'Sjekkliste for utfylling'!A391","v":242},{"$f":"IF('Sjekkliste for utfylling'!K391<>\"\",1,0)","v":0},0,null,{"$f":"IF($C243=1,'Sjekkliste for utfylling'!A391,\"\")","v":""},{"$f":"IF($C243=1,'Sjekkliste for utfylling'!B391,\"\")","v":""},null,{"$f":"IF(C243=1,'Sjekkliste for utfylling'!L391,\" \")","v":" "}]
[{"$f":"'Sjekkliste for utfylling'!A392","v":243},{"$f":"IF('Sjekkliste for utfylling'!K392<>\"\",1,0)","v":0},0,null,{"$f":"IF($C244=1,'Sjekkliste for utfylling'!A392,\"\")","v":""},{"$f":"IF($C244=1,'Sjekkliste for utfylling'!B392,\"\")","v":""},null,{"$f":"IF(C244=1,'Sjekkliste for utfylling'!L392,\" \")","v":" "}]
[{"$f":"'Sjekkliste for utfylling'!A393","v":244},{"$f":"IF('Sjekkliste for utfylling'!K393<>\"\",1,0)","v":0},0,null,{"$f":"IF($C245=1,'Sjekkliste for utfylling'!A393,\"\")","v":""},{"$f":"IF($C245=1,'Sjekkliste for utfylling'!B393,\"\")","v":""},null,{"$f":"IF(C245=1,'Sjekkliste for utfylling'!L393,\" \")","v":" "}]
[{"$f":"'Sjekkliste for utfylling'!A394","v":245},{"$f":"IF('Sjekkliste for utfylling'!K394<>\"\",1,0)","v":0},0,null,{"$f":"IF($C246=1,'Sjekkliste for utfylling'!A394,\"\")","v":""},{"$f":"IF($C246=1,'Sjekkliste for utfylling'!B394,\"\")","v":""},null,{"$f":"IF(C246=1,'Sjekkliste for utfylling'!L394,\" \")","v":" "}]
[{"$f":"'Sjekkliste for utfylling'!A395","v":246},{"$f":"IF('Sjekkliste for utfylling'!K395<>\"\",1,0)","v":0},0,null,{"$f":"IF($C247=1,'Sjekkliste for utfylling'!A395,\"\")","v":""},{"$f":"IF($C247=1,'Sjekkliste for utfylling'!B395,\"\")","v":""},null,{"$f":"IF(C247=1,'Sjekkliste for utfylling'!L395,\" \")","v":" "}]
[{"$f":"'Sjekkliste for utfylling'!A396","v":247},{"$f":"IF('Sjekkliste for utfylling'!K396<>\"\",1,0)","v":0},0,null,{"$f":"IF($C248=1,'Sjekkliste for utfylling'!A396,\"\")","v":""},{"$f":"IF($C248=1,'Sjekkliste for utfylling'!B396,\"\")","v":""},null,{"$f":"IF(C248=1,'Sjekkliste for utfylling'!L396,\" \")","v":" "}]
[{"$f":"'Sjekkliste for utfylling'!A397","v":248},{"$f":"IF('Sjekkliste for utfylling'!K397<>\"\",1,0)","v":0},0,null,{"$f":"IF($C249=1,'Sjekkliste for utfylling'!A397,\"\")","v":""},{"$f":"IF($C249=1,'Sjekkliste for utfylling'!B397,\"\")","v":""},null,{"$f":"IF(C249=1,'Sjekkliste for utfylling'!L397,\" \")","v":" "}]
[{"$f":"'Sjekkliste for utfylling'!A398","v":249},{"$f":"IF('Sjekkliste for utfylling'!K398<>\"\",1,0)","v":0},0,null,{"$f":"IF($C250=1,'Sjekkliste for utfylling'!A398,\"\")","v":""},{"$f":"IF($C250=1,'Sjekkliste for utfylling'!B398,\"\")","v":""},null,{"$f":"IF(C250=1,'Sjekkliste for utfylling'!L398,\" \")","v":" "}]
[{"$f":"'Sjekkliste for utfylling'!A399","v":250},{"$f":"IF('Sjekkliste for utfylling'!K399<>\"\",1,0)","v":0},0,null,{"$f":"IF($C251=1,'Sjekkliste for utfylling'!A399,\"\")","v":""},{"$f":"IF($C251=1,'Sjekkliste for utfylling'!B399,\"\")","v":""},null,{"$f":"IF(C251=1,'Sjekkliste for utfylling'!L399,\" \")","v":" "}]
[{"$f":"'Sjekkliste for utfylling'!A400","v":251},{"$f":"IF('Sjekkliste for utfylling'!K400<>\"\",1,0)","v":0},0,null,{"$f":"IF($C252=1,'Sjekkliste for utfylling'!A400,\"\")","v":""},{"$f":"IF($C252=1,'Sjekkliste for utfylling'!B400,\"\")","v":""},null,{"$f":"IF(C252=1,'Sjekkliste for utfylling'!L400,\" \")","v":" "}]
[{"$f":"'Sjekkliste for utfylling'!A401","v":252},{"$f":"IF('Sjekkliste for utfylling'!K401<>\"\",1,0)","v":0},0,null,{"$f":"IF($C253=1,'Sjekkliste for utfylling'!A401,\"\")","v":""},{"$f":"IF($C253=1,'Sjekkliste for utfylling'!B401,\"\")","v":""},null,{"$f":"IF(C253=1,'Sjekkliste for utfylling'!L401,\" \")","v":" "}]
[{"$f":"'Sjekkliste for utfylling'!A402","v":253},{"$f":"IF('Sjekkliste for utfylling'!K402<>\"\",1,0)","v":0},0,null,{"$f":"IF($C254=1,'Sjekkliste for utfylling'!A402,\"\")","v":""},{"$f":"IF($C254=1,'Sjekkliste for utfylling'!B402,\"\")","v":""},null,{"$f":"IF(C254=1,'Sjekkliste for utfylling'!L402,\" \")","v":" "}]
[{"$f":"'Sjekkliste for utfylling'!A403","v":254},{"$f":"IF('Sjekkliste for utfylling'!K403<>\"\",1,0)","v":0},0,null,{"$f":"IF($C255=1,'Sjekkliste for utfylling'!A403,\"\")","v":""},{"$f":"IF($C255=1,'Sjekkliste for utfylling'!B403,\"\")","v":""},null,{"$f":"IF(C255=1,'Sjekkliste for utfylling'!L403,\" \")","v":" "}]
[{"$f":"'Sjekkliste for utfylling'!A405","v":255},{"$f":"IF('Sjekkliste for utfylling'!K405<>\"\",1,0)","v":0},0,null,{"$f":"IF($C256=1,'Sjekkliste for utfylling'!A405,\"\")","v":""},{"$f":"IF($C256=1,'Sjekkliste for utfylling'!B405,\"\")","v":""},null,{"$f":"IF(C256=1,'Sjekkliste for utfylling'!L405,\" \")","v":" "}]
[{"$f":"'Sjekkliste for utfylling'!A406","v":256},{"$f":"IF('Sjekkliste for utfylling'!K406<>\"\",1,0)","v":0},0,null,{"$f":"IF($C257=1,'Sjekkliste for utfylling'!A406,\"\")","v":""},{"$f":"IF($C257=1,'Sjekkliste for utfylling'!B406,\"\")","v":""},null,{"$f":"IF(C257=1,'Sjekkliste for utfylling'!L406,\" \")","v":" "}]
[{"$f":"'Sjekkliste for utfylling'!A407","v":257},{"$f":"IF('Sjekkliste for utfylling'!K407<>\"\",1,0)","v":0},{"$f":"SUM(B258:B258)","v":0},null,{"$f":"IF($C258=1,'Sjekkliste for utfylling'!A407,\"\")","v":""},{"$f":"IF($C258=1,'Sjekkliste for utfylling'!B407,\"\")","v":""},null,{"$f":"IF(C258=1,'Sjekkliste for utfylling'!L407,\" \")","v":" "}]
[{"$f":"'Sjekkliste for utfylling'!A408","v":258},{"$f":"IF('Sjekkliste for utfylling'!K408<>\"\",1,0)","v":0},0,null,{"$f":"IF($C259=1,'Sjekkliste for utfylling'!A408,\"\")","v":""},{"$f":"IF($C259=1,'Sjekkliste for utfylling'!B408,\"\")","v":""},null,{"$f":"IF(C259=1,'Sjekkliste for utfylling'!L408,\" \")","v":" "}]
[{"$f":"'Sjekkliste for utfylling'!A410","v":259},{"$f":"IF('Sjekkliste for utfylling'!K410<>\"\",1,0)","v":0},0,null,{"$f":"IF($C260=1,'Sjekkliste for utfylling'!A410,\"\")","v":""},{"$f":"IF($C260=1,'Sjekkliste for utfylling'!B410,\"\")","v":""},null,{"$f":"IF(C260=1,'Sjekkliste for utfylling'!L410,\" \")","v":" "}]
[{"$f":"'Sjekkliste for utfylling'!A412","v":260},{"$f":"IF('Sjekkliste for utfylling'!K412<>\"\",1,0)","v":0},0,null,{"$f":"IF($C261=1,'Sjekkliste for utfylling'!A412,\"\")","v":""},{"$f":"IF($C261=1,'Sjekkliste for utfylling'!B412,\"\")","v":""},null,{"$f":"IF(C261=1,'Sjekkliste for utfylling'!L412,\" \")","v":" "}]
[{"$f":"'Sjekkliste for utfylling'!A414","v":261},{"$f":"IF('Sjekkliste for utfylling'!K414<>\"\",1,0)","v":0},0,null,{"$f":"IF($C262=1,'Sjekkliste for utfylling'!A414,\"\")","v":""},{"$f":"IF($C262=1,'Sjekkliste for utfylling'!B414,\"\")","v":""},null,{"$f":"IF(C262=1,'Sjekkliste for utfylling'!L414,\" \")","v":" "}]
[{"$f":"'Sjekkliste for utfylling'!A434","v":262},{"$f":"IF('Sjekkliste for utfylling'!K434<>\"\",1,0)","v":0},0,null,{"$f":"IF($C263=1,'Sjekkliste for utfylling'!A434,\"\")","v":""},{"$f":"IF($C263=1,'Sjekkliste for utfylling'!B434,\"\")","v":""},null,{"$f":"IF(C263=1,'Sjekkliste for utfylling'!L434,\" \")","v":" "}]
[{"$f":"'Sjekkliste for utfylling'!A436","v":263},{"$f":"IF('Sjekkliste for utfylling'!K436<>\"\",1,0)","v":0},0,null,{"$f":"IF($C264=1,'Sjekkliste for utfylling'!A436,\"\")","v":""},{"$f":"IF($C264=1,'Sjekkliste for utfylling'!B436,\"\")","v":""},null,{"$f":"IF(C264=1,'Sjekkliste for utfylling'!L436,\" \")","v":" "}]
[{"$f":"'Sjekkliste for utfylling'!A437","v":264},{"$f":"IF('Sjekkliste for utfylling'!K437<>\"\",1,0)","v":0},0,null,{"$f":"IF($C265=1,'Sjekkliste for utfylling'!A437,\"\")","v":""},{"$f":"IF($C265=1,'Sjekkliste for utfylling'!B437,\"\")","v":""},null,{"$f":"IF(C265=1,'Sjekkliste for utfylling'!L437,\" \")","v":" "}]
[{"$f":"'Sjekkliste for utfylling'!A438","v":265},{"$f":"IF('Sjekkliste for utfylling'!K438<>\"\",1,0)","v":0},0,null,{"$f":"IF($C266=1,'Sjekkliste for utfylling'!A438,\"\")","v":""},{"$f":"IF($C266=1,'Sjekkliste for utfylling'!B438,\"\")","v":""},null,{"$f":"IF(C266=1,'Sjekkliste for utfylling'!L438,\" \")","v":" "}]
[{"$f":"'Sjekkliste for utfylling'!A439","v":266},{"$f":"IF('Sjekkliste for utfylling'!K439<>\"\",1,0)","v":0},0,null,{"$f":"IF($C267=1,'Sjekkliste for utfylling'!A439,\"\")","v":""},{"$f":"IF($C267=1,'Sjekkliste for utfylling'!B439,\"\")","v":""},null,{"$f":"IF(C267=1,'Sjekkliste for utfylling'!L439,\" \")","v":" "}]
[{"$f":"'Sjekkliste for utfylling'!A440","v":267},{"$f":"IF('Sjekkliste for utfylling'!K440<>\"\",1,0)","v":0},0,null,{"$f":"IF($C268=1,'Sjekkliste for utfylling'!A440,\"\")","v":""},{"$f":"IF($C268=1,'Sjekkliste for utfylling'!B440,\"\")","v":""},null,{"$f":"IF(C268=1,'Sjekkliste for utfylling'!L440,\" \")","v":" "}]
[{"$f":"'Sjekkliste for utfylling'!A442","v":268},{"$f":"IF('Sjekkliste for utfylling'!K442<>\"\",1,0)","v":0},0,null,{"$f":"IF($C269=1,'Sjekkliste for utfylling'!A442,\"\")","v":""},{"$f":"IF($C269=1,'Sjekkliste for utfylling'!B442,\"\")","v":""},null,{"$f":"IF(C269=1,'Sjekkliste for utfylling'!L442,\" \")","v":" "}]
[{"$f":"'Sjekkliste for utfylling'!A444","v":269},{"$f":"IF('Sjekkliste for utfylling'!K444<>\"\",1,0)","v":0},0,null,{"$f":"IF($C270=1,'Sjekkliste for utfylling'!A444,\"\")","v":""},{"$f":"IF($C270=1,'Sjekkliste for utfylling'!B444,\"\")","v":""},null,{"$f":"IF(C270=1,'Sjekkliste for utfylling'!L444,\" \")","v":" "}]
[{"$f":"'Sjekkliste for utfylling'!A445","v":270},{"$f":"IF('Sjekkliste for utfylling'!K445<>\"\",1,0)","v":0},0,null,{"$f":"IF($C271=1,'Sjekkliste for utfylling'!A445,\"\")","v":""},{"$f":"IF($C271=1,'Sjekkliste for utfylling'!B445,\"\")","v":""},null,{"$f":"IF(C271=1,'Sjekkliste for utfylling'!L445,\" \")","v":" "}]
[{"$f":"'Sjekkliste for utfylling'!A446","v":271},{"$f":"IF('Sjekkliste for utfylling'!K446<>\"\",1,0)","v":0},0,null,{"$f":"IF($C272=1,'Sjekkliste for utfylling'!A446,\"\")","v":""},{"$f":"IF($C272=1,'Sjekkliste for utfylling'!B446,\"\")","v":""},null,{"$f":"IF(C272=1,'Sjekkliste for utfylling'!L446,\" \")","v":" "}]
[{"$f":"'Sjekkliste for utfylling'!A447","v":272},{"$f":"IF('Sjekkliste for utfylling'!K447<>\"\",1,0)","v":0},0,null,{"$f":"IF($C273=1,'Sjekkliste for utfylling'!A447,\"\")","v":""},{"$f":"IF($C273=1,'Sjekkliste for utfylling'!B447,\"\")","v":""},null,{"$f":"IF(C273=1,'Sjekkliste for utfylling'!L447,\" \")","v":" "}]
[{"$f":"'Sjekkliste for utfylling'!A448","v":273},{"$f":"IF('Sjekkliste for utfylling'!K448<>\"\",1,0)","v":0},0,null,{"$f":"IF($C274=1,'Sjekkliste for utfylling'!A448,\"\")","v":""},{"$f":"IF($C274=1,'Sjekkliste for utfylling'!B448,\"\")","v":""},null,{"$f":"IF(C274=1,'Sjekkliste for utfylling'!L448,\" \")","v":" "}]
[{"$f":"'Sjekkliste for utfylling'!A449","v":274},{"$f":"IF('Sjekkliste for utfylling'!K449<>\"\",1,0)","v":0},0,null,{"$f":"IF($C275=1,'Sjekkliste for utfylling'!A449,\"\")","v":""},{"$f":"IF($C275=1,'Sjekkliste for utfylling'!B449,\"\")","v":""},null,{"$f":"IF(C275=1,'Sjekkliste for utfylling'!L449,\" \")","v":" "}]
[{"$f":"'Sjekkliste for utfylling'!A450","v":275},{"$f":"IF('Sjekkliste for utfylling'!K450<>\"\",1,0)","v":0},0,null,{"$f":"IF($C276=1,'Sjekkliste for utfylling'!A450,\"\")","v":""},{"$f":"IF($C276=1,'Sjekkliste for utfylling'!B450,\"\")","v":""},null,{"$f":"IF(C276=1,'Sjekkliste for utfylling'!L450,\" \")","v":" "}]
[{"$f":"'Sjekkliste for utfylling'!A451","v":276},{"$f":"IF('Sjekkliste for utfylling'!K451<>\"\",1,0)","v":0},0,null,{"$f":"IF($C277=1,'Sjekkliste for utfylling'!A451,\"\")","v":""},{"$f":"IF($C277=1,'Sjekkliste for utfylling'!B451,\"\")","v":""},null,{"$f":"IF(C277=1,'Sjekkliste for utfylling'!L451,\" \")","v":" "}]
[{"$f":"'Sjekkliste for utfylling'!A452","v":277},{"$f":"IF('Sjekkliste for utfylling'!K452<>\"\",1,0)","v":0},0,null,{"$f":"IF($C278=1,'Sjekkliste for utfylling'!A452,\"\")","v":""},{"$f":"IF($C278=1,'Sjekkliste for utfylling'!B452,\"\")","v":""},null,{"$f":"IF(C278=1,'Sjekkliste for utfylling'!L452,\" \")","v":" "}]
[{"$f":"'Sjekkliste for utfylling'!A453","v":278},{"$f":"IF('Sjekkliste for utfylling'!K453<>\"\",1,0)","v":0},0,null,{"$f":"IF($C279=1,'Sjekkliste for utfylling'!A453,\"\")","v":""},{"$f":"IF($C279=1,'Sjekkliste for utfylling'!B453,\"\")","v":""},null,{"$f":"IF(C279=1,'Sjekkliste for utfylling'!L453,\" \")","v":" "}]
[{"$f":"'Sjekkliste for utfylling'!A454","v":279},{"$f":"IF('Sjekkliste for utfylling'!K454<>\"\",1,0)","v":0},0,null,{"$f":"IF($C280=1,'Sjekkliste for utfylling'!A454,\"\")","v":""},{"$f":"IF($C280=1,'Sjekkliste for utfylling'!B454,\"\")","v":""},null,{"$f":"IF(C280=1,'Sjekkliste for utfylling'!L454,\" \")","v":" "}]
[{"$f":"'Sjekkliste for utfylling'!A455","v":280},{"$f":"IF('Sjekkliste for utfylling'!K455<>\"\",1,0)","v":0},0,null,{"$f":"IF($C281=1,'Sjekkliste for utfylling'!A455,\"\")","v":""},{"$f":"IF($C281=1,'Sjekkliste for utfylling'!B455,\"\")","v":""},null,{"$f":"IF(C281=1,'Sjekkliste for utfylling'!L455,\" \")","v":" "}]
[{"$f":"'Sjekkliste for utfylling'!A456","v":281},{"$f":"IF('Sjekkliste for utfylling'!K456<>\"\",1,0)","v":0},0,null,{"$f":"IF($C282=1,'Sjekkliste for utfylling'!A456,\"\")","v":""},{"$f":"IF($C282=1,'Sjekkliste for utfylling'!B456,\"\")","v":""},null,{"$f":"IF(C282=1,'Sjekkliste for utfylling'!L456,\" \")","v":" "}]
[{"$f":"'Sjekkliste for utfylling'!A459","v":282},{"$f":"IF('Sjekkliste for utfylling'!K459<>\"\",1,0)","v":0},0,null,{"$f":"IF($C283=1,'Sjekkliste for utfylling'!A459,\"\")","v":""},{"$f":"IF($C283=1,'Sjekkliste for utfylling'!B459,\"\")","v":""},null,{"$f":"IF(C283=1,'Sjekkliste for utfylling'!L459,\" \")","v":" "}]
[{"$f":"'Sjekkliste for utfylling'!A460","v":283},{"$f":"IF('Sjekkliste for utfylling'!K460<>\"\",1,0)","v":0},0,null,{"$f":"IF($C284=1,'Sjekkliste for utfylling'!A460,\"\")","v":""},{"$f":"IF($C284=1,'Sjekkliste for utfylling'!B460,\"\")","v":""},null,{"$f":"IF(C284=1,'Sjekkliste for utfylling'!L460,\" \")","v":" "}]
[{"$f":"'Sjekkliste for utfylling'!A461","v":284},{"$f":"IF('Sjekkliste for utfylling'!K461<>\"\",1,0)","v":0},0,null,{"$f":"IF($C285=1,'Sjekkliste for utfylling'!A461,\"\")","v":""},{"$f":"IF($C285=1,'Sjekkliste for utfylling'!B461,\"\")","v":""},null,{"$f":"IF(C285=1,'Sjekkliste for utfylling'!L461,\" \")","v":" "}]
[{"$f":"'Sjekkliste for utfylling'!A462","v":285},{"$f":"IF('Sjekkliste for utfylling'!K462<>\"\",1,0)","v":0},0,null,{"$f":"IF($C286=1,'Sjekkliste for utfylling'!A462,\"\")","v":""},{"$f":"IF($C286=1,'Sjekkliste for utfylling'!B462,\"\")","v":""},null,{"$f":"IF(C286=1,'Sjekkliste for utfylling'!L462,\" \")","v":" "}]
[{"$f":"'Sjekkliste for utfylling'!A463","v":286},{"$f":"IF('Sjekkliste for utfylling'!K463<>\"\",1,0)","v":0},0,null,{"$f":"IF($C287=1,'Sjekkliste for utfylling'!A463,\"\")","v":""},{"$f":"IF($C287=1,'Sjekkliste for utfylling'!B463,\"\")","v":""},null,{"$f":"IF(C287=1,'Sjekkliste for utfylling'!L463,\" \")","v":" "}]
[{"$f":"'Sjekkliste for utfylling'!A466","v":287},{"$f":"IF('Sjekkliste for utfylling'!K466<>\"\",1,0)","v":0},0,null,{"$f":"IF($C288=1,'Sjekkliste for utfylling'!A466,\"\")","v":""},{"$f":"IF($C288=1,'Sjekkliste for utfylling'!B466,\"\")","v":""},null,{"$f":"IF(C288=1,'Sjekkliste for utfylling'!L466,\" \")","v":" "}]
[{"$f":"'Sjekkliste for utfylling'!A467","v":288},{"$f":"IF('Sjekkliste for utfylling'!K467<>\"\",1,0)","v":0},0,null,{"$f":"IF($C289=1,'Sjekkliste for utfylling'!A467,\"\")","v":""},{"$f":"IF($C289=1,'Sjekkliste for utfylling'!B467,\"\")","v":""},null,{"$f":"IF(C289=1,'Sjekkliste for utfylling'!L467,\" \")","v":" "}]
[{"$f":"'Sjekkliste for utfylling'!A468","v":289},{"$f":"IF('Sjekkliste for utfylling'!K468<>\"\",1,0)","v":0},0,null,{"$f":"IF($C290=1,'Sjekkliste for utfylling'!A468,\"\")","v":""},{"$f":"IF($C290=1,'Sjekkliste for utfylling'!B468,\"\")","v":""},null,{"$f":"IF(C290=1,'Sjekkliste for utfylling'!L468,\" \")","v":" "}]
[{"$f":"'Sjekkliste for utfylling'!A470","v":290},{"$f":"IF('Sjekkliste for utfylling'!K470<>\"\",1,0)","v":0},0,null,{"$f":"IF($C291=1,'Sjekkliste for utfylling'!A470,\"\")","v":""},{"$f":"IF($C291=1,'Sjekkliste for utfylling'!B470,\"\")","v":""},null,{"$f":"IF(C291=1,'Sjekkliste for utfylling'!L470,\" \")","v":" "}]
[{"$f":"'Sjekkliste for utfylling'!A471","v":291},{"$f":"IF('Sjekkliste for utfylling'!K471<>\"\",1,0)","v":0},0,null,{"$f":"IF($C292=1,'Sjekkliste for utfylling'!A471,\"\")","v":""},{"$f":"IF($C292=1,'Sjekkliste for utfylling'!B471,\"\")","v":""},null,{"$f":"IF(C292=1,'Sjekkliste for utfylling'!L471,\" \")","v":" "}]
[{"$f":"'Sjekkliste for utfylling'!A472","v":292},{"$f":"IF('Sjekkliste for utfylling'!K472<>\"\",1,0)","v":0},0,null,{"$f":"IF($C293=1,'Sjekkliste for utfylling'!A472,\"\")","v":""},{"$f":"IF($C293=1,'Sjekkliste for utfylling'!B472,\"\")","v":""},null,{"$f":"IF(C293=1,'Sjekkliste for utfylling'!L472,\" \")","v":" "}]
[{"$f":"'Sjekkliste for utfylling'!A476","v":293},{"$f":"IF('Sjekkliste for utfylling'!K476<>\"\",1,0)","v":0},0,null,{"$f":"IF($C294=1,'Sjekkliste for utfylling'!A476,\"\")","v":""},{"$f":"IF($C294=1,'Sjekkliste for utfylling'!B476,\"\")","v":""},null,{"$f":"IF(C294=1,'Sjekkliste for utfylling'!L476,\" \")","v":" "}]
[{"$f":"'Sjekkliste for utfylling'!A477","v":294},{"$f":"IF('Sjekkliste for utfylling'!K477<>\"\",1,0)","v":0},0,null,{"$f":"IF($C295=1,'Sjekkliste for utfylling'!A477,\"\")","v":""},{"$f":"IF($C295=1,'Sjekkliste for utfylling'!B477,\"\")","v":""},null,{"$f":"IF(C295=1,'Sjekkliste for utfylling'!L477,\" \")","v":" "}]
[{"$f":"'Sjekkliste for utfylling'!A478","v":295},{"$f":"IF('Sjekkliste for utfylling'!K478<>\"\",1,0)","v":0},0,null,{"$f":"IF($C296=1,'Sjekkliste for utfylling'!A478,\"\")","v":""},{"$f":"IF($C296=1,'Sjekkliste for utfylling'!B478,\"\")","v":""},null,{"$f":"IF(C296=1,'Sjekkliste for utfylling'!L478,\" \")","v":" "}]
[{"$f":"'Sjekkliste for utfylling'!A479","v":296},{"$f":"IF('Sjekkliste for utfylling'!K479<>\"\",1,0)","v":0},0,null,{"$f":"IF($C297=1,'Sjekkliste for utfylling'!A479,\"\")","v":""},{"$f":"IF($C297=1,'Sjekkliste for utfylling'!B479,\"\")","v":""},null,{"$f":"IF(C297=1,'Sjekkliste for utfylling'!L479,\" \")","v":" "}]
[{"$f":"'Sjekkliste for utfylling'!A482","v":297},{"$f":"IF('Sjekkliste for utfylling'!K482<>\"\",1,0)","v":0},0,null,{"$f":"IF($C298=1,'Sjekkliste for utfylling'!A482,\"\")","v":""},{"$f":"IF($C298=1,'Sjekkliste for utfylling'!B482,\"\")","v":""},null,{"$f":"IF(C298=1,'Sjekkliste for utfylling'!L482,\" \")","v":" "}]
[{"$f":"'Sjekkliste for utfylling'!A483","v":298},{"$f":"IF('Sjekkliste for utfylling'!K483<>\"\",1,0)","v":0},0,null,{"$f":"IF($C299=1,'Sjekkliste for utfylling'!A483,\"\")","v":""},{"$f":"IF($C299=1,'Sjekkliste for utfylling'!B483,\"\")","v":""},null,{"$f":"IF(C299=1,'Sjekkliste for utfylling'!L483,\" \")","v":" "}]
[{"$f":"'Sjekkliste for utfylling'!A484","v":299},{"$f":"IF('Sjekkliste for utfylling'!K484<>\"\",1,0)","v":0},0,null,{"$f":"IF($C300=1,'Sjekkliste for utfylling'!A484,\"\")","v":""},{"$f":"IF($C300=1,'Sjekkliste for utfylling'!B484,\"\")","v":""},null,{"$f":"IF(C300=1,'Sjekkliste for utfylling'!L484,\" \")","v":" "}]
[{"$f":"'Sjekkliste for utfylling'!A487","v":300},{"$f":"IF('Sjekkliste for utfylling'!K487<>\"\",1,0)","v":0},0,null,{"$f":"IF($C301=1,'Sjekkliste for utfylling'!A487,\"\")","v":""},{"$f":"IF($C301=1,'Sjekkliste for utfylling'!B487,\"\")","v":""},null,{"$f":"IF(C301=1,'Sjekkliste for utfylling'!L487,\" \")","v":" "}]
[{"$f":"'Sjekkliste for utfylling'!A494","v":301},{"$f":"IF('Sjekkliste for utfylling'!K494<>\"\",1,0)","v":1},1,{"$f":"IF($C302=1,1,0)","v":1},{"$f":"IF($C302=1,'Sjekkliste for utfylling'!A494,\"\")","v":301},{"$f":"IF($C302=1,'Sjekkliste for utfylling'!B494,\"\")","v":"Bokføring og ajourhold\nEr bokføringen hos investor (den bokføringspliktige) innrettet for å gi grunnlag for:"},null,{"$f":"IF(C302=1,'Sjekkliste for utfylling'!L494,\" \")","v":0}]
[{"$f":"'Sjekkliste for utfylling'!A495","v":302},{"$f":"IF('Sjekkliste for utfylling'!K495<>\"\",1,0)","v":1},1,1,{"$f":"IF($C303=1,'Sjekkliste for utfylling'!A495,\"\")","v":302},{"$f":"IF($C303=1,'Sjekkliste for utfylling'!B495,\"\")","v":"- bokføring og kontroll av kjøp og salg av investeringene, herunder transaksjonskostnader"},null,{"$f":"IF(C303=1,'Sjekkliste for utfylling'!L495,\" \")","v":0}]
[{"$f":"'Sjekkliste for utfylling'!A496","v":303},{"$f":"IF('Sjekkliste for utfylling'!K496<>\"\",1,0)","v":1},1,1,{"$f":"IF($C304=1,'Sjekkliste for utfylling'!A496,\"\")","v":303},{"$f":"IF($C304=1,'Sjekkliste for utfylling'!B496,\"\")","v":"- beregning og kontroll av realiserte gevinster og tap, både regnskaps- og skattemessige"},null,{"$f":"IF(C304=1,'Sjekkliste for utfylling'!L496,\" \")","v":0}]
[{"$f":"'Sjekkliste for utfylling'!A497","v":304},{"$f":"IF('Sjekkliste for utfylling'!K497<>\"\",1,0)","v":1},1,1,{"$f":"IF($C305=1,'Sjekkliste for utfylling'!A497,\"\")","v":304},{"$f":"IF($C305=1,'Sjekkliste for utfylling'!B497,\"\")","v":"- vurdering av regnskaps- og skattemessige verdier ved regnskapsårets slutt"},null,{"$f":"IF(C305=1,'Sjekkliste for utfylling'!L497,\" \")","v":0}]
[{"$f":"'Sjekkliste for utfylling'!A498","v":305},{"$f":"IF('Sjekkliste for utfylling'!K498<>\"\",1,0)","v":1},1,1,{"$f":"IF($C306=1,'Sjekkliste for utfylling'!A498,\"\")","v":305},{"$f":"IF($C306=1,'Sjekkliste for utfylling'!B498,\"\")","v":"Er bokføringen av verdipapirinvesteringene innrettet slik at brutto salg og brutto kjøp fremkommer?"},null,{"$f":"IF(C306=1,'Sjekkliste for utfylling'!L498,\" \")","v":0}]
[{"$f":"'Sjekkliste for utfylling'!A499","v":306},{"$f":"IF('Sjekkliste for utfylling'!K499<>\"\",1,0)","v":1},1,1,{"$f":"IF($C307=1,'Sjekkliste for utfylling'!A499,\"\")","v":306},{"$f":"IF($C307=1,'Sjekkliste for utfylling'!B499,\"\")","v":"Er samtlige opplysninger som er nødvendige for å kunne utarbeide spesifikasjoner av pliktig regnskapsrapportering bokført?"},null,{"$f":"IF(C307=1,'Sjekkliste for utfylling'!L499,\" \")","v":0}]
[{"$f":"'Sjekkliste for utfylling'!A501","v":307},{"$f":"IF('Sjekkliste for utfylling'!K501<>\"\",1,0)","v":1},1,1,{"$f":"IF($C308=1,'Sjekkliste for utfylling'!A501,\"\")","v":307},{"$f":"IF($C308=1,'Sjekkliste for utfylling'!B501,\"\")","v":"1. Nummer og dato for utstedelse av dokumentasjonen"},null,{"$f":"IF(C308=1,'Sjekkliste for utfylling'!L501,\" \")","v":0}]
[{"$f":"'Sjekkliste for utfylling'!A502","v":308},{"$f":"IF('Sjekkliste for utfylling'!K502<>\"\",1,0)","v":1},1,1,{"$f":"IF($C309=1,'Sjekkliste for utfylling'!A502,\"\")","v":308},{"$f":"IF($C309=1,'Sjekkliste for utfylling'!B502,\"\")","v":"2. Angivelse av partene"},null,{"$f":"IF(C309=1,'Sjekkliste for utfylling'!L502,\" \")","v":0}]
[{"$f":"'Sjekkliste for utfylling'!A503","v":309},{"$f":"IF('Sjekkliste for utfylling'!K503<>\"\",1,0)","v":1},1,1,{"$f":"IF($C310=1,'Sjekkliste for utfylling'!A503,\"\")","v":309},{"$f":"IF($C310=1,'Sjekkliste for utfylling'!B503,\"\")","v":"3. Ytelsens art og omfang"},null,{"$f":"IF(C310=1,'Sjekkliste for utfylling'!L503,\" \")","v":0}]
[{"$f":"'Sjekkliste for utfylling'!A504","v":310},{"$f":"IF('Sjekkliste for utfylling'!K504<>\"\",1,0)","v":1},1,1,{"$f":"IF($C311=1,'Sjekkliste for utfylling'!A504,\"\")","v":310},{"$f":"IF($C311=1,'Sjekkliste for utfylling'!B504,\"\")","v":"4. Tidspunkt for levering av ytelsen"},null,{"$f":"IF(C311=1,'Sjekkliste for utfylling'!L504,\" \")","v":0}]
[{"$f":"'Sjekkliste for utfylling'!A505","v":311},{"$f":"IF('Sjekkliste for utfylling'!K505<>\"\",1,0)","v":1},1,1,{"$f":"IF($C312=1,'Sjekkliste for utfylling'!A505,\"\")","v":311},{"$f":"IF($C312=1,'Sjekkliste for utfylling'!B505,\"\")","v":"5. Vederlag og betalingsforfall"},null,{"$f":"IF(C312=1,'Sjekkliste for utfylling'!L505,\" \")","v":0}]
[{"$f":"'Sjekkliste for utfylling'!A506","v":312},{"$f":"IF('Sjekkliste for utfylling'!K506<>\"\",1,0)","v":1},1,1,{"$f":"IF($C313=1,'Sjekkliste for utfylling'!A506,\"\")","v":312},{"$f":"IF($C313=1,'Sjekkliste for utfylling'!B506,\"\")","v":"Kontrollspor\nDersom kapitalforvalterens systemer benyttes til registrering av transaksjoner eller utarbeidelse av spesifikasjoner, har kapitalforvalteren dokumentert kontrollsporet dersom dette ikke er lett å forstå?"},null,{"$f":"IF(C313=1,'Sjekkliste for utfylling'!L506,\" \")","v":0}]
[{"$f":"'Sjekkliste for utfylling'!A507","v":313},{"$f":"IF('Sjekkliste for utfylling'!K507<>\"\",1,0)","v":1},1,1,{"$f":"IF($C314=1,'Sjekkliste for utfylling'!A507,\"\")","v":313},{"$f":"IF($C314=1,'Sjekkliste for utfylling'!B507,\"\")","v":"Oppbevaring og sikring\nDersom underspesifikasjon fra kapitalforvalter utarbeides elektronisk, og den bokføringspliktiges omsetning er fem millioner kroner eller mer, er de bokførte opplysningene elektronisk tilgjengelige i tre år og seks måneder etter regnskapsårets slutt?"},null,{"$f":"IF(C314=1,'Sjekkliste for utfylling'!L507,\" \")","v":0}]
[{"$f":"'Sjekkliste for utfylling'!A508","v":314},{"$f":"IF('Sjekkliste for utfylling'!K508<>\"\",1,0)","v":1},1,1,{"$f":"IF($C315=1,'Sjekkliste for utfylling'!A508,\"\")","v":314},{"$f":"IF($C315=1,'Sjekkliste for utfylling'!B508,\"\")","v":"Dersom det oppbevaringspliktige regnskapsmaterialet helt eller delvis oppbevares hos kapitalforvalter, har den bokføringsplige inngått skriftlige avtaler som regulerer dette?"},null,{"$f":"IF(C315=1,'Sjekkliste for utfylling'!L508,\" \")","v":0}]
[{"$f":"'Sjekkliste for utfylling'!A509","v":315},{"$f":"IF('Sjekkliste for utfylling'!K509<>\"\",1,0)","v":1},1,1,{"$f":"IF($C316=1,'Sjekkliste for utfylling'!A509,\"\")","v":315},{"$f":"IF($C316=1,'Sjekkliste for utfylling'!B509,\"\")","v":"Oppbevares avtaler med kapitalforvalter i henhold til bokføringslovens krav om oppbevaring av sekundærdokumentasjon?"},null,{"$f":"IF(C316=1,'Sjekkliste for utfylling'!L509,\" \")","v":0}]
[{"$f":"'Sjekkliste for utfylling'!A510","v":316},{"$f":"IF('Sjekkliste for utfylling'!K510<>\"\",1,0)","v":1},1,1,{"$f":"IF($C317=1,'Sjekkliste for utfylling'!A510,\"\")","v":316},{"$f":"IF($C317=1,'Sjekkliste for utfylling'!B510,\"\")","v":"Ved bruk av en utenlandsk kapitalforvalter utenfor Norden, og den bokføringsplitkige ikke har fått dispensasjon til oppbevaring i utlandet, er den bokføringspliktiges regnskapsmateriale tilbakeført til Norge for oppbevaring etter reglene i bokføringsforskriften?"},null,{"$f":"IF(C317=1,'Sjekkliste for utfylling'!L510,\" \")","v":0}]
[{"$f":"'Sjekkliste for utfylling'!A524","v":317},{"$f":"IF('Sjekkliste for utfylling'!K524<>\"\",1,0)","v":1},1,1,{"$f":"IF($C318=1,'Sjekkliste for utfylling'!A524,\"\")","v":317},{"$f":"IF($C318=1,'Sjekkliste for utfylling'!B524,\"\")","v":"Føres personallisten på arbeidsstedet?"},null,{"$f":"IF(C318=1,'Sjekkliste for utfylling'!L524,\" \")","v":0}]
[{"$f":"'Sjekkliste for utfylling'!A525","v":318},{"$f":"IF('Sjekkliste for utfylling'!K525<>\"\",1,0)","v":1},1,1,{"$f":"IF($C319=1,'Sjekkliste for utfylling'!A525,\"\")","v":318},{"$f":"IF($C319=1,'Sjekkliste for utfylling'!B525,\"\")","v":"Inneholder personallisten den bokføringspliktiges navn og organisasjonsnummer?"},null,{"$f":"IF(C319=1,'Sjekkliste for utfylling'!L525,\" \")","v":0}]
[{"$f":"'Sjekkliste for utfylling'!A526","v":319},{"$f":"IF('Sjekkliste for utfylling'!K526<>\"\",1,0)","v":1},1,1,{"$f":"IF($C320=1,'Sjekkliste for utfylling'!A526,\"\")","v":319},{"$f":"IF($C320=1,'Sjekkliste for utfylling'!B526,\"\")","v":"Inneholder personallisten\n- oversikt over personer som arbeider i virksomheten (også ulønnet og innleid personale)\n- den enkeltes navn og fødselsnummer/D-nummer (Kan erstattes med unike koder, men det skal i så fall utarbeides en oversikt over benyttede koder med tilhørende fødselsnummer/D-nummer. Kodeoversikten anses som en del av personallisten)."},null,{"$f":"IF(C320=1,'Sjekkliste for utfylling'!L526,\" \")","v":0}]
[{"$f":"'Sjekkliste for utfylling'!A527","v":320},{"$f":"IF('Sjekkliste for utfylling'!K527<>\"\",1,0)","v":1},1,1,{"$f":"IF($C321=1,'Sjekkliste for utfylling'!A527,\"\")","v":320},{"$f":"IF($C321=1,'Sjekkliste for utfylling'!B527,\"\")","v":"Angir personallisten for hver arbeidsdag tidspunktet for arbeidsdagens begynnelse og slutt?"},null,{"$f":"IF(C321=1,'Sjekkliste for utfylling'!L527,\" \")","v":0}]
[{"$f":"'Sjekkliste for utfylling'!A528","v":321},{"$f":"IF('Sjekkliste for utfylling'!K528<>\"\",1,0)","v":1},{"$f":"SUM(B322:B322)","v":1},1,{"$f":"IF($C322=1,'Sjekkliste for utfylling'!A528,\"\")","v":321},{"$f":"IF($C322=1,'Sjekkliste for utfylling'!B528,\"\")","v":"Ajourføres personallisten umiddelbart i tilknytning til at arbeidet påbegynnes og avsluttes?"},null,{"$f":"IF(C322=1,'Sjekkliste for utfylling'!L528,\" \")","v":0}]
[{"$f":"'Sjekkliste for utfylling'!A529","v":322},{"$f":"IF('Sjekkliste for utfylling'!K529<>\"\",1,0)","v":1},1,1,{"$f":"IF($C323=1,'Sjekkliste for utfylling'!A529,\"\")","v":322},{"$f":"IF($C323=1,'Sjekkliste for utfylling'!B529,\"\")","v":"Kan den bokføringspliktige fremvise pass eller annen gyldig legitimasjon med bilde (eller kopi av slik legitimasjon) for alle tilstedeværende som arbeider i virksomheten?"},null,{"$f":"IF(C323=1,'Sjekkliste for utfylling'!L529,\" \")","v":0}]
[{"$f":"'Sjekkliste for utfylling'!A531","v":323},{"$f":"IF('Sjekkliste for utfylling'!K531<>\"\",1,0)","v":1},1,1,{"$f":"IF($C324=1,'Sjekkliste for utfylling'!A531,\"\")","v":323},{"$f":"IF($C324=1,'Sjekkliste for utfylling'!B531,\"\")","v":"Dersom det benyttes  manuelle personallister foreligger de arbeidsstedet i innbundet bok der sidene er forhåndsnummererte?"},null,{"$f":"IF(C324=1,'Sjekkliste for utfylling'!L531,\" \")","v":0}]
[{"$f":"'Sjekkliste for utfylling'!A533","v":324},{"$f":"IF('Sjekkliste for utfylling'!K533<>\"\",1,0)","v":1},1,1,{"$f":"IF($C325=1,'Sjekkliste for utfylling'!A533,\"\")","v":324},{"$f":"IF($C325=1,'Sjekkliste for utfylling'!B533,\"\")","v":"Kan personallister som føres elektronisk umiddelbart skrives ut på papir?"},null,{"$f":"IF(C325=1,'Sjekkliste for utfylling'!L533,\" \")","v":0}]
[{"$f":"'Sjekkliste for utfylling'!A534","v":325},{"$f":"IF('Sjekkliste for utfylling'!K534<>\"\",1,0)","v":1},1,1,{"$f":"IF($C326=1,'Sjekkliste for utfylling'!A534,\"\")","v":325},{"$f":"IF($C326=1,'Sjekkliste for utfylling'!B534,\"\")","v":"Ved rettelser, fremgår det hvem som har foretatt rettelsen og tidspunkt for når det er gjort?"},null,{"$f":"IF(C326=1,'Sjekkliste for utfylling'!L534,\" \")","v":0}]
[{"$f":"'Sjekkliste for utfylling'!A537","v":326},{"$f":"IF('Sjekkliste for utfylling'!K537<>\"\",1,0)","v":1},1,1,{"$f":"IF($C327=1,'Sjekkliste for utfylling'!A537,\"\")","v":326},{"$f":"IF($C327=1,'Sjekkliste for utfylling'!B537,\"\")","v":"Dersom arbeidsplan benyttes som alternativ til personaliste:\nEr arbeidsplanen oppdatert fortløpende?"},null,{"$f":"IF(C327=1,'Sjekkliste for utfylling'!L537,\" \")","v":0}]
[{"$f":"'Sjekkliste for utfylling'!A539","v":327},{"$f":"IF('Sjekkliste for utfylling'!K539<>\"\",1,0)","v":1},1,1,{"$f":"IF($C328=1,'Sjekkliste for utfylling'!A539,\"\")","v":327},{"$f":"IF($C328=1,'Sjekkliste for utfylling'!B539,\"\")","v":"Oppbevares personallisten i 3 år og 6 måneder etter regnskapsårets slutt?"},null,{"$f":"IF(C328=1,'Sjekkliste for utfylling'!L539,\" \")","v":0}]
[{"$f":"'Sjekkliste for utfylling'!A541","v":328},{"$f":"IF('Sjekkliste for utfylling'!K541<>\"\",1,0)","v":1},1,1,{"$f":"IF($C329=1,'Sjekkliste for utfylling'!A541,\"\")","v":328},{"$f":"IF($C329=1,'Sjekkliste for utfylling'!B541,\"\")","v":"Utstedelse av salgsdokument\nEr salgsdokument utstedt senest innen en måned etter utløpet av den alminnelige oppgaveterminen som arbeidet er fullført?\n\nSalgsdokumentet kan utstedes i samsvar med bygge- og anleggsarbeidets fremdrift."},null,{"$f":"IF(C329=1,'Sjekkliste for utfylling'!L541,\" \")","v":0}]
[{"$f":"'Sjekkliste for utfylling'!A542","v":329},{"$f":"IF('Sjekkliste for utfylling'!K542<>\"\",1,0)","v":1},1,1,{"$f":"IF($C330=1,'Sjekkliste for utfylling'!A542,\"\")","v":329},{"$f":"IF($C330=1,'Sjekkliste for utfylling'!B542,\"\")","v":"Når det er mottatt en delbetaling som samsvarer med arbeidets fremdrift, er salgsdokument for delbetalingen utstedt senest innen en måned etter utløpet av den alminnelige oppgaveterminen?\nRene forskudd som ikke er knyttet til arbeidets fremdrift skal forstås som finansielle forskudd, og innebærer ikke betaling for leverte varer og tjenester. Rene forskudd innebærer dermed ingen omsetning hvor det oppstår plikt til å utstede salgsdokument."},null,{"$f":"IF(C330=1,'Sjekkliste for utfylling'!L542,\" \")","v":0}]
[{"$f":"'Sjekkliste for utfylling'!A543","v":330},{"$f":"IF('Sjekkliste for utfylling'!K543<>\"\",1,0)","v":1},1,1,{"$f":"IF($C331=1,'Sjekkliste for utfylling'!A543,\"\")","v":330},{"$f":"IF($C331=1,'Sjekkliste for utfylling'!B543,\"\")","v":"Prosjektregnskap\nKan det, for hver periode med pliktig regnskapsrapportering, og ikke sjeldnere enn hver fjerde måned, utarbeides egne spesifikasjoner (prosjektregnskap) etter § 8-1-4 for prosjekter der anbudspris eller anslått omsetningsverdi overstiger 5 ganger folketrygdens grunnbeløp ekskl mva?"},null,{"$f":"IF(C331=1,'Sjekkliste for utfylling'!L543,\" \")","v":0}]
[{"$f":"'Sjekkliste for utfylling'!A544","v":331},{"$f":"IF('Sjekkliste for utfylling'!K544<>\"\",1,0)","v":1},1,1,{"$f":"IF($C332=1,'Sjekkliste for utfylling'!A544,\"\")","v":331},{"$f":"IF($C332=1,'Sjekkliste for utfylling'!B544,\"\")","v":"Inneholder prosjektregnskapet følgende opplysninger:\na. Prosjektkode?"},null,{"$f":"IF(C332=1,'Sjekkliste for utfylling'!L544,\" \")","v":0}]
[{"$f":"'Sjekkliste for utfylling'!A545","v":332},{"$f":"IF('Sjekkliste for utfylling'!K545<>\"\",1,0)","v":1},1,1,{"$f":"IF($C333=1,'Sjekkliste for utfylling'!A545,\"\")","v":332},{"$f":"IF($C333=1,'Sjekkliste for utfylling'!B545,\"\")","v":"b. Oppdragsgivers navn og adresse, eventuelt organisasjonsnummer?"},null,{"$f":"IF(C333=1,'Sjekkliste for utfylling'!L545,\" \")","v":0}]
[{"$f":"'Sjekkliste for utfylling'!A546","v":333},{"$f":"IF('Sjekkliste for utfylling'!K546<>\"\",1,0)","v":1},1,{"$f":"IF($C334=1,1,0)","v":1},{"$f":"IF($C334=1,'Sjekkliste for utfylling'!A546,\"\")","v":333},{"$f":"IF($C334=1,'Sjekkliste for utfylling'!B546,\"\")","v":"c. Oppdragets art?"},null,{"$f":"IF(C334=1,'Sjekkliste for utfylling'!L546,\" \")","v":0}]
[{"$f":"'Sjekkliste for utfylling'!A547","v":334},{"$f":"IF('Sjekkliste for utfylling'!K547<>\"\",1,0)","v":1},1,1,{"$f":"IF($C335=1,'Sjekkliste for utfylling'!A547,\"\")","v":334},{"$f":"IF($C335=1,'Sjekkliste for utfylling'!B547,\"\")","v":"d. Oppdragets oppstart?"},null,{"$f":"IF(C335=1,'Sjekkliste for utfylling'!L547,\" \")","v":0}]
[{"$f":"'Sjekkliste for utfylling'!A548","v":335},{"$f":"IF('Sjekkliste for utfylling'!K548<>\"\",1,0)","v":1},1,1,{"$f":"IF($C336=1,'Sjekkliste for utfylling'!A548,\"\")","v":335},{"$f":"IF($C336=1,'Sjekkliste for utfylling'!B548,\"\")","v":"e. Oppdragets opphør?"},null,{"$f":"IF(C336=1,'Sjekkliste for utfylling'!L548,\" \")","v":0}]
[{"$f":"'Sjekkliste for utfylling'!A549","v":336},{"$f":"IF('Sjekkliste for utfylling'!K549<>\"\",1,0)","v":1},1,1,{"$f":"IF($C337=1,'Sjekkliste for utfylling'!A549,\"\")","v":336},{"$f":"IF($C337=1,'Sjekkliste for utfylling'!B549,\"\")","v":"f. Alle direkte kostnader?"},null,{"$f":"IF(C337=1,'Sjekkliste for utfylling'!L549,\" \")","v":0}]
[{"$f":"'Sjekkliste for utfylling'!A550","v":337},{"$f":"IF('Sjekkliste for utfylling'!K550<>\"\",1,0)","v":1},1,1,{"$f":"IF($C338=1,'Sjekkliste for utfylling'!A550,\"\")","v":337},{"$f":"IF($C338=1,'Sjekkliste for utfylling'!B550,\"\")","v":"g. Alle inntekter?"},null,{"$f":"IF(C338=1,'Sjekkliste for utfylling'!L550,\" \")","v":0}]
[{"$f":"'Sjekkliste for utfylling'!A551","v":338},{"$f":"IF('Sjekkliste for utfylling'!K551<>\"\",1,0)","v":1},1,1,{"$f":"IF($C339=1,'Sjekkliste for utfylling'!A551,\"\")","v":338},{"$f":"IF($C339=1,'Sjekkliste for utfylling'!B551,\"\")","v":"Er kostnadene minst spesifisert på:\n• Lønnskostnader?"},null,{"$f":"IF(C339=1,'Sjekkliste for utfylling'!L551,\" \")","v":0}]
[{"$f":"'Sjekkliste for utfylling'!A552","v":339},{"$f":"IF('Sjekkliste for utfylling'!K552<>\"\",1,0)","v":1},1,1,{"$f":"IF($C340=1,'Sjekkliste for utfylling'!A552,\"\")","v":339},{"$f":"IF($C340=1,'Sjekkliste for utfylling'!B552,\"\")","v":"• Materialkostnader?"},null,{"$f":"IF(C340=1,'Sjekkliste for utfylling'!L552,\" \")","v":0}]
[{"$f":"'Sjekkliste for utfylling'!A553","v":340},{"$f":"IF('Sjekkliste for utfylling'!K553<>\"\",1,0)","v":1},1,1,{"$f":"IF($C341=1,'Sjekkliste for utfylling'!A553,\"\")","v":340},{"$f":"IF($C341=1,'Sjekkliste for utfylling'!B553,\"\")","v":"• Kostnader til underentreprenører?"},null,{"$f":"IF(C341=1,'Sjekkliste for utfylling'!L553,\" \")","v":0}]
[{"$f":"'Sjekkliste for utfylling'!A554","v":341},{"$f":"IF('Sjekkliste for utfylling'!K554<>\"\",1,0)","v":1},1,1,{"$f":"IF($C342=1,'Sjekkliste for utfylling'!A554,\"\")","v":341},{"$f":"IF($C342=1,'Sjekkliste for utfylling'!B554,\"\")","v":"• Andre direkte kostnader?"},null,{"$f":"IF(C342=1,'Sjekkliste for utfylling'!L554,\" \")","v":0}]
[{"$f":"'Sjekkliste for utfylling'!A555","v":342},{"$f":"IF('Sjekkliste for utfylling'!K555<>\"\",1,0)","v":1},1,1,{"$f":"IF($C343=1,'Sjekkliste for utfylling'!A555,\"\")","v":342},{"$f":"IF($C343=1,'Sjekkliste for utfylling'!B555,\"\")","v":"Foreligger det to-veis kontrollspor mellom prosjektregnskapet og dokumentasjonen av de bokførte opplysningene som inngår i prosjektregnskapet?"},null,{"$f":"IF(C343=1,'Sjekkliste for utfylling'!L555,\" \")","v":0}]
[{"$f":"'Sjekkliste for utfylling'!A556","v":343},{"$f":"IF('Sjekkliste for utfylling'!K556<>\"\",1,0)","v":1},1,1,{"$f":"IF($C344=1,'Sjekkliste for utfylling'!A556,\"\")","v":343},{"$f":"IF($C344=1,'Sjekkliste for utfylling'!B556,\"\")","v":"Dokumentasjon av medgått tid\nEr utførte timer dokumentert for hver eier og ansatt?"},null,{"$f":"IF(C344=1,'Sjekkliste for utfylling'!L556,\" \")","v":0}]
[{"$f":"'Sjekkliste for utfylling'!A557","v":344},{"$f":"IF('Sjekkliste for utfylling'!K557<>\"\",1,0)","v":1},1,1,{"$f":"IF($C345=1,'Sjekkliste for utfylling'!A557,\"\")","v":344},{"$f":"IF($C345=1,'Sjekkliste for utfylling'!B557,\"\")","v":"Oppbevaring\nBlir prosjektregnskap eller bokførte opplysninger som er nødvendige for å kunne utarbeide slike prosjektregnskap, dokumentasjon av bokførte opplysninger som inngår i prosjektregnskapet, byggekontrakter med anbud/kalkyle, tegninger, kontrakter med underentreprenører, timelister og ordrelister oppbevart i 10 år etter regnskapsårets slutt?"},null,{"$f":"IF(C345=1,'Sjekkliste for utfylling'!L557,\" \")","v":0}]
[{"$f":"'Sjekkliste for utfylling'!A558","v":345},{"$f":"IF('Sjekkliste for utfylling'!K558<>\"\",1,0)","v":1},1,1,{"$f":"IF($C346=1,'Sjekkliste for utfylling'!A558,\"\")","v":345},{"$f":"IF($C346=1,'Sjekkliste for utfylling'!B558,\"\")","v":"Blir opprinnelige timelister på papir (eller scannet) oppbevart i tre år og seks måneder?\n\nOppbevaringsplikten av timelister på papir gjelder ikke dersom følgende vilkår er oppfylt:\n•  Den bokføringspliktige har revisjonsplikt\n•  Det er ikke tatt forbehold i fjorårets beretning knyttet til fastsettelse av regnskap eller ordentlig og oversiktelig registering og dokumentasjon av regnskapsopplysninger\n•  Det er ikke mottatt bokføringspålegg i løpet av de foregående 18 månedene"},null,{"$f":"IF(C346=1,'Sjekkliste for utfylling'!L558,\" \")","v":0}]
[{"$f":"'Sjekkliste for utfylling'!A560","v":346},{"$f":"IF('Sjekkliste for utfylling'!K560<>\"\",1,0)","v":1},1,1,{"$f":"IF($C347=1,'Sjekkliste for utfylling'!A560,\"\")","v":346},{"$f":"IF($C347=1,'Sjekkliste for utfylling'!B560,\"\")","v":"Taksameter\nHar bokføringspliktige som driver taxinæring registrert kontant- og kredittsalg ved bruk av taksameter som tilfredsstiller kravene i forskrift 1. oktober 2009 nr. 1226 om krav til taksameter?"},null,{"$f":"IF(C347=1,'Sjekkliste for utfylling'!L560,\" \")","v":0}]
[{"$f":"'Sjekkliste for utfylling'!A563","v":347},{"$f":"IF('Sjekkliste for utfylling'!K563<>\"\",1,0)","v":1},1,1,{"$f":"IF($C348=1,'Sjekkliste for utfylling'!A563,\"\")","v":347},{"$f":"IF($C348=1,'Sjekkliste for utfylling'!B563,\"\")","v":"Krav til innholdet i salgsdokumentet\nVed kontantsalg, skriver taksameteret salgsdokument (salgskvittering) til kunden for hvert salg?"},null,{"$f":"IF(C348=1,'Sjekkliste for utfylling'!L563,\" \")","v":0}]
[{"$f":"'Sjekkliste for utfylling'!A564","v":348},{"$f":"IF('Sjekkliste for utfylling'!K564<>\"\",1,0)","v":1},1,1,{"$f":"IF($C349=1,'Sjekkliste for utfylling'!A564,\"\")","v":348},{"$f":"IF($C349=1,'Sjekkliste for utfylling'!B564,\"\")","v":"Inneholder kvitteringen alle opplysninger som nevnt i § 5-3-12, samt opplysninger om type betalingsmiddel?"},null,{"$f":"IF(C349=1,'Sjekkliste for utfylling'!L564,\" \")","v":0}]
[{"$f":"'Sjekkliste for utfylling'!A566","v":349},{"$f":"IF('Sjekkliste for utfylling'!K566<>\"\",1,0)","v":1},1,1,{"$f":"IF($C350=1,'Sjekkliste for utfylling'!A566,\"\")","v":349},{"$f":"IF($C350=1,'Sjekkliste for utfylling'!B566,\"\")","v":"Er kontantsalget dokumentert med skiftlapper og rapport fra taksameteret som viser hver enkelt salgstransaksjon, jf § 8-2-2?"},null,{"$f":"IF(C350=1,'Sjekkliste for utfylling'!L566,\" \")","v":0}]
[{"$f":"'Sjekkliste for utfylling'!A567","v":350},{"$f":"IF('Sjekkliste for utfylling'!K567<>\"\",1,0)","v":1},1,1,{"$f":"IF($C351=1,'Sjekkliste for utfylling'!A567,\"\")","v":350},{"$f":"IF($C351=1,'Sjekkliste for utfylling'!B567,\"\")","v":"Er skiftlappene som dokumenterer kontantomsetning fortløpende nummerert av systemet og inneholder løyvenummer og taksameterets serienummer?"},null,{"$f":"IF(C351=1,'Sjekkliste for utfylling'!L567,\" \")","v":0}]
[{"$f":"'Sjekkliste for utfylling'!A568","v":351},{"$f":"IF('Sjekkliste for utfylling'!K568<>\"\",1,0)","v":1},1,1,{"$f":"IF($C352=1,'Sjekkliste for utfylling'!A568,\"\")","v":351},{"$f":"IF($C352=1,'Sjekkliste for utfylling'!B568,\"\")","v":"Inneholder skiftlappene for hvert skift følgende opplysninger:\n1. Skiftets dato? "},null,{"$f":"IF(C352=1,'Sjekkliste for utfylling'!L568,\" \")","v":0}]
[{"$f":"'Sjekkliste for utfylling'!A569","v":352},{"$f":"IF('Sjekkliste for utfylling'!K569<>\"\",1,0)","v":1},1,1,{"$f":"IF($C353=1,'Sjekkliste for utfylling'!A569,\"\")","v":352},{"$f":"IF($C353=1,'Sjekkliste for utfylling'!B569,\"\")","v":"2. Klokkeslett for skiftets begynnelse og slutt?"},null,{"$f":"IF(C353=1,'Sjekkliste for utfylling'!L569,\" \")","v":0}]
[{"$f":"'Sjekkliste for utfylling'!A570","v":353},{"$f":"IF('Sjekkliste for utfylling'!K570<>\"\",1,0)","v":1},1,1,{"$f":"IF($C354=1,'Sjekkliste for utfylling'!A570,\"\")","v":353},{"$f":"IF($C354=1,'Sjekkliste for utfylling'!B570,\"\")","v":"3. Antall turer?"},null,{"$f":"IF(C354=1,'Sjekkliste for utfylling'!L570,\" \")","v":0}]
[{"$f":"'Sjekkliste for utfylling'!A571","v":354},{"$f":"IF('Sjekkliste for utfylling'!K571<>\"\",1,0)","v":1},1,1,{"$f":"IF($C355=1,'Sjekkliste for utfylling'!A571,\"\")","v":354},{"$f":"IF($C355=1,'Sjekkliste for utfylling'!B571,\"\")","v":"4. a - Brutto innkjørt beløp fordelt på kontant og kreditt?"},null,{"$f":"IF(C355=1,'Sjekkliste for utfylling'!L571,\" \")","v":0}]
[{"$f":"'Sjekkliste for utfylling'!A572","v":355},{"$f":"IF('Sjekkliste for utfylling'!K572<>\"\",1,0)","v":1},1,1,{"$f":"IF($C356=1,'Sjekkliste for utfylling'!A572,\"\")","v":355},{"$f":"IF($C356=1,'Sjekkliste for utfylling'!B572,\"\")","v":"4. b - Kontantbeløpet fordelt på ulike betalingsmiddel?"},null,{"$f":"IF(C356=1,'Sjekkliste for utfylling'!L572,\" \")","v":0}]
[{"$f":"'Sjekkliste for utfylling'!A573","v":356},{"$f":"IF('Sjekkliste for utfylling'!K573<>\"\",1,0)","v":1},1,1,{"$f":"IF($C357=1,'Sjekkliste for utfylling'!A573,\"\")","v":356},{"$f":"IF($C357=1,'Sjekkliste for utfylling'!B573,\"\")","v":"5. Totale og besatte kilometer? "},null,{"$f":"IF(C357=1,'Sjekkliste for utfylling'!L573,\" \")","v":0}]
[{"$f":"'Sjekkliste for utfylling'!A574","v":357},{"$f":"IF('Sjekkliste for utfylling'!K574<>\"\",1,0)","v":1},1,1,{"$f":"IF($C358=1,'Sjekkliste for utfylling'!A574,\"\")","v":357},{"$f":"IF($C358=1,'Sjekkliste for utfylling'!B574,\"\")","v":"6. Sjåførens navn og fødselsnummer eller annen identifikasjonskode?"},null,{"$f":"IF(C358=1,'Sjekkliste for utfylling'!L574,\" \")","v":0}]
[{"$f":"'Sjekkliste for utfylling'!A575","v":358},{"$f":"IF('Sjekkliste for utfylling'!K575<>\"\",1,0)","v":1},1,1,{"$f":"IF($C359=1,'Sjekkliste for utfylling'!A575,\"\")","v":358},{"$f":"IF($C359=1,'Sjekkliste for utfylling'!B575,\"\")","v":"7. Akkumulerte tall for totale kilometer og totalt innkjørt i kroner? (Kilometer og kroner skal oppgis med henholdsvis minimum seks- og nisifrede tall.)"},null,{"$f":"IF(C359=1,'Sjekkliste for utfylling'!L575,\" \")","v":0}]
[{"$f":"'Sjekkliste for utfylling'!A576","v":359},{"$f":"IF('Sjekkliste for utfylling'!K576<>\"\",1,0)","v":1},1,1,{"$f":"IF($C360=1,'Sjekkliste for utfylling'!A576,\"\")","v":359},{"$f":"IF($C360=1,'Sjekkliste for utfylling'!B576,\"\")","v":"Er skiftlappene signert med fullt navn av skiftets sjåfør?\n\n"},null,{"$f":"IF(C360=1,'Sjekkliste for utfylling'!L576,\" \")","v":0}]
[{"$f":"'Sjekkliste for utfylling'!A577","v":360},{"$f":"IF('Sjekkliste for utfylling'!K577<>\"\",1,0)","v":1},1,1,{"$f":"IF($C361=1,'Sjekkliste for utfylling'!A577,\"\")","v":360},{"$f":"IF($C361=1,'Sjekkliste for utfylling'!B577,\"\")","v":"Er årsaken dokumentert dersom skiftlappsystemet har vært midlertidig ute av drift?"},null,{"$f":"IF(C361=1,'Sjekkliste for utfylling'!L577,\" \")","v":0}]
[{"$f":"'Sjekkliste for utfylling'!A578","v":361},{"$f":"IF('Sjekkliste for utfylling'!K578<>\"\",1,0)","v":1},1,1,{"$f":"IF($C362=1,'Sjekkliste for utfylling'!A578,\"\")","v":361},{"$f":"IF($C362=1,'Sjekkliste for utfylling'!B578,\"\")","v":"Når skiftlappsystemet har vært midlertidig er ute av drift, er forhåndsnummererte manuelle skiftlapper benyttet?\n(Besatte kilometer kan i slike tilfeller unnlates spesifisert.) "},null,{"$f":"IF(C362=1,'Sjekkliste for utfylling'!L578,\" \")","v":0}]
[{"$f":"'Sjekkliste for utfylling'!A579","v":362},{"$f":"IF('Sjekkliste for utfylling'!K579<>\"\",1,0)","v":1},1,1,{"$f":"IF($C363=1,'Sjekkliste for utfylling'!A579,\"\")","v":362},{"$f":"IF($C363=1,'Sjekkliste for utfylling'!B579,\"\")","v":"Kassaavstemming\nForetas det avstemming for hvert skift hvor opptalt kassabeholdning mv. sammenholdes med kontantsalg ifølge skiftlapp?"},null,{"$f":"IF(C363=1,'Sjekkliste for utfylling'!L579,\" \")","v":0}]
[{"$f":"'Sjekkliste for utfylling'!A580","v":363},{"$f":"IF('Sjekkliste for utfylling'!K580<>\"\",1,0)","v":1},1,1,{"$f":"IF($C364=1,'Sjekkliste for utfylling'!A580,\"\")","v":363},{"$f":"IF($C364=1,'Sjekkliste for utfylling'!B580,\"\")","v":"Blir avstemmingen datert og fremgår det hvem som har foretatt avstemmingen?"},null,{"$f":"IF(C364=1,'Sjekkliste for utfylling'!L580,\" \")","v":0}]
[{"$f":"'Sjekkliste for utfylling'!A581","v":364},{"$f":"IF('Sjekkliste for utfylling'!K581<>\"\",1,0)","v":1},1,1,{"$f":"IF($C365=1,'Sjekkliste for utfylling'!A581,\"\")","v":364},{"$f":"IF($C365=1,'Sjekkliste for utfylling'!B581,\"\")","v":"Oppbevaring\nBlir skiftlapper, rapport fra taksameter som viser hver enkelt salgstransaksjon samt kassaavstemming oppbevart i 5 år etter regnskapsårets slutt?"},null,{"$f":"IF(C365=1,'Sjekkliste for utfylling'!L581,\" \")","v":0}]
[{"$f":"'Sjekkliste for utfylling'!A583","v":365},{"$f":"IF('Sjekkliste for utfylling'!K583<>\"\",1,0)","v":1},1,{"$f":"IF($C366=1,1,0)","v":1},{"$f":"IF($C366=1,'Sjekkliste for utfylling'!A583,\"\")","v":365},{"$f":"IF($C366=1,'Sjekkliste for utfylling'!B583,\"\")","v":"Spesifikasjon\nEr kjøp av varer bokført slik at disse kan spesifiseres for salgsvarer og behandlingsvarer?"},null,{"$f":"IF(C366=1,'Sjekkliste for utfylling'!L583,\" \")","v":0}]
[{"$f":"'Sjekkliste for utfylling'!A584","v":366},{"$f":"IF('Sjekkliste for utfylling'!K584<>\"\",1,0)","v":1},1,1,{"$f":"IF($C367=1,'Sjekkliste for utfylling'!A584,\"\")","v":366},{"$f":"IF($C367=1,'Sjekkliste for utfylling'!B584,\"\")","v":"Kan omsetning og uttak spesifiseres for varesalg og salg av behandlingstjenester?"},null,{"$f":"IF(C367=1,'Sjekkliste for utfylling'!L584,\" \")","v":0}]
[{"$f":"'Sjekkliste for utfylling'!A585","v":367},{"$f":"IF('Sjekkliste for utfylling'!K585<>\"\",1,0)","v":1},1,1,{"$f":"IF($C368=1,'Sjekkliste for utfylling'!A585,\"\")","v":367},{"$f":"IF($C368=1,'Sjekkliste for utfylling'!B585,\"\")","v":"For frisørvirksomhet: er omsetning knyttet til klipp spesifisert og skilt ut fra øvrige behandlingstjenester?"},null,{"$f":"IF(C368=1,'Sjekkliste for utfylling'!L585,\" \")","v":0}]
[{"$f":"'Sjekkliste for utfylling'!A586","v":368},{"$f":"IF('Sjekkliste for utfylling'!K586<>\"\",1,0)","v":1},1,1,{"$f":"IF($C369=1,'Sjekkliste for utfylling'!A586,\"\")","v":368},{"$f":"IF($C369=1,'Sjekkliste for utfylling'!B586,\"\")","v":"Ved varetelling: er varene gruppert adskilt for salgsvarer og behandlingsvarer"},null,{"$f":"IF(C369=1,'Sjekkliste for utfylling'!L586,\" \")","v":0}]
[{"$f":"'Sjekkliste for utfylling'!A587","v":369},{"$f":"IF('Sjekkliste for utfylling'!K587<>\"\",1,0)","v":1},1,1,{"$f":"IF($C370=1,'Sjekkliste for utfylling'!A587,\"\")","v":369},{"$f":"IF($C370=1,'Sjekkliste for utfylling'!B587,\"\")","v":"Dokumentasjon av kontantsalg\nViser z-raportene, som omtalt i delkapittel 5-3, omsetning pr. ansatt fordelt på varesalg og salg av behandlingstjenester?"},null,{"$f":"IF(C370=1,'Sjekkliste for utfylling'!L587,\" \")","v":0}]
[{"$f":"'Sjekkliste for utfylling'!A588","v":370},{"$f":"IF('Sjekkliste for utfylling'!K588<>\"\",1,0)","v":1},1,1,{"$f":"IF($C371=1,'Sjekkliste for utfylling'!A588,\"\")","v":370},{"$f":"IF($C371=1,'Sjekkliste for utfylling'!B588,\"\")","v":"For frisørvirksomhet, viser z-rapportene også omsetning av klipp adskilt fra øvrige behandlingstjenester?"},null,{"$f":"IF(C371=1,'Sjekkliste for utfylling'!L588,\" \")","v":0}]
[{"$f":"'Sjekkliste for utfylling'!A589","v":371},{"$f":"IF('Sjekkliste for utfylling'!K589<>\"\",1,0)","v":1},1,1,{"$f":"IF($C372=1,'Sjekkliste for utfylling'!A589,\"\")","v":371},{"$f":"IF($C372=1,'Sjekkliste for utfylling'!B589,\"\")","v":"Timebestilling\nEr behandlingstype registrert (se også spørsmål 216-218)?"},null,{"$f":"IF(C372=1,'Sjekkliste for utfylling'!L589,\" \")","v":0}]
[{"$f":"'Sjekkliste for utfylling'!A590","v":372},{"$f":"IF('Sjekkliste for utfylling'!K590<>\"\",1,0)","v":1},1,1,{"$f":"IF($C373=1,'Sjekkliste for utfylling'!A590,\"\")","v":372},{"$f":"IF($C373=1,'Sjekkliste for utfylling'!B590,\"\")","v":"Dokumentasjon av priser\nEr det utarbeidet oversikt over de til enhver tid gjeldene priser?"},null,{"$f":"IF(C373=1,'Sjekkliste for utfylling'!L590,\" \")","v":0}]
[{"$f":"'Sjekkliste for utfylling'!A591","v":373},{"$f":"IF('Sjekkliste for utfylling'!K591<>\"\",1,0)","v":1},1,1,{"$f":"IF($C374=1,'Sjekkliste for utfylling'!A591,\"\")","v":373},{"$f":"IF($C374=1,'Sjekkliste for utfylling'!B591,\"\")","v":"Er det utarbeidet tilsvarende oversikt over priser som brukes ved uttak til eiere og ansatte?"},null,{"$f":"IF(C374=1,'Sjekkliste for utfylling'!L591,\" \")","v":0}]
[{"$f":"'Sjekkliste for utfylling'!A592","v":374},{"$f":"IF('Sjekkliste for utfylling'!K592<>\"\",1,0)","v":1},1,1,{"$f":"IF($C375=1,'Sjekkliste for utfylling'!A592,\"\")","v":374},{"$f":"IF($C375=1,'Sjekkliste for utfylling'!B592,\"\")","v":"Er prisoversiktene datert og signert av den som har ansvaret for å fastsette prisene?"},null,{"$f":"IF(C375=1,'Sjekkliste for utfylling'!L592,\" \")","v":0}]
[{"$f":"'Sjekkliste for utfylling'!A593","v":375},{"$f":"IF('Sjekkliste for utfylling'!K593<>\"\",1,0)","v":1},1,1,{"$f":"IF($C376=1,'Sjekkliste for utfylling'!A593,\"\")","v":375},{"$f":"IF($C376=1,'Sjekkliste for utfylling'!B593,\"\")","v":"Dokumentasjon av varelager\nEr varene gruppert adskilt for salgsvarer og behandlingsvarer?"},null,{"$f":"IF(C376=1,'Sjekkliste for utfylling'!L593,\" \")","v":0}]
[{"$f":"'Sjekkliste for utfylling'!A596","v":376},{"$f":"IF('Sjekkliste for utfylling'!K596<>\"\",1,0)","v":1},1,1,{"$f":"IF($C377=1,'Sjekkliste for utfylling'!A596,\"\")","v":376},{"$f":"IF($C377=1,'Sjekkliste for utfylling'!B596,\"\")","v":"Spesifikasjon\nEr innkjøpte varer for videresalg, omsetning og uttak bokført slik at disse kan spesifiseres på varegruppene mat, øl, vin, brennevin, rusbrus/cider, mineralvann, annen drikke, tobakk og andre varer?"},null,{"$f":"IF(C377=1,'Sjekkliste for utfylling'!L596,\" \")","v":0}]
[{"$f":"'Sjekkliste for utfylling'!A597","v":377},{"$f":"IF('Sjekkliste for utfylling'!K597<>\"\",1,0)","v":1},1,1,{"$f":"IF($C378=1,'Sjekkliste for utfylling'!A597,\"\")","v":377},{"$f":"IF($C378=1,'Sjekkliste for utfylling'!B597,\"\")","v":"Er eventuelle garderobeinntekter, inngangspenger (cover charge) og spilleinntekter fra automater spesifisert?"},null,{"$f":"IF(C378=1,'Sjekkliste for utfylling'!L597,\" \")","v":0}]
[{"$f":"'Sjekkliste for utfylling'!A599","v":378},{"$f":"IF('Sjekkliste for utfylling'!K599<>\"\",1,0)","v":1},1,1,{"$f":"IF($C379=1,'Sjekkliste for utfylling'!A599,\"\")","v":378},{"$f":"IF($C379=1,'Sjekkliste for utfylling'!B599,\"\")","v":"Registreres salg av mat og drikke mv fortløpende på kassaapparat, selv om betaling skjer når gjesten forlater serveringsstedet?\n\nSlik registrering skal enten skje ved at salget registreres fortløpende på bordnummer eller lignende, mens kvittering tas ut når gjesten skal betale, eller ved at salget registreres hver gang det serveres mat eller drikke mv med samtidig utskriving av kvittering fra kassaapparatet."},null,{"$f":"IF(C379=1,'Sjekkliste for utfylling'!L599,\" \")","v":0}]
[{"$f":"'Sjekkliste for utfylling'!A600","v":379},{"$f":"IF('Sjekkliste for utfylling'!K600<>\"\",1,0)","v":1},1,1,{"$f":"IF($C380=1,'Sjekkliste for utfylling'!A600,\"\")","v":379},{"$f":"IF($C380=1,'Sjekkliste for utfylling'!B600,\"\")","v":"Blir opplysninger om gjester som gis fri adgang eller fri garderobe på grunnlag av medlemsskap eller lignende registrert på kassasystemet?"},null,{"$f":"IF(C380=1,'Sjekkliste for utfylling'!L600,\" \")","v":0}]
[{"$f":"'Sjekkliste for utfylling'!A601","v":380},{"$f":"IF('Sjekkliste for utfylling'!K601<>\"\",1,0)","v":1},1,1,{"$f":"IF($C381=1,'Sjekkliste for utfylling'!A601,\"\")","v":380},{"$f":"IF($C381=1,'Sjekkliste for utfylling'!B601,\"\")","v":"Blir opplysningene spesifisert i X- og Y-rapport med angivelse av antall for hver tjenestegruppe?"},null,{"$f":"IF(C381=1,'Sjekkliste for utfylling'!L601,\" \")","v":0}]
[{"$f":"'Sjekkliste for utfylling'!A602","v":381},{"$f":"IF('Sjekkliste for utfylling'!K602<>\"\",1,0)","v":1},1,1,{"$f":"IF($C382=1,'Sjekkliste for utfylling'!A602,\"\")","v":381},{"$f":"IF($C382=1,'Sjekkliste for utfylling'!B602,\"\")","v":"Dokumentasjon av priser\nEr det utarbeidet oversikt over de til enhver tid gjeldene priser?"},null,{"$f":"IF(C382=1,'Sjekkliste for utfylling'!L602,\" \")","v":0}]
[{"$f":"'Sjekkliste for utfylling'!A603","v":382},{"$f":"IF('Sjekkliste for utfylling'!K603<>\"\",1,0)","v":1},1,1,{"$f":"IF($C383=1,'Sjekkliste for utfylling'!A603,\"\")","v":382},{"$f":"IF($C383=1,'Sjekkliste for utfylling'!B603,\"\")","v":"Er det utarbeidet tilsvarende oversikt over priser som brukes ved uttak til eiere, ansatte, artister og gjester?"},null,{"$f":"IF(C383=1,'Sjekkliste for utfylling'!L603,\" \")","v":0}]
[{"$f":"'Sjekkliste for utfylling'!A604","v":383},{"$f":"IF('Sjekkliste for utfylling'!K604<>\"\",1,0)","v":1},1,1,{"$f":"IF($C384=1,'Sjekkliste for utfylling'!A604,\"\")","v":383},{"$f":"IF($C384=1,'Sjekkliste for utfylling'!B604,\"\")","v":"Er prisoversiktene datert og signert av den som har ansvaret for å fastsette prisene?"},null,{"$f":"IF(C384=1,'Sjekkliste for utfylling'!L604,\" \")","v":0}]
[{"$f":"'Sjekkliste for utfylling'!A606","v":384},{"$f":"IF('Sjekkliste for utfylling'!K606<>\"\",1,0)","v":1},1,1,{"$f":"IF($C385=1,'Sjekkliste for utfylling'!A606,\"\")","v":384},{"$f":"IF($C385=1,'Sjekkliste for utfylling'!B606,\"\")","v":"Dokumentasjon av varelager\nEr varene gruppert i mat, øl, vin, brennevin, rusbrus/cider, mineralvann, annen drikke, tobakk og andre varer?"},null,{"$f":"IF(C385=1,'Sjekkliste for utfylling'!L606,\" \")","v":0}]
[{"$f":"'Sjekkliste for utfylling'!A607","v":385},{"$f":"IF('Sjekkliste for utfylling'!K607<>\"\",1,0)","v":1},{"$f":"SUM(B386:B386)","v":1},1,{"$f":"IF($C386=1,'Sjekkliste for utfylling'!A607,\"\")","v":385},{"$f":"IF($C386=1,'Sjekkliste for utfylling'!B607,\"\")","v":"Oppbevaring\nOppbevares dokumentasjon av priser (spørsmål 372-374) og personalliste med eventuell kodeoversikt (spørsmål 327) i 3 år og 6 måneder etter regnskapsårets slutt?"},null,{"$f":"IF(C386=1,'Sjekkliste for utfylling'!L607,\" \")","v":0}]
[{"$f":"'Sjekkliste for utfylling'!A609","v":386},{"$f":"IF('Sjekkliste for utfylling'!K609<>\"\",1,0)","v":1},1,1,{"$f":"IF($C387=1,'Sjekkliste for utfylling'!A609,\"\")","v":386},{"$f":"IF($C387=1,'Sjekkliste for utfylling'!B609,\"\")","v":"Spesifikasjon\nEr bokføringen innrettet slik at transaksjoner knyttet til helpensjon, halvpensjon og overnatting med frokost kan spesifiseres hver for seg?"},null,{"$f":"IF(C387=1,'Sjekkliste for utfylling'!L609,\" \")","v":0}]
[{"$f":"'Sjekkliste for utfylling'!A610","v":387},{"$f":"IF('Sjekkliste for utfylling'!K610<>\"\",1,0)","v":1},1,1,{"$f":"IF($C388=1,'Sjekkliste for utfylling'!A610,\"\")","v":387},{"$f":"IF($C388=1,'Sjekkliste for utfylling'!B610,\"\")","v":"Er fordeling av pensjonspriser mellom omsetning som avgiftsberegnes med de ulike satsene eller som er unntatt merverdiavgiftsloven, spesifisert for hver rapportperiode?"},null,{"$f":"IF(C388=1,'Sjekkliste for utfylling'!L610,\" \")","v":0}]
[{"$f":"'Sjekkliste for utfylling'!A611","v":388},{"$f":"IF('Sjekkliste for utfylling'!K611<>\"\",1,0)","v":1},1,1,{"$f":"IF($C389=1,'Sjekkliste for utfylling'!A611,\"\")","v":388},{"$f":"IF($C389=1,'Sjekkliste for utfylling'!B611,\"\")","v":"Oppbevaring\nBlir kalkyler som grunnlag for fordelingen av bruttopensjonspriser og kalkyle for frokostverdi oppbevart i 5 år etter regnskapsårets slutt?"},null,{"$f":"IF(C389=1,'Sjekkliste for utfylling'!L611,\" \")","v":0}]
[{"$f":"'Sjekkliste for utfylling'!A613","v":389},{"$f":"IF('Sjekkliste for utfylling'!K613<>\"\",1,0)","v":1},1,1,{"$f":"IF($C390=1,'Sjekkliste for utfylling'!A613,\"\")","v":389},{"$f":"IF($C390=1,'Sjekkliste for utfylling'!B613,\"\")","v":"Bokføring\nEr alle leveranser, utbetalt utbytte samt bidrag fra almenningen bokført slik at opplysningene kan spesifiseres for hver enkelt bruksberettiget?"},null,{"$f":"IF(C390=1,'Sjekkliste for utfylling'!L613,\" \")","v":0}]
[{"$f":"'Sjekkliste for utfylling'!A614","v":390},{"$f":"IF('Sjekkliste for utfylling'!K614<>\"\",1,0)","v":1},1,1,{"$f":"IF($C391=1,'Sjekkliste for utfylling'!A614,\"\")","v":390},{"$f":"IF($C391=1,'Sjekkliste for utfylling'!B614,\"\")","v":"Dokumentasjon\nFremgår det av dokumentasjonen hvilke kvanta som er levert?"},null,{"$f":"IF(C391=1,'Sjekkliste for utfylling'!L614,\" \")","v":0}]
[{"$f":"'Sjekkliste for utfylling'!A615","v":391},{"$f":"IF('Sjekkliste for utfylling'!K615<>\"\",1,0)","v":1},1,1,{"$f":"IF($C392=1,'Sjekkliste for utfylling'!A615,\"\")","v":391},{"$f":"IF($C392=1,'Sjekkliste for utfylling'!B615,\"\")","v":"Fremgår både verdi beregnet etter vanlige priser ved detaljomsetning i åpent marked, og den betaling som den bruksberettigede har erlagt for leveranser av tømmer, ved, skurlast, høvellast, torv mv.?"},null,{"$f":"IF(C392=1,'Sjekkliste for utfylling'!L615,\" \")","v":0}]
[{"$f":"'Sjekkliste for utfylling'!A616","v":392},{"$f":"IF('Sjekkliste for utfylling'!K616<>\"\",1,0)","v":1},1,1,{"$f":"IF($C393=1,'Sjekkliste for utfylling'!A616,\"\")","v":392},{"$f":"IF($C393=1,'Sjekkliste for utfylling'!B616,\"\")","v":"Er virkets antatte rotverdi ved salg i åpent marked anført når den bruksberettigede har fått utvist tømmer og ved på rot?"},null,{"$f":"IF(C393=1,'Sjekkliste for utfylling'!L616,\" \")","v":0}]
[{"$f":"'Sjekkliste for utfylling'!A617","v":393},{"$f":"IF('Sjekkliste for utfylling'!K617<>\"\",1,0)","v":1},1,1,{"$f":"IF($C394=1,'Sjekkliste for utfylling'!A617,\"\")","v":393},{"$f":"IF($C394=1,'Sjekkliste for utfylling'!B617,\"\")","v":"Er det anført hvor mye av utbetalt utbytte eller bidrag som tidligere er skattlagt på allmenningens hånd?"},null,{"$f":"IF(C394=1,'Sjekkliste for utfylling'!L617,\" \")","v":0}]
[{"$f":"'Sjekkliste for utfylling'!A620","v":394},{"$f":"IF('Sjekkliste for utfylling'!K620<>\"\",1,0)","v":1},1,1,{"$f":"IF($C395=1,'Sjekkliste for utfylling'!A620,\"\")","v":394},{"$f":"IF($C395=1,'Sjekkliste for utfylling'!B620,\"\")","v":"Bokføring\nEr bokføringen innrettet slik at alle økonomiske transaksjoner mellom den bokføringspliktige og foretak med interessefellesskap trer klart frem og slik at disse transaksjoner kan påvises enkeltvis og samlet?"},null,{"$f":"IF(C395=1,'Sjekkliste for utfylling'!L620,\" \")","v":0}]
[{"$f":"'Sjekkliste for utfylling'!A621","v":395},{"$f":"IF('Sjekkliste for utfylling'!K621<>\"\",1,0)","v":1},1,1,{"$f":"IF($C396=1,'Sjekkliste for utfylling'!A621,\"\")","v":395},{"$f":"IF($C396=1,'Sjekkliste for utfylling'!B621,\"\")","v":"Spesifikasjon\nFor bokføringspliktige som har påtatt seg oppdrag som for oppdragsgiveren er rapporteringspliktig i henhold til skatteforvaltningsloven § 7-6, kan inntekter og direkte kostnader spesifiseres for hver kontrakt? "},null,{"$f":"IF(C396=1,'Sjekkliste for utfylling'!L621,\" \")","v":0}]
[{"$f":"'Sjekkliste for utfylling'!A622","v":396},{"$f":"IF('Sjekkliste for utfylling'!K622<>\"\",1,0)","v":1},1,1,{"$f":"IF($C397=1,'Sjekkliste for utfylling'!A622,\"\")","v":396},{"$f":"IF($C397=1,'Sjekkliste for utfylling'!B622,\"\")","v":"Er det mulig å kontrollere at all inntekt vedrørende slik virksomhet er tatt med i regnskapet?"},null,{"$f":"IF(C397=1,'Sjekkliste for utfylling'!L622,\" \")","v":0}]
[{"$f":"'Sjekkliste for utfylling'!A623","v":397},{"$f":"IF('Sjekkliste for utfylling'!K623<>\"\",1,0)","v":1},1,{"$f":"IF($C398=1,1,0)","v":1},{"$f":"IF($C398=1,'Sjekkliste for utfylling'!A623,\"\")","v":397},{"$f":"IF($C398=1,'Sjekkliste for utfylling'!B623,\"\")","v":"Dokumentasjon\nForeligge det en oppstilling som viser hvilke kostnader som inngår i fordelingen av indirekte kostnader, samt anvendte fordelingsnøkler? \n\nSammen med oppstillingen skal det være en forklaring på de anvendte fordelingsprinsipper, herunder hvordan belastninger og godskrivinger er fordelt mellom de enkelte selskapsenheter og/eller foretak med interessefellesskap."},null,{"$f":"IF(C398=1,'Sjekkliste for utfylling'!L623,\" \")","v":0}]
[{"$f":"'Sjekkliste for utfylling'!A624","v":398},{"$f":"IF('Sjekkliste for utfylling'!K624<>\"\",1,0)","v":1},1,1,{"$f":"IF($C399=1,'Sjekkliste for utfylling'!A624,\"\")","v":398},{"$f":"IF($C399=1,'Sjekkliste for utfylling'!B624,\"\")","v":"Oppbevaring\nBlir oppstilling som viser hvilke kostnader som inngår i fordelingen av indirekte kostnader, oppbevart i 10 år?"},null,{"$f":"IF(C399=1,'Sjekkliste for utfylling'!L624,\" \")","v":0}]
[{"$f":"'Sjekkliste for utfylling'!A626","v":399},{"$f":"IF('Sjekkliste for utfylling'!K626<>\"\",1,0)","v":1},1,1,{"$f":"IF($C400=1,'Sjekkliste for utfylling'!A626,\"\")","v":399},{"$f":"IF($C400=1,'Sjekkliste for utfylling'!B626,\"\")","v":"Bokføring\nVed salg og uttak av petroleum, er både fakturerte eller avregnede priser og fastsatte normpriser registreret?"},null,{"$f":"IF(C400=1,'Sjekkliste for utfylling'!L626,\" \")","v":0}]
[{"$f":"'Sjekkliste for utfylling'!A628","v":400},{"$f":"IF('Sjekkliste for utfylling'!K628<>\"\",1,0)","v":1},1,1,{"$f":"IF($C401=1,'Sjekkliste for utfylling'!A628,\"\")","v":400},{"$f":"IF($C401=1,'Sjekkliste for utfylling'!B628,\"\")","v":"a) hvem som kjøper?"},null,{"$f":"IF(C401=1,'Sjekkliste for utfylling'!L628,\" \")","v":0}]
[{"$f":"'Sjekkliste for utfylling'!A629","v":401},{"$f":"IF('Sjekkliste for utfylling'!K629<>\"\",1,0)","v":1},1,1,{"$f":"IF($C402=1,'Sjekkliste for utfylling'!A629,\"\")","v":401},{"$f":"IF($C402=1,'Sjekkliste for utfylling'!B629,\"\")","v":"b) når kontrakten er inngått?"},null,{"$f":"IF(C402=1,'Sjekkliste for utfylling'!L629,\" \")","v":0}]
[{"$f":"'Sjekkliste for utfylling'!A630","v":402},{"$f":"IF('Sjekkliste for utfylling'!K630<>\"\",1,0)","v":1},1,1,{"$f":"IF($C403=1,'Sjekkliste for utfylling'!A630,\"\")","v":402},{"$f":"IF($C403=1,'Sjekkliste for utfylling'!B630,\"\")","v":"c) når petroleumen passerte leveringsstedet (det leveringssted som er lagt til grunn for det enkelte normprisvedtak)?"},null,{"$f":"IF(C403=1,'Sjekkliste for utfylling'!L630,\" \")","v":0}]
[{"$f":"'Sjekkliste for utfylling'!A631","v":403},{"$f":"IF('Sjekkliste for utfylling'!K631<>\"\",1,0)","v":1},1,1,{"$f":"IF($C404=1,'Sjekkliste for utfylling'!A631,\"\")","v":403},{"$f":"IF($C404=1,'Sjekkliste for utfylling'!B631,\"\")","v":"d) petroleumens art?  "},null,{"$f":"IF(C404=1,'Sjekkliste for utfylling'!L631,\" \")","v":0}]
[{"$f":"'Sjekkliste for utfylling'!A632","v":404},{"$f":"IF('Sjekkliste for utfylling'!K632<>\"\",1,0)","v":1},1,1,{"$f":"IF($C405=1,'Sjekkliste for utfylling'!A632,\"\")","v":404},{"$f":"IF($C405=1,'Sjekkliste for utfylling'!B632,\"\")","v":"e) leveringsvilkår? "},null,{"$f":"IF(C405=1,'Sjekkliste for utfylling'!L632,\" \")","v":0}]
[{"$f":"'Sjekkliste for utfylling'!A633","v":405},{"$f":"IF('Sjekkliste for utfylling'!K633<>\"\",1,0)","v":1},1,1,{"$f":"IF($C406=1,'Sjekkliste for utfylling'!A633,\"\")","v":405},{"$f":"IF($C406=1,'Sjekkliste for utfylling'!B633,\"\")","v":"f) kredittid?"},null,{"$f":"IF(C406=1,'Sjekkliste for utfylling'!L633,\" \")","v":0}]
[{"$f":"'Sjekkliste for utfylling'!A634","v":406},{"$f":"IF('Sjekkliste for utfylling'!K634<>\"\",1,0)","v":1},1,1,{"$f":"IF($C407=1,'Sjekkliste for utfylling'!A634,\"\")","v":406},{"$f":"IF($C407=1,'Sjekkliste for utfylling'!B634,\"\")","v":"g) betalingsvaluta?"},null,{"$f":"IF(C407=1,'Sjekkliste for utfylling'!L634,\" \")","v":0}]
[{"$f":"'Sjekkliste for utfylling'!A635","v":407},{"$f":"IF('Sjekkliste for utfylling'!K635<>\"\",1,0)","v":1},1,1,{"$f":"IF($C408=1,'Sjekkliste for utfylling'!A635,\"\")","v":407},{"$f":"IF($C408=1,'Sjekkliste for utfylling'!B635,\"\")","v":"h) fraktbeløp (ved andre leveringsvilkår enn FOB)?"},null,{"$f":"IF(C408=1,'Sjekkliste for utfylling'!L635,\" \")","v":0}]
[{"$f":"'Sjekkliste for utfylling'!A636","v":408},{"$f":"IF('Sjekkliste for utfylling'!K636<>\"\",1,0)","v":1},1,1,{"$f":"IF($C409=1,'Sjekkliste for utfylling'!A636,\"\")","v":408},{"$f":"IF($C409=1,'Sjekkliste for utfylling'!B636,\"\")","v":"i) kvantum?"},null,{"$f":"IF(C409=1,'Sjekkliste for utfylling'!L636,\" \")","v":0}]
[{"$f":"'Sjekkliste for utfylling'!A637","v":409},{"$f":"IF('Sjekkliste for utfylling'!K637<>\"\",1,0)","v":1},1,1,{"$f":"IF($C410=1,'Sjekkliste for utfylling'!A637,\"\")","v":409},{"$f":"IF($C410=1,'Sjekkliste for utfylling'!B637,\"\")","v":"j) faktura, eller avregningspris pr. enhet?"},null,{"$f":"IF(C410=1,'Sjekkliste for utfylling'!L637,\" \")","v":0}]
[{"$f":"'Sjekkliste for utfylling'!A638","v":410},{"$f":"IF('Sjekkliste for utfylling'!K638<>\"\",1,0)","v":1},1,1,{"$f":"IF($C411=1,'Sjekkliste for utfylling'!A638,\"\")","v":410},{"$f":"IF($C411=1,'Sjekkliste for utfylling'!B638,\"\")","v":"k) normpris pr. enhet?"},null,{"$f":"IF(C411=1,'Sjekkliste for utfylling'!L638,\" \")","v":0}]
[{"$f":"'Sjekkliste for utfylling'!A639","v":411},{"$f":"IF('Sjekkliste for utfylling'!K639<>\"\",1,0)","v":1},1,1,{"$f":"IF($C412=1,'Sjekkliste for utfylling'!A639,\"\")","v":411},{"$f":"IF($C412=1,'Sjekkliste for utfylling'!B639,\"\")","v":"l) salg eller uttak etter faktura- eller avregningspris?"},null,{"$f":"IF(C412=1,'Sjekkliste for utfylling'!L639,\" \")","v":0}]
[{"$f":"'Sjekkliste for utfylling'!A640","v":412},{"$f":"IF('Sjekkliste for utfylling'!K640<>\"\",1,0)","v":1},1,1,{"$f":"IF($C413=1,'Sjekkliste for utfylling'!A640,\"\")","v":412},{"$f":"IF($C413=1,'Sjekkliste for utfylling'!B640,\"\")","v":"m) salg eller uttak etter fastsatt normpris?"},null,{"$f":"IF(C413=1,'Sjekkliste for utfylling'!L640,\" \")","v":0}]
[{"$f":"'Sjekkliste for utfylling'!A641","v":413},{"$f":"IF('Sjekkliste for utfylling'!K641<>\"\",1,0)","v":1},1,1,{"$f":"IF($C414=1,'Sjekkliste for utfylling'!A641,\"\")","v":413},{"$f":"IF($C414=1,'Sjekkliste for utfylling'!B641,\"\")","v":"Oppbevaring\nBlir oppbevaringspliktig materiale oppbevart ordnet i minst 15 år etter utløpet av vedkommende inntektsår?"},null,{"$f":"IF(C414=1,'Sjekkliste for utfylling'!L641,\" \")","v":0}]
[{"$f":"'Sjekkliste for utfylling'!A644","v":414},{"$f":"IF('Sjekkliste for utfylling'!K644<>\"\",1,0)","v":1},1,1,{"$f":"IF($C415=1,'Sjekkliste for utfylling'!A644,\"\")","v":414},{"$f":"IF($C415=1,'Sjekkliste for utfylling'!B644,\"\")","v":"a) gjenstandens nr. (gjenstandene skal merkes med samme nr.)?"},null,{"$f":"IF(C415=1,'Sjekkliste for utfylling'!L644,\" \")","v":0}]
[{"$f":"'Sjekkliste for utfylling'!A645","v":415},{"$f":"IF('Sjekkliste for utfylling'!K645<>\"\",1,0)","v":1},1,1,{"$f":"IF($C416=1,'Sjekkliste for utfylling'!A645,\"\")","v":415},{"$f":"IF($C416=1,'Sjekkliste for utfylling'!B645,\"\")","v":"b) kjøpsdato?"},null,{"$f":"IF(C416=1,'Sjekkliste for utfylling'!L645,\" \")","v":0}]
[{"$f":"'Sjekkliste for utfylling'!A646","v":416},{"$f":"IF('Sjekkliste for utfylling'!K646<>\"\",1,0)","v":1},1,1,{"$f":"IF($C417=1,'Sjekkliste for utfylling'!A646,\"\")","v":416},{"$f":"IF($C417=1,'Sjekkliste for utfylling'!B646,\"\")","v":"c) kjøpssum?"},null,{"$f":"IF(C417=1,'Sjekkliste for utfylling'!L646,\" \")","v":0}]
[{"$f":"'Sjekkliste for utfylling'!A647","v":417},{"$f":"IF('Sjekkliste for utfylling'!K647<>\"\",1,0)","v":1},1,1,{"$f":"IF($C418=1,'Sjekkliste for utfylling'!A647,\"\")","v":417},{"$f":"IF($C418=1,'Sjekkliste for utfylling'!B647,\"\")","v":"d) en klar beskrivelse av varen samt antall, størrelse, mengde eller vekt?"},null,{"$f":"IF(C418=1,'Sjekkliste for utfylling'!L647,\" \")","v":0}]
[{"$f":"'Sjekkliste for utfylling'!A648","v":418},{"$f":"IF('Sjekkliste for utfylling'!K648<>\"\",1,0)","v":1},1,1,{"$f":"IF($C419=1,'Sjekkliste for utfylling'!A648,\"\")","v":418},{"$f":"IF($C419=1,'Sjekkliste for utfylling'!B648,\"\")","v":"e) navn og adresse til den person gjenstanden er ervervet fra?  "},null,{"$f":"IF(C419=1,'Sjekkliste for utfylling'!L648,\" \")","v":0}]
[{"$f":"'Sjekkliste for utfylling'!A649","v":419},{"$f":"IF('Sjekkliste for utfylling'!K649<>\"\",1,0)","v":1},1,1,{"$f":"IF($C420=1,'Sjekkliste for utfylling'!A649,\"\")","v":419},{"$f":"IF($C420=1,'Sjekkliste for utfylling'!B649,\"\")","v":"f) salgsdato?"},null,{"$f":"IF(C420=1,'Sjekkliste for utfylling'!L649,\" \")","v":0}]
[{"$f":"'Sjekkliste for utfylling'!A650","v":420},{"$f":"IF('Sjekkliste for utfylling'!K650<>\"\",1,0)","v":1},1,1,{"$f":"IF($C421=1,'Sjekkliste for utfylling'!A650,\"\")","v":420},{"$f":"IF($C421=1,'Sjekkliste for utfylling'!B650,\"\")","v":"g) salgssum, inkludert avgift?"},null,{"$f":"IF(C421=1,'Sjekkliste for utfylling'!L650,\" \")","v":0}]
[{"$f":"'Sjekkliste for utfylling'!A651","v":421},{"$f":"IF('Sjekkliste for utfylling'!K651<>\"\",1,0)","v":1},1,1,{"$f":"IF($C422=1,'Sjekkliste for utfylling'!A651,\"\")","v":421},{"$f":"IF($C422=1,'Sjekkliste for utfylling'!B651,\"\")","v":"h) beregningsgrunnlag utgående avgift?"},null,{"$f":"IF(C422=1,'Sjekkliste for utfylling'!L651,\" \")","v":0}]
[{"$f":"'Sjekkliste for utfylling'!A652","v":422},{"$f":"IF('Sjekkliste for utfylling'!K652<>\"\",1,0)","v":1},1,1,{"$f":"IF($C423=1,'Sjekkliste for utfylling'!A652,\"\")","v":422},{"$f":"IF($C423=1,'Sjekkliste for utfylling'!B652,\"\")","v":"Fremgår det av spesifikasjonen om avansen eller de alminnelige regler for avgiftsberegningen er lagt til grunn ved avgiftsberegningen ved videresalget av gjenstanden?"},null,{"$f":"IF(C423=1,'Sjekkliste for utfylling'!L652,\" \")","v":0}]
[{"$f":"'Sjekkliste for utfylling'!A653","v":423},{"$f":"IF('Sjekkliste for utfylling'!K653<>\"\",1,0)","v":1},1,1,{"$f":"IF($C424=1,'Sjekkliste for utfylling'!A653,\"\")","v":423},{"$f":"IF($C424=1,'Sjekkliste for utfylling'!B653,\"\")","v":"Ved samlede kjøp hvor prisen på den enkelte vare ikke er kjent, er det under pkt. d) minimum angitt hovedgrupper av varer som er innkjøpt samt en nøyaktig angivelse av det antall gjenstander som er innkjøpt med antatt pris som overstiger kr 300? \n(Gjenstander med pris over kr 300 skal merkes med det nummeret som er benyttet i spesifikasjonen.)\n\nSalg fra samlede kjøp kreves ikke spesifisert."},null,{"$f":"IF(C424=1,'Sjekkliste for utfylling'!L653,\" \")","v":0}]
[{"$f":"'Sjekkliste for utfylling'!A654","v":424},{"$f":"IF('Sjekkliste for utfylling'!K654<>\"\",1,0)","v":1},1,1,{"$f":"IF($C425=1,'Sjekkliste for utfylling'!A654,\"\")","v":424},{"$f":"IF($C425=1,'Sjekkliste for utfylling'!B654,\"\")","v":"Dokumentasjon av kjøp\nForeligger det salgsdokument også når selger av gjenstanden ikke er bokføringspliktig, eventuelt i form av avregningsseddel eller annet bilag som videreforhandleren utsteder?"},null,{"$f":"IF(C425=1,'Sjekkliste for utfylling'!L654,\" \")","v":0}]
[{"$f":"'Sjekkliste for utfylling'!A656","v":425},{"$f":"IF('Sjekkliste for utfylling'!K656<>\"\",1,0)","v":1},1,1,{"$f":"IF($C426=1,'Sjekkliste for utfylling'!A656,\"\")","v":425},{"$f":"IF($C426=1,'Sjekkliste for utfylling'!B656,\"\")","v":"• videreforhandlerens navn?"},null,{"$f":"IF(C426=1,'Sjekkliste for utfylling'!L656,\" \")","v":0}]
[{"$f":"'Sjekkliste for utfylling'!A657","v":426},{"$f":"IF('Sjekkliste for utfylling'!K657<>\"\",1,0)","v":1},1,1,{"$f":"IF($C427=1,'Sjekkliste for utfylling'!A657,\"\")","v":426},{"$f":"IF($C427=1,'Sjekkliste for utfylling'!B657,\"\")","v":"• kjøpsdato?  "},null,{"$f":"IF(C427=1,'Sjekkliste for utfylling'!L657,\" \")","v":0}]
[{"$f":"'Sjekkliste for utfylling'!A658","v":427},{"$f":"IF('Sjekkliste for utfylling'!K658<>\"\",1,0)","v":1},1,1,{"$f":"IF($C428=1,'Sjekkliste for utfylling'!A658,\"\")","v":427},{"$f":"IF($C428=1,'Sjekkliste for utfylling'!B658,\"\")","v":"• kjøpssum?  "},null,{"$f":"IF(C428=1,'Sjekkliste for utfylling'!L658,\" \")","v":0}]
[{"$f":"'Sjekkliste for utfylling'!A659","v":428},{"$f":"IF('Sjekkliste for utfylling'!K659<>\"\",1,0)","v":1},1,1,{"$f":"IF($C429=1,'Sjekkliste for utfylling'!A659,\"\")","v":428},{"$f":"IF($C429=1,'Sjekkliste for utfylling'!B659,\"\")","v":"• en klar beskrivelse av varen samt antall, størrelse, mengde eller vekt?  "},null,{"$f":"IF(C429=1,'Sjekkliste for utfylling'!L659,\" \")","v":0}]
[{"$f":"'Sjekkliste for utfylling'!A660","v":429},{"$f":"IF('Sjekkliste for utfylling'!K660<>\"\",1,0)","v":1},1,{"$f":"IF($C430=1,1,0)","v":1},{"$f":"IF($C430=1,'Sjekkliste for utfylling'!A660,\"\")","v":429},{"$f":"IF($C430=1,'Sjekkliste for utfylling'!B660,\"\")","v":"• navn og adresse til den person gjenstanden er ervervet fra?  "},null,{"$f":"IF(C430=1,'Sjekkliste for utfylling'!L660,\" \")","v":0}]
[{"$f":"'Sjekkliste for utfylling'!A661","v":430},{"$f":"IF('Sjekkliste for utfylling'!K661<>\"\",1,0)","v":1},1,1,{"$f":"IF($C431=1,'Sjekkliste for utfylling'!A661,\"\")","v":430},{"$f":"IF($C431=1,'Sjekkliste for utfylling'!B661,\"\")","v":"Er salgsdokumentet signert av den som avhender gjenstanden?"},null,{"$f":"IF(C431=1,'Sjekkliste for utfylling'!L661,\" \")","v":0}]
[{"$f":"'Sjekkliste for utfylling'!A662","v":431},{"$f":"IF('Sjekkliste for utfylling'!K662<>\"\",1,0)","v":1},1,1,{"$f":"IF($C432=1,'Sjekkliste for utfylling'!A662,\"\")","v":431},{"$f":"IF($C432=1,'Sjekkliste for utfylling'!B662,\"\")","v":"Fremgår også samlede innkjøp med enhetspris på mindre enn kr 300 av salgsdokumentet?"},null,{"$f":"IF(C432=1,'Sjekkliste for utfylling'!L662,\" \")","v":0}]
[{"$f":"'Sjekkliste for utfylling'!A663","v":432},{"$f":"IF('Sjekkliste for utfylling'!K663<>\"\",1,0)","v":1},1,1,{"$f":"IF($C433=1,'Sjekkliste for utfylling'!A663,\"\")","v":432},{"$f":"IF($C433=1,'Sjekkliste for utfylling'!B663,\"\")","v":"Dokumentasjon av salg\nEr det utstedt særskilt salgsdokument ved videresalg når avansen som beregningsgrunnlag for utgående avgift er benyttet? "},null,{"$f":"IF(C433=1,'Sjekkliste for utfylling'!L663,\" \")","v":0}]
[{"$f":"'Sjekkliste for utfylling'!A664","v":433},{"$f":"IF('Sjekkliste for utfylling'!K664<>\"\",1,0)","v":1},1,1,{"$f":"IF($C434=1,'Sjekkliste for utfylling'!A664,\"\")","v":433},{"$f":"IF($C434=1,'Sjekkliste for utfylling'!B664,\"\")","v":"Er gjenstandens nummer påført salgsdokumentet?"},null,{"$f":"IF(C434=1,'Sjekkliste for utfylling'!L664,\" \")","v":0}]
[{"$f":"'Sjekkliste for utfylling'!A665","v":434},{"$f":"IF('Sjekkliste for utfylling'!K665<>\"\",1,0)","v":1},1,1,{"$f":"IF($C435=1,'Sjekkliste for utfylling'!A665,\"\")","v":434},{"$f":"IF($C435=1,'Sjekkliste for utfylling'!B665,\"\")","v":"Fremgår det av salgsdokumentet at avgiftsbeløp som er inkludert i prisen ikke er fradragsberettiget som inngående avgift (MRK: avgiftsbeløpet skal ikke angis i salgsdukumentet)?"},null,{"$f":"IF(C435=1,'Sjekkliste for utfylling'!L665,\" \")","v":0}]
[{"$f":"'Sjekkliste for utfylling'!A666","v":435},{"$f":"IF('Sjekkliste for utfylling'!K666<>\"\",1,0)","v":1},1,1,{"$f":"IF($C436=1,'Sjekkliste for utfylling'!A666,\"\")","v":435},{"$f":"IF($C436=1,'Sjekkliste for utfylling'!B666,\"\")","v":"Dokumentasjon når avgiften beregnes terminvis\nEr det opprettet en hjelpekonto eller annen oversikt hvor samlede kjøp utlignes mot \n\n• enkeltsalg fra et samlet kjøp og \n• samlede salg redusert for kjente kjøpsverdier på den enkelte gjenstand som inngår i salget?"},null,{"$f":"IF(C436=1,'Sjekkliste for utfylling'!L666,\" \")","v":0}]
[{"$f":"'Sjekkliste for utfylling'!A667","v":436},{"$f":"IF('Sjekkliste for utfylling'!K667<>\"\",1,0)","v":1},1,1,{"$f":"IF($C437=1,'Sjekkliste for utfylling'!A667,\"\")","v":436},{"$f":"IF($C437=1,'Sjekkliste for utfylling'!B667,\"\")","v":"Dersom samlet kjøp eller salg utgjør den hovedsakelige del (80 pst. eller mer) av videreforhandlerens kjøp eller salg i terminen, er også positiv avanse fra andre brukte varer ført mot hjelpekontoen? \n(Hvis denne løsningen velges, skal hele salgssummen bokføres som avgiftsfri omsetning, se spørsmål 316.)"},null,{"$f":"IF(C437=1,'Sjekkliste for utfylling'!L667,\" \")","v":0}]
[{"$f":"'Sjekkliste for utfylling'!A668","v":437},{"$f":"IF('Sjekkliste for utfylling'!K668<>\"\",1,0)","v":1},1,1,{"$f":"IF($C438=1,'Sjekkliste for utfylling'!A668,\"\")","v":437},{"$f":"IF($C438=1,'Sjekkliste for utfylling'!B668,\"\")","v":"Dersom hjelpekontoen ikke er utlignet, er det overskytende beløp medregnet til verdien av samlede kjøp i de etterfølgende terminer? "},null,{"$f":"IF(C438=1,'Sjekkliste for utfylling'!L668,\" \")","v":0}]
[{"$f":"'Sjekkliste for utfylling'!A669","v":438},{"$f":"IF('Sjekkliste for utfylling'!K669<>\"\",1,0)","v":1},1,1,{"$f":"IF($C439=1,'Sjekkliste for utfylling'!A669,\"\")","v":438},{"$f":"IF($C439=1,'Sjekkliste for utfylling'!B669,\"\")","v":"Dersom hjelpekontoen viser positiv avanse, er avansen bokført på avgiftspliktig salgskonto? "},null,{"$f":"IF(C439=1,'Sjekkliste for utfylling'!L669,\" \")","v":0}]
[{"$f":"'Sjekkliste for utfylling'!A670","v":439},{"$f":"IF('Sjekkliste for utfylling'!K670<>\"\",1,0)","v":1},1,1,{"$f":"IF($C440=1,'Sjekkliste for utfylling'!A670,\"\")","v":439},{"$f":"IF($C440=1,'Sjekkliste for utfylling'!B670,\"\")","v":"Bokføring\nNår det er foretatt samlede innkjøp eller salg hvor prisen på den enkelte vare ikke er kjent, er det enten opprettet egne konti for samlede kjøp og salg, eller ført oversikt over slike kjøp og salg i hjelpebøker eller på annen måte?"},null,{"$f":"IF(C440=1,'Sjekkliste for utfylling'!L670,\" \")","v":0}]
[{"$f":"'Sjekkliste for utfylling'!A671","v":440},{"$f":"IF('Sjekkliste for utfylling'!K671<>\"\",1,0)","v":1},1,1,{"$f":"IF($C441=1,'Sjekkliste for utfylling'!A671,\"\")","v":440},{"$f":"IF($C441=1,'Sjekkliste for utfylling'!B671,\"\")","v":"Er det tilsvarende ført oversikt over kjøp og salg hvor avgiften ved videresalget er beregnet på grunnlag av de alminnelige regler for avgiftsberegningen, jf. merverdiavgiftsloven kapittel 4?"},null,{"$f":"IF(C441=1,'Sjekkliste for utfylling'!L671,\" \")","v":0}]
[{"$f":"'Sjekkliste for utfylling'!A672","v":441},{"$f":"IF('Sjekkliste for utfylling'!K672<>\"\",1,0)","v":1},1,1,{"$f":"IF($C442=1,'Sjekkliste for utfylling'!A672,\"\")","v":441},{"$f":"IF($C442=1,'Sjekkliste for utfylling'!B672,\"\")","v":"Er samlede salg og salg av enkeltgjenstander fra et samlet kjøp, ført på en avgiftsfri salgskonto inntil hjelpekontoen er utlignet?"},null,{"$f":"IF(C442=1,'Sjekkliste for utfylling'!L672,\" \")","v":0}]
[{"$f":"'Sjekkliste for utfylling'!A673","v":442},{"$f":"IF('Sjekkliste for utfylling'!K673<>\"\",1,0)","v":1},1,1,{"$f":"IF($C443=1,'Sjekkliste for utfylling'!A673,\"\")","v":442},{"$f":"IF($C443=1,'Sjekkliste for utfylling'!B673,\"\")","v":"Er avansen for øvrige salg ført på avgiftspliktig salgskonto, mens resten av salgsverdien er ført på en avgiftsfri salgskonto? \n(Gjelder ikke ved bruk av 80 %-regelen, se spørsmål 311.)"},null,{"$f":"IF(C443=1,'Sjekkliste for utfylling'!L673,\" \")","v":0}]
[{"$f":"'Sjekkliste for utfylling'!A674","v":443},{"$f":"IF('Sjekkliste for utfylling'!K674<>\"\",1,0)","v":1},1,1,{"$f":"IF($C444=1,'Sjekkliste for utfylling'!A674,\"\")","v":443},{"$f":"IF($C444=1,'Sjekkliste for utfylling'!B674,\"\")","v":"Er salgssummen der varen selges med tap i sin helhet bokført på den avgiftsfrie salgskontoen? "},null,{"$f":"IF(C444=1,'Sjekkliste for utfylling'!L674,\" \")","v":0}]
[{"$f":"'Sjekkliste for utfylling'!A675","v":444},{"$f":"IF('Sjekkliste for utfylling'!K675<>\"\",1,0)","v":1},1,1,{"$f":"IF($C445=1,'Sjekkliste for utfylling'!A675,\"\")","v":444},{"$f":"IF($C445=1,'Sjekkliste for utfylling'!B675,\"\")","v":"Dersom fordelingen mellom avgiftspliktig og avgiftsfri omsetning gjennomføres ved utgangen av en termin, fremgår grunnlaget for denne fordelingen av regnskapet eller hjelpeoppstillinger?"},null,{"$f":"IF(C445=1,'Sjekkliste for utfylling'!L675,\" \")","v":0}]
[{"$f":"'Sjekkliste for utfylling'!A676","v":445},{"$f":"IF('Sjekkliste for utfylling'!K676<>\"\",1,0)","v":1},1,1,{"$f":"IF($C446=1,'Sjekkliste for utfylling'!A676,\"\")","v":445},{"$f":"IF($C446=1,'Sjekkliste for utfylling'!B676,\"\")","v":"Oppbevaring\nBlir spesifikasjon av kjøp og salg oppbevart i 5 år etter at siste gjenstand som inngår i spesifikasjonen er solgt?"},null,{"$f":"IF(C446=1,'Sjekkliste for utfylling'!L676,\" \")","v":0}]
[{"$f":"'Sjekkliste for utfylling'!A677","v":446},{"$f":"IF('Sjekkliste for utfylling'!K677<>\"\",1,0)","v":1},1,1,{"$f":"IF($C447=1,'Sjekkliste for utfylling'!A677,\"\")","v":446},{"$f":"IF($C447=1,'Sjekkliste for utfylling'!B677,\"\")","v":"Blir registreringer på hjelpekonto eller tilsvarende oversikt oppbevart i 5 år etter regnskapsårets slutt?"},null,{"$f":"IF(C447=1,'Sjekkliste for utfylling'!L677,\" \")","v":0}]
[{"$f":"'Sjekkliste for utfylling'!A680","v":447},{"$f":"IF('Sjekkliste for utfylling'!K680<>\"\",1,0)","v":1},1,1,{"$f":"IF($C448=1,'Sjekkliste for utfylling'!A680,\"\")","v":447},{"$f":"IF($C448=1,'Sjekkliste for utfylling'!B680,\"\")","v":"Dokumentasjon av inntakskost\nVed bruk av redusert beregningsgrunnlag for merverdiavgift ved salg av gjenstander til betydelig overpris, er inntakskost dokumentert ved salgsdokument, erklæring fra giver eller lignende? "},null,{"$f":"IF(C448=1,'Sjekkliste for utfylling'!L680,\" \")","v":0}]
[{"$f":"'Sjekkliste for utfylling'!A682","v":448},{"$f":"IF('Sjekkliste for utfylling'!K682<>\"\",1,0)","v":1},1,1,{"$f":"IF($C449=1,'Sjekkliste for utfylling'!A682,\"\")","v":448},{"$f":"IF($C449=1,'Sjekkliste for utfylling'!B682,\"\")","v":"Er dokumentasjonen oppbevart i 5 år etter regnskapsårets slutt?"},null,{"$f":"IF(C449=1,'Sjekkliste for utfylling'!L682,\" \")","v":0}]
[{"$f":"'Sjekkliste for utfylling'!A685","v":449},{"$f":"IF('Sjekkliste for utfylling'!K685<>\"\",1,0)","v":1},{"$f":"SUM(B450:B450)","v":1},{"$f":"IF($C450=1,1,0)","v":1},{"$f":"IF($C450=1,'Sjekkliste for utfylling'!A685,\"\")","v":449},{"$f":"IF($C450=1,'Sjekkliste for utfylling'!B685,\"\")","v":"Inneholder sluttsedler og kontoutskrift opplysninger som nevnt i delkapittel 5-1; \"Dokumentasjon av salg av varer og tjenester\"? \nSe krav til opplysninger i spørsmål 74 flg.  \n\nKravet om fortløpende nummerering av salgdokumentet etter § 5-1-3 kan erstattes av angivelse av kundens kontonummer og et fortløpende nummer på kundenivå."},null,{"$f":"IF(C450=1,'Sjekkliste for utfylling'!L685,\" \")","v":0}]
[{"$f":"'Sjekkliste for utfylling'!A688","v":450},{"$f":"IF('Sjekkliste for utfylling'!K688<>\"\",1,0)","v":1},1,1,{"$f":"IF($C451=1,'Sjekkliste for utfylling'!A688,\"\")","v":450},{"$f":"IF($C451=1,'Sjekkliste for utfylling'!B688,\"\")","v":"Kan opplysningene fra fagsystemene spesifiseres i en form som sikrer at opplysningsplikten etter lov og forskrift ivaretas?"},null,{"$f":"IF(C451=1,'Sjekkliste for utfylling'!L688,\" \")","v":0}]
[{"$f":"'Sjekkliste for utfylling'!A689","v":451},{"$f":"IF('Sjekkliste for utfylling'!K689<>\"\",1,0)","v":1},1,1,{"$f":"IF($C452=1,'Sjekkliste for utfylling'!A689,\"\")","v":451},{"$f":"IF($C452=1,'Sjekkliste for utfylling'!B689,\"\")","v":"Oppbevaring\nFor banker og finansieringsforetak, blir spesifikasjoner etter BF § 8-13-3, samt dokumentasjon av bokførte opplysninger som inngår i slike spesifikasjoner, oppbevart i 10 år etter regnskapsårets slutt?"},null,{"$f":"IF(C452=1,'Sjekkliste for utfylling'!L689,\" \")","v":0}]
[{"$f":"'Sjekkliste for utfylling'!A694","v":452},{"$f":"IF('Sjekkliste for utfylling'!K694<>\"\",1,0)","v":1},1,1,{"$f":"IF($C453=1,'Sjekkliste for utfylling'!A694,\"\")","v":452},{"$f":"IF($C453=1,'Sjekkliste for utfylling'!B694,\"\")","v":"Kan opplysningene fra fagsystemene spesifiseres i en form som sikrer at opplysningsplikten etter lov og forskrift ivaretas?"},null,{"$f":"IF(C453=1,'Sjekkliste for utfylling'!L694,\" \")","v":0}]

{"sheet":"Veiledning","index":7,"n_rows":19,"n_cols":1,"rows_kept":19,"cut":false,"hidden":true,"merged":[]}
[]
["Veiledning"]
[]
["•       Vær oppmerksom på at bransjespørsmålene som kommer til slutt i utgangspunktet er hidet, og må åpnes dersom en bransje er aktuell."]
["•       Sjekklisten er laget for elektronisk bruk"]
["•       Sjekklisten inneholder et klart skille mellom veiledninger og spørsmål som skal besvares:"]
["•       Veiledninger vises i kursiv, mørk grå tekst, mens spørsmålene vises med vanlig svart tekst. "]
["•       I felter med veiledninger er valgene JA, NEI og IA markert med gråblå bakgrunn. "]
["•       Alle spørsmål som krever vurdering og besvarelse er nummerert"]
["•       Alle spørsmål skal besvares med JA, NEI eller IA. Man kan fylle ut feltene med hvilke tegn man ønsker, x, 1, v osv. "]
["•       Hvert enkelt spørsmål skal kun fylles ut med ett svaralternativ. Ved besvarelse av flere valg får du en melding med krav om kun å velge ett alternativ"]
["•       For spørsmål der du velger svaralternativ NEI må du legge inn en kommentar med forklaring med en vurdering av det aktuelle forholdet. NEI svar er som et utgangspunkt et brudd på krav i lov eller forskrift. Du får en påminnelse med en melding om at kommentar-feltet skal fylles ut. "]
["•       Sjekklisten inneholder funksjoner som gir deg mulighet for oversikt over antall ubesvarte spørsmål, spørsmål som er avklart (svart med ja) svart med nei (avvik) samt spørsmål som er ansett å ikke være aktuelle. Denne funksjonen finner du øverst til høyre i sjekklisten. Ved å trykke på de ulike knappene som oppdaterer rapporter får du automatisk frem rapporter med en oversikt over hvilke spørsmål som ikke er besvart og hvilke som er besvart med hhv ja, nei og ia. "]
["•       Sjekklisten inneholder en \"hide\"-funksjon for å gjemme de områder som ikke er aktuelle. "]
["•       Funksjonen fungerer slik: "]
["•       Dersom et avsnitt ikke er aktuelt for din klient trykker du på knappen for \"hide\""]
["•       Alle spørsmål i avsnittet som er merket med \"hide\" blir da skjult"]
["•       Dersom du bestemmer at avsnittet likevel er aktuelt trykker du på \"show\"-knappen, og området med tilhørende spørsmål kommer til syne igjen"]
["•       I oppsummeringen over ubesvarte spørsmål øverst blir de skjulte spørsmålene behandlet som om de var besvart som ikke aktuelle. "]