{"text_format":"1","workbook":"xlsx","n_sheets":16,"sheets":["Forside","Sjekkliste noter","N_Ubesv.","N_Ja","N_Nei","N_IA","N_IB","sjekkliste_noter_matrix","meta_data","sjekkliste_formelle_matrix","Sjekkliste formelle forhold","F_Ubesv.","F_Ja","F_Nei","F_IB","F_IA"],"not_rendered":{"charts":0,"images":58,"macros":1,"external_links":0,"defined_names":0,"comments":1,"pivot_tables":0},"unopened":[],"bounds":{"document_bytes":16777216,"sheet_cells":100000,"rows_first":2000,"rows_last":500,"rows_between":2000,"halvings":0,"cell_chars":16384,"cell_head_chars":4096},"cells_cut":0,"cells_raw":0,"read":"whole","date_system":"1900"}

{"sheet":"Forside","index":0,"n_rows":55,"n_cols":15,"rows_kept":55,"cut":false,"hidden":false,"merged":[[1,1,1,6],[2,1,2,6],[3,1,3,6],[4,1,4,6],[0,0,0,6],[15,0,15,6],[54,0,54,4],[11,0,11,5],[51,0,51,2],[34,0,34,5]]}
["Sjekkliste årsregnskap små foretak - Ideelle organisasjoner",null,null,null,null,null,null,null,null,null,null,null,null,null,"Kommentarer - skal ikke være med i endelig versjon:"]
["Klient:"]
["År:",2020,null,null,null,null,null,null,null,null,null,null,null,null,"Felt for utført/review skal være med i GR-versjonen, ikke i PwC-versjonen til Aura"]
["Utfylt:",null,null,null,null,null,null,null,null,null,null,null,null,null,"Skal være med i GR-versjonen, ikke i PwC-versjonen til Aura"]
["Review:"]
[]
[]
[null,"Ubesvart","Ja","Nei","Ikke av betydning","IA","Sum"]
["Noter",{"$f":"G9-SUM(C9:F9)","v":0},{"$f":"_xlfn.AGGREGATE(3,5,'Sjekkliste noter'!J8:J293)","v":0},{"$f":"_xlfn.AGGREGATE(3,5,'Sjekkliste noter'!K8:K293)","v":0},{"$f":"_xlfn.AGGREGATE(3,5,'Sjekkliste noter'!L8:L293)","v":0},{"$f":"_xlfn.AGGREGATE(3,5,'Sjekkliste noter'!M8:M293)+(G9-_xlfn.AGGREGATE(2,5,'Sjekkliste noter'!A8:A293))","v":157},{"$f":"_xlfn.AGGREGATE(2,4,'Sjekkliste noter'!A16:A293)","v":157}]
["Formelle forhold",{"$f":"G10-SUM(C10:F10)","v":0},{"$f":"_xlfn.AGGREGATE(3,5,'Sjekkliste formelle forhold'!J10:J68)","v":0},{"$f":"_xlfn.AGGREGATE(3,5,'Sjekkliste formelle forhold'!K10:K68)","v":0},{"$f":"_xlfn.AGGREGATE(3,5,'Sjekkliste formelle forhold'!L10:L68)","v":0},{"$f":"_xlfn.AGGREGATE(3,5,'Sjekkliste formelle forhold'!M9:M68)+(G10-_xlfn.AGGREGATE(2,5,'Sjekkliste formelle forhold'!A9:A68))","v":33},{"$f":"_xlfn.AGGREGATE(2,4,'Sjekkliste formelle forhold'!A9:A68)","v":33}]
[]
[]
[]
["Ønsker du å bruke full sjekkliste, eller kun å kontrollere endringer i regelverk fra tidligere år og utvalgte risikoområder i virksomheten?",null,null,null,null,null,null,null,null,null,null,null,null,"F0/E0"]
[]
["Veiledning for bruk av full sjekkliste:\nSjekklisten kan spisses sånn at den kun omfatter forhold som er relevante for den aktuelle virksomheten. ",null,null,null,null,null,null,null,null,null,null,null,null,null,"Den del som gjelder policy skal flyttes opp i rad før valg om full eller endring"]
[]
["Full sjekkliste"]
["Har selskapet ansatte?",null,null,null,null,null,null,null,null,null,null,null,null,"F1"]
["Har selskapet ytelsespensjon?",null,null,null,null,null,null,null,null,null,null,null,null,"F2"]
["Driver selskapet med forskning og utvikling?",null,null,null,null,null,null,null,null,null,null,null,null,"F3"]
["Har selskapet langsiktige tilvirkningskontrakter?",null,null,null,null,null,null,null,null,null,null,null,null,"F4"]
["Er selskapet et datterselskap?",null,null,null,null,null,null,null,null,null,null,null,null,"F5"]
["Avlegger selskapet konsernregnskap?",null,null,null,null,null,null,null,null,null,null,null,null,"F6"]
["Har foretaket vært gjennom en restrukturering gjennom året?",null,null,null,null,null,null,null,null,null,null,null,null,"F7-F8","Her skal \"oppkjøp\" fjernes som valg"]
["Har selskapet bokført goodwill?"]
[]
["Har foretaket aksjer i:",null,null,null,null,null,null,null,null,null,null,null,null,"F16-F19","Det skal inn et spørsmål til (det skal være mulig å trykke for et eller flere alternativer):\nHar foretaket aksjer i: \n- Datterselskap\n- Tilknyttet selskap\n- Felleskontrollert virksomhet\n- Andre aksjer og andeler\n"]
[]
[]
[]
[]
[]
[]
["Veiledning for bruk av endringssjekkliste:\nVed avkryssing i listen nedenfor velger du de deler av sjekklisten som er relevante for det temaet du krysser av for. Du får da opp alle sjekkpunkter i regelverket som er aktuelle for det temaet du har valgt."]
[]
["Endringssjekkliste"]
["Er policy for bruk av endringssjekkliste fulgt?"]
[]
["Angi siste år for gjennomgang av full sjekkliste",2018]
[]
["Har det vært endringer i foretaket, eller er det spesifikke områder som kan ha økt risiko for feil, som man ønsker å kontrollere?"]
["Krav etter NRS (F) God regnskapsskikk for ideelle organisasjoner"]
["Driftsmidler",null,null,null,null,null,null,null,null,null,null,null,null,"E1"]
["Investeringer i datterselskaper",null,null,null,null,null,null,null,null,null,null,null,null,"E2"]
["Investeringer i tilknyttede selskaper",null,null,null,null,null,null,null,null,null,null,null,null,"E3"]
["Fordringer, gjeld, garantiforpliktelser",null,null,null,null,null,null,null,null,null,null,null,null,"E5"]
["Pensjonsordninger",null,null,null,null,null,null,null,null,null,null,null,null,"E6"]
["Ytelser til ledende personer",null,null,null,null,null,null,null,null,null,null,null,null,"E7"]
["Har selskapet endret noen regnskapsprinsipper?",null,null,null,null,null,null,null,null,null,null,null,null,"E8"]
[]
["Huk av dersom selskapet er:"]
[]
["Annet (må spesifiseres nedenfor, og du må selv velge manuelt de deler av sjekklisten du ønsker å ta inn)",null,null,null,null,null,null,null,null,null,null,null,null,null,"Her skal det ikke være noen spesiell koding, her må man hente fram aktuelle tema manuelt selv"]
["Skriv inn evt tekst her"]

{"sheet":"Sjekkliste noter","index":1,"n_rows":293,"n_cols":17,"rows_kept":293,"cut":false,"hidden":false,"merged":[[71,9,71,13],[67,9,67,13],[60,9,60,13],[49,9,49,13],[40,9,40,13],[14,9,14,13],[118,9,118,13],[111,9,111,13],[104,9,104,13],[108,9,109,13],[99,9,100,13],[95,9,95,13],[90,9,91,13],[86,9,86,13],[83,9,83,13],[18,9,18,13],[72,9,73,9],[72,10,73,10],[72,12,73,12],[72,13,73,13],[87,9,88,9],[87,10,88,10],[87,12,88,12],[87,13,88,13],[135,9,135,13],[137,9,137,13],[131,9,131,13],[127,9,127,13],[129,9,130,13],[183,11,184,11],[125,9,126,13],[124,9,124,13],[152,9,153,9],[152,10,153,10],[152,12,153,12],[152,13,153,13],[162,9,163,9],[162,10,163,10],[162,12,163,12],[162,13,163,13],[140,9,141,9],[140,10,141,10],[140,12,141,12],[140,13,141,13],[142,9,142,13],[287,9,287,13],[285,9,285,13],[288,9,288,13],[279,9,280,13],[281,9,281,13],[277,9,277,13],[271,9,271,13],[268,9,268,13],[260,9,260,13],[257,9,257,13],[248,9,248,13],[249,9,250,13],[244,9,244,13],[240,9,240,13],[237,9,237,13],[234,9,234,13],[231,9,231,13],[228,9,228,13],[229,9,230,13],[255,9,256,9],[255,10,256,10],[255,12,256,12],[255,13,256,13],[255,11,256,11],[253,10,254,10],[253,12,254,12],[253,13,254,13],[235,9,236,9],[235,10,236,10],[235,12,236,12],[235,13,236,13],[238,9,239,9],[238,10,239,10],[245,10,246,10],[245,12,246,12],[245,13,246,13],[241,12,242,12],[241,13,242,13],[183,9,184,9],[183,10,184,10],[210,9,211,9],[210,10,211,10],[210,12,211,12],[210,13,211,13],[203,9,204,9],[203,10,204,10],[232,9,233,9],[232,10,233,10],[232,12,233,12],[232,13,233,13],[216,9,218,13],[212,9,212,13],[213,9,213,13],[207,9,207,13],[202,9,202,13],[192,9,192,13],[191,9,191,13],[258,9,259,9],[258,10,259,10],[258,12,259,12],[258,13,259,13],[282,9,283,9],[282,10,283,10],[282,12,283,12],[282,13,283,13],[261,9,264,9],[261,10,264,10],[261,12,264,12],[261,13,264,13],[258,11,259,11],[238,12,239,12],[238,13,239,13],[241,9,242,9],[241,10,242,10],[253,11,254,11],[143,3,145,3],[143,9,145,9],[143,10,145,10],[143,12,145,12],[143,13,145,13],[205,12,206,12],[205,13,206,13],[251,9,252,9],[251,10,252,10],[251,12,252,12],[251,13,252,13],[253,9,254,9],[224,9,224,13],[222,9,222,13],[220,9,220,13],[215,9,215,13],[175,9,175,13],[181,9,181,13],[245,9,246,9],[96,9,97,9],[96,10,97,10],[96,12,97,12],[96,13,97,13],[77,9,77,13],[78,9,79,13],[112,9,113,9],[112,10,113,10],[112,12,113,12],[112,13,113,13],[138,9,138,13],[139,9,139,13],[157,9,158,13],[165,9,165,13],[171,9,171,13],[203,12,204,12],[203,13,204,13],[205,9,206,9],[205,10,206,10],[185,9,185,13],[182,9,182,13],[164,9,164,13],[156,9,156,13],[235,0,236,0],[235,1,236,1],[229,1,230,1],[232,0,233,0],[232,1,233,1],[241,0,242,0],[241,1,242,1],[238,0,239,0],[238,1,239,1],[282,0,283,0],[282,1,283,1],[251,0,252,0],[251,1,252,1],[245,0,246,0],[245,1,246,1],[255,0,256,0],[255,1,256,1],[253,0,254,0],[253,1,254,1],[261,0,264,0],[261,1,264,1],[258,0,259,0],[258,1,259,1],[275,0,276,0],[275,1,276,1],[279,0,280,0],[279,1,280,1],[183,0,184,0],[183,1,184,1],[162,0,163,0],[162,1,163,1],[205,0,206,0],[205,1,206,1],[203,0,204,0],[203,1,204,1],[210,0,211,0],[210,1,211,1],[208,0,209,0],[208,1,209,1],[121,0,122,0],[121,1,122,1],[119,0,120,0],[119,1,120,1],[140,0,141,0],[140,1,141,1],[125,0,126,0],[125,1,126,1],[152,0,153,0],[152,1,153,1],[143,0,145,0],[143,1,145,1],[78,1,79,1],[87,0,88,0],[87,1,88,1],[72,0,73,0],[72,1,73,1],[99,1,100,1],[108,1,109,1],[112,0,113,0],[112,1,113,1],[90,1,91,1],[96,0,97,0],[96,1,97,1],[30,1,32,1],[30,9,32,9],[30,10,32,10],[30,12,32,12],[30,13,32,13],[61,0,62,0],[61,1,62,1],[61,9,62,9],[61,10,62,10],[61,12,62,12],[61,13,62,13],[41,0,42,0],[41,1,42,1],[41,9,42,9],[41,10,42,10],[41,12,42,12],[41,13,42,13],[58,9,58,13],[50,9,50,13],[34,11,35,11],[251,11,252,11],[3,0,4,2],[154,9,154,13],[28,0,29,0],[28,1,29,1],[28,9,29,9],[28,10,29,10],[28,12,29,12],[28,13,29,13],[26,0,27,0],[26,1,27,1],[26,9,27,9],[26,10,27,10],[26,12,27,12],[26,13,27,13],[34,0,35,0],[34,1,35,1],[34,9,35,9],[34,10,35,10],[34,12,35,12],[8,4,8,13],[9,4,9,13],[34,13,35,13],[30,0,32,0],[10,4,10,13],[11,4,11,13],[12,4,12,13],[13,4,13,13],[26,11,27,11],[28,11,29,11],[30,11,32,11],[241,11,242,11],[245,11,246,11],[119,9,120,9],[119,10,120,10],[208,9,209,9],[208,10,209,10],[208,12,209,12],[208,13,209,13],[183,12,184,12],[183,13,184,13],[119,12,120,12],[119,13,120,13],[121,9,122,9],[121,10,122,10],[121,12,122,12],[121,13,122,13],[149,9,149,13]]}
["Noteopplysninger - små foretak - Ideelle organisasjoner",null,null,"Utfylt:"]
["Klient:",{"$f":"+Forside!B2","v":0},null,"Review:",null,null,null,null,null,null,null,null,null,null,null,"Ikke besvart:",{"$f":"Forside!B9","v":0}]
["År:",{"$f":"+Forside!B3","v":2020},null,null,null,null,null,null,null,null,null,null,null,null,null,"Ja-svar:",{"$f":"Forside!C9","v":0}]
["Sjekklisten gjelder for ideelle organisasjoner som følger NRS (F) God regnskapsskikk for ideelle organisasjoner. ",null,null,null,null,null,null,null,null,null,null,null,null,null,null,"Nei-svar:",{"$f":"Forside!D9","v":0}]
[null,null,null,null,null,null,null,null,null,null,null,null,null,null,null,"Ikke av betydning:",{"$f":"Forside!E9","v":0}]
[null,null,null,null,null,null,null,null,null,null,null,"Ikke av",null,null,null,"IA-svar:",{"$f":"Forside!F9","v":157}]
[null,"Spørsmål","Ref. ","Ekskludering:",null,null,null,null,null,"Ja","Nei","betydning","I/A","Kommentar",null,"Sum:",{"$f":"SUM(Q2:Q6)","v":157}]
["Plikt til utarbeidelse"]
[null,"For ideelle organisasjoner som følger NRS (F) God regnskapsskikk for ideelle organisasjoner skal det gis tilleggsopplysninger i noter til årsregnskapet i samsvar med standardens kapittel 10. Hvilke noteopplysninger som skal gis, må tilpasses den enkelte organisasjon. Ideelle organisasjoner kan også være pålagt å gi særskilte noteopplysninger i henhold til særlige forskrifter/regelverk. Noen av tilleggsopplysningene iht standardens kapittel 10 er frivillige. Disse er merket med \"anbefalt\" i sjekklisten under.","NRS (F) God regnskapsskikk for ideelle organisasjoner kapittel 10"]
[null,"Notekravene nedenfor skal som utgangspunkt alltid tas med, men kan utelates dersom de ikke er av betydning for å bedømme selskapets stilling og resultat. Disse kan tas bort fra sjekklisten ved å bruke ”hide/show” funksjonen, eller krysse av for \"Ikke av betydning\".","rskl § 7-1, 1. ledd"]
[null,"Enkelte notekrav er imidlertid pliktige, og kan aldri utelates. ","rskl § 7-1, 3. ledd"]
[null,"Det kan også være aktuelt å gi andre/ytterligere opplysninger enn de som dekkes av kravene ovenfor. Ytterligere opplysninger må gis dersom de er nødvendige for å bedømme selskapets stilling og resultat.\nSmå foretak som ikke utarbeider konsernregnskap kan unnlate å gi slike tilleggsopplysninger om forhold knyttet til konsernets stilling og resultat.","rskl § 7-1, 2. ledd"]
[null,"Det skal gis tilleggsopplysninger hvis anvendelsen av bestemmelsene i regnskapsloven ikke er tiltrekkelig for å gi et rettvisende bilde av den regnskapspliktiges eiendeler, gjeld, finansielle stilling og resultat.","rskl § 7-1, 4. ledd"]
[null,"Iflg rskl § 3-2a, 2. ledd skal bestemmelsene i rskl kap. 4 til 7 i særlige unntakstilfeller fravikes, dersom dette er nødvendig for å gi et rettvisende bilde av den regnskapspliktiges eiendeler og gjeld, finansielle stilling og resultat. Ethvert slikt fravik skal angis og begrunnes konkret og fullstendig med opplysningen om betydningen fraviket har for den regnskapspliktiges og konsernets eiendeler og gjeld, finansielle stilling og resultat. ","rskl § 7-1, 6. ledd"]
["Regnskapsprinsipper"]
[1,"Er det gitt opplysninger om anvendte regnskapsprinsipper, herunder prinsipper for inntektsføring?  ","rskl § 7-35\n\n",null,{"$f":"IF(SUM(F16:I16)>1,\"Oppgi kun et alternativ!\",\"\")","v":""},{"$f":"IF(J16=\"\",\"\",1)","v":""},{"$f":"IF(K16=\"\",\"\",1)","v":""},"","",null,null,null,null,null,null,{"$f":"IF(K16<>\"\",\"Du har satt X for at forholdet ikke er avklart. Gi en nærmere foklaring i kommentarfeltet.\",\"\")","v":""}]
[{"$f":"+A16+1","v":2}," Er det ved vesentlige medlemsinntekter opplyst om hvilke kriterier som er lagt til grunn i regnskapet for inntektsføringen og periodiseringen av disse inntektene?","NRS  8 pkt 8.2",null,{"$f":"IF(SUM(F17:I17)>1,\"Oppgi kun et alternativ!\",\"\")","v":""},{"$f":"IF(J17=\"\",\"\",1)","v":""},{"$f":"IF(K17=\"\",\"\",1)","v":""},{"$f":"IF(L17=\"\",\"\",1)","v":""},{"$f":"IF(M17=\"\",\"\",1)","v":""},null,null,null,null,null,null,""]
[{"$f":"+A17+1","v":3},"Er det ved vesentlige tilskudd opplyst om hvilke prinsipper som er lagt til grunn i regnskapet for inntektsføringen og periodiseringen av disse inntektene?","NRS (F) GRS for ideelle organisasjoner punkt 5.2.1 og 5.3.3",null,"","","","","",null,null,null,null,null,null,""]
[null,"Det anbefales å gi tilleggsopplysning om at årsregnskapet er satt opp i samsvar med god regnskapsskikk for små foretak. "]
[{"$f":"+A18+1","v":4},"Er det gitt opplysninger om virkning av og begrunnelse for endringer i prinsipper?","rskl § 7-35 ",null,"",{"$f":"IF(J20=\"\",\"\",1)","v":""},{"$f":"IF(K20=\"\",\"\",1)","v":""},{"$f":"IF(L20=\"\",\"\",1)","v":""},{"$f":"IF(M20=\"\",\"\",1)","v":""},null,null,null,null,null,null,""]
[{"$f":"+A20+1","v":5},"Er det gitt opplysninger om virkning av feil i tidligere årsregnskap og korrigering av slike feil, samt omklassifiseringer?","rskl § 7-35 ",null,"",{"$f":"IF(J21=\"\",\"\",1)","v":""},{"$f":"IF(K21=\"\",\"\",1)","v":""},{"$f":"IF(L21=\"\",\"\",1)","v":""},{"$f":"IF(M21=\"\",\"\",1)","v":""},null,null,null,null,null,null,""]
[6,"Er det gitt opplysninger om og begrunnelse for eventuell sikringsvurdering og porteføljevurdering?","NRS  8 pkt 8.2",null,"","","","","",null,null,null,null,null,null,""]
[7,"Er det gitt opplysninger om de prinsipper som er anvendt ved vurderingen av varer, herunder metode for tilvirkning av anskaffelseskost?","NRS 8 pkt 4.4.1.3.",null,"","","","","",null,null,null,null,null,null,""]
[8,"Er det opplyst om de prinsipper som er anvendt ved vurderingen av langsiktige tilvirkningskontrakter?","NRS 8 pkt 4.4.2.3.",null,"","","","","",null,null,null,null,null,null,""]
[9,"Er det gitt opplysninger om de regnskapsprinsipper som er benyttet ved vurdering av kortsiktige investeringer / finansielle derivater, herunder prinsipp for tilordning av anskaffelseskost for ombyttbare finansielle aksjer mv?","NRS 8 pkt 4.4.4.3",null,"","","","","",null,null,null,null,null,null,""]
[10,"Er det opplyst om valg av prinsipp når det gjelder balanseføring av utsatt skattefordel? ","NRS 8 pkt 6.1.1.2.3",null,"","","","","",null,null,null,null,null,null,""]
[11,"For egne utgifter til FoU og utvikling av rettigheter, er det gitt opplysninger om valg av regnskapsprinsipp med hensyn til balanseføring eller kostnadsføring? ","rskl § 7-35\n",null,"",{"$f":"IF(J27=\"\",\"\",1)","v":""},{"$f":"IF(K27=\"\",\"\",1)","v":""},{"$f":"IF(L27=\"\",\"\",1)","v":""},{"$f":"IF(M27=\"\",\"\",1)","v":""},null,null,null,null,null,null,""]
[null,null,"NRS 8 pkt\n4.3.1.1.4 ",null,"","","","","",null,null,null,null,null,null,""]
[{"$f":"+A27+1","v":12},"Er det gitt opplysninger om anvendte regnskapsprinsipper for omregning av utenlandsk valuta?","rskl § 7-35 \n",null,"","","","","",null,null,null,null,null,null,""]
[null,null,"NRS 8 pkt 9.2.5",null,"","","","","",null,null,null,null,null,null,""]
[{"$f":"+A29+1","v":13},"Dersom virkning av prinsippendringer eller korrigeringer av feil er ført direkte mot egenkapitalen, fremgår det av notene om regnskapstallene er omarbeidet eller ikke?","NRS 8 pkt 7.3.3",null,"","","","","",null,null,null,null,null,null,""]
[null,null,"rskl § 7-35",null,"","","","","",null,null,null,null,null,null,""]
[null,null,"NRS 8 pkt 3.3.2.",null,"","","","","",null,null,null,null,null,null,""]
[{"$f":"+A31+1","v":14},"Dersom årsregnskapet presenteres i en annen valuta enn regnskapsvalutaen, er regnskapsvalutaen og omregningskurser opplyst?","NRS 8 pkt 9.2.6",null,"","","","","",null,null,null,null,null,null,""]
[{"$f":"+A34+1","v":15},"Dersom sammenligningstallene i regnskapet er omarbeidet, er omarbeidingen forklart?","rskl § 7-35\n",null,"","","","","",null,null,null,null,null,null,""]
[null,null,"NRS 8 pkt 3.3.2.",null,"","","","","",null,null,null,null,null,null,""]
[{"$f":"+A35+1","v":16},"Dersom det ikke er mulig å utarbeide sammenligningstall ved overgang til god regnskapsskikk for ideelle organisasjoner, er det opplyst om i note?","NRS (F) GRS for ideelle organisasjoner punkt 10.4.1 og 14.1.1",null,"","","","","",null,null,null,null,null,null,""]
[{"$f":"+A37+1","v":17},"Dersom det utarbeides konsernregnskap og det anvendes forskjellige prinsipper i selskapsregnskap og konsernregnskap, er dette opplyst og begrunnet?","rskl § 7-35",null,"",{"$f":"IF(J38=\"\",\"\",1)","v":""},"","","",null,null,null,null,null,null,""]
[{"$f":"+A38+1","v":18},"Anbefalt: Dersom mor-organisasjonen utarbeider sitt årsregnskap som aktivitetsregnskap, men konsernregnskapet utarbeides etter en artsinndelt oppstillingsplan, bør dette begrunnes i note til konsernregnskapet.","NRS (F) GRS for ideelle organisasjoner punkt 12.4",null,"",{"$f":"IF(J39=\"\",\"\",1)","v":""},"","","",null,null,null,null,null,null,""]
[{"$f":"+A39+1","v":19},"Er alle de regnskapsprinsipper som er omtalt i notene aktuelle for selskapet?","NRS  8 pkt 8.2",null,"","","","","",null,null,null,null,null,null,""]
["Goodwill"]
[{"$f":"+A40+1","v":20},"Er det gitt følgende opplysninger vedr. goodwill:\n• Anskaffelseskost ","rskl § 7-39\n",null,{"$f":"IF(SUM(F42:I42)>1,\"Oppgi kun et alternativ!\",\"\")","v":""},{"$f":"IF(J42=\"\",\"\",1)","v":""},{"$f":"IF(K42=\"\",\"\",1)","v":""},{"$f":"IF(L42=\"\",\"\",1)","v":""},{"$f":"IF(M42=\"\",\"\",1)","v":""},null,null,null,null,null,null,""]
[null,null,"NRS 8 pkt \n 4.3.1.3.4 ",null,{"$f":"IF(SUM(F43:I43)>1,\"Oppgi kun et alternativ!\",\"\")","v":""},{"$f":"IF(J43=\"\",\"\",1)","v":""},{"$f":"IF(K43=\"\",\"\",1)","v":""},{"$f":"IF(L43=\"\",\"\",1)","v":""},{"$f":"IF(M43=\"\",\"\",1)","v":""},null,null,null,null,null,null,""]
[{"$f":"+A42+1","v":21},"• Tilgang og avgang i løpet av regnskapsåret",null,null,"","","","","",null,null,null,null,null,null,""]
[{"$f":"+A44+1","v":22},"• Samlede avskrivninger og nedskrivninger, og",null,null,"","","","","",null,null,null,null,null,null,""]
[{"$f":"+A45+1","v":23},"• Avskrivninger og nedskrivninger  i regnskapsåret",null,null,"","","","","",null,null,null,null,null,null,""]
[{"$f":"+A46+1","v":24},"Er det opplyst om økonomisk levetid, avskrivningsplan og eventuell endring i avskrivningsplan?","rskl § 7-39\n",null,"","","","","",null,null,null,null,null,null,""]
[{"$f":"+A47+1","v":25},"Er balanseført goodwill spesifisert for hvert enkelt virksomhetskjøp?","rskl § 7-39\n",null,"","","","","",null,null,null,null,null,null,""]
[{"$f":"+A48+1","v":26},"Er avskrivningsplan for goodwill som er lengre enn fem år begrunnet?","rskl § 7-39\n",null,"","","","","",null,null,null,null,null,null,""]
["FoU og utvikling av rettigheter"]
[null,"For mange immaterielle eiendeler er det ikke mulig å konstatere når de ikke lenger eksisterer. Slike immaterielle eiendeler bør føres ut av noten når de er fullt avskrevet og det ikke er klart at den immaterielle eiendelen fortsatt eksisterer","NRS 8 pkt\n 4.3.1.1.4"]
[{"$f":"+A49+1","v":27},"Er det gitt følgende opplysninger vedr. FoU og rettigheter:\n• anskaffelseskost med spesifikasjon av balanseførte lånekostnader knyttet til egentilvirkede anleggsmidler,","rskl § 7-39\n",null,{"$f":"IF(SUM(F52:I52)>1,\"Oppgi kun et alternativ!\",\"\")","v":""},{"$f":"IF(J52=\"\",\"\",1)","v":""},{"$f":"IF(K52=\"\",\"\",1)","v":""},{"$f":"IF(L52=\"\",\"\",1)","v":""},{"$f":"IF(M52=\"\",\"\",1)","v":""},null,null,null,null,null,null,{"$f":"IF(K52<>\"\",\"Du har satt X for at forholdet ikke er avklart. Gi en nærmere foklaring i kommentarfeltet.\",\"\")","v":""}]
[{"$f":"+A52+1","v":28},"• tilgang og avgang i løpet av regnskapsåret,",null,null,"",{"$f":"IF(J53=\"\",\"\",1)","v":""},{"$f":"IF(K53=\"\",\"\",1)","v":""},{"$f":"IF(L53=\"\",\"\",1)","v":""},{"$f":"IF(M53=\"\",\"\",1)","v":""},null,null,null,null,null,null,""]
[29,"• samlede avskrivninger, nedskrivninger og reverseringer av nedskrivninger, og",null,null,"","","","","",null,null,null,null,null,null,""]
[30,"• avskrivninger, nedskrivninger og reverseringer av nedskrivninger i regnskapsåret",null,null,"","","","","",null,null,null,null,null,null,""]
[31,"Er det opplyst om økonomisk levetid, avskrivningsplan og eventuell endring i avskrivningsplan?",null,null,"","","","","",null,null,null,null,null,null,""]
[32,"Er det opplyst om utgifter som har gått med til FoU i regnskapsåret? ",null,null,"","","","","",null,null,null,null,null,null,""]
[33,"Er arten av FoU angitt, uavhengig av om utgiftene er balanse- eller kostnadsført? ",null,null,{"$f":"IF(SUM(F58:I58)>1,\"Oppgi kun et alternativ!\",\"\")","v":""},"","","","",null,null,null,null,null,null,""]
[null,"Det skal opplyes om forventet samlet inntjening av pågående FoU motsvarer medgåtte samlede utgifter. Med ”medgåtte samlede utgifter” menes akkumulerte utgifter knyttet til prosjekter som er igangværende ved regnskapsårets utgang.  Notekravet gjelder utgifter til FoU som kunne vært balanseført."]
[{"$f":"+A58+1","v":34},"Er det opplyst om forventet samlet inntjening av pågående FoU motsvarer medgåtte samlede utgifter? ",null,null,{"$f":"IF(SUM(F60:I60)>1,\"Oppgi kun et alternativ!\",\"\")","v":""},{"$f":"IF(J60=\"\",\"\",1)","v":""},{"$f":"IF(K60=\"\",\"\",1)","v":""},{"$f":"IF(L60=\"\",\"\",1)","v":""},{"$f":"IF(M60=\"\",\"\",1)","v":""},null,null,null,null,null,null,""]
["Varige driftsmidler"]
[{"$f":"+A60+1","v":35},"Er det gitt følgende opplysninger for varige driftsmidler:\n• anskaffelseskost med spesifikasjon av balanseførte lånekostnader knyttet til egentilvirkede anleggsmidler,","rskl § 7-39\n",null,{"$f":"IF(SUM(F62:I62)>1,\"Oppgi kun et alternativ!\",\"\")","v":""},{"$f":"IF(J62=\"\",\"\",1)","v":""},{"$f":"IF(K62=\"\",\"\",1)","v":""},{"$f":"IF(L62=\"\",\"\",1)","v":""},{"$f":"IF(M62=\"\",\"\",1)","v":""},null,null,null,null,null,null,""]
[null,null,"NRS 8\n4.3.2.5",null,{"$f":"IF(SUM(F63:I63)>1,\"Oppgi kun et alternativ!\",\"\")","v":""},{"$f":"IF(J63=\"\",\"\",1)","v":""},{"$f":"IF(K63=\"\",\"\",1)","v":""},{"$f":"IF(L63=\"\",\"\",1)","v":""},{"$f":"IF(M63=\"\",\"\",1)","v":""},null,null,null,null,null,null,""]
[{"$f":"+A62+1","v":36},"• tilgang og avgang i løpet av regnskapsåret,",null,null,"","","","","",null,null,null,null,null,null,""]
[{"$f":"+A64+1","v":37},"• samlede avskrivninger, nedskrivninger og reversering av nedskrivninger, og",null,null,"","","","","",null,null,null,null,null,null,""]
[{"$f":"+A65+1","v":38},"• avskrivninger, nedskrivninger og reversering av nedskrivninger i regnskapsåret.",null,null,"","","","","",null,null,null,null,null,null,""]
[{"$f":"+A66+1","v":39},"Er det opplyst om endring i avskrivningsplan?",null,null,"","","","","",null,null,null,null,null,null,""]
["Anleggsmidler"]
[{"$f":"+A67+1","v":40},"Dersom organisasjonen har kostnadsført betydelige midler som etter sin art normalt balanseføres, er det opplyst om og begrunnet?","NRS (F) GRS for ideelle organisasjoner punkt 7.2.6",null,{"$f":"IF(SUM(F69:I69)>1,\"Oppgi kun et alternativ!\",\"\")","v":""},{"$f":"IF(J69=\"\",\"\",1)","v":""},{"$f":"IF(K69=\"\",\"\",1)","v":""},{"$f":"IF(L69=\"\",\"\",1)","v":""},{"$f":"IF(M69=\"\",\"\",1)","v":""},null,null,null,null,null,null,{"$f":"IF(K69<>\"\",\"Du har satt X for at forholdet ikke er avklart. Gi en nærmere foklaring i kommentarfeltet.\",\"\")","v":""}]
[{"$f":"+A69+1","v":41},"Er det gitt tilleggsopplysninger om bevaringsverdige eiendeler av betydning, uavhengig av regnskapsmessig behandling? Evt avskrivninger eller nedskrivninger skal spesifiseres.","NRS (F) GRS for ideelle organisasjoner punkt 7.2.6 ",null,{"$f":"IF(SUM(F70:I70)>1,\"Oppgi kun et alternativ!\",\"\")","v":""},{"$f":"IF(J70=\"\",\"\",1)","v":""},{"$f":"IF(K70=\"\",\"\",1)","v":""},{"$f":"IF(L70=\"\",\"\",1)","v":""},{"$f":"IF(M70=\"\",\"\",1)","v":""},null,null,null,null,null,null,""]
[{"$f":"+A70+1","v":42},"Er det gitt tilstrekkelig informasjon om finansielle anleggsmidler og omløpsmidler til å kunne vurdere hvorvidt organisasjonen har oppfylt evt instrukser og begrensninger i forhold til plassering og forvaltning av midler?","NRS (F) GRS for ideelle organisasjoner punkt 7.2.6 og 7.3.3",null,"","","","","",null,null,null,null,null,null,""]
["Investering i datterselskap"]
[{"$f":"+A71+1","v":43},"Er det for hvert datterselskap opplyst om:\n• foretaksnavn (firma)\n• forretningskontor\n• eierandel\n• stemmeandel","rskl § 7-36\n",null,{"$f":"IF(SUM(F73:I73)>1,\"Oppgi kun et alternativ!\",\"\")","v":""},{"$f":"IF(J73=\"\",\"\",1)","v":""},{"$f":"IF(K73=\"\",\"\",1)","v":""},{"$f":"IF(L73=\"\",\"\",1)","v":""},{"$f":"IF(M73=\"\",\"\",1)","v":""},null,null,null,null,null,null,""]
[null,null,"NRS 8\n4.3.3.1.3",null,{"$f":"IF(SUM(F74:I74)>1,\"Oppgi kun et alternativ!\",\"\")","v":""},{"$f":"IF(J74=\"\",\"\",1)","v":""},{"$f":"IF(K74=\"\",\"\",1)","v":""},{"$f":"IF(L74=\"\",\"\",1)","v":""},{"$f":"IF(M74=\"\",\"\",1)","v":""},null,null,null,null,null,null,""]
[{"$f":"+A73+1","v":44},"For hvert datterselskap som er regnskapsført etter kostmetoden eller som ikke er konsolidert, er det opplyst om egenkapital og resultat i siste regnskapsår? ",null,null,"","","","","",null,null,null,null,null,null,""]
[{"$f":"+A75+1","v":45},"Dersom det ikke utarbeides konsernregnskap, er det opplyst om transaksjoner med og mellom datterselskaper og urealisert interngevinst på disse?",null,null,"","","","","",null,null,null,null,null,null,""]
[{"$f":"+A76+1","v":46},"Er det for hver vesentlig enhet opplyst om;\n- forbindelsen mellom datterorganisasjonens aktiviteter og mor-organisasjonens aktiviteter, \n- totale eiendeler, gjeld og formålskapital, og\n- aktivitetsinntekter, -kostnader og aktivitetsresultat i året, oppsummert.","NRS (F) GRS for ideelle organisasjoner punkt 12.5",null,"","","","","",null,null,null,null,null,null,""]
["Investering i datterselskap bokført etter EK-metoden"]
[null,"Hvis investeringer i datterselskap regnskapsføres etter egenkapitalmetoden gjelder NRS 17 Virksomhetskjøp og konsernregnskap. Det er også utvidede notekrav i regnskapsloven. ","NRS 8\n4.3.3.1.4\n"]
[null,null,"rskl § 7-36"]
[{"$f":"+A77+1","v":47},"For datterselskap som regnskapsføres etter egenkapitalmetoden, er det opplyst om anskaffelseskost og balanseført egenkapital på anskaffelsestidspunktet?",null,null,{"$f":"IF(SUM(F81:I81)>1,\"Oppgi kun et alternativ!\",\"\")","v":""},{"$f":"IF(J81=\"\",\"\",1)","v":""},{"$f":"IF(K81=\"\",\"\",1)","v":""},{"$f":"IF(L81=\"\",\"\",1)","v":""},{"$f":"IF(M81=\"\",\"\",1)","v":""},null,null,null,null,null,null,{"$f":"IF(K81<>\"\",\"Du har satt X for at forholdet ikke er avklart. Gi en nærmere foklaring i kommentarfeltet.\",\"\")","v":""}]
[{"$f":"+A81+1","v":48},"For datterselskap som regnskapsføres etter egenkapitalmetoden, er det for hver investering opplyst om inngående balanse, inntektsført resultat, andre endringer i løpet av året og utgående balanse?",null,null,{"$f":"IF(SUM(F82:I82)>1,\"Oppgi kun et alternativ!\",\"\")","v":""},{"$f":"IF(J82=\"\",\"\",1)","v":""},{"$f":"IF(K82=\"\",\"\",1)","v":""},{"$f":"IF(L82=\"\",\"\",1)","v":""},{"$f":"IF(M82=\"\",\"\",1)","v":""},null,null,null,null,null,null,""]
[{"$f":"+A82+1","v":49},"For datterselskap som regnskapsføres etter egenkapitalmetoden, er det opplyst om merverdier og goodwill samt avskrivninger av merverdier og goodwill?",null,null,"","","","","",null,null,null,null,null,null,""]
[null,"For små foretak som utarbeider konsernregnskap gjelder også følgende punker:","rskl § 7-36"]
[{"$f":"+A83+1","v":50},"Dersom datterselskap er utelatt fra konsolideringen ihht rskl § 3-8, er dette opplyst og begrunnet?",null,null,{"$f":"IF(SUM(F85:I85)>1,\"Oppgi kun et alternativ!\",\"\")","v":""},{"$f":"IF(J85=\"\",\"\",1)","v":""},{"$f":"IF(K85=\"\",\"\",1)","v":""},{"$f":"IF(L85=\"\",\"\",1)","v":""},{"$f":"IF(M85=\"\",\"\",1)","v":""},null,null,null,null,null,null,""]
[{"$f":"1+A85","v":51},"Er det i konsernregnskapet opplyst om navnet på foretak der den regnskapspliktige selv eller gjennom datterselskaper eier så mange aksjer eller andeler at de representerer flertallet av stemmene i foretaket, men som ikke er datterselskap fordi det klart kan påvises at slikt eierskap likevel ikke gir bestemmernde innflytelse jr rskl § 1-3, 2. ledd nr. 1?",null,null,{"$f":"IF(SUM(F86:I86)>1,\"Oppgi kun et alternativ!\",\"\")","v":""},{"$f":"IF(J86=\"\",\"\",1)","v":""},{"$f":"IF(K86=\"\",\"\",1)","v":""},{"$f":"IF(L86=\"\",\"\",1)","v":""},{"$f":"IF(M86=\"\",\"\",1)","v":""},null,null,null,null,null,null,""]
["Investering i tilknyttet selskap"]
[{"$f":"+A86+1","v":52},"Er det for hvert tilknyttet selskap opplyst om:\n• foretaksnavn (firma) \n• forretningskontor\n• eierandel \n• stemmeandel\n• det skal også opplyses om egenkapitalen og resultatet i siste regnskapsår (Gjelder ikke TS som er regnskapsført etter egenkapitalmetoden – se nedenfor)","rskl § 7-36",null,{"$f":"IF(SUM(F88:I88)>1,\"Oppgi kun et alternativ!\",\"\")","v":""},{"$f":"IF(J88=\"\",\"\",1)","v":""},{"$f":"IF(K88=\"\",\"\",1)","v":""},{"$f":"IF(L88=\"\",\"\",1)","v":""},{"$f":"IF(M88=\"\",\"\",1)","v":""},null,null,null,null,null,null,""]
[null,null,"NRS 8 \n4.3.3.2.3",null,{"$f":"IF(SUM(F89:I89)>1,\"Oppgi kun et alternativ!\",\"\")","v":""},{"$f":"IF(J89=\"\",\"\",1)","v":""},{"$f":"IF(K89=\"\",\"\",1)","v":""},{"$f":"IF(L89=\"\",\"\",1)","v":""},{"$f":"IF(M89=\"\",\"\",1)","v":""},null,null,null,null,null,null,{"$f":"IF(K89<>\"\",\"Du har satt X for at forholdet ikke er avklart. Gi en nærmere foklaring i kommentarfeltet.\",\"\")","v":""}]
[{"$f":"1+A88","v":53},"Er det for hvert tilknyttet selskap som er regnskapsført etter kostmetoden også opplyst om egenkapitalen og resultatet i siste regnskapsår?",null,null,"","","","","",null,null,null,null,null,null,""]
[null,"Hvis investeringer i tilknyttet selskap regnskapsføres etter egenkapitalmetoden gjelder NRS (F) om investering i tilknyttet selskap og deltakelse i felles kontrollert virksomhet. Det er også utvidede notekrav i regnskapsloven. ","NRS 8\n4.3.3.2.4\n"]
[null,null,"rskl § 7-36"]
[{"$f":"+A90+1","v":54},"For tilknyttet selskap som regnskapsføres etter egenkapitalmetoden, er det opplyst om anskaffelseskost og balanseført egenkapital på anskaffelsestidspunktet?",null,null,{"$f":"IF(SUM(F93:I93)>1,\"Oppgi kun et alternativ!\",\"\")","v":""},{"$f":"IF(J93=\"\",\"\",1)","v":""},{"$f":"IF(K93=\"\",\"\",1)","v":""},{"$f":"IF(L93=\"\",\"\",1)","v":""},{"$f":"IF(M93=\"\",\"\",1)","v":""},null,null,null,null,null,null,{"$f":"IF(K93<>\"\",\"Du har satt X for at forholdet ikke er avklart. Gi en nærmere foklaring i kommentarfeltet.\",\"\")","v":""}]
[{"$f":"+A93+1","v":55},"For tilknyttet selskap som regnskapsføres etter egenkapitalmetoden, er det for hver investering opplyst om inngående balanse, inntektsført resultat, andre endringer i løpet av året og utgående balanse?",null,null,"","","","","",null,null,null,null,null,null,""]
[{"$f":"+A94+1","v":56},"For tilknyttet selskap som regnskapsføres etter egenkapitalmetoden, er det opplyst om merverdier og goodwill samt avskrivninger av merverdier og goodwill?",null,null,"","","","","",null,null,null,null,null,null,""]
["Deltakelse i felleskontrollert virksomhet"]
[{"$f":"+A95+1","v":57},"Er det for hver felleskontrollert virksomhet opplyst om:\n• selskapsnavn (firma)\n• forretningskontor\n• eierandel\n• stemmeandel","NRS 8 \n4.3.3.3.3\n",null,{"$f":"IF(SUM(F97:I97)>1,\"Oppgi kun et alternativ!\",\"\")","v":""},{"$f":"IF(J97=\"\",\"\",1)","v":""},{"$f":"IF(K97=\"\",\"\",1)","v":""},{"$f":"IF(L97=\"\",\"\",1)","v":""},{"$f":"IF(M97=\"\",\"\",1)","v":""},null,null,null,null,null,null,{"$f":"IF(K97<>\"\",\"Du har satt X for at forholdet ikke er avklart. Gi en nærmere foklaring i kommentarfeltet.\",\"\")","v":""}]
[null,null,"rskl § 7-36",null,{"$f":"IF(SUM(F98:I98)>1,\"Oppgi kun et alternativ!\",\"\")","v":""},{"$f":"IF(J98=\"\",\"\",1)","v":""},{"$f":"IF(K98=\"\",\"\",1)","v":""},{"$f":"IF(L98=\"\",\"\",1)","v":""},{"$f":"IF(M98=\"\",\"\",1)","v":""},null,null,null,null,null,null,{"$f":"IF(K98<>\"\",\"Du har satt X for at forholdet ikke er avklart. Gi en nærmere foklaring i kommentarfeltet.\",\"\")","v":""}]
[{"$f":"+A97+1","v":58},"Er det for hver felleskontrollert virksomhet som er regnskapsført etter kostmetoden også opplyst om egenkapitalen og resultatet i siste regnskapsår?",null,null,"","","","","",null,null,null,null,null,null,{"$f":"IF(K99<>\"\",\"Du har satt X for at forholdet ikke er avklart. Gi en nærmere foklaring i kommentarfeltet.\",\"\")","v":""}]
[null,"Hvis deltakelse i felles kontrollert virksomhet regnskapsføres etter egenkapitalmetoden eller bruttometoden, gjelder NRS (F) om investering i tilknyttet selskap og deltakelse i felles kontrollert virksomhet. Det er også utvidede notekrav i regnskapsloven.","NRS 8\n4.3.3.3.4\n"]
[null,null,"rskl § 7-36"]
[{"$f":"+A99+1","v":59},"For felleskontrollert virksomhet som regnskapsføres etter egenkapital- eller bruttometoden, er det opplyst om anskaffelseskost og balanseført egenkapital på anskaffelsestidspunktet?",null,null,{"$f":"IF(SUM(F102:I102)>1,\"Oppgi kun et alternativ!\",\"\")","v":""},{"$f":"IF(J102=\"\",\"\",1)","v":""},{"$f":"IF(K102=\"\",\"\",1)","v":""},{"$f":"IF(L102=\"\",\"\",1)","v":""},{"$f":"IF(M102=\"\",\"\",1)","v":""},null,null,null,null,null,null,{"$f":"IF(K102<>\"\",\"Du har satt X for at forholdet ikke er avklart. Gi en nærmere foklaring i kommentarfeltet.\",\"\")","v":""}]
[{"$f":"+A102+1","v":60},"For felleskontrollert virksomhet som regnskapsføres etter egenkapital- eller bruttometoden, er det for hver investering opplyst om inngående balanse, inntektsført resultat, andre endringer i løpet av året og utgående balanse?",null,null,{"$f":"IF(SUM(F103:I103)>1,\"Oppgi kun et alternativ!\",\"\")","v":""},{"$f":"IF(J103=\"\",\"\",1)","v":""},{"$f":"IF(K103=\"\",\"\",1)","v":""},{"$f":"IF(L103=\"\",\"\",1)","v":""},{"$f":"IF(M103=\"\",\"\",1)","v":""},null,null,null,null,null,null,{"$f":"IF(K103<>\"\",\"Du har satt X for at forholdet ikke er avklart. Gi en nærmere foklaring i kommentarfeltet.\",\"\")","v":""}]
[{"$f":"+A103+1","v":61},"For felleskontrollert virksomhet som regnskapsføres etter egenkapital- eller bruttometoden, er det opplyst om merverdier og goodwill samt avskrivninger av merverdier og goodwill?",null,null,"","","","","",null,null,null,null,null,null,{"$f":"IF(K104<>\"\",\"Du har satt X for at forholdet ikke er avklart. Gi en nærmere foklaring i kommentarfeltet.\",\"\")","v":""}]
["Andre aksjer og andeler"]
[null,"Ihht rskl § 5-8 kan balanseført verdi av aksjer og andeler som er anleggsmidler være høyere enn virkelig verdi dersom verdifallet forventes å være forbigående. ","rskl § 5-3"]
[{"$f":"+A104+1","v":62},"Der balanseført verdi av aksjer og andeler som er anleggsmidler er høyere enn virkelig verdi, er det opplyst om balanseført verdi og virkelig verdi av den enkelte eiendelen eller en hensiktsmessig gruppering av eiendelene?","rskl § 7-37",null,{"$f":"IF(SUM(F107:I107)>1,\"Oppgi kun et alternativ!\",\"\")","v":""},{"$f":"IF(J107=\"\",\"\",1)","v":""},{"$f":"IF(K107=\"\",\"\",1)","v":""},{"$f":"IF(L107=\"\",\"\",1)","v":""},{"$f":"IF(M107=\"\",\"\",1)","v":""},null,null,null,null,null,null,{"$f":"IF(K107<>\"\",\"Du har satt X for at forholdet ikke er avklart. Gi en nærmere foklaring i kommentarfeltet.\",\"\")","v":""}]
[{"$f":"+A107+1","v":63},"Inkluderer begrunnelsen holdepunkter for at verdifallet er forbigående?","rskl § 7-37",null,{"$f":"IF(SUM(F108:I108)>1,\"Oppgi kun et alternativ!\",\"\")","v":""},{"$f":"IF(J108=\"\",\"\",1)","v":""},{"$f":"IF(K108=\"\",\"\",1)","v":""},{"$f":"IF(L108=\"\",\"\",1)","v":""},{"$f":"IF(M108=\"\",\"\",1)","v":""},null,null,null,null,null,null,{"$f":"IF(K108<>\"\",\"Du har satt X for at forholdet ikke er avklart. Gi en nærmere foklaring i kommentarfeltet.\",\"\")","v":""}]
[null,"I utgangspunktet trenger ikke små foretak å gi ytterligere tilleggsinformasjon i note om aksjer og andeler i selskap som ikke faller inn under regler om datterselskap, tilknyttet selskap og felles kontrollert virksomhet. Det skal likevel gis opplysninger som er nødvendige for å vurdere foretakets stilling og resultat og som ikke fremgår av årsregnskapet for øvrig. ","rskl § 7-1\n"]
[null,null,"NRS 8\n4.3.3.5.3"]
[{"$f":"+A108+1","v":64},"Dersom det anses som nødvendig for å vurdere foretakets stilling og resultat, er det gitt ytterligere opplysninger om investeringer i aksjer og andeler, herunder balanseført verdi og eierandel i hvert selskap?","NRS 8\n4.3.3.5.3",null,{"$f":"IF(SUM(F111:I111)>1,\"Oppgi kun et alternativ!\",\"\")","v":""},{"$f":"IF(J111=\"\",\"\",1)","v":""},{"$f":"IF(K111=\"\",\"\",1)","v":""},{"$f":"IF(L111=\"\",\"\",1)","v":""},{"$f":"IF(M111=\"\",\"\",1)","v":""},null,null,null,null,null,null,{"$f":"IF(K111<>\"\",\"Du har satt X for at forholdet ikke er avklart. Gi en nærmere foklaring i kommentarfeltet.\",\"\")","v":""}]
["Antall aksjer, aksjeeiere mv. (pliktig)"]
[{"$f":"+A111+1","v":65},"For regnskapspliktige som er aksjeselskap, er det opplyst om aksjekapitalen og aksjens pålydende fordelt på hver aksjeklasse?","rskl § 7-42\n",null,{"$f":"IF(SUM(F113:I113)>1,\"Oppgi kun et alternativ!\",\"\")","v":""},{"$f":"IF(J113=\"\",\"\",1)","v":""},{"$f":"IF(K113=\"\",\"\",1)","v":""},{"$f":"IF(L113=\"\",\"\",1)","v":""},{"$f":"IF(M113=\"\",\"\",1)","v":""},null,null,null,null,null,null,{"$f":"IF(K113<>\"\",\"Du har satt X for at forholdet ikke er avklart. Gi en nærmere foklaring i kommentarfeltet.\",\"\")","v":""}]
[null,null,"NRS 8 pkt 8.5",null,{"$f":"IF(SUM(F114:I114)>1,\"Oppgi kun et alternativ!\",\"\")","v":""},{"$f":"IF(J114=\"\",\"\",1)","v":""},{"$f":"IF(K114=\"\",\"\",1)","v":""},{"$f":"IF(L114=\"\",\"\",1)","v":""},{"$f":"IF(M114=\"\",\"\",1)","v":""},null,null,null,null,null,null,""]
[{"$f":"+A113+1","v":66},"Er det opplyst om eventuelle vedtektsbestemmelser om stemmerett? ",null,null,"","","","","",null,null,null,null,null,null,""]
[{"$f":"+A115+1","v":67},"Er det opplyst om eventuelle rettigheter som kan medføre at det blir utstedt nye aksjer, dersom rettighettene er vesentlige for å bedømme foretakets stilling og resultat? ",null,null,"","","","","",null,null,null,null,null,null,""]
[{"$f":"+A116+1","v":68},"For regnskapspliktige som er aksjeselskap, er det opplyst om selskapets 10 største aksjeeiere og deres eierandeler (kan utelate aksjeeiere som eier under 5 %)?",null,null,"","","","","",null,null,null,null,null,null,""]
[{"$f":"+A117+1","v":69},"Er det opplyst om aksjer eller andeler i selskapet som eies av henholdsvis daglig leder og medlemmer av styret og bedriftsforsamlingen?",null,null,"","","","","",null,null,null,null,null,null,""]
["Egne aksjer (pliktig)"]
[{"$f":"+A118+1","v":70},"Dersom selskapet har en beholdning av egne aksjer etter aksjeloven kapittel 9, er det opplyst om antallet, aksjenes pålydende verdi og den andel aksjene utgjør av aksjekapitalen?","rskl § 7-42\n",null,{"$f":"IF(SUM(F120:I120)>1,\"Oppgi kun et alternativ!\",\"\")","v":""},{"$f":"IF(J120=\"\",\"\",1)","v":""},{"$f":"IF(K120=\"\",\"\",1)","v":""},{"$f":"IF(L120=\"\",\"\",1)","v":""},{"$f":"IF(M120=\"\",\"\",1)","v":""},null,null,null,null,null,null,{"$f":"IF(K120<>\"\",\"Du har satt X for at forholdet ikke er avklart. Gi en nærmere foklaring i kommentarfeltet.\",\"\")","v":""}]
[null,null,"NRS 8 pkt 8.7",null,{"$f":"IF(SUM(F121:I121)>1,\"Oppgi kun et alternativ!\",\"\")","v":""},{"$f":"IF(J121=\"\",\"\",1)","v":""},{"$f":"IF(K121=\"\",\"\",1)","v":""},{"$f":"IF(L121=\"\",\"\",1)","v":""},{"$f":"IF(M121=\"\",\"\",1)","v":""},null,null,null,null,null,null,{"$f":"IF(K121<>\"\",\"Du har satt X for at forholdet ikke er avklart. Gi en nærmere foklaring i kommentarfeltet.\",\"\")","v":""}]
[{"$f":"+A120+1","v":71},"Dersom det har vært endringer i beholdning av egne aksjer og datterselskapenes beholdning av aksjer i morselskapet i løpet av regnskapsåret, er det minst opplyst om følgende:\n• bakgrunn for erverv som har funnet sted\n• antall aksjer som er ervervet, vederlag for disse og den andel de utgjør av aksjekapitalen\n• antall aksjer som er avhendet, vederlaget for disse og den andel de utgjør av aksjekapitalen?","rskl § 7-42\n",null,"","","","","",null,null,null,null,null,null,{"$f":"IF(K122<>\"\",\"Du har satt X for at forholdet ikke er avklart. Gi en nærmere foklaring i kommentarfeltet.\",\"\")","v":""}]
[null,null,"NRS 8 pkt 8.7",null,"","","","","",null,null,null,null,null,null,{"$f":"IF(K123<>\"\",\"Du har satt X for at forholdet ikke er avklart. Gi en nærmere foklaring i kommentarfeltet.\",\"\")","v":""}]
[{"$f":"+A122+1","v":72},"Dersom egne aksjer ikke vises på egen linje under selskapskapitalen i balansen eller i oppstilling av endringer i egenkapitalen, er spesifikasjon gitt i note? ","rskl § 7-42\n",null,"","","","","",null,null,null,null,null,null,{"$f":"IF(K124<>\"\",\"Du har satt X for at forholdet ikke er avklart. Gi en nærmere foklaring i kommentarfeltet.\",\"\")","v":""}]
["Varer"]
[null,"Det er ikke noe krav til små foretak å spesifisere varer utover spesifikasjonen i balansen. Små foretak som velger å benytte full tilvirkningskost for egenproduserte varer skal imidlertid følge NRS 1 Varer, noe som medfører utvidede notekrav.","NRS 8\npkt 4.4.1.3\n"]
[null,null,"pkt 4.4.1.4"]
["Langsiktige tilvirkningskontrakter"]
[{"$f":"+A124+1","v":73},"Er det gitt opplysninger om den gjenstående produksjonen av tapskontrakter når omfanget av tapskontrakter er vesentlig i forhold til samlet produksjon? "," NRS 8\n 4.4.2.3\n",null,{"$f":"IF(SUM(F129:I129)>1,\"Oppgi kun et alternativ!\",\"\")","v":""},{"$f":"IF(J129=\"\",\"\",1)","v":""},{"$f":"IF(K129=\"\",\"\",1)","v":""},{"$f":"IF(L129=\"\",\"\",1)","v":""},{"$f":"IF(M129=\"\",\"\",1)","v":""},null,null,null,null,null,null,{"$f":"IF(K129<>\"\",\"Du har satt X for at forholdet ikke er avklart. Gi en nærmere foklaring i kommentarfeltet.\",\"\")","v":""}]
[null,"Foretak som er involvert i et fåtall anleggskontrakter kan unnlate å gi informasjon om gjenstående produksjon av tapskontrakter, dersom dette er åpenbart berettiget ut fra konkurransemessige hensyn."," NRS 8\n 4.4.2.3\n"]
[null,"Det er ikke noe krav til små foretak som benytter fullført kontrakt ihht rskl § 5-12 om å gi ytterligere noteopplysninger. Små foretak som velger å benytte løpende avregnings metode skal imidlertid følge NRS 2 om anleggskontrakter, noe som medfører utvidede notekrav.  ","NRS 8\n4.4.2.4"]
["Kortsiktige investeringer, ombyttbare finansielle aksjer mv."]
[{"$f":"+A129+1","v":74},"Er det for hver kategori av markedsbaserte finansielle instrumenter og varederivater som er vurdert etter hovedregelen om virkelig verdi i rskl § 5-8 (markedsverdiprinsippet), gitt følgende informasjon:\n•  Anskaffelseskost\n•  Virkelig verdi\n•  Periodens resultatførte verdiendring\n•  Vesentlige forutsetninger i verdivurderingen","rskl § 7-37",null,{"$f":"IF(SUM(F133:I133)>1,\"Oppgi kun et alternativ!\",\"\")","v":""},{"$f":"IF(J133=\"\",\"\",1)","v":""},{"$f":"IF(K133=\"\",\"\",1)","v":""},{"$f":"IF(L133=\"\",\"\",1)","v":""},{"$f":"IF(M133=\"\",\"\",1)","v":""},null,null,null,null,null,null,{"$f":"IF(K133<>\"\",\"Du har satt X for at forholdet ikke er avklart. Gi en nærmere foklaring i kommentarfeltet.\",\"\")","v":""}]
[{"$f":"+A133+1","v":75},"Er det gitt opplysninger om egenskaper ved og omfang av finansielle derivater som er vurdert til virkelig verdi etter rskl § 5-8 (markedsverdiprinsippet), fordelt på klasser av derivater?","rskl  § 7-37a",null,{"$f":"IF(SUM(F134:I134)>1,\"Oppgi kun et alternativ!\",\"\")","v":""},{"$f":"IF(J134=\"\",\"\",1)","v":""},{"$f":"IF(K134=\"\",\"\",1)","v":""},{"$f":"IF(L134=\"\",\"\",1)","v":""},{"$f":"IF(M134=\"\",\"\",1)","v":""},null,null,null,null,null,null,{"$f":"IF(K134<>\"\",\"Du har satt X for at forholdet ikke er avklart. Gi en nærmere foklaring i kommentarfeltet.\",\"\")","v":""}]
[{"$f":"+A134+1","v":76},"Omfatter opplysningene over vesentlige betingelser og forhold som kan påvirke beløpsstørrelse, tidfesting og usikkerhet ved framtidige kontantstrømmer?","rskl § 7-37a",null,"","","","","",null,null,null,null,null,null,{"$f":"IF(K135<>\"\",\"Du har satt X for at forholdet ikke er avklart. Gi en nærmere foklaring i kommentarfeltet.\",\"\")","v":""}]
["Bankinnskudd"]
[{"$f":"+A135+1","v":77},"Er det opplyst om bundne midler?","NRS 8\npkt 4.4.5.3",null,{"$f":"IF(SUM(F137:I137)>1,\"Oppgi kun et alternativ!\",\"\")","v":""},{"$f":"IF(J137=\"\",\"\",1)","v":""},{"$f":"IF(K137=\"\",\"\",1)","v":""},{"$f":"IF(L137=\"\",\"\",1)","v":""},{"$f":"IF(M137=\"\",\"\",1)","v":""},null,null,null,null,null,null,{"$f":"IF(K137<>\"\",\"Du har satt X for at forholdet ikke er avklart. Gi en nærmere foklaring i kommentarfeltet.\",\"\")","v":""}]
["Fordringer, gjeld, garantiforpliktelser"]
[null,"De ordinære notekravene til gjeld og fordringer gjelder også for mellomværende med foretak i samme konsern, tilknyttet selskap og felleskontrollert virksomhet. I konsernforhold har man ofte ikke avtalt noen avdragsplan, det kan derfor være vanskelig å opplyse om fordringer som forfaller senere enn et år og gjeld som forfaller senere enn 5 år. I slike tilfeller bør det opplyses at avdragsplan ikke er avtalt."]
[null,"Fordringer"]
[{"$f":"+A137+1","v":78},"Er det opplyst om hvor mye av den regnskapspliktiges fordringer som forfaller senere enn ett år etter regnskapsårets slutt, spesifisert på type fordring?","rskl § 7-40\nNRS 8 pkt 6.1.2.2",null,{"$f":"IF(SUM(F141:I141)>1,\"Oppgi kun et alternativ!\",\"\")","v":""},{"$f":"IF(J141=\"\",\"\",1)","v":""},{"$f":"IF(K141=\"\",\"\",1)","v":""},{"$f":"IF(L141=\"\",\"\",1)","v":""},{"$f":"IF(M141=\"\",\"\",1)","v":""},null,null,null,null,null,null,{"$f":"IF(K141<>\"\",\"Du har satt X for at forholdet ikke er avklart. Gi en nærmere foklaring i kommentarfeltet.\",\"\")","v":""}]
[null,null,"NRS 8 pkt 8.4",null,{"$f":"IF(SUM(F142:I142)>1,\"Oppgi kun et alternativ!\",\"\")","v":""},{"$f":"IF(J142=\"\",\"\",1)","v":""},{"$f":"IF(K142=\"\",\"\",1)","v":""},{"$f":"IF(L142=\"\",\"\",1)","v":""},{"$f":"IF(M142=\"\",\"\",1)","v":""},null,null,null,null,null,null,{"$f":"IF(K142<>\"\",\"Du har satt X for at forholdet ikke er avklart. Gi en nærmere foklaring i kommentarfeltet.\",\"\")","v":""}]
[null,"Gjeld"]
[{"$f":"+A141+1","v":79},"Er det opplyst om hvor stor del av den regnskapspliktig gjeld som forfaller til betaling mer enn fem år etter regnskapsårets slutt?","rskl § 7-40\n\n",null,{"$f":"IF(SUM(F144:I144)>1,\"Oppgi kun et alternativ!\",\"\")","v":""},{"$f":"IF(J144=\"\",\"\",1)","v":""},{"$f":"IF(K144=\"\",\"\",1)","v":""},{"$f":"IF(L144=\"\",\"\",1)","v":""},{"$f":"IF(M144=\"\",\"\",1)","v":""},null,null,null,null,null,null,{"$f":"IF(K144<>\"\",\"Du har satt X for at forholdet ikke er avklart. Gi en nærmere foklaring i kommentarfeltet.\",\"\")","v":""}]
[null,null,"NRS 8 pkt 8.4",null,"","","","","",null,null,null,null,null,null,""]
[null,null,"NRS 8 pkt 6.1.2.2",null,{"$f":"IF(SUM(F146:I146)>1,\"Oppgi kun et alternativ!\",\"\")","v":""},{"$f":"IF(J146=\"\",\"\",1)","v":""},{"$f":"IF(K146=\"\",\"\",1)","v":""},{"$f":"IF(L146=\"\",\"\",1)","v":""},{"$f":"IF(M146=\"\",\"\",1)","v":""},null,null,null,null,null,null,""]
[{"$f":"+A144+1","v":80},"Er det opplyst om hvor stor del av den regnskapspliktiges gjeld som er sikret ved pant eller lignende sikkerhet i den regnskapspliktiges eiendeler?",null,null,"","","","","",null,null,null,null,null,null,""]
[{"$f":"+A147+1","v":81},"Dersom det er stillet sikkerhet for gjeld som ikke er balanseført, er det gitt opplysninger om følgende:\n• hvor stor gjeld det er stillet sikkerhet for\n• hvor stor del av gjelden som er sikret ved pant","NRS 8 pkt 6.1.2.2",null,"","","","","",null,null,null,null,null,null,""]
[{"$f":"+A148+1","v":82},"Er det opplyst om balanseført verdi av de pantsatte eiendeler?",null,null,"","","","","",null,null,null,null,null,null,""]
[null,"Garantiforpliktelser","rskl § 7-40"]
[{"$f":"+A149+1","v":83},"Er det opplyst om summen av garantiforpliktelser som ikke er regnskapsført?","NRS 8 pkt 8.4",null,{"$f":"IF(SUM(F151:I151)>1,\"Oppgi kun et alternativ!\",\"\")","v":""},{"$f":"IF(J151=\"\",\"\",1)","v":""},{"$f":"IF(K151=\"\",\"\",1)","v":""},{"$f":"IF(L151=\"\",\"\",1)","v":""},{"$f":"IF(M151=\"\",\"\",1)","v":""},null,null,null,null,null,null,""]
[{"$f":"+A151+1","v":84},"Er det opplyst om garantiforpliktelse som er sikret ved pant?",null,null,{"$f":"IF(SUM(F152:I152)>1,\"Oppgi kun et alternativ!\",\"\")","v":""},{"$f":"IF(J152=\"\",\"\",1)","v":""},{"$f":"IF(K152=\"\",\"\",1)","v":""},{"$f":"IF(L152=\"\",\"\",1)","v":""},{"$f":"IF(M152=\"\",\"\",1)","v":""},null,null,null,null,null,null,""]
[{"$f":"+A152+1","v":85},"Er det opplyst om hvilke forpliktelser som er dekket av andre avsetninger som nevnt i rskl § 6-2D I nr. 3, andre avsetninger for forpliktelser?","rskl § 7-40\n\n",null,"","","","","",null,null,null,null,null,null,""]
[null,null,"NRS 8 pkt 6.1.1.3.7",null,"","","","","",null,null,null,null,null,null,""]
[null,"Ikke-balanseførte forpliktelser"]
[{"$f":"+A153+1","v":86},"Er det opplyst om ikke-balanseførte forpliktelser av betydning knyttet til medlemsfordeler som strekker seg ut over perioden for betalt medlemskap?  ","NRS (F) GRS for ideelle organisasjoner punkt 9.2.1",null,{"$f":"IF(SUM(F156:I156)>1,\"Oppgi kun et alternativ!\",\"\")","v":""},{"$f":"IF(J156=\"\",\"\",1)","v":""},{"$f":"IF(K156=\"\",\"\",1)","v":""},{"$f":"IF(L156=\"\",\"\",1)","v":""},{"$f":"IF(M156=\"\",\"\",1)","v":""},null,null,null,null,null,null,""]
["Mellomværende med foretak i samme konsern, tilknyttet selskap og felles kontrollert virksomhet"]
[null,"De ordinære opplysningskravene til gjeld og fordringer gjelder også for mellomværende med foretak i samme konsern, tilknyttet selskap og felleskontrollert virksomhet. I konsernforhold har man ofte ikke avtalt noen avdragsplan, det kan derfor være vanskelig å opplyse om fordringer som forfaller senere enn et år og gjeld som forfaller senere enn 5 år. I slike tilfeller bør det opplyses at avdragsplan ikke er avtalt "]
[null,"I tillegg til de ordinære kravene vedrørende fordringer og gjeld, er det ytterligere opplysningskrav vedrørende mellomværende med foretak i samme konsern, tilknyttede selskap og felleskontrollert virksomhet."]
[{"$f":"+A156+1","v":87},"I små foretak som er morselskap, men som ikke avgir konsernregnskap, er det opplyst om mellomværende med datterselskap?","rskl § 7-36, 7. ledd",null,{"$f":"IF(SUM(F160:I160)>1,\"Oppgi kun et alternativ!\",\"\")","v":""},{"$f":"IF(J160=\"\",\"\",1)","v":""},{"$f":"IF(K160=\"\",\"\",1)","v":""},{"$f":"IF(L160=\"\",\"\",1)","v":""},{"$f":"IF(M160=\"\",\"\",1)","v":""},null,null,null,null,null,null,{"$f":"IF(K160<>\"\",\"Du har satt X for at forholdet ikke er avklart. Gi en nærmere foklaring i kommentarfeltet.\",\"\")","v":""}]
[{"$f":"+A160+1","v":88},"Er det opplyst om det samlede beløp for henholdsvis fordringer, annen langsiktig gjeld og kortsiktig gjeld som gjelder foretak i samme konsern, tilknyttet selskap og felleskontrollert virksomhet? ","rskl § 7-36, 8. ledd",null,{"$f":"IF(SUM(F161:I161)>1,\"Oppgi kun et alternativ!\",\"\")","v":""},{"$f":"IF(J161=\"\",\"\",1)","v":""},{"$f":"IF(K161=\"\",\"\",1)","v":""},{"$f":"IF(L161=\"\",\"\",1)","v":""},{"$f":"IF(M161=\"\",\"\",1)","v":""},null,null,null,null,null,null,{"$f":"IF(K161<>\"\",\"Du har satt X for at forholdet ikke er avklart. Gi en nærmere foklaring i kommentarfeltet.\",\"\")","v":""}]
[{"$f":"+A161+1","v":89},"Er det vist tilsvarende tall fra foregående årsregnskap? ","rskl § 7-36, 8. ledd",null,"","","","","",null,null,null,null,null,null,{"$f":"IF(K162<>\"\",\"Du har satt X for at forholdet ikke er avklart. Gi en nærmere foklaring i kommentarfeltet.\",\"\")","v":""}]
[{"$f":"+A162+1","v":90},"Er det opplyst om samlet forpliktelse i form av pantstillelse, annen sikkerhetsstillelse og garantier til fordel for foretak i samme konsern? ","rskl § 7-36, 9. ledd\n",null,"","","","","",null,null,null,null,null,null,{"$f":"IF(K163<>\"\",\"Du har satt X for at forholdet ikke er avklart. Gi en nærmere foklaring i kommentarfeltet.\",\"\")","v":""}]
[null,null,"NRS 8 pkt 8.4",null,"","","","","",null,null,null,null,null,null,{"$f":"IF(K164<>\"\",\"Du har satt X for at forholdet ikke er avklart. Gi en nærmere foklaring i kommentarfeltet.\",\"\")","v":""}]
["Pensjonsforpliktelser"]
[null,"Er det gitt følgende tilleggsopplysninger for ordninger finansiert over drift (inkl AFP), i de tilfeller opplysninger om foretakets pensjonsforpliktelse må anses som nødvendige for å bedømme den regnskapspliktiges stilling og resultat:","NRS 8\n6.1.1.1.1"]
[{"$f":"+A163+1","v":91}," -   foretakets pensjonsordninger inklusive opplysning om antallet personer forpliktelsen omfatter,",null,null,{"$f":"IF(SUM(F167:I167)>1,\"Oppgi kun et alternativ!\",\"\")","v":""},{"$f":"IF(J167=\"\",\"\",1)","v":""},{"$f":"IF(K167=\"\",\"\",1)","v":""},{"$f":"IF(L167=\"\",\"\",1)","v":""},{"$f":"IF(M167=\"\",\"\",1)","v":""},null,null,null,null,null,null,{"$f":"IF(K167<>\"\",\"Du har satt X for at forholdet ikke er avklart. Gi en nærmere foklaring i kommentarfeltet.\",\"\")","v":""}]
[{"$f":"+A167+1","v":92}," -   anvendt regnskapsprinsipp for direkte pensjonsforpliktelser,",null,null,{"$f":"IF(SUM(F168:I168)>1,\"Oppgi kun et alternativ!\",\"\")","v":""},{"$f":"IF(J168=\"\",\"\",1)","v":""},{"$f":"IF(K168=\"\",\"\",1)","v":""},{"$f":"IF(L168=\"\",\"\",1)","v":""},{"$f":"IF(M168=\"\",\"\",1)","v":""},null,null,null,null,null,null,{"$f":"IF(K168<>\"\",\"Du har satt X for at forholdet ikke er avklart. Gi en nærmere foklaring i kommentarfeltet.\",\"\")","v":""}]
[{"$f":"+A168+1","v":93}," -   viktige økonomiske og aktuarmessige forutsetninger,",null,null,"","","","","",null,null,null,null,null,null,{"$f":"IF(K169<>\"\",\"Du har satt X for at forholdet ikke er avklart. Gi en nærmere foklaring i kommentarfeltet.\",\"\")","v":""}]
[{"$f":"+A169+1","v":94}," -   sammensetning av netto pensjonskostnad,",null,null,"","","","","",null,null,null,null,null,null,{"$f":"IF(K170<>\"\",\"Du har satt X for at forholdet ikke er avklart. Gi en nærmere foklaring i kommentarfeltet.\",\"\")","v":""}]
[{"$f":"+A170+1","v":95}," -   avstemming mellom faktisk netto pensjonsforpliktelse og balanseført netto pensjonsforpliktelse som viser størrelsen av utsatt resultatføring av virkning av estimatendringer, samt virkning av endringer i pensjonsplaner",null,null,"","","","","",null,null,null,null,null,null,{"$f":"IF(K171<>\"\",\"Du har satt X for at forholdet ikke er avklart. Gi en nærmere foklaring i kommentarfeltet.\",\"\")","v":""}]
[null,"Er det gitt følgende informasjon om pensjonsforpliktelse knyttet til AFP:"]
[{"$f":"+A171+1","v":96}," -   antall personer som er omfattet av ordningen,",null,null,{"$f":"IF(SUM(F173:I173)>1,\"Oppgi kun et alternativ!\",\"\")","v":""},{"$f":"IF(J173=\"\",\"\",1)","v":""},{"$f":"IF(K173=\"\",\"\",1)","v":""},{"$f":"IF(L173=\"\",\"\",1)","v":""},{"$f":"IF(M173=\"\",\"\",1)","v":""},null,null,null,null,null,null,{"$f":"IF(K173<>\"\",\"Du har satt X for at forholdet ikke er avklart. Gi en nærmere foklaring i kommentarfeltet.\",\"\")","v":""}]
[{"$f":"+A173+1","v":97}," -   aldersfordeling for de personer som er omfattet av ordningen,",null,null,{"$f":"IF(SUM(F174:I174)>1,\"Oppgi kun et alternativ!\",\"\")","v":""},{"$f":"IF(J174=\"\",\"\",1)","v":""},{"$f":"IF(K174=\"\",\"\",1)","v":""},{"$f":"IF(L174=\"\",\"\",1)","v":""},{"$f":"IF(M174=\"\",\"\",1)","v":""},null,null,null,null,null,null,{"$f":"IF(K174<>\"\",\"Du har satt X for at forholdet ikke er avklart. Gi en nærmere foklaring i kommentarfeltet.\",\"\")","v":""}]
[{"$f":"+A174+1","v":98}," -   informasjon om gjeldende bestemmelser vedrørende foretakets forpliktelser til delfinansiering av pensjonsrettigheter opptjent i AFP-ordningen, herunder varighet og hvilken andel som faller på foretaket.",null,null,"","","","","",null,null,null,null,null,null,{"$f":"IF(K175<>\"\",\"Du har satt X for at forholdet ikke er avklart. Gi en nærmere foklaring i kommentarfeltet.\",\"\")","v":""}]
[null,"For pensjonsordninger finansiert ved fondsopplegg (forsikrede ordninger) hvor balanseføring ikke foretas, er det gitt følgende noteopplysninger:","NRS 8\n6.1.1.1.2"]
[{"$f":"+A175+1","v":99}," -   foretakets pensjonsordninger inklusive opplysning om antallet personer forpliktelsen omfatter",null,null,{"$f":"IF(SUM(F177:I177)>1,\"Oppgi kun et alternativ!\",\"\")","v":""},{"$f":"IF(J177=\"\",\"\",1)","v":""},{"$f":"IF(K177=\"\",\"\",1)","v":""},{"$f":"IF(L177=\"\",\"\",1)","v":""},{"$f":"IF(M177=\"\",\"\",1)","v":""},null,null,null,null,null,null,{"$f":"IF(K177<>\"\",\"Du har satt X for at forholdet ikke er avklart. Gi en nærmere foklaring i kommentarfeltet.\",\"\")","v":""}]
[{"$f":"+A177+1","v":100}," -   anvendte regnskapsprinsipper inklusiv metode for vurdering av pensjonsmidlene",null,null,"","","","","",null,null,null,null,null,null,{"$f":"IF(K178<>\"\",\"Du har satt X for at forholdet ikke er avklart. Gi en nærmere foklaring i kommentarfeltet.\",\"\")","v":""}]
[{"$f":"+A178+1","v":101}," -   årets pensjonspremie",null,null,"","","","","",null,null,null,null,null,null,{"$f":"IF(K179<>\"\",\"Du har satt X for at forholdet ikke er avklart. Gi en nærmere foklaring i kommentarfeltet.\",\"\")","v":""}]
[{"$f":"+A179+1","v":102}," -   pensjonspremiefondets størrelse og årets eventuelle innbetaling til pensjonspremiefond",null,null,"",{"$f":"IF(J180=\"\",\"\",1)","v":""},{"$f":"IF(K180=\"\",\"\",1)","v":""},{"$f":"IF(L180=\"\",\"\",1)","v":""},{"$f":"IF(M180=\"\",\"\",1)","v":""},null,null,null,null,null,null,{"$f":"IF(K180<>\"\",\"Du har satt X for at forholdet ikke er avklart. Gi en nærmere foklaring i kommentarfeltet.\",\"\")","v":""}]
[{"$f":"+A180+1","v":103}," -   avkastning på pensjonspremiefond",null,null,"","","","","",null,null,null,null,null,null,{"$f":"IF(K181<>\"\",\"Du har satt X for at forholdet ikke er avklart. Gi en nærmere foklaring i kommentarfeltet.\",\"\")","v":""}]
[null,"Hvis små foretak balansefører forsikrede pensjonsforpliktelser gjelder NRS 6 Pensjonskostnader, noe som medfører utvidede notekrav.","NRS 8\npkt 6.1.1.1.5"]
["Obligatorisk tjenestepensjon (pliktig)"]
[{"$f":"+A181+1","v":104},"Er det opplyst om foretaket er pliktig til å ha tjenestepensjonsordning etter lov om obligatorisk tjenestepensjon og om foretaket har pensjonsordning som oppfyller kravene etter denne loven?","rskl § 7-43a\n",null,{"$f":"IF(SUM(F184:I184)>1,\"Oppgi kun et alternativ!\",\"\")","v":""},{"$f":"IF(J184=\"\",\"\",1)","v":""},{"$f":"IF(K184=\"\",\"\",1)","v":""},{"$f":"IF(L184=\"\",\"\",1)","v":""},{"$f":"IF(M184=\"\",\"\",1)","v":""},null,null,null,null,null,null,{"$f":"IF(K184<>\"\",\"Du har satt X for at forholdet ikke er avklart. Gi en nærmere foklaring i kommentarfeltet.\",\"\")","v":""}]
[null,null,"NRS 8\npkt 8.12",null,{"$f":"IF(SUM(F185:I185)>1,\"Oppgi kun et alternativ!\",\"\")","v":""},{"$f":"IF(J185=\"\",\"\",1)","v":""},{"$f":"IF(K185=\"\",\"\",1)","v":""},{"$f":"IF(L185=\"\",\"\",1)","v":""},{"$f":"IF(M185=\"\",\"\",1)","v":""},null,null,null,null,null,null,{"$f":"IF(K185<>\"\",\"Du har satt X for at forholdet ikke er avklart. Gi en nærmere foklaring i kommentarfeltet.\",\"\")","v":""}]
["Egenkapital/formålskapital"]
[{"$f":"+A184+1","v":105},"Er det opplyst om hvilke hovedtyper restriksjoner som foreligger for formålskapitalen, og hvordan organisasjonen overholder restriksjonene? Evt spesielle betingelser el.l. som følge av restriksjoner skal opplyses om.","NRS (F) GRS for ideelle organisasjoner punkt 8.3",null,{"$f":"IF(SUM(F187:I187)>1,\"Oppgi kun et alternativ!\",\"\")","v":""},{"$f":"IF(J187=\"\",\"\",1)","v":""},{"$f":"IF(K187=\"\",\"\",1)","v":""},{"$f":"IF(L187=\"\",\"\",1)","v":""},{"$f":"IF(M187=\"\",\"\",1)","v":""},null,null,null,null,null,null,{"$f":"IF(K187<>\"\",\"Du har satt X for at forholdet ikke er avklart. Gi en nærmere foklaring i kommentarfeltet.\",\"\")","v":""}]
[{"$f":"+A187+1","v":106},"Dersom organisasjonen har negativ annen formålskapital, er det gitt tallmessige tilleggsopplysninger, hvor sum grunnkapital og formålskapital med restriksjoner vises, og hvor det fremkommer at negativ annen formålskapital utgjør differansen i forhold til netto formålskapital?","NRS (F) GRS for ideelle organisasjoner punkt 8.3",null,"","","","","",null,null,null,null,null,null,{"$f":"IF(K188<>\"\",\"Du har satt X for at forholdet ikke er avklart. Gi en nærmere foklaring i kommentarfeltet.\",\"\")","v":""}]
[{"$f":"+A188+1","v":107},"Er det gitt opplysninger om innholdet i hver enkelt egenkapitaltransaksjon?","NRS 8\n5.1.1.8",null,{"$f":"IF(SUM(F189:I189)>1,\"Oppgi kun et alternativ!\",\"\")","v":""},{"$f":"IF(J189=\"\",\"\",1)","v":""},{"$f":"IF(K189=\"\",\"\",1)","v":""},{"$f":"IF(L189=\"\",\"\",1)","v":""},{"$f":"IF(M189=\"\",\"\",1)","v":""},null,null,null,null,null,null,{"$f":"IF(K189<>\"\",\"Du har satt X for at forholdet ikke er avklart. Gi en nærmere foklaring i kommentarfeltet.\",\"\")","v":""}]
[{"$f":"+A189+1","v":108},"Dersom det er besluttet ekstaordinært utbytte basert på en mellombalanse med balansedag i perioden fra balansedagen for siste regnskapsår til tidspunktet for ordinær generalforsamling der årsregnskapet for siste regnskapsår skal behandles, er dette opplyst om i note?","NRS 8 5.3.3",null,"","","","","",null,null,null,null,null,null,{"$f":"IF(K190<>\"\",\"Du har satt X for at forholdet ikke er avklart. Gi en nærmere foklaring i kommentarfeltet.\",\"\")","v":""}]
[{"$f":"+A190+1","v":109},"Når organisasjonen tar i bruk standarden for første gang, er det vist en oppstilling som forklarer endringene i formålskapitalen fra sist avlagte regnskap til inngående balanse i overgangsåret, spesifisert for alle poster som er endret i balansen? \nSmå foretak som velger å innarbeide endringene i aktivitetsregnskapet/resultatregnskapet i overgangsåret, må beskrive i note hvilke engangsvirkninger som er innarbeidet i årets aktivitets-regnskap/resultatregnskap.","NRS (F) GRS for ideelle organisasjoner punkt 14.2.1",null,"","","","","",null,null,null,null,null,null,{"$f":"IF(K191<>\"\",\"Du har satt X for at forholdet ikke er avklart. Gi en nærmere foklaring i kommentarfeltet.\",\"\")","v":""}]
[null,"Ekstraordinært utbytte regnskapsført i uttaksåret anbefales spesifisert på egen linje i egenkapitalnote, dersom det utarbeides slik note.","NRS 8 5.3.3"]
["Resultatregnskap/aktivitetsregnskap"]
[{"$f":"+A191+1","v":110},"Anbefalt: Er det ved større samarbeidsprosjekt orientert om hvordan fordelingen av inntekter og kostnader mellom samarbeidspartnerne er gjennomført?","NRS (F) GRS for ideelle organisasjoner punkt 3.9.1",null,{"$f":"IF(SUM(F194:I194)>1,\"Oppgi kun et alternativ!\",\"\")","v":""},{"$f":"IF(J194=\"\",\"\",1)","v":""},{"$f":"IF(K194=\"\",\"\",1)","v":""},{"$f":"IF(L194=\"\",\"\",1)","v":""},{"$f":"IF(M194=\"\",\"\",1)","v":""},null,null,null,null,null,null,{"$f":"IF(K194<>\"\",\"Du har satt X for at forholdet ikke er avklart. Gi en nærmere foklaring i kommentarfeltet.\",\"\")","v":""}]
[{"$f":"+A194+1","v":111},"Anbefalt: Ved bruk av artsinndelt resultatregnskap, er det opplyst om hvilke aktiviteter som har vært gjennomført siste regnskapsår?","NRS (F) GRS for ideelle organisasjoner punkt 4.9 jf 4.2 og 4.3",null,{"$f":"IF(SUM(F195:I195)>1,\"Oppgi kun et alternativ!\",\"\")","v":""},{"$f":"IF(J195=\"\",\"\",1)","v":""},{"$f":"IF(K195=\"\",\"\",1)","v":""},{"$f":"IF(L195=\"\",\"\",1)","v":""},{"$f":"IF(M195=\"\",\"\",1)","v":""},null,null,null,null,null,null,""]
[{"$f":"+A195+1","v":112},"Ved bruk av aktivitetsregnskap, er det i note gitt spesifikasjon av organisasjonens driftskostnader etter art? \nDette innebærer følgende spesifikasjon:\n1. Endring i beholdning av varer under tilvirkning og ferdig tilvirkede varer\n2. Endring i beholdning av egentilvirkede anleggsmidler\n3. Varekostnad\n4. Lønnskostnad\n5. Avskrivning på varige driftsmidler og immaterielle eiendeler\n6. Nedskrivning på varige driftsmidler og immaterielle eiendeler\n7. Annen driftskostnad\n8. Finanskostnader","NRS (F) GRS for ideelle organisasjoner punkt 4.9 jf 4.2 ",null,"","","","","",null,null,null,null,null,null,""]
[{"$f":"+A196+1","v":113},"Ved bruk av aktivitetsregnskap, er det i note spesifisert ytterligere inndeling av anskaffede og/eller forbrukte midler, der dette er nødvendig for å gi et rettvisende bilde av organisasjonens aktiviteter?","NRS (F) GRS for ideelle organisasjoner punkt 4.9",null,"","","","","",null,null,null,null,null,null,""]
[114,"Anbefalt: Er det opplyst om hvor stor andel av de innsamlede midlene som stammer fra de forskjellige innsamlingsaktivitetene som har foregått i regnskapsperioden, når dette er vurdert nyttig for brukerne av regnskapet?","NRS (F) GRS for ideelle organisasjoner punkt 5.4.1.1",null,"","","","","",null,null,null,null,null,null,""]
[115,"Anbefalt: Er det opplyst om vesentlige sponsoravtaler, herunder beløp, kontraktstid og evt motytelser og prisinpper for periodisering?","NRS (F) GRS for ideelle organisasjoner punkt 5.5.1.1",null,"","","","","",null,null,null,null,null,null,""]
[116,"Er det opplyst om hvilke prinsipper og metoder som er brukt ved fordelingen av kostnader på de ulike aktivitetene i organisasjonen, og hvilke beregninger som ligger til grunn for fordelingen?","NRS (F) GRS for ideelle organisasjoner punkt 6.2.1",null,"","","","","",null,null,null,null,null,null,""]
[{"$f":"+A200+1","v":117},"Dersom det er vedtatt vesentlige bevilgninger som ikke er kostnadsført i regnskapet, er det opplyst om bevilgningens art og sannsynligheten for at betingelsene for bevilgningen vil inntreffe? Når det å gi bevilgninger til andre er en vesentlig del av organisasjonens aktivitet, bør det også opplyses i note om hvem/hva det er bevilget midler til.","NRS (F) GRS for ideelle organisasjoner punkt 6.4.1.1",null,{"$f":"IF(SUM(F201:I201)>1,\"Oppgi kun et alternativ!\",\"\")","v":""},{"$f":"IF(J201=\"\",\"\",1)","v":""},{"$f":"IF(K201=\"\",\"\",1)","v":""},{"$f":"IF(L201=\"\",\"\",1)","v":""},{"$f":"IF(M201=\"\",\"\",1)","v":""},null,null,null,null,null,null,""]
[{"$f":"+A201+1","v":118},"Er det opplyst om formålsprosenten for hvert av de 5 siste årene, beregnet med grunnlag i sum forbrukte midler, og er endringene i nøkkeltallet kommentert?","NRS (F) GRS for ideelle organisasjoner punkt 10.4.5",null,"","","","","",null,null,null,null,null,null,""]
["Spesifisering av poster i resultatregnskapet"]
[{"$f":"+A202+1","v":119},"Er eventuelle poster i oppstillingsplanen som er slått sammen spesifisert?","rskl § 7-38",null,{"$f":"IF(SUM(F204:I204)>1,\"Oppgi kun et alternativ!\",\"\")","v":""},{"$f":"IF(J204=\"\",\"\",1)","v":""},{"$f":"IF(K204=\"\",\"\",1)","v":""},{"$f":"IF(L204=\"\",\"\",1)","v":""},{"$f":"IF(M204=\"\",\"\",1)","v":""},null,null,null,null,null,null,{"$f":"IF(K204<>\"\",\"Du har satt X for at forholdet ikke er avklart. Gi en nærmere foklaring i kommentarfeltet.\",\"\")","v":""}]
[null,null,"NRS 8 pkt 8.3",null,{"$f":"IF(SUM(F205:I205)>1,\"Oppgi kun et alternativ!\",\"\")","v":""},{"$f":"IF(J205=\"\",\"\",1)","v":""},{"$f":"IF(K205=\"\",\"\",1)","v":""},{"$f":"IF(L205=\"\",\"\",1)","v":""},{"$f":"IF(M205=\"\",\"\",1)","v":""},null,null,null,null,null,null,{"$f":"IF(K205<>\"\",\"Du har satt X for at forholdet ikke er avklart. Gi en nærmere foklaring i kommentarfeltet.\",\"\")","v":""}]
[{"$f":"+A204+1","v":120},"Er tilsvarende sammenligningstall utarbeidet? ","rskl § 7-38",null,"","","","","",null,null,null,null,null,null,{"$f":"IF(K206<>\"\",\"Du har satt X for at forholdet ikke er avklart. Gi en nærmere foklaring i kommentarfeltet.\",\"\")","v":""}]
[null,null,"og 6-6",null,"","","","","",null,null,null,null,null,null,{"$f":"IF(K207<>\"\",\"Du har satt X for at forholdet ikke er avklart. Gi en nærmere foklaring i kommentarfeltet.\",\"\")","v":""}]
["Spesifisering av lønnskostnader"]
[{"$f":"+A206+1","v":121},"Er lønnskostnader spesifisert på lønninger, folketrygdavgift, regnskapsførte pensjonskostnader og andre ytelser?","rskl § 7-38\n",null,{"$f":"IF(SUM(F209:I209)>1,\"Oppgi kun et alternativ!\",\"\")","v":""},{"$f":"IF(J209=\"\",\"\",1)","v":""},{"$f":"IF(K209=\"\",\"\",1)","v":""},{"$f":"IF(L209=\"\",\"\",1)","v":""},{"$f":"IF(M209=\"\",\"\",1)","v":""},null,null,null,null,null,null,{"$f":"IF(K209<>\"\",\"Du har satt X for at forholdet ikke er avklart. Gi en nærmere foklaring i kommentarfeltet.\",\"\")","v":""}]
[null,null,"NRS 8 pkt 8.3",null,{"$f":"IF(SUM(F210:I210)>1,\"Oppgi kun et alternativ!\",\"\")","v":""},{"$f":"IF(J210=\"\",\"\",1)","v":""},{"$f":"IF(K210=\"\",\"\",1)","v":""},{"$f":"IF(L210=\"\",\"\",1)","v":""},{"$f":"IF(M210=\"\",\"\",1)","v":""},null,null,null,null,null,null,{"$f":"IF(K210<>\"\",\"Du har satt X for at forholdet ikke er avklart. Gi en nærmere foklaring i kommentarfeltet.\",\"\")","v":""}]
[{"$f":"+A209+1","v":122},"Er tilsvarende sammenligningstall utarbeidet?","rskl §§ 7-38 \n",null,"","","","","",null,null,null,null,null,null,{"$f":"IF(K211<>\"\",\"Du har satt X for at forholdet ikke er avklart. Gi en nærmere foklaring i kommentarfeltet.\",\"\")","v":""}]
[null,null,"og  6-6",null,"","","","","",null,null,null,null,null,null,{"$f":"IF(K212<>\"\",\"Du har satt X for at forholdet ikke er avklart. Gi en nærmere foklaring i kommentarfeltet.\",\"\")","v":""}]
["Aksjeverdibasert betaling",null,"NRS 8 pkt 7.2.4"]
[null,"I de tilfeller opplysninger om aksjeverdibasert betaling må anses nødvendig for å bedømme den regnskapspliktiges stilling og resultat, er det gitt følgende tilleggsinformasjon om ordningene:"]
[{"$f":"+A211+1","v":123},"* En beskrivelse av hver type aksjeverdibasert betaling som foreligger\n* Vilkår og betingelser for hver enkelt ordning\n* Hvor stort beløp som eventuelt er kostnadsført minst spesifisert på de aktuelle postene i resultatregnskapet\n* Hvor stort beløp som eventuelt er kostnadsført i forbindelse med kompensasjon til morselskapet.\n* Dersom ordningen regnskapsføres i henhold til hovedreglene i NRS 15A Aksjebasert betaling: En beskrivelse av hvordan eventuelle kostnadsførte beløp er beregnet, herunder de forutsetninger som er lagt til grunn for beregningen.\n* Dersom aksjeverdibasert avlønning gjøres opp ved at den ansatte får aksjer i morselskap: opplysning om dette.",null,null,{"$f":"IF(SUM(F215:I215)>1,\"Oppgi kun et alternativ!\",\"\")","v":""},{"$f":"IF(J215=\"\",\"\",1)","v":""},{"$f":"IF(K215=\"\",\"\",1)","v":""},{"$f":"IF(L215=\"\",\"\",1)","v":""},{"$f":"IF(M215=\"\",\"\",1)","v":""},null,null,null,null,null,null,{"$f":"IF(K215<>\"\",\"Du har satt X for at forholdet ikke er avklart. Gi en nærmere foklaring i kommentarfeltet.\",\"\")","v":""}]
["Skatt"]
[null,"For små foretak stilles det ikke krav om opplysning om beregning av skattekostnad, utsatt skatt eller utsatt skattefordel. Av rskl § 7-1 følger det imidlertid at det skal gis opplysninger som er nødvendige for å bedømme den regnskapspliktiges stilling og resultat og som ikke fremgår av årsregnskapet for øvrig.","NRS 8\npkt 6.1.1.2.3"]
[null,"Dersom foretaket har unnlatt balanseføring av fremtidig skattefordel bør det gis informasjon om dette og størrelsen på den mulige skattefordel som er unnlatt balanseført."]
[null,"Det bør gis spesifikasjon av skattekostnaden på betalbar skatt, og endring utsatt skatt."]
[{"$f":"+A215+1","v":124},"Anbefalt: Er det opplyst om omfanget av den økonomiske aktiviteten, beregningen av skattemessig overskudd eller underskudd og skattekostnaden?","NRS (F) GRS for ideelle organisasjoner punkt 10.4.6 jf punkt 2.3",null,{"$f":"IF(SUM(F220:I220)>1,\"Oppgi kun et alternativ!\",\"\")","v":""},{"$f":"IF(J220=\"\",\"\",1)","v":""},{"$f":"IF(K220=\"\",\"\",1)","v":""},{"$f":"IF(L220=\"\",\"\",1)","v":""},{"$f":"IF(M220=\"\",\"\",1)","v":""},null,null,null,null,null,null,{"$f":"IF(K220<>\"\",\"Du har satt X for at forholdet ikke er avklart. Gi en nærmere foklaring i kommentarfeltet.\",\"\")","v":""}]
["Offentlige tilskudd"]
[{"$f":"+A220+1","v":125},"Er det i noter til regnskapet opplyses om den regnskapsmessige behandlingen av tilskudd, herunder brutto- eller nettoføring og tilskuddsbeløpets størrelse?","NRS 8\npkt 7.1.1.3.3",null,{"$f":"IF(SUM(F222:I222)>1,\"Oppgi kun et alternativ!\",\"\")","v":""},{"$f":"IF(J222=\"\",\"\",1)","v":""},{"$f":"IF(K222=\"\",\"\",1)","v":""},{"$f":"IF(L222=\"\",\"\",1)","v":""},{"$f":"IF(M222=\"\",\"\",1)","v":""}]
["ANDRE TILSKUDD"]
[{"$f":"+A222+1","v":126},"Er det for vesentlige tilskudd opplyst om hvem som har gitt tilskuddet og tilskuddets størrelse, samt evt. betingelser knyttet til tilskuddet? Når det ikke er mulig å estimere markedsverdi av tilskuddet skal tilskuddet beskrives.","NRS (F) GRS for ideelle organisasjoner punkt 5.3.3",null,{"$f":"IF(SUM(F224:I224)>1,\"Oppgi kun et alternativ!\",\"\")","v":""},{"$f":"IF(J224=\"\",\"\",1)","v":""},{"$f":"IF(K224=\"\",\"\",1)","v":""},{"$f":"IF(L224=\"\",\"\",1)","v":""},{"$f":"IF(M224=\"\",\"\",1)","v":""},null,null,null,null,null,null,{"$f":"IF(K224<>\"\",\"Du har satt X for at forholdet ikke er avklart. Gi en nærmere foklaring i kommentarfeltet.\",\"\")","v":""}]
["ARV OG GAVER"]
[{"$f":"+A224+1","v":127},"Er det opplyst om vesentlige gaver? Dette gjelder også gaver som ikke kan måles pålitelig, og som derfor ikke er inntektsført i regnskapet.","NRS (F) GRS for ideelle organisasjoner punkt 7.1.3 og 5.4.2.1",null,{"$f":"IF(SUM(F226:I226)>1,\"Oppgi kun et alternativ!\",\"\")","v":""},{"$f":"IF(J226=\"\",\"\",1)","v":""},{"$f":"IF(K226=\"\",\"\",1)","v":""},{"$f":"IF(L226=\"\",\"\",1)","v":""},{"$f":"IF(M226=\"\",\"\",1)","v":""},null,null,null,null,null,null,{"$f":"IF(K226<>\"\",\"Du har satt X for at forholdet ikke er avklart. Gi en nærmere foklaring i kommentarfeltet.\",\"\")","v":""}]
[{"$f":"+A226+1","v":128},"Er det opplyst om prinsipper for verdsettelse av vesentlige gaver i naturalia som er verdsatt for inntektsføring i regnskapet?","NRS (F) GRS for ideelle organisasjoner punkt 5.4.2.1",null,{"$f":"IF(SUM(F227:I227)>1,\"Oppgi kun et alternativ!\",\"\")","v":""},{"$f":"IF(J227=\"\",\"\",1)","v":""},{"$f":"IF(K227=\"\",\"\",1)","v":""},{"$f":"IF(L227=\"\",\"\",1)","v":""},{"$f":"IF(M227=\"\",\"\",1)","v":""},null,null,null,null,null,null,{"$f":"IF(K227<>\"\",\"Du har satt X for at forholdet ikke er avklart. Gi en nærmere foklaring i kommentarfeltet.\",\"\")","v":""}]
[{"$f":"+A227+1","v":129},"Dersom organisasjonen har fått melding om en vesentlig arv hvor det ennå ikke er kartlagt hva arvens størrelse vil bli, er det opplyst om denne, herunder et estimat for beløpet der det er mulig?","NRS (F) GRS for ideelle organisasjoner punkt 5.4.3.1",null,"","","","","",null,null,null,null,null,null,{"$f":"IF(K228<>\"\",\"Du har satt X for at forholdet ikke er avklart. Gi en nærmere foklaring i kommentarfeltet.\",\"\")","v":""}]
["Sikring"]
[null,"Små foretak kan unnlate å gjennomføre sikringsføring, uavhengig av om vilkårene for sikring skulle være til stede.\nDersom sikring benyttes skal reglene i NRS 18 Finansielle eiendeler og forpliktelser følges, herunder krav til noteopplysninger.","rskl § 4-1 \nannet ledd\n"]
[null,null,"NRS 8 pkt 7.1.6"]
["Valuta"]
[{"$f":"+A228+1","v":130},"Er det opplyst om resultatførte valutagevinster og –tap?","NRS 8 \npkt 9.2.5\n",null,{"$f":"IF(SUM(F233:I233)>1,\"Oppgi kun et alternativ!\",\"\")","v":""},{"$f":"IF(J233=\"\",\"\",1)","v":""},{"$f":"IF(K233=\"\",\"\",1)","v":""},{"$f":"IF(L233=\"\",\"\",1)","v":""},{"$f":"IF(M233=\"\",\"\",1)","v":""}]
[null,null,"rskl § 7-35",null,{"$f":"IF(SUM(F234:I234)>1,\"Oppgi kun et alternativ!\",\"\")","v":""},{"$f":"IF(J234=\"\",\"\",1)","v":""},{"$f":"IF(K234=\"\",\"\",1)","v":""},{"$f":"IF(L234=\"\",\"\",1)","v":""},{"$f":"IF(M234=\"\",\"\",1)","v":""}]
["Hendelser etter balansedagen"]
[{"$f":"+A233+1","v":131},"Er det gitt opplysninger om hendelser som har sammenheng med forhold oppstått etter balansedagen dersom dette er nødvendig for å bedømme den regnskapspliktiges stilling og resultat og som ikke fremgår av årsregnskapet for øvrig, jf regnskapsloven § 7-1?","NRS 8 \npkt 6.1.1.4.1\n\n",null,{"$f":"IF(SUM(F236:I236)>1,\"Oppgi kun et alternativ!\",\"\")","v":""},{"$f":"IF(J236=\"\",\"\",1)","v":""},{"$f":"IF(K236=\"\",\"\",1)","v":""},{"$f":"IF(L236=\"\",\"\",1)","v":""},{"$f":"IF(M236=\"\",\"\",1)","v":""}]
[null,null,"rskl § 7-1",null,"","","","","",null,null,null,null,null,null,{"$f":"IF(K237<>\"\",\"Du har satt X for at forholdet ikke er avklart. Gi en nærmere foklaring i kommentarfeltet.\",\"\")","v":""}]
["Usikre forpliktelser"]
[{"$f":"+A236+1","v":132},"Er ”andre avsetninger for forpliktelser” spesifisert?\nSmå foretak behøver normalt ikke spesifisere endring i balanseført avsetning. Det er tilstrekkelig å opplyse om inngående og utgående balanse for hver klasse av avsetninger.\nSmå foretak kan unnlate å gi opplysninger om ikke balanseførte usikre forpliktelser.","NRS 8 \npkt 6.1.1.3.7",null,{"$f":"IF(SUM(F239:I239)>1,\"Oppgi kun et alternativ!\",\"\")","v":""},{"$f":"IF(J239=\"\",\"\",1)","v":""},{"$f":"IF(K239=\"\",\"\",1)","v":""},{"$f":"IF(L239=\"\",\"\",1)","v":""},{"$f":"IF(M239=\"\",\"\",1)","v":""},null,null,null,null,null,null,{"$f":"IF(K239<>\"\",\"Du har satt X for at forholdet ikke er avklart. Gi en nærmere foklaring i kommentarfeltet.\",\"\")","v":""}]
[null,null,"rskl § 7-40",null,"","","","","",null,null,null,null,null,null,{"$f":"IF(K240<>\"\",\"Du har satt X for at forholdet ikke er avklart. Gi en nærmere foklaring i kommentarfeltet.\",\"\")","v":""}]
["Sysselsatte årsverk (pliktig)"]
[{"$f":"+A239+1","v":133}," Er det opplyst om antall sysselsatte årsverk i regnskapsåret?","rskl § 7-43\n",null,{"$f":"IF(SUM(F242:I242)>1,\"Oppgi kun et alternativ!\",\"\")","v":""},{"$f":"IF(J242=\"\",\"\",1)","v":""},{"$f":"IF(K242=\"\",\"\",1)","v":""},{"$f":"IF(L242=\"\",\"\",1)","v":""},{"$f":"IF(M242=\"\",\"\",1)","v":""},null,null,null,null,null,null,{"$f":"IF(K242<>\"\",\"Du har satt X for at forholdet ikke er avklart. Gi en nærmere foklaring i kommentarfeltet.\",\"\")","v":""}]
[null,null,"NRS 8 pkt 8. 8",null,"","","","","",null,null,null,null,null,null,{"$f":"IF(K243<>\"\",\"Du har satt X for at forholdet ikke er avklart. Gi en nærmere foklaring i kommentarfeltet.\",\"\")","v":""}]
[{"$f":"+A242+1","v":134},"Dersom det ikke har vært ansatte, er dette opplyst?","NRS 8 pkt 8.8",null,{"$f":"IF(SUM(F244:I244)>1,\"Oppgi kun et alternativ!\",\"\")","v":""},{"$f":"IF(J244=\"\",\"\",1)","v":""},{"$f":"IF(K244=\"\",\"\",1)","v":""},{"$f":"IF(L244=\"\",\"\",1)","v":""},{"$f":"IF(M244=\"\",\"\",1)","v":""},null,null,null,null,null,null,{"$f":"IF(K244<>\"\",\"Du har satt X for at forholdet ikke er avklart. Gi en nærmere foklaring i kommentarfeltet.\",\"\")","v":""}]
["Ytelser til ledende personer (pliktig)"]
[{"$f":"+A244+1","v":135},"Er det opplyst om samlede utgifter til henholdsvis lønn, pensjonsforpliktelser og annen godtgjørelse til daglig leder og medlemmer av styret og bedriftsforsamlingen?","rskl § 7-44\n",null,{"$f":"IF(SUM(F246:I246)>1,\"Oppgi kun et alternativ!\",\"\")","v":""},{"$f":"IF(J246=\"\",\"\",1)","v":""},{"$f":"IF(K246=\"\",\"\",1)","v":""},{"$f":"IF(L246=\"\",\"\",1)","v":""},{"$f":"IF(M246=\"\",\"\",1)","v":""},null,null,null,null,null,null,{"$f":"IF(K246<>\"\",\"Du har satt X for at forholdet ikke er avklart. Gi en nærmere foklaring i kommentarfeltet.\",\"\")","v":""}]
[null,null,"NRS 8 pkt 8.9",null,{"$f":"IF(SUM(F247:I247)>1,\"Oppgi kun et alternativ!\",\"\")","v":""},{"$f":"IF(J247=\"\",\"\",1)","v":""},{"$f":"IF(K247=\"\",\"\",1)","v":""},{"$f":"IF(L247=\"\",\"\",1)","v":""},{"$f":"IF(M247=\"\",\"\",1)","v":""},null,null,null,null,null,null,{"$f":"IF(K247<>\"\",\"Du har satt X for at forholdet ikke er avklart. Gi en nærmere foklaring i kommentarfeltet.\",\"\")","v":""}]
[{"$f":"+A246+1","v":136},"Dersom selskapet leier inn daglig leder, er det opplyst om honoraret for dette?","NRS 8 pkt 8.9",null,"","","","","",null,null,null,null,null,null,{"$f":"IF(K248<>\"\",\"Du har satt X for at forholdet ikke er avklart. Gi en nærmere foklaring i kommentarfeltet.\",\"\")","v":""}]
[null,"I NRS 8 pkt 8.9 står det at dersom en ansatt i foretaket også er medlem av styret, er det kun godtgjørelsen knyttet til styrevervet som skal opplyses. Det er selvfølgelig anledning til også å opplyse om lønn separat.","NRS 8 pkt 8.9"]
[null,"Utgifter til pensjonsforpliktelser for daglig leder og medlemmer av styret er i en fondsbasert pensjonsordning årets innbetalte premie. Alternativt kan den aktuarberegnede regnskapsmessige kostnaden knyttet til pensjonsforpliktelsen opplyses. Valget må være konsistent for de ulike personene fra periode til periode.","NRS 8 pkt 8.9"]
[null,"Annen godtgjørelse omfatter ikke rene refusjoner av utlegg.","NRS 8 pkt 8.9"]
[{"$f":"+A248+1","v":137},"Er det opplyst om arten og omfanget av forpliktelser til å gi daglig leder eller leder av styret særskilt vederlag ved opphør eller endring av ansettelsesforholdet eller vervet?","rskl § 7-44\n\n",null,{"$f":"IF(SUM(F252:I252)>1,\"Oppgi kun et alternativ!\",\"\")","v":""},{"$f":"IF(J252=\"\",\"\",1)","v":""},{"$f":"IF(K252=\"\",\"\",1)","v":""},{"$f":"IF(L252=\"\",\"\",1)","v":""},{"$f":"IF(M252=\"\",\"\",1)","v":""},null,null,null,null,null,null,{"$f":"IF(K252<>\"\",\"Du har satt X for at forholdet ikke er avklart. Gi en nærmere foklaring i kommentarfeltet.\",\"\")","v":""}]
[null,null,"NRS 8 pkt 8.9",null,"","","","","",null,null,null,null,null,null,""]
[{"$f":"+A252+1","v":138},"Er det opplyst om avtaler om bonus, overskuddsdelinger, opsjoner og lignende til fordel for daglig leder eller styreleder?","rskl § 7-44\n\n",null,"","","","","",null,null,null,null,null,null,""]
[null,null,"NRS 8 pkt 8.9",null,{"$f":"IF(SUM(F255:I255)>1,\"Oppgi kun et alternativ!\",\"\")","v":""},{"$f":"IF(J255=\"\",\"\",1)","v":""},{"$f":"IF(K255=\"\",\"\",1)","v":""},{"$f":"IF(L255=\"\",\"\",1)","v":""},{"$f":"IF(M255=\"\",\"\",1)","v":""},null,null,null,null,null,null,""]
[{"$f":"+A254+1","v":139},"Er det opplyst om eventuelle forpliktelser knyttet til tegningsretter, opsjoner og tilsvarende rettigheter som gir ansatte eller tillitsvalgte rett til tegning, kjøp eller salg av aksjer eller grunnfondsbevis?","rskl § 7-44\n\n",null,"","","","","",null,null,null,null,null,null,""]
[null,null,"NRS 8 pkt 8.9",null,"","","","","",null,null,null,null,null,null,""]
["Revisor (pliktig)"]
[{"$f":"+A256+1","v":140},"Er det opplyst om regnskapsårets bokførte godtgjørelse til revisor og hvordan godtgjørelsen er fordelt på revisjon og andre tjenester? ","rskl § 7-44\n",null,{"$f":"IF(SUM(F259:I259)>1,\"Oppgi kun et alternativ!\",\"\")","v":""},{"$f":"IF(J259=\"\",\"\",1)","v":""},{"$f":"IF(K259=\"\",\"\",1)","v":""},{"$f":"IF(L259=\"\",\"\",1)","v":""},{"$f":"IF(M259=\"\",\"\",1)","v":""},null,null,null,null,null,null,{"$f":"IF(K259<>\"\",\"Du har satt X for at forholdet ikke er avklart. Gi en nærmere foklaring i kommentarfeltet.\",\"\")","v":""}]
[null,null,"NRS 8 pkt 8.9",null,{"$f":"IF(SUM(F260:I260)>1,\"Oppgi kun et alternativ!\",\"\")","v":""},{"$f":"IF(J260=\"\",\"\",1)","v":""},{"$f":"IF(K260=\"\",\"\",1)","v":""},{"$f":"IF(L260=\"\",\"\",1)","v":""},{"$f":"IF(M260=\"\",\"\",1)","v":""},null,null,null,null,null,null,{"$f":"IF(K260<>\"\",\"Du har satt X for at forholdet ikke er avklart. Gi en nærmere foklaring i kommentarfeltet.\",\"\")","v":""}]
["Lån og sikkerhetsstillelse til ledende personer, aksjeeiere mv. (pliktig)"]
[{"$f":"+A259+1","v":141},"Er lån/sikkerhetsstillelse til fordel for daglig leder og leder av styret spesifiser?","rskl § 7-45\n\n",null,{"$f":"IF(SUM(F262:I262)>1,\"Oppgi kun et alternativ!\",\"\")","v":""},{"$f":"IF(J262=\"\",\"\",1)","v":""},{"$f":"IF(K262=\"\",\"\",1)","v":""},{"$f":"IF(L262=\"\",\"\",1)","v":""},{"$f":"IF(M262=\"\",\"\",1)","v":""},null,null,null,null,null,null,{"$f":"IF(K262<>\"\",\"Du har satt X for at forholdet ikke er avklart. Gi en nærmere foklaring i kommentarfeltet.\",\"\")","v":""}]
[null,null,"NRS 8 pkt 8.10",null,"","","","","",null,null,null,null,null,null,""]
[null,null,"NRS 8 pkt 4.4.3.3",null,{"$f":"IF(SUM(F264:I264)>1,\"Oppgi kun et alternativ!\",\"\")","v":""},{"$f":"IF(J264=\"\",\"\",1)","v":""},{"$f":"IF(K264=\"\",\"\",1)","v":""},{"$f":"IF(L264=\"\",\"\",1)","v":""},{"$f":"IF(M264=\"\",\"\",1)","v":""},null,null,null,null,null,null,""]
[null,null,"NRS 8 pkt 4.3.3.6.3",null,"","","","","",null,null,null,null,null,null,""]
[{"$f":"+A262+1","v":142},"Er det for hvert lån opplyst om hvilke vilkår som gjelder, herunder rentesatsen og avdragsplan?",null,null,"","","","","",null,null,null,null,null,null,""]
[{"$f":"+A266+1","v":143},"Er det opplyst om samlet lån til og samlet sikkerhetsstillelse til fordel for ansatte, aksjeeiere og medlemmer av styret og bedriftsforsamlingen?",null,null,"","","","","",null,null,null,null,null,null,""]
[{"$f":"+A267+1","v":144},"I aksjeselskap, omfatter opplysningene også lån eller sikkerhetsstillelse til fordel for nærstående til aksjeeier, og medlemmer av styret og bedriftsforsamlingen? ",null,null,"","","","","",null,null,null,null,null,null,""]
[null,"Som nærstående etter denne bestemmelsen regnes:\n1. ektefelle og en person som vedkommende bor sammen med i ekteskapslignende forhold,\n2. slektninger i rett oppstigende eller nedstigende linje og søsken,\n3. slektninger i rett oppstigende eller nedstigende linje og søsken til en person som nevnt i nr. 1,\n4. ektefelle til, og en person som bor sammen i ekteskapslignende forhold med, noen som er nevnt i nr. 2,\n5. foretak der vedkommende selv eller noen som er nevnt i nr. 1 til 4, har slik bestemmende innflytelse som morselskap i konsern.     "]
[{"$f":"+A268+1","v":145},"Er det opplyst om hvilke vilkår som gjelder for slike lån eller sikkerhetsstillelser?",null,null,{"$f":"IF(SUM(F270:I270)>1,\"Oppgi kun et alternativ!\",\"\")","v":""},{"$f":"IF(J270=\"\",\"\",1)","v":""},{"$f":"IF(K270=\"\",\"\",1)","v":""},{"$f":"IF(L270=\"\",\"\",1)","v":""},{"$f":"IF(M270=\"\",\"\",1)","v":""},null,null,null,null,null,null,{"$f":"IF(K270<>\"\",\"Du har satt X for at forholdet ikke er avklart. Gi en nærmere foklaring i kommentarfeltet.\",\"\")","v":""}]
[{"$f":"+A270+1","v":146},"Er lån/sikkerhetsstillelser som utgjør mer enn 5 % av egenkapitalen etter balansen spesifisert?",null,null,"","","","","",null,null,null,null,null,null,{"$f":"IF(K271<>\"\",\"Du har satt X for at forholdet ikke er avklart. Gi en nærmere foklaring i kommentarfeltet.\",\"\")","v":""}]
["Fusjon"]
[{"$f":"+A271+1","v":147},"Er det opplyst om navnet på alle fusjonerte selskaper i regnskapsperioden? ","NRS 8\npkt 9.3",null,{"$f":"IF(SUM(F273:I273)>1,\"Oppgi kun et alternativ!\",\"\")","v":""},{"$f":"IF(J273=\"\",\"\",1)","v":""},{"$f":"IF(K273=\"\",\"\",1)","v":""},{"$f":"IF(L273=\"\",\"\",1)","v":""},{"$f":"IF(M273=\"\",\"\",1)","v":""},null,null,null,null,null,null,{"$f":"IF(K273<>\"\",\"Du har satt X for at forholdet ikke er avklart. Gi en nærmere foklaring i kommentarfeltet.\",\"\")","v":""}]
[{"$f":"+A273+1","v":148},"Dersom det formelt sett overtakende selskaps regnskap vises som sammenligningstall, er dette opplyst? ","NRS 8\npkt 9.3",null,"","","","","",null,null,null,null,null,null,{"$f":"IF(K274<>\"\",\"Du har satt X for at forholdet ikke er avklart. Gi en nærmere foklaring i kommentarfeltet.\",\"\")","v":""}]
[{"$f":"+A274+1","v":149},"Er det opplyst om oppkjøpsmetoden eller kontinuitetsmetoden, herunder konsernkontinuitet eller selskapskontinuitet, er benyttet?","NRS 8\npkt 9.3",null,"","","","","",null,null,null,null,null,null,{"$f":"IF(K275<>\"\",\"Du har satt X for at forholdet ikke er avklart. Gi en nærmere foklaring i kommentarfeltet.\",\"\")","v":""}]
[null,"Ved fusjon regnskapsført etter særregelen i rskl §5-16 (kontinuitetsunntak) er det ikke pålagt å gi ytterligere noteopplysninger. Det er heller ikke plikt til å utarbeide proformainformasjon. Dersom fusjonen regnskapsføres etter hovedregelen i rskl § 5-14 (transaksjon) gjelder kravene til tilleggsopplysninger i NRS 9 Fusjon kap. 5. ","NRS 8\npkt 9.3"]
[null,null,"NRS 9 Fusjon"]
["Fisjon"]
[{"$f":"+A275+1","v":150},"Er det opplyst om navnet på alle fisjonerte selskaper i regnskapsperioden? ","NRS 8\npkt 9.4",null,{"$f":"IF(SUM(F279:I279)>1,\"Oppgi kun et alternativ!\",\"\")","v":""},{"$f":"IF(J279=\"\",\"\",1)","v":""},{"$f":"IF(K279=\"\",\"\",1)","v":""},{"$f":"IF(L279=\"\",\"\",1)","v":""},{"$f":"IF(M279=\"\",\"\",1)","v":""},null,null,null,null,null,null,{"$f":"IF(K279<>\"\",\"Du har satt X for at forholdet ikke er avklart. Gi en nærmere foklaring i kommentarfeltet.\",\"\")","v":""}]
[null,"Ved fisjon regnskapsført til kontinuitet, er det ikke pålagt å gi ytterligere noteopplysninger. Hvis en fisjon regnskapsføres som transaksjon, gjelder kravene til tilleggsopplysninger i NRS (F) Fisjon pkt 75-78.  ","NRS 8\npkt 9.4"]
[null,null,"NRS (F) Fisjon"]
["Datterselskaper"]
[{"$f":"+A279+1","v":151},"Har regnskapspliktig som er datterselskap opplyst om firma og forretningskontor for morselskap som utarbeider konsernregnskap der den regnskapspliktige inngår i konsolideringen?","rskl § 7-36 3.ledd\n",null,{"$f":"IF(SUM(F283:I283)>1,\"Oppgi kun et alternativ!\",\"\")","v":""},{"$f":"IF(J283=\"\",\"\",1)","v":""},{"$f":"IF(K283=\"\",\"\",1)","v":""},{"$f":"IF(L283=\"\",\"\",1)","v":""},{"$f":"IF(M283=\"\",\"\",1)","v":""},null,null,null,null,null,null,{"$f":"IF(K283<>\"\",\"Du har satt X for at forholdet ikke er avklart. Gi en nærmere foklaring i kommentarfeltet.\",\"\")","v":""}]
[null,null,"NRS 8 pkt 8.6",null,{"$f":"IF(SUM(F284:I284)>1,\"Oppgi kun et alternativ!\",\"\")","v":""},{"$f":"IF(J284=\"\",\"\",1)","v":""},{"$f":"IF(K284=\"\",\"\",1)","v":""},{"$f":"IF(L284=\"\",\"\",1)","v":""},{"$f":"IF(M284=\"\",\"\",1)","v":""},null,null,null,null,null,null,{"$f":"IF(K284<>\"\",\"Du har satt X for at forholdet ikke er avklart. Gi en nærmere foklaring i kommentarfeltet.\",\"\")","v":""}]
[{"$f":"+A283+1","v":152},"Er det opplyst om hvor en kan få utlevert konsernregnskapene?","NRS 8 pkt 8.6",null,"","","","","",null,null,null,null,null,null,{"$f":"IF(K285<>\"\",\"Du har satt X for at forholdet ikke er avklart. Gi en nærmere foklaring i kommentarfeltet.\",\"\")","v":""}]
["Fortsatt drift"]
[{"$f":"+A285+1","v":153},"Dersom det er usikkerhet om fortsatt drift, er det opplyst om usikkerheten?","rskl § 7-46",null,{"$f":"IF(SUM(F287:I287)>1,\"Oppgi kun et alternativ!\",\"\")","v":""},{"$f":"IF(J287=\"\",\"\",1)","v":""},{"$f":"IF(K287=\"\",\"\",1)","v":""},{"$f":"IF(L287=\"\",\"\",1)","v":""},{"$f":"IF(M287=\"\",\"\",1)","v":""},null,null,null,null,null,null,{"$f":"IF(K287<>\"\",\"Du har satt X for at forholdet ikke er avklart. Gi en nærmere foklaring i kommentarfeltet.\",\"\")","v":""}]
["Virksomhet under avhendelse og avvikling"]
[null,"Små foretak har kun krav til særskilte opplysninger om foretaksdel under avvikling eller avhendelse dersom foretaksdelen utgjør en betydelig og separat del av foretakets samlede virksomhet. ","NRS 8 pkt 9.5"]
[{"$f":"+A287+1","v":154},"Dersom foretaksdel under avvikling eller avhendelse utgjør en betydelig og separat del av foretakets samlede virksomhet, omfatter tilleggsopplysningene minst:\nEn beskrivelse av den virksomheten som avvikles eller avhendes?","NRS 8 pkt 9.5",null,{"$f":"IF(SUM(F290:I290)>1,\"Oppgi kun et alternativ!\",\"\")","v":""},{"$f":"IF(J290=\"\",\"\",1)","v":""},{"$f":"IF(K290=\"\",\"\",1)","v":""},{"$f":"IF(L290=\"\",\"\",1)","v":""},{"$f":"IF(M290=\"\",\"\",1)","v":""},null,null,null,null,null,null,{"$f":"IF(K290<>\"\",\"Du har satt X for at forholdet ikke er avklart. Gi en nærmere foklaring i kommentarfeltet.\",\"\")","v":""}]
[{"$f":"+A290+1","v":155},"En beskrivelse av de forhold som gjør at virksomhetsdelen er å betrakte som under avvikling eller avhendelse?",null,null,"",{"$f":"IF(J291=\"\",\"\",1)","v":""},{"$f":"IF(K291=\"\",\"\",1)","v":""},{"$f":"IF(L291=\"\",\"\",1)","v":""},{"$f":"IF(M291=\"\",\"\",1)","v":""},null,null,null,null,null,null,{"$f":"IF(K291<>\"\",\"Du har satt X for at forholdet ikke er avklart. Gi en nærmere foklaring i kommentarfeltet.\",\"\")","v":""}]
[{"$f":"+A291+1","v":156},"Netto balanseført verdi av de eiendeler og forpliktelser som inngår i virksomheten som er under avvikling eller avhendelse?",null,null,"","","","","",null,null,null,null,null,null,{"$f":"IF(K292<>\"\",\"Du har satt X for at forholdet ikke er avklart. Gi en nærmere foklaring i kommentarfeltet.\",\"\")","v":""}]
[{"$f":"+A292+1","v":157},"Netto resultat, herunder eventuell gevinst og tap knyttet til avhendelsen eller avviklingen?",null,null,"","","","","",null,null,null,null,null,null,{"$f":"IF(K293<>\"\",\"Du har satt X for at forholdet ikke er avklart. Gi en nærmere foklaring i kommentarfeltet.\",\"\")","v":""}]

{"sheet":"N_Ubesv.","index":2,"n_rows":157,"n_cols":9,"rows_kept":157,"cut":false,"hidden":true,"merged":[]}
["Ikke besvart","Spørsmål",2018,"Kommentar",null,null,{"$f":"+Forside!B2","v":0},{"$f":"+Forside!B3","v":2020},"Kommentarer"]
[1,"Er det gitt opplysninger om anvendte regnskapsprinsipper, herunder prinsipper for inntektsføring?  "]
[2," Er det ved vesentlige medlemsinntekter opplyst om hvilke kriterier som er lagt til grunn i regnskapet for inntektsføringen og periodiseringen av disse inntektene?"]
[3,"Er det ved vesentlige tilskudd opplyst om hvilke prinsipper som er lagt til grunn i regnskapet for inntektsføringen og periodiseringen av disse inntektene?"]
[4,"Er det gitt opplysninger om virkning av og begrunnelse for endringer i prinsipper?"]
[5,"Er det gitt opplysninger om virkning av feil i tidligere årsregnskap og korrigering av slike feil, samt omklassifiseringer?"]
[6,"Er det gitt opplysninger om og begrunnelse for eventuell sikringsvurdering og porteføljevurdering?"]
[7,"Er det gitt opplysninger om de prinsipper som er anvendt ved vurderingen av varer, herunder metode for tilvirkning av anskaffelseskost?"]
[8,"Er det opplyst om de prinsipper som er anvendt ved vurderingen av langsiktige tilvirkningskontrakter?"]
[9,"Er det gitt opplysninger om de regnskapsprinsipper som er benyttet ved vurdering av kortsiktige investeringer / finansielle derivater, herunder prinsipp for tilordning av anskaffelseskost for ombyttbare finansielle aksjer mv?"]
[10,"Er det opplyst om valg av prinsipp når det gjelder balanseføring av utsatt skattefordel? "]
[11,"For egne utgifter til FoU og utvikling av rettigheter, er det gitt opplysninger om valg av regnskapsprinsipp med hensyn til balanseføring eller kostnadsføring? "]
[12,"Er det gitt opplysninger om anvendte regnskapsprinsipper for omregning av utenlandsk valuta?"]
[13,"Dersom virkning av prinsippendringer eller korrigeringer av feil er ført direkte mot egenkapitalen, fremgår det av notene om regnskapstallene er omarbeidet eller ikke?"]
[14,"Dersom årsregnskapet presenteres i en annen valuta enn regnskapsvalutaen, er regnskapsvalutaen og omregningskurser opplyst?"]
[15,"Dersom sammenligningstallene i regnskapet er omarbeidet, er omarbeidingen forklart?"]
[16,"Dersom det ikke er mulig å utarbeide sammenligningstall ved overgang til god regnskapsskikk for ideelle organisasjoner, er det opplyst om i note?"]
[17,"Dersom det utarbeides konsernregnskap og det anvendes forskjellige prinsipper i selskapsregnskap og konsernregnskap, er dette opplyst og begrunnet?"]
[18,"Er alle de regnskapsprinsipper som er omtalt i notene aktuelle for selskapet?"]
[19,"Er det gitt følgende opplysninger vedr. goodwill:\n• Anskaffelseskost "]
[20,"• Tilgang og avgang i løpet av regnskapsåret"]
[21,"• Samlede avskrivninger og nedskrivninger, og"]
[22,"• Avskrivninger og nedskrivninger  i regnskapsåret"]
[23,"Er det opplyst om økonomisk levetid, avskrivningsplan og eventuell endring i avskrivningsplan?"]
[24,"Er balanseført goodwill spesifisert for hvert enkelt virksomhetskjøp?"]
[25,"Er avskrivningsplan for goodwill som er lengre enn fem år begrunnet?"]
[26,"Er det gitt følgende opplysninger vedr. FoU og rettigheter:\n• anskaffelseskost med spesifikasjon av balanseførte lånekostnader knyttet til egentilvirkede anleggsmidler,"]
[27,"• tilgang og avgang i løpet av regnskapsåret,"]
[28,"• samlede avskrivninger, nedskrivninger og reverseringer av nedskrivninger, og"]
[29,"• avskrivninger, nedskrivninger og reverseringer av nedskrivninger i regnskapsåret"]
[30,"Er det opplyst om økonomisk levetid, avskrivningsplan og eventuell endring i avskrivningsplan?"]
[31,"Er det opplyst om utgifter som har gått med til FoU i regnskapsåret? "]
[32,"Er arten av FoU angitt, uavhengig av om utgiftene er balanse- eller kostnadsført? "]
[33,"Er det opplyst om forventet samlet inntjening av pågående FoU motsvarer medgåtte samlede utgifter? "]
[34,"Er det gitt følgende opplysninger for varige driftsmidler:\n• anskaffelseskost med spesifikasjon av balanseførte lånekostnader knyttet til egentilvirkede anleggsmidler,"]
[35,"• tilgang og avgang i løpet av regnskapsåret,"]
[36,"• samlede avskrivninger, nedskrivninger og reversering av nedskrivninger, og"]
[37,"• avskrivninger, nedskrivninger og reversering av nedskrivninger i regnskapsåret."]
[38,"Er det opplyst om endring i avskrivningsplan?"]
[39,"Dersom organisasjonen har kostnadsført betydelige midler som etter sin art normal balanseføres, er det opplyst om og begrunnet?"]
[40,"Er det gitt tilleggsopplysninger om bevaringsverdige eiendeler av betydning, uavhengig av regnskapsmessig behandling? Evt avskrivninger eller nedskrivninger skal spesifiseres."]
[41,"Er det gitt tilstrekkelig informasjon om finansielle anleggsmidler og omløpsmidler til å kunne vurdere hvorvidt organisasjonen har oppfylt evt instrukser og begrensninger i forhold til plassering og forvaltning av midler?"]
[42,"Er det for hvert datterselskap opplyst om:\n• foretaksnavn (firma)\n• forretningskontor\n• eierandel\n• stemmeandel"]
[43,"For hvert datterselskap som er regnskapsført etter kostmetoden eller som ikke er konsolidert, er det opplyst om egenkapital og resultat i siste regnskapsår? "]
[44,"Dersom det ikke utarbeides konsernregnskap, er det opplyst om transaksjoner med og mellom datterselskaper og urealisert interngevinst på disse?"]
[45,"Er det for hver vesentlig enhet opplyst om;\n- forbindelsen mellom datterorganisasjonens aktiviteter og mor-organisasjonens aktiviteter, \n- totale eiendeler, gjeld og formålskapital, og\n- aktivitetsinntekter, -kostnader og aktivitetsresultat i året, oppsummert."]
[46,"For datterselskap som regnskapsføres etter egenkapitalmetoden, er det opplyst om anskaffelseskost og balanseført egenkapital på anskaffelsestidspunktet?"]
[47,"For datterselskap som regnskapsføres etter egenkapitalmetoden, er det for hver investering opplyst om inngående balanse, inntektsført resultat, andre endringer i løpet av året og utgående balanse?"]
[48,"For datterselskap som regnskapsføres etter egenkapitalmetoden, er det opplyst om merverdier og goodwill samt avskrivninger av merverdier og goodwill?"]
[49,"Dersom datterselskap er utelatt fra konsolideringen ihht rskl § 3-8, er dette opplyst og begrunnet?"]
[50,"Er det i konsernregnskapet opplyst om navnet på foretak der den regnskapspliktige selv eller gjennom datterselskaper eier så mange aksjer eller andeler at de representerer flertallet av stemmene i foretaket, men som ikke er datterselskap fordi det klart kan påvises at slikt eierskap likevel ikke gir bestemmernde innflytelse jr rskl § 1-3, 2. ledd nr. 1?"]
[51,"Er det for hvert tilknyttet selskap opplyst om:\n• foretaksnavn (firma) \n• forretningskontor\n• eierandel \n• stemmeandel\n• det skal også opplyses om egenkapitalen og resultatet i siste regnskapsår (Gjelder ikke TS som er regnskapsført etter egenkapitalmetoden – se nedenfor)"]
[52,"Er det for hvert tilknyttet selskap som er regnskapsført etter kostmetoden også opplyst om egenkapitalen og resultatet i siste regnskapsår?"]
[53,"For tilknyttet selskap som regnskapsføres etter egenkapitalmetoden, er det opplyst om anskaffelseskost og balanseført egenkapital på anskaffelsestidspunktet?"]
[54,"For tilknyttet selskap som regnskapsføres etter egenkapitalmetoden, er det for hver investering opplyst om inngående balanse, inntektsført resultat, andre endringer i løpet av året og utgående balanse?"]
[55,"For tilknyttet selskap som regnskapsføres etter egenkapitalmetoden, er det opplyst om merverdier og goodwill samt avskrivninger av merverdier og goodwill?"]
[56,"Er det for hver felleskontrollert virksomhet opplyst om:\n• selskapsnavn (firma)\n• forretningskontor\n• eierandel\n• stemmeandel"]
[57,"Er det for hver felleskontrollert virksomhet som er regnskapsført etter kostmetoden også opplyst om egenkapitalen og resultatet i siste regnskapsår?"]
[58,"For felleskontrollert virksomhet som regnskapsføres etter egenkapital- eller bruttometoden, er det opplyst om anskaffelseskost og balanseført egenkapital på anskaffelsestidspunktet?"]
[59,"For felleskontrollert virksomhet som regnskapsføres etter egenkapital- eller bruttometoden, er det for hver investering opplyst om inngående balanse, inntektsført resultat, andre endringer i løpet av året og utgående balanse?"]
[60,"For felleskontrollert virksomhet som regnskapsføres etter egenkapital- eller bruttometoden, er det opplyst om merverdier og goodwill samt avskrivninger av merverdier og goodwill?"]
[61,"Der balanseført verdi av aksjer og andeler som er anleggsmidler er høyere enn virkelig verdi, er det opplyst om balanseført verdi og virkelig verdi av den enkelte eiendelen eller en hensiktsmessig gruppering av eiendelene?"]
[62,"Inkluderer begrunnelsen holdepunkter for at verdifallet er forbigående?"]
[63,"Dersom det anses som nødvendig for å vurdere foretakets stilling og resultat, er det gitt ytterligere opplysninger om investeringer i aksjer og andeler, herunder balanseført verdi og eierandel i hvert selskap?"]
[64,"For regnskapspliktige som er aksjeselskap, er det opplyst om aksjekapitalen og aksjens pålydende fordelt på hver aksjeklasse?"]
[65,"Er det opplyst om eventuelle vedtektsbestemmelser om stemmerett? "]
[66,"Er det opplyst om eventuelle rettigheter som kan medføre at det blir utstedt nye aksjer, dersom rettighettene er vesentlige for å bedømme foretakets stilling og resultat? "]
[67,"For regnskapspliktige som er aksjeselskap, er det opplyst om selskapets 10 største aksjeeiere og deres eierandeler (kan utelate aksjeeiere som eier under 5 %)?"]
[68,"Er det opplyst om aksjer eller andeler i selskapet som eies av henholdsvis daglig leder og medlemmer av styret og bedriftsforsamlingen?"]
[69,"Dersom selskapet har en beholdning av egne aksjer etter aksjeloven kapittel 9, er det opplyst om antallet, aksjenes pålydende verdi og den andel aksjene utgjør av aksjekapitalen?"]
[70,"Dersom det har vært endringer i beholdning av egne aksjer og datterselskapenes beholdning av aksjer i morselskapet i løpet av regnskapsåret, er det minst opplyst om følgende:\n• bakgrunn for erverv som har funnet sted\n• antall aksjer som er ervervet, vederlag for disse og den andel de utgjør av aksjekapitalen\n• antall aksjer som er avhendet, vederlaget for disse og den andel de utgjør av aksjekapitalen?"]
[71,"Dersom egne aksjer ikke vises på egen linje under selskapskapitalen i balansen eller i oppstilling av endringer i egenkapitalen, er spesifikasjon gitt i note? "]
[72,"Er det gitt opplysninger om den gjenstående produksjonen av tapskontrakter når omfanget av tapskontrakter er vesentlig i forhold til samlet produksjon? "]
[73,"Er det for hver kategori av markedsbaserte finansielle instrumenter og varederivater som er vurdert etter hovedregelen om virkelig verdi i rskl § 5-8 (markedsverdiprinsippet), gitt følgende informasjon:\n•  Anskaffelseskost\n•  Virkelig verdi\n•  Periodens resultatførte verdiendring\n•  Vesentlige forutsetninger i verdivurderingen"]
[74,"Er det gitt opplysninger om egenskaper ved og omfang av finansielle derivater som er vurdert til virkelig verdi etter rskl § 5-8 (markedsverdiprinsippet), fordelt på klasser av derivater?"]
[75,"Omfatter opplysningene over vesentlige betingelser og forhold som kan påvirke beløpsstørrelse, tidfesting og usikkerhet ved framtidige kontantstrømmer?"]
[76,"Er det opplyst om bundne midler?"]
[77,"Er det opplyst om hvor mye av den regnskapspliktiges fordringer som forfaller senere enn ett år etter regnskapsårets slutt, spesifisert på type fordring?"]
[78,"Er det opplyst om hvor stor del av den regnskapspliktig gjeld som forfaller til betaling mer enn fem år etter regnskapsårets slutt?"]
[79,"Er det opplyst om hvor stor del av den regnskapspliktiges gjeld som er sikret ved pant eller lignende sikkerhet i den regnskapspliktiges eiendeler?"]
[80,"Dersom det er stillet sikkerhet for gjeld som ikke er balanseført, er det gitt opplysninger om følgende:\n• hvor stor gjeld det er stillet sikkerhet for\n• hvor stor del av gjelden som er sikret ved pant"]
[81,"Er det opplyst om balanseført verdi av de pantsatte eiendeler?"]
[82,"Er det opplyst om summen av garantiforpliktelser som ikke er regnskapsført?"]
[83,"Er det opplyst om garantiforpliktelse som er sikret ved pant?"]
[84,"Er det opplyst om hvilke forpliktelser som er dekket av andre avsetninger som nevnt i rskl § 6-2D I nr. 3, andre avsetninger for forpliktelser?"]
[85,"Er det opplyst om ikke-balanseførte forpliktelser av betydning knyttet til medlemsfordeler som strekker seg ut over perioden for betalt medlemskap?  "]
[86,"I små foretak som er morselskap, men som ikke avgir konsernregnskap, er det opplyst om mellomværende med datterselskap?"]
[87,"Er det opplyst om det samlede beløp for henholdsvis fordringer, annen langsiktig gjeld og kortsiktig gjeld som gjelder foretak i samme konsern, tilknyttet selskap og felleskontrollert virksomhet? "]
[88,"Er det vist tilsvarende tall fra foregående årsregnskap? "]
[89,"Er det opplyst om samlet forpliktelse i form av pantstillelse, annen sikkerhetsstillelse og garantier til fordel for foretak i samme konsern? "]
[90," -   foretakets pensjonsordninger inklusive opplysning om antallet personer forpliktelsen omfatter,"]
[91," -   anvendt regnskapsprinsipp for direkte pensjonsforpliktelser,"]
[92," -   viktige økonomiske og aktuarmessige forutsetninger,"]
[93," -   sammensetning av netto pensjonskostnad,"]
[94," -   avstemming mellom faktisk netto pensjonsforpliktelse og balanseført netto pensjonsforpliktelse som viser størrelsen av utsatt resultatføring av virkning av estimatendringer, samt virkning av endringer i pensjonsplaner"]
[95," -   antall personer som er omfattet av ordningen,"]
[96," -   aldersfordeling for de personer som er omfattet av ordningen,"]
[97," -   informasjon om gjeldende bestemmelser vedrørende foretakets forpliktelser til delfinansiering av pensjonsrettigheter opptjent i AFP-ordningen, herunder varighet og hvilken andel som faller på foretaket."]
[98," -   foretakets pensjonsordninger inklusive opplysning om antallet personer forpliktelsen omfatter"]
[99," -   anvendte regnskapsprinsipper inklusiv metode for vurdering av pensjonsmidlene"]
[100," -   årets pensjonspremie"]
[101," -   pensjonspremiefondets størrelse og årets eventuelle innbetaling til pensjonspremiefond"]
[102," -   avkastning på pensjonspremiefond"]
[103,"Er det opplyst om foretaket er pliktig til å ha tjenestepensjonsordning etter lov om obligatorisk tjenestepensjon og om foretaket har pensjonsordning som oppfyller kravene etter denne loven?"]
[104,"Er det opplyst om hvilke hovedtyper restriksjoner som foreligger for formålskapitalen, og hvordan organisasjonen overholder restriksjonene? Evt spesielle betingelser el.l. som følge av restriksjoner skal opplyses om."]
[105,"Dersom organisasjonen har negativ annen formålskapital, er det gitt tallmessige tilleggsopplysninger, hvor sum grunnkapital og formålskapital med restriksjoner vises, og hvor det fremkommer at negativ annen formålskapital utgjør differansen i forhold til netto formålskapital?"]
[106,"Er det gitt opplysninger om innholdet i hver enkelt egenkapitaltransaksjon?"]
[107,"Dersom det er besluttet ekstaordinært utbytte basert på en mellombalanse med balansedag i perioden fra balansedagen for siste regnskapsår til tidspunktet for ordinær generalforsamling der årsregnskapet for siste regnskapsår skal behandles, er dette opplyst om i note?"]
[108,"Når organisasjonen tar i bruk standarden for første gang, er det vist en oppstilling som forklarer endringene i formålskapitalen fra sist avlagte regnskap til inngående balanse i overgangsåret, spesifisert for alle poster som er endret i balansen? \nSmå foretak som velger å innarbeide endringene i aktivitetsregnskapet/resultatregnskapet i overgangsåret, må beskrive i note hvilke engangsvirkninger som er innarbeidet i årets aktivitets-regnskap/resultatregnskap."]
[109,"Anbefalt: Er det ved større samarbeidsprosjekt orientert om hvordan fordelingen av inntekter og kostnader mellom samarbeidspartnerne er gjennomført?"]
[110,"Anbefalt: Ved bruk av artsinndelt resultatregnskap, er det opplyst om hvilke aktiviteter som har vært gjennomført siste regnskapsår?"]
[111,"Ved bruk av aktivitetsregnskap, er det i note gitt spesifikasjon av organisasjonens driftskostnader etter art? \nDette innebærer følgende spesifikasjon:\n1. Endring i beholdning av varer under tilvirkning og ferdig tilvirkede varer\n2. Endring i beholdning av egentilvirkede anleggsmidler\n3. Varekostnad\n4. Lønnskostnad\n5. Avskrivning på varige driftsmidler og immaterielle eiendeler\n6. Nedskrivning på varige driftsmidler og immaterielle eiendeler\n7. Annen driftskostnad\n8. Finanskostnader"]
[112,"Ved bruk av aktivitetsregnskap, er det i note spesifisert ytterligere inndeling av anskaffede og/eller forbrukte midler, der dette er nødvendig for å gi et rettvisende bilde av organisasjonens aktiviteter?"]
[113,"Anbefalt: Er det opplyst om hvor stor andel av de innsamlede midlene som stammer fra de forskjellige innsamlingsaktivitetene som har foregått i regnskapsperioden, når dette er vurdert nyttig for brukerne av regnskapet?"]
[114,"Anbefalt: Er det opplyst om vesentlige sponsoravtaler, herunder beløp, kontraktstid og evt motytelser og prisinpper for periodisering?"]
[115,"Er det opplyst om hvilke prinsipper og metoder som er brukt ved fordelingen av kostnader på de ulike aktivitetene i organisasjonen, og hvilke beregninger som ligger til grunn for fordelingen?"]
[116,"Dersom det er vedtatt vesentlige bevilgninger som ikke er kostnadsført i regnskapet, er det opplyst om bevilgningens art og sannsynligheten for at betingelsene for bevilgningen vil inntreffe? Når det å gi bevilgninger til andre er en vesentlig del av organisasjonens aktivitet, bør det også opplyses i note om hvem/hva det er bevilget midler til."]
[117,"Er det opplyst om formålsprosenten for hvert av de 5 siste årene, beregnet med grunnlag i sum forbrukte midler, og er endringene i nøkkeltallet kommentert?"]
[118,"Er eventuelle poster i oppstillingsplanen som er slått sammen spesifisert?"]
[119,"Er tilsvarende sammenligningstall utarbeidet? "]
[120,"Er lønnskostnader spesifisert på lønninger, folketrygdavgift, regnskapsførte pensjonskostnader og andre ytelser?"]
[121,"Er tilsvarende sammenligningstall utarbeidet?"]
[122,"* En beskrivelse av hver type aksjeverdibasert betaling som foreligger\n* Vilkår og betingelser for hver enkelt ordning\n* Hvor stort beløp som eventuelt er kostnadsført minst spesifisert på de aktuelle postene i resultatregnskapet\n* Hvor stort beløp som eventuelt er kostnadsført i forbindelse med kompensasjon til morselskapet.\n* Dersom ordningen regnskapsføres i henhold til hovedreglene i NRS 15A Aksjebasert betaling: En beskrivelse av hvordan eventuelle kostnadsførte beløp er beregnet, herunder de forutsetninger som er lagt til grunn for beregningen.\n* Dersom aksjeverdibasert avlønning gjøres opp ved at den ansatte får aksjer i morselskap: opplysning om dette."]
[123,"Anbefalt: Er det opplyst om omfanget av den økonomiske aktiviteten, beregningen av skattemessig overskudd eller underskudd og skattekostnaden?"]
[124,"Er det i noter til regnskapet opplyses om den regnskapsmessige behandlingen av tilskudd, herunder brutto- eller nettoføring og tilskuddsbeløpets størrelse?"]
[125,"Er det for vesentlige tilskudd opplyst om hvem som har gitt tilskuddet og tilskuddets størrelse, samt evt. betingelser knyttet til tilskuddet? Når det ikke er mulig å estimere markedsverdi av tilskuddet skal tilskuddet beskrives."]
[126,"Er det opplyst om vesentlige gaver? Dette gjelder også gaver som ikke kan måles pålitelig, og som derfor ikke er inntektsført i regnskapet."]
[127,"Er det opplyst om prinsipper for verdsettelse av vesentlige gaver i naturalia som er verdsatt for inntektsføring i regnskapet?"]
[128,"Dersom organisasjonen har fått melding om en vesentlig arv hvor det ennå ikke er kartlagt hva arvens størrelse vil bli, er det opplyst om denne, herunder et estimat for beløpet der det er mulig?"]
[129,"Er det opplyst om resultatførte valutagevinster og –tap?"]
[130,"Er det gitt opplysninger om hendelser som har sammenheng med forhold oppstått etter balansedagen dersom dette er nødvendig for å bedømme den regnskapspliktiges stilling og resultat og som ikke fremgår av årsregnskapet for øvrig, jf regnskapsloven § 7-1?"]
[131,"Er ”andre avsetninger for forpliktelser” spesifisert?\nSmå foretak behøver normalt ikke spesifisere endring i balanseført avsetning. Det er tilstrekkelig å opplyse om inngående og utgående balanse for hver klasse av avsetninger.\nSmå foretak kan unnlate å gi opplysninger om ikke balanseførte usikre forpliktelser."]
[132," Er det opplyst om antall sysselsatte årsverk i regnskapsåret?"]
[133,"Dersom det ikke har vært ansatte, er dette opplyst?"]
[134,"Er det opplyst om samlede utgifter til henholdsvis lønn, pensjonsforpliktelser og annen godtgjørelse til daglig leder og medlemmer av styret og bedriftsforsamlingen?"]
[135,"Dersom selskapet leier inn daglig leder, er det opplyst om honoraret for dette?"]
[136,"Er det opplyst om arten og omfanget av forpliktelser til å gi daglig leder eller leder av styret særskilt vederlag ved opphør eller endring av ansettelsesforholdet eller vervet?"]
[137,"Er det opplyst om avtaler om bonus, overskuddsdelinger, opsjoner og lignende til fordel for daglig leder eller styreleder?"]
[138,"Er det opplyst om eventuelle forpliktelser knyttet til tegningsretter, opsjoner og tilsvarende rettigheter som gir ansatte eller tillitsvalgte rett til tegning, kjøp eller salg av aksjer eller grunnfondsbevis?"]
[139,"Er det opplyst om regnskapsårets bokførte godtgjørelse til revisor og hvordan godtgjørelsen er fordelt på revisjon og andre tjenester? "]
[140,"Er lån/sikkerhetsstillelse til fordel for daglig leder og leder av styret spesifiser?"]
[141,"Er det for hvert lån opplyst om hvilke vilkår som gjelder, herunder rentesatsen og avdragsplan?"]
[142,"Er det opplyst om samlet lån til og samlet sikkerhetsstillelse til fordel for ansatte, aksjeeiere og medlemmer av styret og bedriftsforsamlingen?"]
[143,"I aksjeselskap, omfatter opplysningene også lån eller sikkerhetsstillelse til fordel for nærstående til aksjeeier, og medlemmer av styret og bedriftsforsamlingen? "]
[144,"Er det opplyst om hvilke vilkår som gjelder for slike lån eller sikkerhetsstillelser?"]
[145,"Er lån/sikkerhetsstillelser som utgjør mer enn 5 % av egenkapitalen etter balansen spesifisert?"]
[146,"Er det opplyst om navnet på alle fusjonerte selskaper i regnskapsperioden? "]
[147,"Dersom det formelt sett overtakende selskaps regnskap vises som sammenligningstall, er dette opplyst? "]
[148,"Er det opplyst om oppkjøpsmetoden eller kontinuitetsmetoden, herunder konsernkontinuitet eller selskapskontinuitet, er benyttet?"]
[149,"Er det opplyst om navnet på alle fisjonerte selskaper i regnskapsperioden? "]
[150,"Har regnskapspliktig som er datterselskap opplyst om firma og forretningskontor for morselskap som utarbeider konsernregnskap der den regnskapspliktige inngår i konsolideringen?"]
[151,"Er det opplyst om hvor en kan få utlevert konsernregnskapene?"]
[152,"Dersom det er usikkerhet om fortsatt drift, er det opplyst om usikkerheten?"]
[153,"Dersom foretaksdel under avvikling eller avhendelse utgjør en betydelig og separat del av foretakets samlede virksomhet, omfatter tilleggsopplysningene minst:\nEn beskrivelse av den virksomheten som avvikles eller avhendes?"]
[154,"En beskrivelse av de forhold som gjør at virksomhetsdelen er å betrakte som under avvikling eller avhendelse?"]
[155,"Netto balanseført verdi av de eiendeler og forpliktelser som inngår i virksomheten som er under avvikling eller avhendelse?"]
[156,"Netto resultat, herunder eventuell gevinst og tap knyttet til avhendelsen eller avviklingen?"]

{"sheet":"N_Ja","index":3,"n_rows":152,"n_cols":7,"rows_kept":152,"cut":false,"hidden":true,"merged":[]}
[null,null,{"$f":"COUNTIF(C2:C461,\"=1\")","v":0},"Ja-svar",{"$f":"+Forside!B2","v":0},{"$f":"+Forside!B3","v":2020},"Kommentarer"]
[{"$f":"'Sjekkliste noter'!A16","v":1},{"$f":"IF('Sjekkliste noter'!J16<>\"\",1,0)","v":0},{"$f":"SUM(B2:B2)","v":0},{"$f":"IF($C2=1,'Sjekkliste noter'!A16,\"\")","v":""},{"$f":"IF($C2=1,'Sjekkliste noter'!B16,\"\")","v":""},null,{"$f":"IF($C2=1,'Sjekkliste noter'!N16,\"\")","v":""}]
[{"$f":"'Sjekkliste noter'!A20","v":4},{"$f":"IF('Sjekkliste noter'!J20<>\"\",1,0)","v":0},0,{"$f":"IF($C3=1,'Sjekkliste noter'!A20,\"\")","v":""},{"$f":"IF($C3=1,'Sjekkliste noter'!B20,\"\")","v":""},null,{"$f":"IF($C3=1,'Sjekkliste noter'!N20,\"\")","v":""}]
[{"$f":"'Sjekkliste noter'!A21","v":5},{"$f":"IF('Sjekkliste noter'!J21<>\"\",1,0)","v":0},0,{"$f":"IF($C4=1,'Sjekkliste noter'!A21,\"\")","v":""},{"$f":"IF($C4=1,'Sjekkliste noter'!B21,\"\")","v":""},null,{"$f":"IF($C4=1,'Sjekkliste noter'!N21,\"\")","v":""}]
[{"$f":"'Sjekkliste noter'!A22","v":6},{"$f":"IF('Sjekkliste noter'!J22<>\"\",1,0)","v":0},0,{"$f":"IF($C5=1,'Sjekkliste noter'!A22,\"\")","v":""},{"$f":"IF($C5=1,'Sjekkliste noter'!B22,\"\")","v":""},null,{"$f":"IF($C5=1,'Sjekkliste noter'!N22,\"\")","v":""}]
[{"$f":"'Sjekkliste noter'!A23","v":7},{"$f":"IF('Sjekkliste noter'!J23<>\"\",1,0)","v":0},0,{"$f":"IF($C6=1,'Sjekkliste noter'!A23,\"\")","v":""},{"$f":"IF($C6=1,'Sjekkliste noter'!B23,\"\")","v":""},null,{"$f":"IF($C6=1,'Sjekkliste noter'!N23,\"\")","v":""}]
[{"$f":"'Sjekkliste noter'!A24","v":8},{"$f":"IF('Sjekkliste noter'!J24<>\"\",1,0)","v":0},0,{"$f":"IF($C7=1,'Sjekkliste noter'!A24,\"\")","v":""},{"$f":"IF($C7=1,'Sjekkliste noter'!B24,\"\")","v":""},null,{"$f":"IF($C7=1,'Sjekkliste noter'!N24,\"\")","v":""}]
[{"$f":"'Sjekkliste noter'!A25","v":9},{"$f":"IF('Sjekkliste noter'!J25<>\"\",1,0)","v":0},0,{"$f":"IF($C8=1,'Sjekkliste noter'!A25,\"\")","v":""},{"$f":"IF($C8=1,'Sjekkliste noter'!B25,\"\")","v":""},null,{"$f":"IF($C8=1,'Sjekkliste noter'!N25,\"\")","v":""}]
[{"$f":"'Sjekkliste noter'!A26","v":10},{"$f":"IF('Sjekkliste noter'!J26<>\"\",1,0)","v":0},0,{"$f":"IF($C9=1,'Sjekkliste noter'!A26,\"\")","v":""},{"$f":"IF($C9=1,'Sjekkliste noter'!B26,\"\")","v":""},null,{"$f":"IF($C9=1,'Sjekkliste noter'!N26,\"\")","v":""}]
[{"$f":"'Sjekkliste noter'!A27","v":11},{"$f":"IF('Sjekkliste noter'!J27<>\"\",1,0)","v":0},0,{"$f":"IF($C10=1,'Sjekkliste noter'!A27,\"\")","v":""},{"$f":"IF($C10=1,'Sjekkliste noter'!B27,\"\")","v":""},null,{"$f":"IF($C10=1,'Sjekkliste noter'!N27,\"\")","v":""}]
[{"$f":"'Sjekkliste noter'!A29","v":12},{"$f":"IF('Sjekkliste noter'!J29<>\"\",1,0)","v":0},0,{"$f":"IF($C11=1,'Sjekkliste noter'!A29,\"\")","v":""},{"$f":"IF($C11=1,'Sjekkliste noter'!B29,\"\")","v":""},null,{"$f":"IF($C11=1,'Sjekkliste noter'!N29,\"\")","v":""}]
[{"$f":"'Sjekkliste noter'!A31","v":13},{"$f":"IF('Sjekkliste noter'!J31<>\"\",1,0)","v":0},0,{"$f":"IF($C12=1,'Sjekkliste noter'!A31,\"\")","v":""},{"$f":"IF($C12=1,'Sjekkliste noter'!B31,\"\")","v":""},null,{"$f":"IF($C12=1,'Sjekkliste noter'!N31,\"\")","v":""}]
[{"$f":"'Sjekkliste noter'!A34","v":14},{"$f":"IF('Sjekkliste noter'!J34<>\"\",1,0)","v":0},0,{"$f":"IF($C13=1,'Sjekkliste noter'!A34,\"\")","v":""},{"$f":"IF($C13=1,'Sjekkliste noter'!B34,\"\")","v":""},null,{"$f":"IF($C13=1,'Sjekkliste noter'!N34,\"\")","v":""}]
[{"$f":"'Sjekkliste noter'!A35","v":15},{"$f":"IF('Sjekkliste noter'!J35<>\"\",1,0)","v":0},0,{"$f":"IF($C14=1,'Sjekkliste noter'!A35,\"\")","v":""},{"$f":"IF($C14=1,'Sjekkliste noter'!B35,\"\")","v":""},null,{"$f":"IF($C14=1,'Sjekkliste noter'!N35,\"\")","v":""}]
[{"$f":"'Sjekkliste noter'!A38","v":17},{"$f":"IF('Sjekkliste noter'!J38<>\"\",1,0)","v":0},0,{"$f":"IF($C15=1,'Sjekkliste noter'!A38,\"\")","v":""},{"$f":"IF($C15=1,'Sjekkliste noter'!B38,\"\")","v":""},null,{"$f":"IF($C15=1,'Sjekkliste noter'!N38,\"\")","v":""}]
[{"$f":"'Sjekkliste noter'!A39","v":18},{"$f":"IF('Sjekkliste noter'!J39<>\"\",1,0)","v":0},0,{"$f":"IF($C16=1,'Sjekkliste noter'!A39,\"\")","v":""},{"$f":"IF($C16=1,'Sjekkliste noter'!B39,\"\")","v":""},null,{"$f":"IF($C16=1,'Sjekkliste noter'!N39,\"\")","v":""}]
[{"$f":"'Sjekkliste noter'!A40","v":19},{"$f":"IF('Sjekkliste noter'!J40<>\"\",1,0)","v":0},0,{"$f":"IF($C17=1,'Sjekkliste noter'!A40,\"\")","v":""},{"$f":"IF($C17=1,'Sjekkliste noter'!B40,\"\")","v":""},null,{"$f":"IF($C17=1,'Sjekkliste noter'!N40,\"\")","v":""}]
[{"$f":"'Sjekkliste noter'!A42","v":20},{"$f":"IF('Sjekkliste noter'!J42<>\"\",1,0)","v":0},0,{"$f":"IF($C18=1,'Sjekkliste noter'!A42,\"\")","v":""},{"$f":"IF($C18=1,'Sjekkliste noter'!B42,\"\")","v":""},null,{"$f":"IF($C18=1,'Sjekkliste noter'!N42,\"\")","v":""}]
[{"$f":"'Sjekkliste noter'!A44","v":21},{"$f":"IF('Sjekkliste noter'!J44<>\"\",1,0)","v":0},0,{"$f":"IF($C19=1,'Sjekkliste noter'!A44,\"\")","v":""},{"$f":"IF($C19=1,'Sjekkliste noter'!B44,\"\")","v":""},null,{"$f":"IF($C19=1,'Sjekkliste noter'!N44,\"\")","v":""}]
[{"$f":"'Sjekkliste noter'!A45","v":22},{"$f":"IF('Sjekkliste noter'!J45<>\"\",1,0)","v":0},0,{"$f":"IF($C20=1,'Sjekkliste noter'!A45,\"\")","v":""},{"$f":"IF($C20=1,'Sjekkliste noter'!B45,\"\")","v":""},null,{"$f":"IF($C20=1,'Sjekkliste noter'!N45,\"\")","v":""}]
[{"$f":"'Sjekkliste noter'!A46","v":23},{"$f":"IF('Sjekkliste noter'!J46<>\"\",1,0)","v":0},0,{"$f":"IF($C21=1,'Sjekkliste noter'!A46,\"\")","v":""},{"$f":"IF($C21=1,'Sjekkliste noter'!B46,\"\")","v":""},null,{"$f":"IF($C21=1,'Sjekkliste noter'!N46,\"\")","v":""}]
[{"$f":"'Sjekkliste noter'!A47","v":24},{"$f":"IF('Sjekkliste noter'!J47<>\"\",1,0)","v":0},0,{"$f":"IF($C22=1,'Sjekkliste noter'!A47,\"\")","v":""},{"$f":"IF($C22=1,'Sjekkliste noter'!B47,\"\")","v":""},null,{"$f":"IF($C22=1,'Sjekkliste noter'!N47,\"\")","v":""}]
[{"$f":"'Sjekkliste noter'!A48","v":25},{"$f":"IF('Sjekkliste noter'!J48<>\"\",1,0)","v":0},0,{"$f":"IF($C23=1,'Sjekkliste noter'!A48,\"\")","v":""},{"$f":"IF($C23=1,'Sjekkliste noter'!B48,\"\")","v":""},null,{"$f":"IF($C23=1,'Sjekkliste noter'!N48,\"\")","v":""}]
[{"$f":"'Sjekkliste noter'!A49","v":26},{"$f":"IF('Sjekkliste noter'!J49<>\"\",1,0)","v":0},0,{"$f":"IF($C24=1,'Sjekkliste noter'!A49,\"\")","v":""},{"$f":"IF($C24=1,'Sjekkliste noter'!B49,\"\")","v":""},null,{"$f":"IF($C24=1,'Sjekkliste noter'!N49,\"\")","v":""}]
[{"$f":"'Sjekkliste noter'!A52","v":27},{"$f":"IF('Sjekkliste noter'!J52<>\"\",1,0)","v":0},0,{"$f":"IF($C25=1,'Sjekkliste noter'!A52,\"\")","v":""},{"$f":"IF($C25=1,'Sjekkliste noter'!B52,\"\")","v":""},null,{"$f":"IF($C25=1,'Sjekkliste noter'!N52,\"\")","v":""}]
[{"$f":"'Sjekkliste noter'!A53","v":28},{"$f":"IF('Sjekkliste noter'!J53<>\"\",1,0)","v":0},0,{"$f":"IF($C26=1,'Sjekkliste noter'!A53,\"\")","v":""},{"$f":"IF($C26=1,'Sjekkliste noter'!B53,\"\")","v":""},null,{"$f":"IF($C26=1,'Sjekkliste noter'!N53,\"\")","v":""}]
[{"$f":"'Sjekkliste noter'!A54","v":29},{"$f":"IF('Sjekkliste noter'!J54<>\"\",1,0)","v":0},0,{"$f":"IF($C27=1,'Sjekkliste noter'!A54,\"\")","v":""},{"$f":"IF($C27=1,'Sjekkliste noter'!B54,\"\")","v":""},null,{"$f":"IF($C27=1,'Sjekkliste noter'!N54,\"\")","v":""}]
[{"$f":"'Sjekkliste noter'!A55","v":30},{"$f":"IF('Sjekkliste noter'!J55<>\"\",1,0)","v":0},0,{"$f":"IF($C28=1,'Sjekkliste noter'!A55,\"\")","v":""},{"$f":"IF($C28=1,'Sjekkliste noter'!B55,\"\")","v":""},null,{"$f":"IF($C28=1,'Sjekkliste noter'!N55,\"\")","v":""}]
[{"$f":"'Sjekkliste noter'!A56","v":31},{"$f":"IF('Sjekkliste noter'!J56<>\"\",1,0)","v":0},0,{"$f":"IF($C29=1,'Sjekkliste noter'!A56,\"\")","v":""},{"$f":"IF($C29=1,'Sjekkliste noter'!B56,\"\")","v":""},null,{"$f":"IF($C29=1,'Sjekkliste noter'!N56,\"\")","v":""}]
[{"$f":"'Sjekkliste noter'!A57","v":32},{"$f":"IF('Sjekkliste noter'!J57<>\"\",1,0)","v":0},0,{"$f":"IF($C30=1,'Sjekkliste noter'!A57,\"\")","v":""},{"$f":"IF($C30=1,'Sjekkliste noter'!B57,\"\")","v":""},null,{"$f":"IF($C30=1,'Sjekkliste noter'!N57,\"\")","v":""}]
[{"$f":"'Sjekkliste noter'!A58","v":33},{"$f":"IF('Sjekkliste noter'!J58<>\"\",1,0)","v":0},0,{"$f":"IF($C31=1,'Sjekkliste noter'!A58,\"\")","v":""},{"$f":"IF($C31=1,'Sjekkliste noter'!B58,\"\")","v":""},null,{"$f":"IF($C31=1,'Sjekkliste noter'!N58,\"\")","v":""}]
[{"$f":"'Sjekkliste noter'!A60","v":34},{"$f":"IF('Sjekkliste noter'!J60<>\"\",1,0)","v":0},0,{"$f":"IF($C32=1,'Sjekkliste noter'!A60,\"\")","v":""},{"$f":"IF($C32=1,'Sjekkliste noter'!B60,\"\")","v":""},null,{"$f":"IF($C32=1,'Sjekkliste noter'!N60,\"\")","v":""}]
[{"$f":"'Sjekkliste noter'!A62","v":35},{"$f":"IF('Sjekkliste noter'!J62<>\"\",1,0)","v":0},0,{"$f":"IF($C33=1,'Sjekkliste noter'!A62,\"\")","v":""},{"$f":"IF($C33=1,'Sjekkliste noter'!B62,\"\")","v":""},null,{"$f":"IF($C33=1,'Sjekkliste noter'!N62,\"\")","v":""}]
[{"$f":"'Sjekkliste noter'!A64","v":36},{"$f":"IF('Sjekkliste noter'!J64<>\"\",1,0)","v":0},{"$f":"SUM(B34:B34)","v":0},{"$f":"IF($C34=1,'Sjekkliste noter'!A64,\"\")","v":""},{"$f":"IF($C34=1,'Sjekkliste noter'!B64,\"\")","v":""},null,{"$f":"IF($C34=1,'Sjekkliste noter'!N64,\"\")","v":""}]
[{"$f":"'Sjekkliste noter'!A65","v":37},{"$f":"IF('Sjekkliste noter'!J65<>\"\",1,0)","v":0},0,{"$f":"IF($C35=1,'Sjekkliste noter'!A65,\"\")","v":""},{"$f":"IF($C35=1,'Sjekkliste noter'!B65,\"\")","v":""},null,{"$f":"IF($C35=1,'Sjekkliste noter'!N65,\"\")","v":""}]
[{"$f":"'Sjekkliste noter'!A66","v":38},{"$f":"IF('Sjekkliste noter'!J66<>\"\",1,0)","v":0},0,{"$f":"IF($C36=1,'Sjekkliste noter'!A66,\"\")","v":""},{"$f":"IF($C36=1,'Sjekkliste noter'!B66,\"\")","v":""},null,{"$f":"IF($C36=1,'Sjekkliste noter'!N66,\"\")","v":""}]
[{"$f":"'Sjekkliste noter'!A67","v":39},{"$f":"IF('Sjekkliste noter'!J67<>\"\",1,0)","v":0},0,{"$f":"IF($C37=1,'Sjekkliste noter'!A67,\"\")","v":""},{"$f":"IF($C37=1,'Sjekkliste noter'!B67,\"\")","v":""},null,{"$f":"IF($C37=1,'Sjekkliste noter'!N67,\"\")","v":""}]
[{"$f":"'Sjekkliste noter'!A73","v":43},{"$f":"IF('Sjekkliste noter'!J73<>\"\",1,0)","v":0},0,{"$f":"IF($C38=1,'Sjekkliste noter'!A73,\"\")","v":""},{"$f":"IF($C38=1,'Sjekkliste noter'!B73,\"\")","v":""},null,{"$f":"IF($C38=1,'Sjekkliste noter'!N73,\"\")","v":""}]
[{"$f":"'Sjekkliste noter'!A75","v":44},{"$f":"IF('Sjekkliste noter'!J75<>\"\",1,0)","v":0},0,{"$f":"IF($C39=1,'Sjekkliste noter'!A75,\"\")","v":""},{"$f":"IF($C39=1,'Sjekkliste noter'!B75,\"\")","v":""},null,{"$f":"IF($C39=1,'Sjekkliste noter'!N75,\"\")","v":""}]
[{"$f":"'Sjekkliste noter'!A76","v":45},{"$f":"IF('Sjekkliste noter'!J76<>\"\",1,0)","v":0},0,{"$f":"IF($C40=1,'Sjekkliste noter'!A76,\"\")","v":""},{"$f":"IF($C40=1,'Sjekkliste noter'!B76,\"\")","v":""},null,{"$f":"IF($C40=1,'Sjekkliste noter'!N76,\"\")","v":""}]
[{"$f":"'Sjekkliste noter'!A81","v":47},{"$f":"IF('Sjekkliste noter'!J81<>\"\",1,0)","v":0},0,{"$f":"IF($C41=1,'Sjekkliste noter'!A81,\"\")","v":""},{"$f":"IF($C41=1,'Sjekkliste noter'!B81,\"\")","v":""},null,{"$f":"IF($C41=1,'Sjekkliste noter'!N81,\"\")","v":""}]
[{"$f":"'Sjekkliste noter'!A82","v":48},{"$f":"IF('Sjekkliste noter'!J82<>\"\",1,0)","v":0},0,{"$f":"IF($C42=1,'Sjekkliste noter'!A82,\"\")","v":""},{"$f":"IF($C42=1,'Sjekkliste noter'!B82,\"\")","v":""},null,{"$f":"IF($C42=1,'Sjekkliste noter'!N82,\"\")","v":""}]
[{"$f":"'Sjekkliste noter'!A83","v":49},{"$f":"IF('Sjekkliste noter'!J83<>\"\",1,0)","v":0},0,{"$f":"IF($C43=1,'Sjekkliste noter'!A83,\"\")","v":""},{"$f":"IF($C43=1,'Sjekkliste noter'!B83,\"\")","v":""},null,{"$f":"IF($C43=1,'Sjekkliste noter'!N83,\"\")","v":""}]
[{"$f":"'Sjekkliste noter'!A85","v":50},{"$f":"IF('Sjekkliste noter'!J85<>\"\",1,0)","v":0},0,{"$f":"IF($C44=1,'Sjekkliste noter'!A85,\"\")","v":""},{"$f":"IF($C44=1,'Sjekkliste noter'!B85,\"\")","v":""},null,{"$f":"IF($C44=1,'Sjekkliste noter'!N85,\"\")","v":""}]
[{"$f":"'Sjekkliste noter'!A86","v":51},{"$f":"IF('Sjekkliste noter'!J86<>\"\",1,0)","v":0},0,{"$f":"IF($C45=1,'Sjekkliste noter'!A86,\"\")","v":""},{"$f":"IF($C45=1,'Sjekkliste noter'!B86,\"\")","v":""},null,{"$f":"IF($C45=1,'Sjekkliste noter'!N86,\"\")","v":""}]
[{"$f":"'Sjekkliste noter'!A88","v":52},{"$f":"IF('Sjekkliste noter'!J88<>\"\",1,0)","v":0},0,{"$f":"IF($C46=1,'Sjekkliste noter'!A88,\"\")","v":""},{"$f":"IF($C46=1,'Sjekkliste noter'!B88,\"\")","v":""},null,{"$f":"IF($C46=1,'Sjekkliste noter'!N88,\"\")","v":""}]
[{"$f":"'Sjekkliste noter'!A90","v":53},{"$f":"IF('Sjekkliste noter'!J90<>\"\",1,0)","v":0},0,{"$f":"IF($C47=1,'Sjekkliste noter'!A90,\"\")","v":""},{"$f":"IF($C47=1,'Sjekkliste noter'!B90,\"\")","v":""},null,{"$f":"IF($C47=1,'Sjekkliste noter'!N90,\"\")","v":""}]
[{"$f":"'Sjekkliste noter'!A93","v":54},{"$f":"IF('Sjekkliste noter'!J93<>\"\",1,0)","v":0},0,{"$f":"IF($C48=1,'Sjekkliste noter'!A93,\"\")","v":""},{"$f":"IF($C48=1,'Sjekkliste noter'!B93,\"\")","v":""},null,{"$f":"IF($C48=1,'Sjekkliste noter'!N93,\"\")","v":""}]
[{"$f":"'Sjekkliste noter'!A94","v":55},{"$f":"IF('Sjekkliste noter'!J94<>\"\",1,0)","v":0},0,{"$f":"IF($C49=1,'Sjekkliste noter'!A94,\"\")","v":""},{"$f":"IF($C49=1,'Sjekkliste noter'!B94,\"\")","v":""},null,{"$f":"IF($C49=1,'Sjekkliste noter'!N94,\"\")","v":""}]
[{"$f":"'Sjekkliste noter'!A95","v":56},{"$f":"IF('Sjekkliste noter'!J95<>\"\",1,0)","v":0},0,{"$f":"IF($C50=1,'Sjekkliste noter'!A95,\"\")","v":""},{"$f":"IF($C50=1,'Sjekkliste noter'!B95,\"\")","v":""},null,{"$f":"IF($C50=1,'Sjekkliste noter'!N95,\"\")","v":""}]
[{"$f":"'Sjekkliste noter'!A97","v":57},{"$f":"IF('Sjekkliste noter'!J97<>\"\",1,0)","v":0},0,{"$f":"IF($C51=1,'Sjekkliste noter'!A97,\"\")","v":""},{"$f":"IF($C51=1,'Sjekkliste noter'!B97,\"\")","v":""},null,{"$f":"IF($C51=1,'Sjekkliste noter'!N97,\"\")","v":""}]
[{"$f":"'Sjekkliste noter'!A99","v":58},{"$f":"IF('Sjekkliste noter'!J99<>\"\",1,0)","v":0},0,{"$f":"IF($C52=1,'Sjekkliste noter'!A99,\"\")","v":""},{"$f":"IF($C52=1,'Sjekkliste noter'!B99,\"\")","v":""},null,{"$f":"IF($C52=1,'Sjekkliste noter'!N99,\"\")","v":""}]
[{"$f":"'Sjekkliste noter'!A102","v":59},{"$f":"IF('Sjekkliste noter'!J102<>\"\",1,0)","v":0},0,{"$f":"IF($C53=1,'Sjekkliste noter'!A102,\"\")","v":""},{"$f":"IF($C53=1,'Sjekkliste noter'!B102,\"\")","v":""},null,{"$f":"IF($C53=1,'Sjekkliste noter'!N102,\"\")","v":""}]
[{"$f":"'Sjekkliste noter'!A103","v":60},{"$f":"IF('Sjekkliste noter'!J103<>\"\",1,0)","v":0},0,{"$f":"IF($C54=1,'Sjekkliste noter'!A103,\"\")","v":""},{"$f":"IF($C54=1,'Sjekkliste noter'!B103,\"\")","v":""},null,{"$f":"IF($C54=1,'Sjekkliste noter'!N103,\"\")","v":""}]
[{"$f":"'Sjekkliste noter'!A104","v":61},{"$f":"IF('Sjekkliste noter'!J104<>\"\",1,0)","v":0},0,{"$f":"IF($C55=1,'Sjekkliste noter'!A104,\"\")","v":""},{"$f":"IF($C55=1,'Sjekkliste noter'!B104,\"\")","v":""},null,{"$f":"IF($C55=1,'Sjekkliste noter'!N104,\"\")","v":""}]
[{"$f":"'Sjekkliste noter'!A107","v":62},{"$f":"IF('Sjekkliste noter'!J107<>\"\",1,0)","v":0},0,{"$f":"IF($C56=1,'Sjekkliste noter'!A107,\"\")","v":""},{"$f":"IF($C56=1,'Sjekkliste noter'!B107,\"\")","v":""},null,{"$f":"IF($C56=1,'Sjekkliste noter'!N107,\"\")","v":""}]
[{"$f":"'Sjekkliste noter'!A108","v":63},{"$f":"IF('Sjekkliste noter'!J108<>\"\",1,0)","v":0},0,{"$f":"IF($C57=1,'Sjekkliste noter'!A108,\"\")","v":""},{"$f":"IF($C57=1,'Sjekkliste noter'!B108,\"\")","v":""},null,{"$f":"IF($C57=1,'Sjekkliste noter'!N108,\"\")","v":""}]
[{"$f":"'Sjekkliste noter'!A111","v":64},{"$f":"IF('Sjekkliste noter'!J111<>\"\",1,0)","v":0},0,{"$f":"IF($C58=1,'Sjekkliste noter'!A111,\"\")","v":""},{"$f":"IF($C58=1,'Sjekkliste noter'!B111,\"\")","v":""},null,{"$f":"IF($C58=1,'Sjekkliste noter'!N111,\"\")","v":""}]
[{"$f":"'Sjekkliste noter'!A113","v":65},{"$f":"IF('Sjekkliste noter'!J113<>\"\",1,0)","v":0},0,{"$f":"IF($C59=1,'Sjekkliste noter'!A113,\"\")","v":""},{"$f":"IF($C59=1,'Sjekkliste noter'!B113,\"\")","v":""},null,{"$f":"IF($C59=1,'Sjekkliste noter'!N113,\"\")","v":""}]
[{"$f":"'Sjekkliste noter'!A115","v":66},{"$f":"IF('Sjekkliste noter'!J115<>\"\",1,0)","v":0},0,{"$f":"IF($C60=1,'Sjekkliste noter'!A115,\"\")","v":""},{"$f":"IF($C60=1,'Sjekkliste noter'!B115,\"\")","v":""},null,{"$f":"IF($C60=1,'Sjekkliste noter'!N115,\"\")","v":""}]
[{"$f":"'Sjekkliste noter'!A116","v":67},{"$f":"IF('Sjekkliste noter'!J116<>\"\",1,0)","v":0},0,{"$f":"IF($C61=1,'Sjekkliste noter'!A116,\"\")","v":""},{"$f":"IF($C61=1,'Sjekkliste noter'!B116,\"\")","v":""},null,{"$f":"IF($C61=1,'Sjekkliste noter'!N116,\"\")","v":""}]
[{"$f":"'Sjekkliste noter'!A117","v":68},{"$f":"IF('Sjekkliste noter'!J117<>\"\",1,0)","v":0},0,{"$f":"IF($C62=1,'Sjekkliste noter'!A117,\"\")","v":""},{"$f":"IF($C62=1,'Sjekkliste noter'!B117,\"\")","v":""},null,{"$f":"IF($C62=1,'Sjekkliste noter'!N117,\"\")","v":""}]
[{"$f":"'Sjekkliste noter'!A118","v":69},{"$f":"IF('Sjekkliste noter'!J118<>\"\",1,0)","v":0},0,{"$f":"IF($C63=1,'Sjekkliste noter'!A118,\"\")","v":""},{"$f":"IF($C63=1,'Sjekkliste noter'!B118,\"\")","v":""},null,{"$f":"IF($C63=1,'Sjekkliste noter'!N118,\"\")","v":""}]
[{"$f":"'Sjekkliste noter'!A120","v":70},{"$f":"IF('Sjekkliste noter'!J120<>\"\",1,0)","v":0},0,{"$f":"IF($C64=1,'Sjekkliste noter'!A120,\"\")","v":""},{"$f":"IF($C64=1,'Sjekkliste noter'!B120,\"\")","v":""},null,{"$f":"IF($C64=1,'Sjekkliste noter'!N120,\"\")","v":""}]
[{"$f":"'Sjekkliste noter'!A122","v":71},{"$f":"IF('Sjekkliste noter'!J122<>\"\",1,0)","v":0},0,{"$f":"IF($C65=1,'Sjekkliste noter'!A122,\"\")","v":""},{"$f":"IF($C65=1,'Sjekkliste noter'!B122,\"\")","v":""},null,{"$f":"IF($C65=1,'Sjekkliste noter'!N122,\"\")","v":""}]
[{"$f":"'Sjekkliste noter'!A124","v":72},{"$f":"IF('Sjekkliste noter'!J124<>\"\",1,0)","v":0},{"$f":"SUM(B66:B66)","v":0},{"$f":"IF($C66=1,'Sjekkliste noter'!A124,\"\")","v":""},{"$f":"IF($C66=1,'Sjekkliste noter'!B124,\"\")","v":""},null,{"$f":"IF($C66=1,'Sjekkliste noter'!N124,\"\")","v":""}]
[{"$f":"'Sjekkliste noter'!A129","v":73},{"$f":"IF('Sjekkliste noter'!J129<>\"\",1,0)","v":0},0,{"$f":"IF($C67=1,'Sjekkliste noter'!A129,\"\")","v":""},{"$f":"IF($C67=1,'Sjekkliste noter'!B129,\"\")","v":""},null,{"$f":"IF($C67=1,'Sjekkliste noter'!N129,\"\")","v":""}]
[{"$f":"'Sjekkliste noter'!A133","v":74},{"$f":"IF('Sjekkliste noter'!J133<>\"\",1,0)","v":0},0,{"$f":"IF($C68=1,'Sjekkliste noter'!A133,\"\")","v":""},{"$f":"IF($C68=1,'Sjekkliste noter'!B133,\"\")","v":""},null,{"$f":"IF($C68=1,'Sjekkliste noter'!N133,\"\")","v":""}]
[{"$f":"'Sjekkliste noter'!A134","v":75},{"$f":"IF('Sjekkliste noter'!J134<>\"\",1,0)","v":0},0,{"$f":"IF($C69=1,'Sjekkliste noter'!A134,\"\")","v":""},{"$f":"IF($C69=1,'Sjekkliste noter'!B134,\"\")","v":""},null,{"$f":"IF($C69=1,'Sjekkliste noter'!N134,\"\")","v":""}]
[{"$f":"'Sjekkliste noter'!A135","v":76},{"$f":"IF('Sjekkliste noter'!J135<>\"\",1,0)","v":0},0,{"$f":"IF($C70=1,'Sjekkliste noter'!A135,\"\")","v":""},{"$f":"IF($C70=1,'Sjekkliste noter'!B135,\"\")","v":""},null,{"$f":"IF($C70=1,'Sjekkliste noter'!N135,\"\")","v":""}]
[{"$f":"'Sjekkliste noter'!A137","v":77},{"$f":"IF('Sjekkliste noter'!J137<>\"\",1,0)","v":0},0,{"$f":"IF($C71=1,'Sjekkliste noter'!A137,\"\")","v":""},{"$f":"IF($C71=1,'Sjekkliste noter'!B137,\"\")","v":""},null,{"$f":"IF($C71=1,'Sjekkliste noter'!N137,\"\")","v":""}]
[{"$f":"'Sjekkliste noter'!A141","v":78},{"$f":"IF('Sjekkliste noter'!J141<>\"\",1,0)","v":0},0,{"$f":"IF($C72=1,'Sjekkliste noter'!A141,\"\")","v":""},{"$f":"IF($C72=1,'Sjekkliste noter'!B141,\"\")","v":""},null,{"$f":"IF($C72=1,'Sjekkliste noter'!N141,\"\")","v":""}]
[{"$f":"'Sjekkliste noter'!A144","v":79},{"$f":"IF('Sjekkliste noter'!J144<>\"\",1,0)","v":0},0,{"$f":"IF($C73=1,'Sjekkliste noter'!A144,\"\")","v":""},{"$f":"IF($C73=1,'Sjekkliste noter'!B144,\"\")","v":""},null,{"$f":"IF($C73=1,'Sjekkliste noter'!N144,\"\")","v":""}]
[{"$f":"'Sjekkliste noter'!A147","v":80},{"$f":"IF('Sjekkliste noter'!J147<>\"\",1,0)","v":0},0,{"$f":"IF($C74=1,'Sjekkliste noter'!A147,\"\")","v":""},{"$f":"IF($C74=1,'Sjekkliste noter'!B147,\"\")","v":""},null,{"$f":"IF($C74=1,'Sjekkliste noter'!N147,\"\")","v":""}]
[{"$f":"'Sjekkliste noter'!A148","v":81},{"$f":"IF('Sjekkliste noter'!J148<>\"\",1,0)","v":0},0,{"$f":"IF($C75=1,'Sjekkliste noter'!A148,\"\")","v":""},{"$f":"IF($C75=1,'Sjekkliste noter'!B148,\"\")","v":""},null,{"$f":"IF($C75=1,'Sjekkliste noter'!N148,\"\")","v":""}]
[{"$f":"'Sjekkliste noter'!A149","v":82},{"$f":"IF('Sjekkliste noter'!J149<>\"\",1,0)","v":0},0,{"$f":"IF($C76=1,'Sjekkliste noter'!A149,\"\")","v":""},{"$f":"IF($C76=1,'Sjekkliste noter'!B149,\"\")","v":""},null,{"$f":"IF($C76=1,'Sjekkliste noter'!N149,\"\")","v":""}]
[{"$f":"'Sjekkliste noter'!A151","v":83},{"$f":"IF('Sjekkliste noter'!J151<>\"\",1,0)","v":0},0,{"$f":"IF($C77=1,'Sjekkliste noter'!A151,\"\")","v":""},{"$f":"IF($C77=1,'Sjekkliste noter'!B151,\"\")","v":""},null,{"$f":"IF($C77=1,'Sjekkliste noter'!N151,\"\")","v":""}]
[{"$f":"'Sjekkliste noter'!A152","v":84},{"$f":"IF('Sjekkliste noter'!J152<>\"\",1,0)","v":0},0,{"$f":"IF($C78=1,'Sjekkliste noter'!A152,\"\")","v":""},{"$f":"IF($C78=1,'Sjekkliste noter'!B152,\"\")","v":""},null,{"$f":"IF($C78=1,'Sjekkliste noter'!N152,\"\")","v":""}]
[{"$f":"'Sjekkliste noter'!A153","v":85},{"$f":"IF('Sjekkliste noter'!J153<>\"\",1,0)","v":0},0,{"$f":"IF($C79=1,'Sjekkliste noter'!A153,\"\")","v":""},{"$f":"IF($C79=1,'Sjekkliste noter'!B153,\"\")","v":""},null,{"$f":"IF($C79=1,'Sjekkliste noter'!N153,\"\")","v":""}]
[{"$f":"'Sjekkliste noter'!A160","v":87},{"$f":"IF('Sjekkliste noter'!J160<>\"\",1,0)","v":0},0,{"$f":"IF($C80=1,'Sjekkliste noter'!A160,\"\")","v":""},{"$f":"IF($C80=1,'Sjekkliste noter'!B160,\"\")","v":""},null,{"$f":"IF($C80=1,'Sjekkliste noter'!N160,\"\")","v":""}]
[{"$f":"'Sjekkliste noter'!A161","v":88},{"$f":"IF('Sjekkliste noter'!J161<>\"\",1,0)","v":0},0,{"$f":"IF($C81=1,'Sjekkliste noter'!A161,\"\")","v":""},{"$f":"IF($C81=1,'Sjekkliste noter'!B161,\"\")","v":""},null,{"$f":"IF($C81=1,'Sjekkliste noter'!N161,\"\")","v":""}]
[{"$f":"'Sjekkliste noter'!A162","v":89},{"$f":"IF('Sjekkliste noter'!J162<>\"\",1,0)","v":0},0,{"$f":"IF($C82=1,'Sjekkliste noter'!A162,\"\")","v":""},{"$f":"IF($C82=1,'Sjekkliste noter'!B162,\"\")","v":""},null,{"$f":"IF($C82=1,'Sjekkliste noter'!N162,\"\")","v":""}]
[{"$f":"'Sjekkliste noter'!A163","v":90},{"$f":"IF('Sjekkliste noter'!J163<>\"\",1,0)","v":0},0,{"$f":"IF($C83=1,'Sjekkliste noter'!A163,\"\")","v":""},{"$f":"IF($C83=1,'Sjekkliste noter'!B163,\"\")","v":""},null,{"$f":"IF($C83=1,'Sjekkliste noter'!N163,\"\")","v":""}]
[{"$f":"'Sjekkliste noter'!A167","v":91},{"$f":"IF('Sjekkliste noter'!J167<>\"\",1,0)","v":0},0,{"$f":"IF($C84=1,'Sjekkliste noter'!A167,\"\")","v":""},{"$f":"IF($C84=1,'Sjekkliste noter'!B167,\"\")","v":""},null,{"$f":"IF($C84=1,'Sjekkliste noter'!N167,\"\")","v":""}]
[{"$f":"'Sjekkliste noter'!A168","v":92},{"$f":"IF('Sjekkliste noter'!J168<>\"\",1,0)","v":0},0,{"$f":"IF($C85=1,'Sjekkliste noter'!A168,\"\")","v":""},{"$f":"IF($C85=1,'Sjekkliste noter'!B168,\"\")","v":""},null,{"$f":"IF($C85=1,'Sjekkliste noter'!N168,\"\")","v":""}]
[{"$f":"'Sjekkliste noter'!A169","v":93},{"$f":"IF('Sjekkliste noter'!J169<>\"\",1,0)","v":0},0,{"$f":"IF($C86=1,'Sjekkliste noter'!A169,\"\")","v":""},{"$f":"IF($C86=1,'Sjekkliste noter'!B169,\"\")","v":""},null,{"$f":"IF($C86=1,'Sjekkliste noter'!N169,\"\")","v":""}]
[{"$f":"'Sjekkliste noter'!A170","v":94},{"$f":"IF('Sjekkliste noter'!J170<>\"\",1,0)","v":0},0,{"$f":"IF($C87=1,'Sjekkliste noter'!A170,\"\")","v":""},{"$f":"IF($C87=1,'Sjekkliste noter'!B170,\"\")","v":""},null,{"$f":"IF($C87=1,'Sjekkliste noter'!N170,\"\")","v":""}]
[{"$f":"'Sjekkliste noter'!A171","v":95},{"$f":"IF('Sjekkliste noter'!J171<>\"\",1,0)","v":0},0,{"$f":"IF($C88=1,'Sjekkliste noter'!A171,\"\")","v":""},{"$f":"IF($C88=1,'Sjekkliste noter'!B171,\"\")","v":""},null,{"$f":"IF($C88=1,'Sjekkliste noter'!N171,\"\")","v":""}]
[{"$f":"'Sjekkliste noter'!A173","v":96},{"$f":"IF('Sjekkliste noter'!J173<>\"\",1,0)","v":0},0,{"$f":"IF($C89=1,'Sjekkliste noter'!A173,\"\")","v":""},{"$f":"IF($C89=1,'Sjekkliste noter'!B173,\"\")","v":""},null,{"$f":"IF($C89=1,'Sjekkliste noter'!N173,\"\")","v":""}]
[{"$f":"'Sjekkliste noter'!A174","v":97},{"$f":"IF('Sjekkliste noter'!J174<>\"\",1,0)","v":0},0,{"$f":"IF($C90=1,'Sjekkliste noter'!A174,\"\")","v":""},{"$f":"IF($C90=1,'Sjekkliste noter'!B174,\"\")","v":""},null,{"$f":"IF($C90=1,'Sjekkliste noter'!N174,\"\")","v":""}]
[{"$f":"'Sjekkliste noter'!A175","v":98},{"$f":"IF('Sjekkliste noter'!J175<>\"\",1,0)","v":0},0,{"$f":"IF($C91=1,'Sjekkliste noter'!A175,\"\")","v":""},{"$f":"IF($C91=1,'Sjekkliste noter'!B175,\"\")","v":""},null,{"$f":"IF($C91=1,'Sjekkliste noter'!N175,\"\")","v":""}]
[{"$f":"'Sjekkliste noter'!A177","v":99},{"$f":"IF('Sjekkliste noter'!J177<>\"\",1,0)","v":0},0,{"$f":"IF($C92=1,'Sjekkliste noter'!A177,\"\")","v":""},{"$f":"IF($C92=1,'Sjekkliste noter'!B177,\"\")","v":""},null,{"$f":"IF($C92=1,'Sjekkliste noter'!N177,\"\")","v":""}]
[{"$f":"'Sjekkliste noter'!A178","v":100},{"$f":"IF('Sjekkliste noter'!J178<>\"\",1,0)","v":0},0,{"$f":"IF($C93=1,'Sjekkliste noter'!A178,\"\")","v":""},{"$f":"IF($C93=1,'Sjekkliste noter'!B178,\"\")","v":""},null,{"$f":"IF($C93=1,'Sjekkliste noter'!N178,\"\")","v":""}]
[{"$f":"'Sjekkliste noter'!A179","v":101},{"$f":"IF('Sjekkliste noter'!J179<>\"\",1,0)","v":0},0,{"$f":"IF($C94=1,'Sjekkliste noter'!A179,\"\")","v":""},{"$f":"IF($C94=1,'Sjekkliste noter'!B179,\"\")","v":""},null,{"$f":"IF($C94=1,'Sjekkliste noter'!N179,\"\")","v":""}]
[{"$f":"'Sjekkliste noter'!A180","v":102},{"$f":"IF('Sjekkliste noter'!J180<>\"\",1,0)","v":0},0,{"$f":"IF($C95=1,'Sjekkliste noter'!A180,\"\")","v":""},{"$f":"IF($C95=1,'Sjekkliste noter'!B180,\"\")","v":""},null,{"$f":"IF($C95=1,'Sjekkliste noter'!N180,\"\")","v":""}]
[{"$f":"'Sjekkliste noter'!A181","v":103},{"$f":"IF('Sjekkliste noter'!J181<>\"\",1,0)","v":0},0,{"$f":"IF($C96=1,'Sjekkliste noter'!A181,\"\")","v":""},{"$f":"IF($C96=1,'Sjekkliste noter'!B181,\"\")","v":""},null,{"$f":"IF($C96=1,'Sjekkliste noter'!N181,\"\")","v":""}]
[{"$f":"'Sjekkliste noter'!A184","v":104},{"$f":"IF('Sjekkliste noter'!J184<>\"\",1,0)","v":0},0,{"$f":"IF($C97=1,'Sjekkliste noter'!A184,\"\")","v":""},{"$f":"IF($C97=1,'Sjekkliste noter'!B184,\"\")","v":""},null,{"$f":"IF($C97=1,'Sjekkliste noter'!N184,\"\")","v":""}]
[{"$f":"'Sjekkliste noter'!A189","v":107},{"$f":"IF('Sjekkliste noter'!J189<>\"\",1,0)","v":0},{"$f":"SUM(B98:B98)","v":0},{"$f":"IF($C98=1,'Sjekkliste noter'!A189,\"\")","v":""},{"$f":"IF($C98=1,'Sjekkliste noter'!B189,\"\")","v":""},null,{"$f":"IF($C98=1,'Sjekkliste noter'!N189,\"\")","v":""}]
[{"$f":"'Sjekkliste noter'!A190","v":108},{"$f":"IF('Sjekkliste noter'!J190<>\"\",1,0)","v":0},0,{"$f":"IF($C99=1,'Sjekkliste noter'!A190,\"\")","v":""},{"$f":"IF($C99=1,'Sjekkliste noter'!B190,\"\")","v":""},null,{"$f":"IF($C99=1,'Sjekkliste noter'!N190,\"\")","v":""}]
[{"$f":"'Sjekkliste noter'!A204","v":119},{"$f":"IF('Sjekkliste noter'!J204<>\"\",1,0)","v":0},0,{"$f":"IF($C100=1,'Sjekkliste noter'!A204,\"\")","v":""},{"$f":"IF($C100=1,'Sjekkliste noter'!B204,\"\")","v":""},null,{"$f":"IF($C100=1,'Sjekkliste noter'!N204,\"\")","v":""}]
[{"$f":"'Sjekkliste noter'!A206","v":120},{"$f":"IF('Sjekkliste noter'!J206<>\"\",1,0)","v":0},0,{"$f":"IF($C101=1,'Sjekkliste noter'!A206,\"\")","v":""},{"$f":"IF($C101=1,'Sjekkliste noter'!B206,\"\")","v":""},null,{"$f":"IF($C101=1,'Sjekkliste noter'!N206,\"\")","v":""}]
[{"$f":"'Sjekkliste noter'!A209","v":121},{"$f":"IF('Sjekkliste noter'!J209<>\"\",1,0)","v":0},0,{"$f":"IF($C102=1,'Sjekkliste noter'!A209,\"\")","v":""},{"$f":"IF($C102=1,'Sjekkliste noter'!B209,\"\")","v":""},null,{"$f":"IF($C102=1,'Sjekkliste noter'!N209,\"\")","v":""}]
[{"$f":"'Sjekkliste noter'!A211","v":122},{"$f":"IF('Sjekkliste noter'!J211<>\"\",1,0)","v":0},0,{"$f":"IF($C103=1,'Sjekkliste noter'!A211,\"\")","v":""},{"$f":"IF($C103=1,'Sjekkliste noter'!B211,\"\")","v":""},null,{"$f":"IF($C103=1,'Sjekkliste noter'!N211,\"\")","v":""}]
[{"$f":"'Sjekkliste noter'!A222","v":125},{"$f":"IF('Sjekkliste noter'!J222<>\"\",1,0)","v":0},0,{"$f":"IF($C104=1,'Sjekkliste noter'!A222,\"\")","v":""},{"$f":"IF($C104=1,'Sjekkliste noter'!B222,\"\")","v":""},null,{"$f":"IF($C104=1,'Sjekkliste noter'!N222,\"\")","v":""}]
[{"$f":"'Sjekkliste noter'!A233","v":130},{"$f":"IF('Sjekkliste noter'!J233<>\"\",1,0)","v":0},0,{"$f":"IF($C105=1,'Sjekkliste noter'!A233,\"\")","v":""},{"$f":"IF($C105=1,'Sjekkliste noter'!B233,\"\")","v":""},null,{"$f":"IF($C105=1,'Sjekkliste noter'!N233,\"\")","v":""}]
[{"$f":"'Sjekkliste noter'!A236","v":131},{"$f":"IF('Sjekkliste noter'!J236<>\"\",1,0)","v":0},0,{"$f":"IF($C106=1,'Sjekkliste noter'!A236,\"\")","v":""},{"$f":"IF($C106=1,'Sjekkliste noter'!B236,\"\")","v":""},null,{"$f":"IF($C106=1,'Sjekkliste noter'!N236,\"\")","v":""}]
[{"$f":"'Sjekkliste noter'!A239","v":132},{"$f":"IF('Sjekkliste noter'!J239<>\"\",1,0)","v":0},0,{"$f":"IF($C107=1,'Sjekkliste noter'!A239,\"\")","v":""},{"$f":"IF($C107=1,'Sjekkliste noter'!B239,\"\")","v":""},null,{"$f":"IF($C107=1,'Sjekkliste noter'!N239,\"\")","v":""}]
[{"$f":"'Sjekkliste noter'!A242","v":133},{"$f":"IF('Sjekkliste noter'!J242<>\"\",1,0)","v":0},0,{"$f":"IF($C108=1,'Sjekkliste noter'!A242,\"\")","v":""},{"$f":"IF($C108=1,'Sjekkliste noter'!B242,\"\")","v":""},null,{"$f":"IF($C108=1,'Sjekkliste noter'!N242,\"\")","v":""}]
[{"$f":"'Sjekkliste noter'!A244","v":134},{"$f":"IF('Sjekkliste noter'!J244<>\"\",1,0)","v":0},0,{"$f":"IF($C109=1,'Sjekkliste noter'!A244,\"\")","v":""},{"$f":"IF($C109=1,'Sjekkliste noter'!B244,\"\")","v":""},null,{"$f":"IF($C109=1,'Sjekkliste noter'!N244,\"\")","v":""}]
[{"$f":"'Sjekkliste noter'!A246","v":135},{"$f":"IF('Sjekkliste noter'!J246<>\"\",1,0)","v":0},0,{"$f":"IF($C110=1,'Sjekkliste noter'!A246,\"\")","v":""},{"$f":"IF($C110=1,'Sjekkliste noter'!B246,\"\")","v":""},null,{"$f":"IF($C110=1,'Sjekkliste noter'!N246,\"\")","v":""}]
[{"$f":"'Sjekkliste noter'!A248","v":136},{"$f":"IF('Sjekkliste noter'!J248<>\"\",1,0)","v":0},0,{"$f":"IF($C111=1,'Sjekkliste noter'!A248,\"\")","v":""},{"$f":"IF($C111=1,'Sjekkliste noter'!B248,\"\")","v":""},null,{"$f":"IF($C111=1,'Sjekkliste noter'!N248,\"\")","v":""}]
[{"$f":"'Sjekkliste noter'!A252","v":137},{"$f":"IF('Sjekkliste noter'!J252<>\"\",1,0)","v":0},0,{"$f":"IF($C112=1,'Sjekkliste noter'!A252,\"\")","v":""},{"$f":"IF($C112=1,'Sjekkliste noter'!B252,\"\")","v":""},null,{"$f":"IF($C112=1,'Sjekkliste noter'!N252,\"\")","v":""}]
[{"$f":"'Sjekkliste noter'!A254","v":138},{"$f":"IF('Sjekkliste noter'!J254<>\"\",1,0)","v":0},0,{"$f":"IF($C113=1,'Sjekkliste noter'!A254,\"\")","v":""},{"$f":"IF($C113=1,'Sjekkliste noter'!B254,\"\")","v":""},null,{"$f":"IF($C113=1,'Sjekkliste noter'!N254,\"\")","v":""}]
[{"$f":"'Sjekkliste noter'!A256","v":139},{"$f":"IF('Sjekkliste noter'!J256<>\"\",1,0)","v":0},0,{"$f":"IF($C114=1,'Sjekkliste noter'!A256,\"\")","v":""},{"$f":"IF($C114=1,'Sjekkliste noter'!B256,\"\")","v":""},null,{"$f":"IF($C114=1,'Sjekkliste noter'!N256,\"\")","v":""}]
[{"$f":"'Sjekkliste noter'!A259","v":140},{"$f":"IF('Sjekkliste noter'!J259<>\"\",1,0)","v":0},0,{"$f":"IF($C115=1,'Sjekkliste noter'!A259,\"\")","v":""},{"$f":"IF($C115=1,'Sjekkliste noter'!B259,\"\")","v":""},null,{"$f":"IF($C115=1,'Sjekkliste noter'!N259,\"\")","v":""}]
[{"$f":"'Sjekkliste noter'!A262","v":141},{"$f":"IF('Sjekkliste noter'!J262<>\"\",1,0)","v":0},0,{"$f":"IF($C116=1,'Sjekkliste noter'!A262,\"\")","v":""},{"$f":"IF($C116=1,'Sjekkliste noter'!B262,\"\")","v":""},null,{"$f":"IF($C116=1,'Sjekkliste noter'!N262,\"\")","v":""}]
[{"$f":"'Sjekkliste noter'!A266","v":142},{"$f":"IF('Sjekkliste noter'!J266<>\"\",1,0)","v":0},0,{"$f":"IF($C117=1,'Sjekkliste noter'!A266,\"\")","v":""},{"$f":"IF($C117=1,'Sjekkliste noter'!B266,\"\")","v":""},null,{"$f":"IF($C117=1,'Sjekkliste noter'!N266,\"\")","v":""}]
[{"$f":"'Sjekkliste noter'!A267","v":143},{"$f":"IF('Sjekkliste noter'!J267<>\"\",1,0)","v":0},0,{"$f":"IF($C118=1,'Sjekkliste noter'!A267,\"\")","v":""},{"$f":"IF($C118=1,'Sjekkliste noter'!B267,\"\")","v":""},null,{"$f":"IF($C118=1,'Sjekkliste noter'!N267,\"\")","v":""}]
[{"$f":"'Sjekkliste noter'!A268","v":144},{"$f":"IF('Sjekkliste noter'!J268<>\"\",1,0)","v":0},0,{"$f":"IF($C119=1,'Sjekkliste noter'!A268,\"\")","v":""},{"$f":"IF($C119=1,'Sjekkliste noter'!B268,\"\")","v":""},null,{"$f":"IF($C119=1,'Sjekkliste noter'!N268,\"\")","v":""}]
[{"$f":"'Sjekkliste noter'!A270","v":145},{"$f":"IF('Sjekkliste noter'!J270<>\"\",1,0)","v":0},0,{"$f":"IF($C120=1,'Sjekkliste noter'!A270,\"\")","v":""},{"$f":"IF($C120=1,'Sjekkliste noter'!B270,\"\")","v":""},null,{"$f":"IF($C120=1,'Sjekkliste noter'!N270,\"\")","v":""}]
[{"$f":"'Sjekkliste noter'!A271","v":146},{"$f":"IF('Sjekkliste noter'!J271<>\"\",1,0)","v":0},0,{"$f":"IF($C121=1,'Sjekkliste noter'!A271,\"\")","v":""},{"$f":"IF($C121=1,'Sjekkliste noter'!B271,\"\")","v":""},null,{"$f":"IF($C121=1,'Sjekkliste noter'!N271,\"\")","v":""}]
[{"$f":"'Sjekkliste noter'!A273","v":147},{"$f":"IF('Sjekkliste noter'!J273<>\"\",1,0)","v":0},0,{"$f":"IF($C122=1,'Sjekkliste noter'!A273,\"\")","v":""},{"$f":"IF($C122=1,'Sjekkliste noter'!B273,\"\")","v":""},null,{"$f":"IF($C122=1,'Sjekkliste noter'!N273,\"\")","v":""}]
[{"$f":"'Sjekkliste noter'!A274","v":148},{"$f":"IF('Sjekkliste noter'!J274<>\"\",1,0)","v":0},0,{"$f":"IF($C123=1,'Sjekkliste noter'!A274,\"\")","v":""},{"$f":"IF($C123=1,'Sjekkliste noter'!B274,\"\")","v":""},null,{"$f":"IF($C123=1,'Sjekkliste noter'!N274,\"\")","v":""}]
[{"$f":"'Sjekkliste noter'!A275","v":149},{"$f":"IF('Sjekkliste noter'!J275<>\"\",1,0)","v":0},0,{"$f":"IF($C124=1,'Sjekkliste noter'!A275,\"\")","v":""},{"$f":"IF($C124=1,'Sjekkliste noter'!B275,\"\")","v":""},null,{"$f":"IF($C124=1,'Sjekkliste noter'!N275,\"\")","v":""}]
[{"$f":"'Sjekkliste noter'!A279","v":150},{"$f":"IF('Sjekkliste noter'!J279<>\"\",1,0)","v":0},0,{"$f":"IF($C125=1,'Sjekkliste noter'!A279,\"\")","v":""},{"$f":"IF($C125=1,'Sjekkliste noter'!B279,\"\")","v":""},null,{"$f":"IF($C125=1,'Sjekkliste noter'!N279,\"\")","v":""}]
[{"$f":"'Sjekkliste noter'!A283","v":151},{"$f":"IF('Sjekkliste noter'!J283<>\"\",1,0)","v":0},0,{"$f":"IF($C126=1,'Sjekkliste noter'!A283,\"\")","v":""},{"$f":"IF($C126=1,'Sjekkliste noter'!B283,\"\")","v":""},null,{"$f":"IF($C126=1,'Sjekkliste noter'!N283,\"\")","v":""}]
[{"$f":"'Sjekkliste noter'!A285","v":152},{"$f":"IF('Sjekkliste noter'!J285<>\"\",1,0)","v":0},0,{"$f":"IF($C127=1,'Sjekkliste noter'!A285,\"\")","v":""},{"$f":"IF($C127=1,'Sjekkliste noter'!B285,\"\")","v":""},null,{"$f":"IF($C127=1,'Sjekkliste noter'!N285,\"\")","v":""}]
[{"$f":"'Sjekkliste noter'!A287","v":153},{"$f":"IF('Sjekkliste noter'!J287<>\"\",1,0)","v":0},0,{"$f":"IF($C128=1,'Sjekkliste noter'!A287,\"\")","v":""},{"$f":"IF($C128=1,'Sjekkliste noter'!B287,\"\")","v":""},null,{"$f":"IF($C128=1,'Sjekkliste noter'!N287,\"\")","v":""}]
[{"$f":"'Sjekkliste noter'!A290","v":154},{"$f":"IF('Sjekkliste noter'!J290<>\"\",1,0)","v":0},0,{"$f":"IF($C129=1,'Sjekkliste noter'!A290,\"\")","v":""},{"$f":"IF($C129=1,'Sjekkliste noter'!B290,\"\")","v":""},null,{"$f":"IF($C129=1,'Sjekkliste noter'!N290,\"\")","v":""}]
[{"$f":"'Sjekkliste noter'!A291","v":155},{"$f":"IF('Sjekkliste noter'!J291<>\"\",1,0)","v":0},{"$f":"SUM(B130:B130)","v":0},{"$f":"IF($C130=1,'Sjekkliste noter'!A291,\"\")","v":""},{"$f":"IF($C130=1,'Sjekkliste noter'!B291,\"\")","v":""},null,{"$f":"IF($C130=1,'Sjekkliste noter'!N291,\"\")","v":""}]
[{"$f":"'Sjekkliste noter'!A292","v":156},{"$f":"IF('Sjekkliste noter'!J292<>\"\",1,0)","v":0},0,{"$f":"IF($C131=1,'Sjekkliste noter'!A292,\"\")","v":""},{"$f":"IF($C131=1,'Sjekkliste noter'!B292,\"\")","v":""},null,{"$f":"IF($C131=1,'Sjekkliste noter'!N292,\"\")","v":""}]
[{"$f":"'Sjekkliste noter'!A293","v":157},{"$f":"IF('Sjekkliste noter'!J293<>\"\",1,0)","v":0},0,{"$f":"IF($C132=1,'Sjekkliste noter'!A293,\"\")","v":""},{"$f":"IF($C132=1,'Sjekkliste noter'!B293,\"\")","v":""},null,{"$f":"IF($C132=1,'Sjekkliste noter'!N293,\"\")","v":""}]
[{"$f":"'Sjekkliste noter'!#REF!","v":{"$error":"#REF!"}},{"$f":"IF('Sjekkliste noter'!#REF!<>\"\",1,0)","v":{"$error":"#REF!"}},{"$error":"#REF!"},{"$f":"IF($C133=1,'Sjekkliste noter'!#REF!,\"\")","v":{"$error":"#REF!"}},{"$f":"IF($C133=1,'Sjekkliste noter'!#REF!,\"\")","v":{"$error":"#REF!"}},null,{"$f":"IF($C133=1,'Sjekkliste noter'!#REF!,\"\")","v":{"$error":"#REF!"}}]
[{"$f":"'Sjekkliste noter'!#REF!","v":{"$error":"#REF!"}},{"$f":"IF('Sjekkliste noter'!#REF!<>\"\",1,0)","v":{"$error":"#REF!"}},{"$error":"#REF!"},{"$f":"IF($C134=1,'Sjekkliste noter'!#REF!,\"\")","v":{"$error":"#REF!"}},{"$f":"IF($C134=1,'Sjekkliste noter'!#REF!,\"\")","v":{"$error":"#REF!"}},null,{"$f":"IF($C134=1,'Sjekkliste noter'!#REF!,\"\")","v":{"$error":"#REF!"}}]
[{"$f":"'Sjekkliste noter'!#REF!","v":{"$error":"#REF!"}},{"$f":"IF('Sjekkliste noter'!#REF!<>\"\",1,0)","v":{"$error":"#REF!"}},{"$error":"#REF!"},{"$f":"IF($C135=1,'Sjekkliste noter'!#REF!,\"\")","v":{"$error":"#REF!"}},{"$f":"IF($C135=1,'Sjekkliste noter'!#REF!,\"\")","v":{"$error":"#REF!"}},null,{"$f":"IF($C135=1,'Sjekkliste noter'!#REF!,\"\")","v":{"$error":"#REF!"}}]
[{"$f":"'Sjekkliste noter'!#REF!","v":{"$error":"#REF!"}},{"$f":"IF('Sjekkliste noter'!#REF!<>\"\",1,0)","v":{"$error":"#REF!"}},{"$error":"#REF!"},{"$f":"IF($C136=1,'Sjekkliste noter'!#REF!,\"\")","v":{"$error":"#REF!"}},{"$f":"IF($C136=1,'Sjekkliste noter'!#REF!,\"\")","v":{"$error":"#REF!"}},null,{"$f":"IF($C136=1,'Sjekkliste noter'!#REF!,\"\")","v":{"$error":"#REF!"}}]
[{"$f":"'Sjekkliste noter'!#REF!","v":{"$error":"#REF!"}},{"$f":"IF('Sjekkliste noter'!#REF!<>\"\",1,0)","v":{"$error":"#REF!"}},{"$error":"#REF!"},{"$f":"IF($C137=1,'Sjekkliste noter'!#REF!,\"\")","v":{"$error":"#REF!"}},{"$f":"IF($C137=1,'Sjekkliste noter'!#REF!,\"\")","v":{"$error":"#REF!"}},null,{"$f":"IF($C137=1,'Sjekkliste noter'!#REF!,\"\")","v":{"$error":"#REF!"}}]
[{"$f":"'Sjekkliste noter'!#REF!","v":{"$error":"#REF!"}},{"$f":"IF('Sjekkliste noter'!#REF!<>\"\",1,0)","v":{"$error":"#REF!"}},{"$error":"#REF!"},{"$f":"IF($C138=1,'Sjekkliste noter'!#REF!,\"\")","v":{"$error":"#REF!"}},{"$f":"IF($C138=1,'Sjekkliste noter'!#REF!,\"\")","v":{"$error":"#REF!"}},null,{"$f":"IF($C138=1,'Sjekkliste noter'!#REF!,\"\")","v":{"$error":"#REF!"}}]
[{"$f":"'Sjekkliste noter'!#REF!","v":{"$error":"#REF!"}},{"$f":"IF('Sjekkliste noter'!#REF!<>\"\",1,0)","v":{"$error":"#REF!"}},{"$error":"#REF!"},{"$f":"IF($C139=1,'Sjekkliste noter'!#REF!,\"\")","v":{"$error":"#REF!"}},{"$f":"IF($C139=1,'Sjekkliste noter'!#REF!,\"\")","v":{"$error":"#REF!"}},null,{"$f":"IF($C139=1,'Sjekkliste noter'!#REF!,\"\")","v":{"$error":"#REF!"}}]
[{"$f":"'Sjekkliste noter'!#REF!","v":{"$error":"#REF!"}},{"$f":"IF('Sjekkliste noter'!#REF!<>\"\",1,0)","v":{"$error":"#REF!"}},{"$error":"#REF!"},{"$f":"IF($C140=1,'Sjekkliste noter'!#REF!,\"\")","v":{"$error":"#REF!"}},{"$f":"IF($C140=1,'Sjekkliste noter'!#REF!,\"\")","v":{"$error":"#REF!"}},null,{"$f":"IF($C140=1,'Sjekkliste noter'!#REF!,\"\")","v":{"$error":"#REF!"}}]
[{"$f":"'Sjekkliste noter'!#REF!","v":{"$error":"#REF!"}},{"$f":"IF('Sjekkliste noter'!#REF!<>\"\",1,0)","v":{"$error":"#REF!"}},{"$error":"#REF!"},{"$f":"IF($C141=1,'Sjekkliste noter'!#REF!,\"\")","v":{"$error":"#REF!"}},{"$f":"IF($C141=1,'Sjekkliste noter'!#REF!,\"\")","v":{"$error":"#REF!"}},null,{"$f":"IF($C141=1,'Sjekkliste noter'!#REF!,\"\")","v":{"$error":"#REF!"}}]
[{"$f":"'Sjekkliste noter'!#REF!","v":{"$error":"#REF!"}},{"$f":"IF('Sjekkliste noter'!#REF!<>\"\",1,0)","v":{"$error":"#REF!"}},{"$error":"#REF!"},{"$f":"IF($C142=1,'Sjekkliste noter'!#REF!,\"\")","v":{"$error":"#REF!"}},{"$f":"IF($C142=1,'Sjekkliste noter'!#REF!,\"\")","v":{"$error":"#REF!"}},null,{"$f":"IF($C142=1,'Sjekkliste noter'!#REF!,\"\")","v":{"$error":"#REF!"}}]
[{"$f":"'Sjekkliste noter'!#REF!","v":{"$error":"#REF!"}},{"$f":"IF('Sjekkliste noter'!#REF!<>\"\",1,0)","v":{"$error":"#REF!"}},{"$error":"#REF!"},{"$f":"IF($C143=1,'Sjekkliste noter'!#REF!,\"\")","v":{"$error":"#REF!"}},{"$f":"IF($C143=1,'Sjekkliste noter'!#REF!,\"\")","v":{"$error":"#REF!"}},null,{"$f":"IF($C143=1,'Sjekkliste noter'!#REF!,\"\")","v":{"$error":"#REF!"}}]
[{"$f":"'Sjekkliste noter'!#REF!","v":{"$error":"#REF!"}},{"$f":"IF('Sjekkliste noter'!#REF!<>\"\",1,0)","v":{"$error":"#REF!"}},{"$error":"#REF!"},{"$f":"IF($C144=1,'Sjekkliste noter'!#REF!,\"\")","v":{"$error":"#REF!"}},{"$f":"IF($C144=1,'Sjekkliste noter'!#REF!,\"\")","v":{"$error":"#REF!"}},null,{"$f":"IF($C144=1,'Sjekkliste noter'!#REF!,\"\")","v":{"$error":"#REF!"}}]
[{"$f":"'Sjekkliste noter'!#REF!","v":{"$error":"#REF!"}},{"$f":"IF('Sjekkliste noter'!#REF!<>\"\",1,0)","v":{"$error":"#REF!"}},{"$error":"#REF!"},{"$f":"IF($C145=1,'Sjekkliste noter'!#REF!,\"\")","v":{"$error":"#REF!"}},{"$f":"IF($C145=1,'Sjekkliste noter'!#REF!,\"\")","v":{"$error":"#REF!"}},null,{"$f":"IF($C145=1,'Sjekkliste noter'!#REF!,\"\")","v":{"$error":"#REF!"}}]
[{"$f":"'Sjekkliste noter'!#REF!","v":{"$error":"#REF!"}},{"$f":"IF('Sjekkliste noter'!#REF!<>\"\",1,0)","v":{"$error":"#REF!"}},{"$error":"#REF!"},{"$f":"IF($C146=1,'Sjekkliste noter'!#REF!,\"\")","v":{"$error":"#REF!"}},{"$f":"IF($C146=1,'Sjekkliste noter'!#REF!,\"\")","v":{"$error":"#REF!"}},null,{"$f":"IF($C146=1,'Sjekkliste noter'!#REF!,\"\")","v":{"$error":"#REF!"}}]
[{"$f":"'Sjekkliste noter'!#REF!","v":{"$error":"#REF!"}},{"$f":"IF('Sjekkliste noter'!#REF!<>\"\",1,0)","v":{"$error":"#REF!"}},{"$error":"#REF!"},{"$f":"IF($C147=1,'Sjekkliste noter'!#REF!,\"\")","v":{"$error":"#REF!"}},{"$f":"IF($C147=1,'Sjekkliste noter'!#REF!,\"\")","v":{"$error":"#REF!"}},null,{"$f":"IF($C147=1,'Sjekkliste noter'!#REF!,\"\")","v":{"$error":"#REF!"}}]
[{"$f":"'Sjekkliste noter'!#REF!","v":{"$error":"#REF!"}},{"$f":"IF('Sjekkliste noter'!#REF!<>\"\",1,0)","v":{"$error":"#REF!"}},{"$error":"#REF!"},{"$f":"IF($C148=1,'Sjekkliste noter'!#REF!,\"\")","v":{"$error":"#REF!"}},{"$f":"IF($C148=1,'Sjekkliste noter'!#REF!,\"\")","v":{"$error":"#REF!"}},null,{"$f":"IF($C148=1,'Sjekkliste noter'!#REF!,\"\")","v":{"$error":"#REF!"}}]
[{"$f":"'Sjekkliste noter'!#REF!","v":{"$error":"#REF!"}},{"$f":"IF('Sjekkliste noter'!#REF!<>\"\",1,0)","v":{"$error":"#REF!"}},{"$error":"#REF!"},{"$f":"IF($C149=1,'Sjekkliste noter'!#REF!,\"\")","v":{"$error":"#REF!"}},{"$f":"IF($C149=1,'Sjekkliste noter'!#REF!,\"\")","v":{"$error":"#REF!"}},null,{"$f":"IF($C149=1,'Sjekkliste noter'!#REF!,\"\")","v":{"$error":"#REF!"}}]
[{"$f":"'Sjekkliste noter'!#REF!","v":{"$error":"#REF!"}},{"$f":"IF('Sjekkliste noter'!#REF!<>\"\",1,0)","v":{"$error":"#REF!"}},{"$error":"#REF!"},{"$f":"IF($C150=1,'Sjekkliste noter'!#REF!,\"\")","v":{"$error":"#REF!"}},{"$f":"IF($C150=1,'Sjekkliste noter'!#REF!,\"\")","v":{"$error":"#REF!"}},null,{"$f":"IF($C150=1,'Sjekkliste noter'!#REF!,\"\")","v":{"$error":"#REF!"}}]
[{"$f":"'Sjekkliste noter'!#REF!","v":{"$error":"#REF!"}},{"$f":"IF('Sjekkliste noter'!#REF!<>\"\",1,0)","v":{"$error":"#REF!"}},{"$error":"#REF!"},{"$f":"IF($C151=1,'Sjekkliste noter'!#REF!,\"\")","v":{"$error":"#REF!"}},{"$f":"IF($C151=1,'Sjekkliste noter'!#REF!,\"\")","v":{"$error":"#REF!"}},null,{"$f":"IF($C151=1,'Sjekkliste noter'!#REF!,\"\")","v":{"$error":"#REF!"}}]
[{"$f":"'Sjekkliste noter'!#REF!","v":{"$error":"#REF!"}},{"$f":"IF('Sjekkliste noter'!#REF!<>\"\",1,0)","v":{"$error":"#REF!"}},{"$error":"#REF!"},{"$f":"IF($C152=1,'Sjekkliste noter'!#REF!,\"\")","v":{"$error":"#REF!"}},{"$f":"IF($C152=1,'Sjekkliste noter'!#REF!,\"\")","v":{"$error":"#REF!"}},null,{"$f":"IF($C152=1,'Sjekkliste noter'!#REF!,\"\")","v":{"$error":"#REF!"}}]

{"sheet":"N_Nei","index":4,"n_rows":152,"n_cols":7,"rows_kept":152,"cut":false,"hidden":true,"merged":[]}
[null,null,{"$f":"COUNTIF(C2:C152,\"=1\")","v":0},"Nei-svar",{"$f":"+Forside!B2","v":0},{"$f":"+Forside!B3","v":2020},"Kommentarer"]
[{"$f":"+'Sjekkliste noter'!A16","v":1},{"$f":"IF('Sjekkliste noter'!K16<>\"\",1,0)","v":0},{"$f":"SUM(B2:B2)","v":0},{"$f":"IF($C2=1,'Sjekkliste noter'!A16,\"\")","v":""},{"$f":"IF($C2=1,'Sjekkliste noter'!B16,\"\")","v":""},null,{"$f":"IF($C2=1,'Sjekkliste noter'!N16,\"\")","v":""}]
[{"$f":"+'Sjekkliste noter'!A20","v":4},{"$f":"IF('Sjekkliste noter'!K20<>\"\",1,0)","v":0},0,{"$f":"IF($C3=1,'Sjekkliste noter'!A20,\"\")","v":""},{"$f":"IF($C3=1,'Sjekkliste noter'!B20,\"\")","v":""},null,{"$f":"IF($C3=1,'Sjekkliste noter'!N20,\"\")","v":""}]
[{"$f":"+'Sjekkliste noter'!A21","v":5},{"$f":"IF('Sjekkliste noter'!K21<>\"\",1,0)","v":0},0,{"$f":"IF($C4=1,'Sjekkliste noter'!A21,\"\")","v":""},{"$f":"IF($C4=1,'Sjekkliste noter'!B21,\"\")","v":""},null,{"$f":"IF($C4=1,'Sjekkliste noter'!N21,\"\")","v":""}]
[{"$f":"+'Sjekkliste noter'!A22","v":6},{"$f":"IF('Sjekkliste noter'!K22<>\"\",1,0)","v":0},0,{"$f":"IF($C5=1,'Sjekkliste noter'!A22,\"\")","v":""},{"$f":"IF($C5=1,'Sjekkliste noter'!B22,\"\")","v":""},null,{"$f":"IF($C5=1,'Sjekkliste noter'!N22,\"\")","v":""}]
[{"$f":"+'Sjekkliste noter'!A23","v":7},{"$f":"IF('Sjekkliste noter'!K23<>\"\",1,0)","v":0},0,{"$f":"IF($C6=1,'Sjekkliste noter'!A23,\"\")","v":""},{"$f":"IF($C6=1,'Sjekkliste noter'!B23,\"\")","v":""},null,{"$f":"IF($C6=1,'Sjekkliste noter'!N23,\"\")","v":""}]
[{"$f":"+'Sjekkliste noter'!A24","v":8},{"$f":"IF('Sjekkliste noter'!K24<>\"\",1,0)","v":0},0,{"$f":"IF($C7=1,'Sjekkliste noter'!A24,\"\")","v":""},{"$f":"IF($C7=1,'Sjekkliste noter'!B24,\"\")","v":""},null,{"$f":"IF($C7=1,'Sjekkliste noter'!N24,\"\")","v":""}]
[{"$f":"+'Sjekkliste noter'!A25","v":9},{"$f":"IF('Sjekkliste noter'!K25<>\"\",1,0)","v":0},0,{"$f":"IF($C8=1,'Sjekkliste noter'!A25,\"\")","v":""},{"$f":"IF($C8=1,'Sjekkliste noter'!B25,\"\")","v":""},null,{"$f":"IF($C8=1,'Sjekkliste noter'!N25,\"\")","v":""}]
[{"$f":"+'Sjekkliste noter'!A26","v":10},{"$f":"IF('Sjekkliste noter'!K26<>\"\",1,0)","v":0},0,{"$f":"IF($C9=1,'Sjekkliste noter'!A26,\"\")","v":""},{"$f":"IF($C9=1,'Sjekkliste noter'!B26,\"\")","v":""},null,{"$f":"IF($C9=1,'Sjekkliste noter'!N26,\"\")","v":""}]
[{"$f":"+'Sjekkliste noter'!A27","v":11},{"$f":"IF('Sjekkliste noter'!K27<>\"\",1,0)","v":0},0,{"$f":"IF($C10=1,'Sjekkliste noter'!A27,\"\")","v":""},{"$f":"IF($C10=1,'Sjekkliste noter'!B27,\"\")","v":""},null,{"$f":"IF($C10=1,'Sjekkliste noter'!N27,\"\")","v":""}]
[{"$f":"+'Sjekkliste noter'!A29","v":12},{"$f":"IF('Sjekkliste noter'!K29<>\"\",1,0)","v":0},0,{"$f":"IF($C11=1,'Sjekkliste noter'!A29,\"\")","v":""},{"$f":"IF($C11=1,'Sjekkliste noter'!B29,\"\")","v":""},null,{"$f":"IF($C11=1,'Sjekkliste noter'!N29,\"\")","v":""}]
[{"$f":"+'Sjekkliste noter'!A31","v":13},{"$f":"IF('Sjekkliste noter'!K31<>\"\",1,0)","v":0},0,{"$f":"IF($C12=1,'Sjekkliste noter'!A31,\"\")","v":""},{"$f":"IF($C12=1,'Sjekkliste noter'!B31,\"\")","v":""},null,{"$f":"IF($C12=1,'Sjekkliste noter'!N31,\"\")","v":""}]
[{"$f":"+'Sjekkliste noter'!A34","v":14},{"$f":"IF('Sjekkliste noter'!K34<>\"\",1,0)","v":0},0,{"$f":"IF($C13=1,'Sjekkliste noter'!A34,\"\")","v":""},{"$f":"IF($C13=1,'Sjekkliste noter'!B34,\"\")","v":""},null,{"$f":"IF($C13=1,'Sjekkliste noter'!N34,\"\")","v":""}]
[{"$f":"+'Sjekkliste noter'!A35","v":15},{"$f":"IF('Sjekkliste noter'!K35<>\"\",1,0)","v":0},0,{"$f":"IF($C14=1,'Sjekkliste noter'!A35,\"\")","v":""},{"$f":"IF($C14=1,'Sjekkliste noter'!B35,\"\")","v":""},null,{"$f":"IF($C14=1,'Sjekkliste noter'!N35,\"\")","v":""}]
[{"$f":"+'Sjekkliste noter'!A38","v":17},{"$f":"IF('Sjekkliste noter'!K38<>\"\",1,0)","v":0},0,{"$f":"IF($C15=1,'Sjekkliste noter'!A38,\"\")","v":""},{"$f":"IF($C15=1,'Sjekkliste noter'!B38,\"\")","v":""},null,{"$f":"IF($C15=1,'Sjekkliste noter'!N38,\"\")","v":""}]
[{"$f":"+'Sjekkliste noter'!A39","v":18},{"$f":"IF('Sjekkliste noter'!K39<>\"\",1,0)","v":0},{"$f":"SUM(B16:B16)","v":0},{"$f":"IF($C16=1,'Sjekkliste noter'!A39,\"\")","v":""},{"$f":"IF($C16=1,'Sjekkliste noter'!B39,\"\")","v":""},null,{"$f":"IF($C16=1,'Sjekkliste noter'!N39,\"\")","v":""}]
[{"$f":"+'Sjekkliste noter'!A40","v":19},{"$f":"IF('Sjekkliste noter'!K40<>\"\",1,0)","v":0},0,{"$f":"IF($C17=1,'Sjekkliste noter'!A40,\"\")","v":""},{"$f":"IF($C17=1,'Sjekkliste noter'!B40,\"\")","v":""},null,{"$f":"IF($C17=1,'Sjekkliste noter'!N40,\"\")","v":""}]
[{"$f":"+'Sjekkliste noter'!A42","v":20},{"$f":"IF('Sjekkliste noter'!K42<>\"\",1,0)","v":0},0,{"$f":"IF($C18=1,'Sjekkliste noter'!A42,\"\")","v":""},{"$f":"IF($C18=1,'Sjekkliste noter'!B42,\"\")","v":""},null,{"$f":"IF($C18=1,'Sjekkliste noter'!N42,\"\")","v":""}]
[{"$f":"+'Sjekkliste noter'!A44","v":21},{"$f":"IF('Sjekkliste noter'!K44<>\"\",1,0)","v":0},0,{"$f":"IF($C19=1,'Sjekkliste noter'!A44,\"\")","v":""},{"$f":"IF($C19=1,'Sjekkliste noter'!B44,\"\")","v":""},null,{"$f":"IF($C19=1,'Sjekkliste noter'!N44,\"\")","v":""}]
[{"$f":"+'Sjekkliste noter'!A45","v":22},{"$f":"IF('Sjekkliste noter'!K45<>\"\",1,0)","v":0},0,{"$f":"IF($C20=1,'Sjekkliste noter'!A45,\"\")","v":""},{"$f":"IF($C20=1,'Sjekkliste noter'!B45,\"\")","v":""},null,{"$f":"IF($C20=1,'Sjekkliste noter'!N45,\"\")","v":""}]
[{"$f":"+'Sjekkliste noter'!A46","v":23},{"$f":"IF('Sjekkliste noter'!K46<>\"\",1,0)","v":0},0,{"$f":"IF($C21=1,'Sjekkliste noter'!A46,\"\")","v":""},{"$f":"IF($C21=1,'Sjekkliste noter'!B46,\"\")","v":""},null,{"$f":"IF($C21=1,'Sjekkliste noter'!N46,\"\")","v":""}]
[{"$f":"+'Sjekkliste noter'!A47","v":24},{"$f":"IF('Sjekkliste noter'!K47<>\"\",1,0)","v":0},0,{"$f":"IF($C22=1,'Sjekkliste noter'!A47,\"\")","v":""},{"$f":"IF($C22=1,'Sjekkliste noter'!B47,\"\")","v":""},null,{"$f":"IF($C22=1,'Sjekkliste noter'!N47,\"\")","v":""}]
[{"$f":"+'Sjekkliste noter'!A48","v":25},{"$f":"IF('Sjekkliste noter'!K48<>\"\",1,0)","v":0},0,{"$f":"IF($C23=1,'Sjekkliste noter'!A48,\"\")","v":""},{"$f":"IF($C23=1,'Sjekkliste noter'!B48,\"\")","v":""},null,{"$f":"IF($C23=1,'Sjekkliste noter'!N48,\"\")","v":""}]
[{"$f":"+'Sjekkliste noter'!A49","v":26},{"$f":"IF('Sjekkliste noter'!K49<>\"\",1,0)","v":0},0,{"$f":"IF($C24=1,'Sjekkliste noter'!A49,\"\")","v":""},{"$f":"IF($C24=1,'Sjekkliste noter'!B49,\"\")","v":""},null,{"$f":"IF($C24=1,'Sjekkliste noter'!N49,\"\")","v":""}]
[{"$f":"+'Sjekkliste noter'!A52","v":27},{"$f":"IF('Sjekkliste noter'!K52<>\"\",1,0)","v":0},0,{"$f":"IF($C25=1,'Sjekkliste noter'!A52,\"\")","v":""},{"$f":"IF($C25=1,'Sjekkliste noter'!B52,\"\")","v":""},null,{"$f":"IF($C25=1,'Sjekkliste noter'!N52,\"\")","v":""}]
[{"$f":"+'Sjekkliste noter'!A53","v":28},{"$f":"IF('Sjekkliste noter'!K53<>\"\",1,0)","v":0},0,{"$f":"IF($C26=1,'Sjekkliste noter'!A53,\"\")","v":""},{"$f":"IF($C26=1,'Sjekkliste noter'!B53,\"\")","v":""},null,{"$f":"IF($C26=1,'Sjekkliste noter'!N53,\"\")","v":""}]
[{"$f":"+'Sjekkliste noter'!A54","v":29},{"$f":"IF('Sjekkliste noter'!K54<>\"\",1,0)","v":0},0,{"$f":"IF($C27=1,'Sjekkliste noter'!A54,\"\")","v":""},{"$f":"IF($C27=1,'Sjekkliste noter'!B54,\"\")","v":""},null,{"$f":"IF($C27=1,'Sjekkliste noter'!N54,\"\")","v":""}]
[{"$f":"+'Sjekkliste noter'!A55","v":30},{"$f":"IF('Sjekkliste noter'!K55<>\"\",1,0)","v":0},0,{"$f":"IF($C28=1,'Sjekkliste noter'!A55,\"\")","v":""},{"$f":"IF($C28=1,'Sjekkliste noter'!B55,\"\")","v":""},null,{"$f":"IF($C28=1,'Sjekkliste noter'!N55,\"\")","v":""}]
[{"$f":"+'Sjekkliste noter'!A56","v":31},{"$f":"IF('Sjekkliste noter'!K56<>\"\",1,0)","v":0},0,{"$f":"IF($C29=1,'Sjekkliste noter'!A56,\"\")","v":""},{"$f":"IF($C29=1,'Sjekkliste noter'!B56,\"\")","v":""},null,{"$f":"IF($C29=1,'Sjekkliste noter'!N56,\"\")","v":""}]
[{"$f":"+'Sjekkliste noter'!A57","v":32},{"$f":"IF('Sjekkliste noter'!K57<>\"\",1,0)","v":0},0,{"$f":"IF($C30=1,'Sjekkliste noter'!A57,\"\")","v":""},{"$f":"IF($C30=1,'Sjekkliste noter'!B57,\"\")","v":""},null,{"$f":"IF($C30=1,'Sjekkliste noter'!N57,\"\")","v":""}]
[{"$f":"+'Sjekkliste noter'!A58","v":33},{"$f":"IF('Sjekkliste noter'!K58<>\"\",1,0)","v":0},0,{"$f":"IF($C31=1,'Sjekkliste noter'!A58,\"\")","v":""},{"$f":"IF($C31=1,'Sjekkliste noter'!B58,\"\")","v":""},null,{"$f":"IF($C31=1,'Sjekkliste noter'!N58,\"\")","v":""}]
[{"$f":"+'Sjekkliste noter'!A60","v":34},{"$f":"IF('Sjekkliste noter'!K60<>\"\",1,0)","v":0},0,{"$f":"IF($C32=1,'Sjekkliste noter'!A60,\"\")","v":""},{"$f":"IF($C32=1,'Sjekkliste noter'!B60,\"\")","v":""},null,{"$f":"IF($C32=1,'Sjekkliste noter'!N60,\"\")","v":""}]
[{"$f":"+'Sjekkliste noter'!A62","v":35},{"$f":"IF('Sjekkliste noter'!K62<>\"\",1,0)","v":0},0,{"$f":"IF($C33=1,'Sjekkliste noter'!A62,\"\")","v":""},{"$f":"IF($C33=1,'Sjekkliste noter'!B62,\"\")","v":""},null,{"$f":"IF($C33=1,'Sjekkliste noter'!N62,\"\")","v":""}]
[{"$f":"+'Sjekkliste noter'!A64","v":36},{"$f":"IF('Sjekkliste noter'!K64<>\"\",1,0)","v":0},0,{"$f":"IF($C34=1,'Sjekkliste noter'!A64,\"\")","v":""},{"$f":"IF($C34=1,'Sjekkliste noter'!B64,\"\")","v":""},null,{"$f":"IF($C34=1,'Sjekkliste noter'!N64,\"\")","v":""}]
[{"$f":"+'Sjekkliste noter'!A65","v":37},{"$f":"IF('Sjekkliste noter'!K65<>\"\",1,0)","v":0},{"$f":"SUM(B35:B35)","v":0},{"$f":"IF($C35=1,'Sjekkliste noter'!A65,\"\")","v":""},{"$f":"IF($C35=1,'Sjekkliste noter'!B65,\"\")","v":""},null,{"$f":"IF($C35=1,'Sjekkliste noter'!N65,\"\")","v":""}]
[{"$f":"+'Sjekkliste noter'!A66","v":38},{"$f":"IF('Sjekkliste noter'!K66<>\"\",1,0)","v":0},0,{"$f":"IF($C36=1,'Sjekkliste noter'!A66,\"\")","v":""},{"$f":"IF($C36=1,'Sjekkliste noter'!B66,\"\")","v":""},null,{"$f":"IF($C36=1,'Sjekkliste noter'!N66,\"\")","v":""}]
[{"$f":"+'Sjekkliste noter'!A67","v":39},{"$f":"IF('Sjekkliste noter'!K67<>\"\",1,0)","v":0},0,{"$f":"IF($C37=1,'Sjekkliste noter'!A67,\"\")","v":""},{"$f":"IF($C37=1,'Sjekkliste noter'!B67,\"\")","v":""},null,{"$f":"IF($C37=1,'Sjekkliste noter'!N67,\"\")","v":""}]
[{"$f":"+'Sjekkliste noter'!A73","v":43},{"$f":"IF('Sjekkliste noter'!K73<>\"\",1,0)","v":0},0,{"$f":"IF($C38=1,'Sjekkliste noter'!A73,\"\")","v":""},{"$f":"IF($C38=1,'Sjekkliste noter'!B73,\"\")","v":""},null,{"$f":"IF($C38=1,'Sjekkliste noter'!N73,\"\")","v":""}]
[{"$f":"+'Sjekkliste noter'!A75","v":44},{"$f":"IF('Sjekkliste noter'!K75<>\"\",1,0)","v":0},0,{"$f":"IF($C39=1,'Sjekkliste noter'!A75,\"\")","v":""},{"$f":"IF($C39=1,'Sjekkliste noter'!B75,\"\")","v":""},null,{"$f":"IF($C39=1,'Sjekkliste noter'!N75,\"\")","v":""}]
[{"$f":"+'Sjekkliste noter'!A76","v":45},{"$f":"IF('Sjekkliste noter'!K76<>\"\",1,0)","v":0},0,{"$f":"IF($C40=1,'Sjekkliste noter'!A76,\"\")","v":""},{"$f":"IF($C40=1,'Sjekkliste noter'!B76,\"\")","v":""},null,{"$f":"IF($C40=1,'Sjekkliste noter'!N76,\"\")","v":""}]
[{"$f":"+'Sjekkliste noter'!A81","v":47},{"$f":"IF('Sjekkliste noter'!K81<>\"\",1,0)","v":0},0,{"$f":"IF($C41=1,'Sjekkliste noter'!A81,\"\")","v":""},{"$f":"IF($C41=1,'Sjekkliste noter'!B81,\"\")","v":""},null,{"$f":"IF($C41=1,'Sjekkliste noter'!N81,\"\")","v":""}]
[{"$f":"+'Sjekkliste noter'!A82","v":48},{"$f":"IF('Sjekkliste noter'!K82<>\"\",1,0)","v":0},0,{"$f":"IF($C42=1,'Sjekkliste noter'!A82,\"\")","v":""},{"$f":"IF($C42=1,'Sjekkliste noter'!B82,\"\")","v":""},null,{"$f":"IF($C42=1,'Sjekkliste noter'!N82,\"\")","v":""}]
[{"$f":"+'Sjekkliste noter'!A83","v":49},{"$f":"IF('Sjekkliste noter'!K83<>\"\",1,0)","v":0},0,{"$f":"IF($C43=1,'Sjekkliste noter'!A83,\"\")","v":""},{"$f":"IF($C43=1,'Sjekkliste noter'!B83,\"\")","v":""},null,{"$f":"IF($C43=1,'Sjekkliste noter'!N83,\"\")","v":""}]
[{"$f":"+'Sjekkliste noter'!A85","v":50},{"$f":"IF('Sjekkliste noter'!K85<>\"\",1,0)","v":0},0,{"$f":"IF($C44=1,'Sjekkliste noter'!A85,\"\")","v":""},{"$f":"IF($C44=1,'Sjekkliste noter'!B85,\"\")","v":""},null,{"$f":"IF($C44=1,'Sjekkliste noter'!N85,\"\")","v":""}]
[{"$f":"+'Sjekkliste noter'!A86","v":51},{"$f":"IF('Sjekkliste noter'!K86<>\"\",1,0)","v":0},0,{"$f":"IF($C45=1,'Sjekkliste noter'!A86,\"\")","v":""},{"$f":"IF($C45=1,'Sjekkliste noter'!B86,\"\")","v":""},null,{"$f":"IF($C45=1,'Sjekkliste noter'!N86,\"\")","v":""}]
[{"$f":"+'Sjekkliste noter'!A88","v":52},{"$f":"IF('Sjekkliste noter'!K88<>\"\",1,0)","v":0},0,{"$f":"IF($C46=1,'Sjekkliste noter'!A88,\"\")","v":""},{"$f":"IF($C46=1,'Sjekkliste noter'!B88,\"\")","v":""},null,{"$f":"IF($C46=1,'Sjekkliste noter'!N88,\"\")","v":""}]
[{"$f":"+'Sjekkliste noter'!A90","v":53},{"$f":"IF('Sjekkliste noter'!K90<>\"\",1,0)","v":0},0,{"$f":"IF($C47=1,'Sjekkliste noter'!A90,\"\")","v":""},{"$f":"IF($C47=1,'Sjekkliste noter'!B90,\"\")","v":""},null,{"$f":"IF($C47=1,'Sjekkliste noter'!N90,\"\")","v":""}]
[{"$f":"+'Sjekkliste noter'!A93","v":54},{"$f":"IF('Sjekkliste noter'!K93<>\"\",1,0)","v":0},0,{"$f":"IF($C48=1,'Sjekkliste noter'!A93,\"\")","v":""},{"$f":"IF($C48=1,'Sjekkliste noter'!B93,\"\")","v":""},null,{"$f":"IF($C48=1,'Sjekkliste noter'!N93,\"\")","v":""}]
[{"$f":"+'Sjekkliste noter'!A94","v":55},{"$f":"IF('Sjekkliste noter'!K94<>\"\",1,0)","v":0},0,{"$f":"IF($C49=1,'Sjekkliste noter'!A94,\"\")","v":""},{"$f":"IF($C49=1,'Sjekkliste noter'!B94,\"\")","v":""},null,{"$f":"IF($C49=1,'Sjekkliste noter'!N94,\"\")","v":""}]
[{"$f":"+'Sjekkliste noter'!A95","v":56},{"$f":"IF('Sjekkliste noter'!K95<>\"\",1,0)","v":0},0,{"$f":"IF($C50=1,'Sjekkliste noter'!A95,\"\")","v":""},{"$f":"IF($C50=1,'Sjekkliste noter'!B95,\"\")","v":""},null,{"$f":"IF($C50=1,'Sjekkliste noter'!N95,\"\")","v":""}]
[{"$f":"+'Sjekkliste noter'!A97","v":57},{"$f":"IF('Sjekkliste noter'!K97<>\"\",1,0)","v":0},0,{"$f":"IF($C51=1,'Sjekkliste noter'!A97,\"\")","v":""},{"$f":"IF($C51=1,'Sjekkliste noter'!B97,\"\")","v":""},null,{"$f":"IF($C51=1,'Sjekkliste noter'!N97,\"\")","v":""}]
[{"$f":"+'Sjekkliste noter'!A99","v":58},{"$f":"IF('Sjekkliste noter'!K99<>\"\",1,0)","v":0},0,{"$f":"IF($C52=1,'Sjekkliste noter'!A99,\"\")","v":""},{"$f":"IF($C52=1,'Sjekkliste noter'!B99,\"\")","v":""},null,{"$f":"IF($C52=1,'Sjekkliste noter'!N99,\"\")","v":""}]
[{"$f":"+'Sjekkliste noter'!A102","v":59},{"$f":"IF('Sjekkliste noter'!K102<>\"\",1,0)","v":0},0,{"$f":"IF($C53=1,'Sjekkliste noter'!A102,\"\")","v":""},{"$f":"IF($C53=1,'Sjekkliste noter'!B102,\"\")","v":""},null,{"$f":"IF($C53=1,'Sjekkliste noter'!N102,\"\")","v":""}]
[{"$f":"+'Sjekkliste noter'!A103","v":60},{"$f":"IF('Sjekkliste noter'!K103<>\"\",1,0)","v":0},0,{"$f":"IF($C54=1,'Sjekkliste noter'!A103,\"\")","v":""},{"$f":"IF($C54=1,'Sjekkliste noter'!B103,\"\")","v":""},null,{"$f":"IF($C54=1,'Sjekkliste noter'!N103,\"\")","v":""}]
[{"$f":"+'Sjekkliste noter'!A104","v":61},{"$f":"IF('Sjekkliste noter'!K104<>\"\",1,0)","v":0},0,{"$f":"IF($C55=1,'Sjekkliste noter'!A104,\"\")","v":""},{"$f":"IF($C55=1,'Sjekkliste noter'!B104,\"\")","v":""},null,{"$f":"IF($C55=1,'Sjekkliste noter'!N104,\"\")","v":""}]
[{"$f":"+'Sjekkliste noter'!A107","v":62},{"$f":"IF('Sjekkliste noter'!K107<>\"\",1,0)","v":0},0,{"$f":"IF($C56=1,'Sjekkliste noter'!A107,\"\")","v":""},{"$f":"IF($C56=1,'Sjekkliste noter'!B107,\"\")","v":""},null,{"$f":"IF($C56=1,'Sjekkliste noter'!N107,\"\")","v":""}]
[{"$f":"+'Sjekkliste noter'!A108","v":63},{"$f":"IF('Sjekkliste noter'!K108<>\"\",1,0)","v":0},0,{"$f":"IF($C57=1,'Sjekkliste noter'!A108,\"\")","v":""},{"$f":"IF($C57=1,'Sjekkliste noter'!B108,\"\")","v":""},null,{"$f":"IF($C57=1,'Sjekkliste noter'!N108,\"\")","v":""}]
[{"$f":"+'Sjekkliste noter'!A111","v":64},{"$f":"IF('Sjekkliste noter'!K111<>\"\",1,0)","v":0},0,{"$f":"IF($C58=1,'Sjekkliste noter'!A111,\"\")","v":""},{"$f":"IF($C58=1,'Sjekkliste noter'!B111,\"\")","v":""},null,{"$f":"IF($C58=1,'Sjekkliste noter'!N111,\"\")","v":""}]
[{"$f":"+'Sjekkliste noter'!A113","v":65},{"$f":"IF('Sjekkliste noter'!K113<>\"\",1,0)","v":0},0,{"$f":"IF($C59=1,'Sjekkliste noter'!A113,\"\")","v":""},{"$f":"IF($C59=1,'Sjekkliste noter'!B113,\"\")","v":""},null,{"$f":"IF($C59=1,'Sjekkliste noter'!N113,\"\")","v":""}]
[{"$f":"+'Sjekkliste noter'!A115","v":66},{"$f":"IF('Sjekkliste noter'!K115<>\"\",1,0)","v":0},0,{"$f":"IF($C60=1,'Sjekkliste noter'!A115,\"\")","v":""},{"$f":"IF($C60=1,'Sjekkliste noter'!B115,\"\")","v":""},null,{"$f":"IF($C60=1,'Sjekkliste noter'!N115,\"\")","v":""}]
[{"$f":"+'Sjekkliste noter'!A116","v":67},{"$f":"IF('Sjekkliste noter'!K116<>\"\",1,0)","v":0},0,{"$f":"IF($C61=1,'Sjekkliste noter'!A116,\"\")","v":""},{"$f":"IF($C61=1,'Sjekkliste noter'!B116,\"\")","v":""},null,{"$f":"IF($C61=1,'Sjekkliste noter'!N116,\"\")","v":""}]
[{"$f":"+'Sjekkliste noter'!A117","v":68},{"$f":"IF('Sjekkliste noter'!K117<>\"\",1,0)","v":0},0,{"$f":"IF($C62=1,'Sjekkliste noter'!A117,\"\")","v":""},{"$f":"IF($C62=1,'Sjekkliste noter'!B117,\"\")","v":""},null,{"$f":"IF($C62=1,'Sjekkliste noter'!N117,\"\")","v":""}]
[{"$f":"+'Sjekkliste noter'!A118","v":69},{"$f":"IF('Sjekkliste noter'!K118<>\"\",1,0)","v":0},0,{"$f":"IF($C63=1,'Sjekkliste noter'!A118,\"\")","v":""},{"$f":"IF($C63=1,'Sjekkliste noter'!B118,\"\")","v":""},null,{"$f":"IF($C63=1,'Sjekkliste noter'!N118,\"\")","v":""}]
[{"$f":"+'Sjekkliste noter'!A120","v":70},{"$f":"IF('Sjekkliste noter'!K120<>\"\",1,0)","v":0},0,{"$f":"IF($C64=1,'Sjekkliste noter'!A120,\"\")","v":""},{"$f":"IF($C64=1,'Sjekkliste noter'!B120,\"\")","v":""},null,{"$f":"IF($C64=1,'Sjekkliste noter'!N120,\"\")","v":""}]
[{"$f":"+'Sjekkliste noter'!A122","v":71},{"$f":"IF('Sjekkliste noter'!K122<>\"\",1,0)","v":0},0,{"$f":"IF($C65=1,'Sjekkliste noter'!A122,\"\")","v":""},{"$f":"IF($C65=1,'Sjekkliste noter'!B122,\"\")","v":""},null,{"$f":"IF($C65=1,'Sjekkliste noter'!N122,\"\")","v":""}]
[{"$f":"+'Sjekkliste noter'!A124","v":72},{"$f":"IF('Sjekkliste noter'!K124<>\"\",1,0)","v":0},0,{"$f":"IF($C66=1,'Sjekkliste noter'!A124,\"\")","v":""},{"$f":"IF($C66=1,'Sjekkliste noter'!B124,\"\")","v":""},null,{"$f":"IF($C66=1,'Sjekkliste noter'!N124,\"\")","v":""}]
[{"$f":"+'Sjekkliste noter'!#REF!","v":{"$error":"#REF!"}},{"$f":"IF('Sjekkliste noter'!#REF!<>\"\",1,0)","v":{"$error":"#REF!"}},{"$f":"SUM(B67:B67)","v":{"$error":"#REF!"}},{"$f":"IF($C67=1,'Sjekkliste noter'!#REF!,\"\")","v":{"$error":"#REF!"}},{"$f":"IF($C67=1,'Sjekkliste noter'!#REF!,\"\")","v":{"$error":"#REF!"}},null,{"$f":"IF($C67=1,'Sjekkliste noter'!#REF!,\"\")","v":{"$error":"#REF!"}}]
[{"$f":"+'Sjekkliste noter'!#REF!","v":{"$error":"#REF!"}},{"$f":"IF('Sjekkliste noter'!#REF!<>\"\",1,0)","v":{"$error":"#REF!"}},{"$error":"#REF!"},{"$f":"IF($C68=1,'Sjekkliste noter'!#REF!,\"\")","v":{"$error":"#REF!"}},{"$f":"IF($C68=1,'Sjekkliste noter'!#REF!,\"\")","v":{"$error":"#REF!"}},null,{"$f":"IF($C68=1,'Sjekkliste noter'!#REF!,\"\")","v":{"$error":"#REF!"}}]
[{"$f":"+'Sjekkliste noter'!A129","v":73},{"$f":"IF('Sjekkliste noter'!K129<>\"\",1,0)","v":0},0,{"$f":"IF($C69=1,'Sjekkliste noter'!A129,\"\")","v":""},{"$f":"IF($C69=1,'Sjekkliste noter'!B129,\"\")","v":""},null,{"$f":"IF($C69=1,'Sjekkliste noter'!N129,\"\")","v":""}]
[{"$f":"+'Sjekkliste noter'!A133","v":74},{"$f":"IF('Sjekkliste noter'!K133<>\"\",1,0)","v":0},0,{"$f":"IF($C70=1,'Sjekkliste noter'!A133,\"\")","v":""},{"$f":"IF($C70=1,'Sjekkliste noter'!B133,\"\")","v":""},null,{"$f":"IF($C70=1,'Sjekkliste noter'!N133,\"\")","v":""}]
[{"$f":"+'Sjekkliste noter'!A134","v":75},{"$f":"IF('Sjekkliste noter'!K134<>\"\",1,0)","v":0},0,{"$f":"IF($C71=1,'Sjekkliste noter'!A134,\"\")","v":""},{"$f":"IF($C71=1,'Sjekkliste noter'!B134,\"\")","v":""},null,{"$f":"IF($C71=1,'Sjekkliste noter'!N134,\"\")","v":""}]
[{"$f":"+'Sjekkliste noter'!A135","v":76},{"$f":"IF('Sjekkliste noter'!K135<>\"\",1,0)","v":0},0,{"$f":"IF($C72=1,'Sjekkliste noter'!A135,\"\")","v":""},{"$f":"IF($C72=1,'Sjekkliste noter'!B135,\"\")","v":""},null,{"$f":"IF($C72=1,'Sjekkliste noter'!N135,\"\")","v":""}]
[{"$f":"+'Sjekkliste noter'!A137","v":77},{"$f":"IF('Sjekkliste noter'!K137<>\"\",1,0)","v":0},0,{"$f":"IF($C73=1,'Sjekkliste noter'!A137,\"\")","v":""},{"$f":"IF($C73=1,'Sjekkliste noter'!B137,\"\")","v":""},null,{"$f":"IF($C73=1,'Sjekkliste noter'!N137,\"\")","v":""}]
[{"$f":"+'Sjekkliste noter'!A141","v":78},{"$f":"IF('Sjekkliste noter'!K141<>\"\",1,0)","v":0},0,{"$f":"IF($C74=1,'Sjekkliste noter'!A141,\"\")","v":""},{"$f":"IF($C74=1,'Sjekkliste noter'!B141,\"\")","v":""},null,{"$f":"IF($C74=1,'Sjekkliste noter'!N141,\"\")","v":""}]
[{"$f":"+'Sjekkliste noter'!A144","v":79},{"$f":"IF('Sjekkliste noter'!K144<>\"\",1,0)","v":0},0,{"$f":"IF($C75=1,'Sjekkliste noter'!A144,\"\")","v":""},{"$f":"IF($C75=1,'Sjekkliste noter'!B144,\"\")","v":""},null,{"$f":"IF($C75=1,'Sjekkliste noter'!N144,\"\")","v":""}]
[{"$f":"+'Sjekkliste noter'!A147","v":80},{"$f":"IF('Sjekkliste noter'!K147<>\"\",1,0)","v":0},0,{"$f":"IF($C76=1,'Sjekkliste noter'!A147,\"\")","v":""},{"$f":"IF($C76=1,'Sjekkliste noter'!B147,\"\")","v":""},null,{"$f":"IF($C76=1,'Sjekkliste noter'!N147,\"\")","v":""}]
[{"$f":"+'Sjekkliste noter'!A148","v":81},{"$f":"IF('Sjekkliste noter'!K148<>\"\",1,0)","v":0},0,{"$f":"IF($C77=1,'Sjekkliste noter'!A148,\"\")","v":""},{"$f":"IF($C77=1,'Sjekkliste noter'!B148,\"\")","v":""},null,{"$f":"IF($C77=1,'Sjekkliste noter'!N148,\"\")","v":""}]
[{"$f":"+'Sjekkliste noter'!A149","v":82},{"$f":"IF('Sjekkliste noter'!K149<>\"\",1,0)","v":0},0,{"$f":"IF($C78=1,'Sjekkliste noter'!A149,\"\")","v":""},{"$f":"IF($C78=1,'Sjekkliste noter'!B149,\"\")","v":""},null,{"$f":"IF($C78=1,'Sjekkliste noter'!N149,\"\")","v":""}]
[{"$f":"+'Sjekkliste noter'!A151","v":83},{"$f":"IF('Sjekkliste noter'!K151<>\"\",1,0)","v":0},0,{"$f":"IF($C79=1,'Sjekkliste noter'!A151,\"\")","v":""},{"$f":"IF($C79=1,'Sjekkliste noter'!B151,\"\")","v":""},null,{"$f":"IF($C79=1,'Sjekkliste noter'!N151,\"\")","v":""}]
[{"$f":"+'Sjekkliste noter'!A152","v":84},{"$f":"IF('Sjekkliste noter'!K152<>\"\",1,0)","v":0},0,{"$f":"IF($C80=1,'Sjekkliste noter'!A152,\"\")","v":""},{"$f":"IF($C80=1,'Sjekkliste noter'!B152,\"\")","v":""},null,{"$f":"IF($C80=1,'Sjekkliste noter'!N152,\"\")","v":""}]
[{"$f":"+'Sjekkliste noter'!A153","v":85},{"$f":"IF('Sjekkliste noter'!K153<>\"\",1,0)","v":0},0,{"$f":"IF($C81=1,'Sjekkliste noter'!A153,\"\")","v":""},{"$f":"IF($C81=1,'Sjekkliste noter'!B153,\"\")","v":""},null,{"$f":"IF($C81=1,'Sjekkliste noter'!N153,\"\")","v":""}]
[{"$f":"+'Sjekkliste noter'!A160","v":87},{"$f":"IF('Sjekkliste noter'!K160<>\"\",1,0)","v":0},0,{"$f":"IF($C82=1,'Sjekkliste noter'!A160,\"\")","v":""},{"$f":"IF($C82=1,'Sjekkliste noter'!B160,\"\")","v":""},null,{"$f":"IF($C82=1,'Sjekkliste noter'!N160,\"\")","v":""}]
[{"$f":"+'Sjekkliste noter'!A161","v":88},{"$f":"IF('Sjekkliste noter'!K161<>\"\",1,0)","v":0},0,{"$f":"IF($C83=1,'Sjekkliste noter'!A161,\"\")","v":""},{"$f":"IF($C83=1,'Sjekkliste noter'!B161,\"\")","v":""},null,{"$f":"IF($C83=1,'Sjekkliste noter'!N161,\"\")","v":""}]
[{"$f":"+'Sjekkliste noter'!A162","v":89},{"$f":"IF('Sjekkliste noter'!K162<>\"\",1,0)","v":0},0,{"$f":"IF($C84=1,'Sjekkliste noter'!A162,\"\")","v":""},{"$f":"IF($C84=1,'Sjekkliste noter'!B162,\"\")","v":""},null,{"$f":"IF($C84=1,'Sjekkliste noter'!N162,\"\")","v":""}]
[{"$f":"+'Sjekkliste noter'!A163","v":90},{"$f":"IF('Sjekkliste noter'!K163<>\"\",1,0)","v":0},0,{"$f":"IF($C85=1,'Sjekkliste noter'!A163,\"\")","v":""},{"$f":"IF($C85=1,'Sjekkliste noter'!B163,\"\")","v":""},null,{"$f":"IF($C85=1,'Sjekkliste noter'!N163,\"\")","v":""}]
[{"$f":"+'Sjekkliste noter'!A167","v":91},{"$f":"IF('Sjekkliste noter'!K167<>\"\",1,0)","v":0},0,{"$f":"IF($C86=1,'Sjekkliste noter'!A167,\"\")","v":""},{"$f":"IF($C86=1,'Sjekkliste noter'!B167,\"\")","v":""},null,{"$f":"IF($C86=1,'Sjekkliste noter'!N167,\"\")","v":""}]
[{"$f":"+'Sjekkliste noter'!A168","v":92},{"$f":"IF('Sjekkliste noter'!K168<>\"\",1,0)","v":0},0,{"$f":"IF($C87=1,'Sjekkliste noter'!A168,\"\")","v":""},{"$f":"IF($C87=1,'Sjekkliste noter'!B168,\"\")","v":""},null,{"$f":"IF($C87=1,'Sjekkliste noter'!N168,\"\")","v":""}]
[{"$f":"+'Sjekkliste noter'!A169","v":93},{"$f":"IF('Sjekkliste noter'!K169<>\"\",1,0)","v":0},0,{"$f":"IF($C88=1,'Sjekkliste noter'!A169,\"\")","v":""},{"$f":"IF($C88=1,'Sjekkliste noter'!B169,\"\")","v":""},null,{"$f":"IF($C88=1,'Sjekkliste noter'!N169,\"\")","v":""}]
[{"$f":"+'Sjekkliste noter'!A170","v":94},{"$f":"IF('Sjekkliste noter'!K170<>\"\",1,0)","v":0},0,{"$f":"IF($C89=1,'Sjekkliste noter'!A170,\"\")","v":""},{"$f":"IF($C89=1,'Sjekkliste noter'!B170,\"\")","v":""},null,{"$f":"IF($C89=1,'Sjekkliste noter'!N170,\"\")","v":""}]
[{"$f":"+'Sjekkliste noter'!A171","v":95},{"$f":"IF('Sjekkliste noter'!K171<>\"\",1,0)","v":0},0,{"$f":"IF($C90=1,'Sjekkliste noter'!A171,\"\")","v":""},{"$f":"IF($C90=1,'Sjekkliste noter'!B171,\"\")","v":""},null,{"$f":"IF($C90=1,'Sjekkliste noter'!N171,\"\")","v":""}]
[{"$f":"+'Sjekkliste noter'!A173","v":96},{"$f":"IF('Sjekkliste noter'!K173<>\"\",1,0)","v":0},0,{"$f":"IF($C91=1,'Sjekkliste noter'!A173,\"\")","v":""},{"$f":"IF($C91=1,'Sjekkliste noter'!B173,\"\")","v":""},null,{"$f":"IF($C91=1,'Sjekkliste noter'!N173,\"\")","v":""}]
[{"$f":"+'Sjekkliste noter'!A174","v":97},{"$f":"IF('Sjekkliste noter'!K174<>\"\",1,0)","v":0},0,{"$f":"IF($C92=1,'Sjekkliste noter'!A174,\"\")","v":""},{"$f":"IF($C92=1,'Sjekkliste noter'!B174,\"\")","v":""},null,{"$f":"IF($C92=1,'Sjekkliste noter'!N174,\"\")","v":""}]
[{"$f":"+'Sjekkliste noter'!A175","v":98},{"$f":"IF('Sjekkliste noter'!K175<>\"\",1,0)","v":0},0,{"$f":"IF($C93=1,'Sjekkliste noter'!A175,\"\")","v":""},{"$f":"IF($C93=1,'Sjekkliste noter'!B175,\"\")","v":""},null,{"$f":"IF($C93=1,'Sjekkliste noter'!N175,\"\")","v":""}]
[{"$f":"+'Sjekkliste noter'!A177","v":99},{"$f":"IF('Sjekkliste noter'!K177<>\"\",1,0)","v":0},0,{"$f":"IF($C94=1,'Sjekkliste noter'!A177,\"\")","v":""},{"$f":"IF($C94=1,'Sjekkliste noter'!B177,\"\")","v":""},null,{"$f":"IF($C94=1,'Sjekkliste noter'!N177,\"\")","v":""}]
[{"$f":"+'Sjekkliste noter'!A178","v":100},{"$f":"IF('Sjekkliste noter'!K178<>\"\",1,0)","v":0},0,{"$f":"IF($C95=1,'Sjekkliste noter'!A178,\"\")","v":""},{"$f":"IF($C95=1,'Sjekkliste noter'!B178,\"\")","v":""},null,{"$f":"IF($C95=1,'Sjekkliste noter'!N178,\"\")","v":""}]
[{"$f":"+'Sjekkliste noter'!A179","v":101},{"$f":"IF('Sjekkliste noter'!K179<>\"\",1,0)","v":0},0,{"$f":"IF($C96=1,'Sjekkliste noter'!A179,\"\")","v":""},{"$f":"IF($C96=1,'Sjekkliste noter'!B179,\"\")","v":""},null,{"$f":"IF($C96=1,'Sjekkliste noter'!N179,\"\")","v":""}]
[{"$f":"+'Sjekkliste noter'!A180","v":102},{"$f":"IF('Sjekkliste noter'!K180<>\"\",1,0)","v":0},0,{"$f":"IF($C97=1,'Sjekkliste noter'!A180,\"\")","v":""},{"$f":"IF($C97=1,'Sjekkliste noter'!B180,\"\")","v":""},null,{"$f":"IF($C97=1,'Sjekkliste noter'!N180,\"\")","v":""}]
[{"$f":"+'Sjekkliste noter'!A181","v":103},{"$f":"IF('Sjekkliste noter'!K181<>\"\",1,0)","v":0},0,{"$f":"IF($C98=1,'Sjekkliste noter'!A181,\"\")","v":""},{"$f":"IF($C98=1,'Sjekkliste noter'!B181,\"\")","v":""},null,{"$f":"IF($C98=1,'Sjekkliste noter'!N181,\"\")","v":""}]
[{"$f":"+'Sjekkliste noter'!A184","v":104},{"$f":"IF('Sjekkliste noter'!K184<>\"\",1,0)","v":0},{"$f":"SUM(B99:B99)","v":0},{"$f":"IF($C99=1,'Sjekkliste noter'!A184,\"\")","v":""},{"$f":"IF($C99=1,'Sjekkliste noter'!B184,\"\")","v":""},null,{"$f":"IF($C99=1,'Sjekkliste noter'!N184,\"\")","v":""}]
[{"$f":"+'Sjekkliste noter'!A189","v":107},{"$f":"IF('Sjekkliste noter'!K189<>\"\",1,0)","v":0},0,{"$f":"IF($C100=1,'Sjekkliste noter'!A189,\"\")","v":""},{"$f":"IF($C100=1,'Sjekkliste noter'!B189,\"\")","v":""},null,{"$f":"IF($C100=1,'Sjekkliste noter'!N189,\"\")","v":""}]
[{"$f":"+'Sjekkliste noter'!A190","v":108},{"$f":"IF('Sjekkliste noter'!K190<>\"\",1,0)","v":0},0,{"$f":"IF($C101=1,'Sjekkliste noter'!A190,\"\")","v":""},{"$f":"IF($C101=1,'Sjekkliste noter'!B190,\"\")","v":""},null,{"$f":"IF($C101=1,'Sjekkliste noter'!N190,\"\")","v":""}]
[{"$f":"+'Sjekkliste noter'!A204","v":119},{"$f":"IF('Sjekkliste noter'!K204<>\"\",1,0)","v":0},0,{"$f":"IF($C102=1,'Sjekkliste noter'!A204,\"\")","v":""},{"$f":"IF($C102=1,'Sjekkliste noter'!B204,\"\")","v":""},null,{"$f":"IF($C102=1,'Sjekkliste noter'!N204,\"\")","v":""}]
[{"$f":"+'Sjekkliste noter'!A206","v":120},{"$f":"IF('Sjekkliste noter'!K206<>\"\",1,0)","v":0},0,{"$f":"IF($C103=1,'Sjekkliste noter'!A206,\"\")","v":""},{"$f":"IF($C103=1,'Sjekkliste noter'!B206,\"\")","v":""},null,{"$f":"IF($C103=1,'Sjekkliste noter'!N206,\"\")","v":""}]
[{"$f":"+'Sjekkliste noter'!A209","v":121},{"$f":"IF('Sjekkliste noter'!K209<>\"\",1,0)","v":0},0,{"$f":"IF($C104=1,'Sjekkliste noter'!A209,\"\")","v":""},{"$f":"IF($C104=1,'Sjekkliste noter'!B209,\"\")","v":""},null,{"$f":"IF($C104=1,'Sjekkliste noter'!N209,\"\")","v":""}]
[{"$f":"+'Sjekkliste noter'!A211","v":122},{"$f":"IF('Sjekkliste noter'!K211<>\"\",1,0)","v":0},0,{"$f":"IF($C105=1,'Sjekkliste noter'!A211,\"\")","v":""},{"$f":"IF($C105=1,'Sjekkliste noter'!B211,\"\")","v":""},null,{"$f":"IF($C105=1,'Sjekkliste noter'!N211,\"\")","v":""}]
[{"$f":"+'Sjekkliste noter'!A222","v":125},{"$f":"IF('Sjekkliste noter'!K222<>\"\",1,0)","v":0},0,{"$f":"IF($C106=1,'Sjekkliste noter'!A222,\"\")","v":""},{"$f":"IF($C106=1,'Sjekkliste noter'!B222,\"\")","v":""},null,{"$f":"IF($C106=1,'Sjekkliste noter'!N222,\"\")","v":""}]
[{"$f":"+'Sjekkliste noter'!A233","v":130},{"$f":"IF('Sjekkliste noter'!K233<>\"\",1,0)","v":0},0,{"$f":"IF($C107=1,'Sjekkliste noter'!A233,\"\")","v":""},{"$f":"IF($C107=1,'Sjekkliste noter'!B233,\"\")","v":""},null,{"$f":"IF($C107=1,'Sjekkliste noter'!N233,\"\")","v":""}]
[{"$f":"+'Sjekkliste noter'!A236","v":131},{"$f":"IF('Sjekkliste noter'!K236<>\"\",1,0)","v":0},0,{"$f":"IF($C108=1,'Sjekkliste noter'!A236,\"\")","v":""},{"$f":"IF($C108=1,'Sjekkliste noter'!B236,\"\")","v":""},null,{"$f":"IF($C108=1,'Sjekkliste noter'!N236,\"\")","v":""}]
[{"$f":"+'Sjekkliste noter'!A239","v":132},{"$f":"IF('Sjekkliste noter'!K239<>\"\",1,0)","v":0},0,{"$f":"IF($C109=1,'Sjekkliste noter'!A239,\"\")","v":""},{"$f":"IF($C109=1,'Sjekkliste noter'!B239,\"\")","v":""},null,{"$f":"IF($C109=1,'Sjekkliste noter'!N239,\"\")","v":""}]
[{"$f":"+'Sjekkliste noter'!A242","v":133},{"$f":"IF('Sjekkliste noter'!K242<>\"\",1,0)","v":0},0,{"$f":"IF($C110=1,'Sjekkliste noter'!A242,\"\")","v":""},{"$f":"IF($C110=1,'Sjekkliste noter'!B242,\"\")","v":""},null,{"$f":"IF($C110=1,'Sjekkliste noter'!N242,\"\")","v":""}]
[{"$f":"+'Sjekkliste noter'!A244","v":134},{"$f":"IF('Sjekkliste noter'!K244<>\"\",1,0)","v":0},0,{"$f":"IF($C111=1,'Sjekkliste noter'!A244,\"\")","v":""},{"$f":"IF($C111=1,'Sjekkliste noter'!B244,\"\")","v":""},null,{"$f":"IF($C111=1,'Sjekkliste noter'!N244,\"\")","v":""}]
[{"$f":"+'Sjekkliste noter'!A246","v":135},{"$f":"IF('Sjekkliste noter'!K246<>\"\",1,0)","v":0},0,{"$f":"IF($C112=1,'Sjekkliste noter'!A246,\"\")","v":""},{"$f":"IF($C112=1,'Sjekkliste noter'!B246,\"\")","v":""},null,{"$f":"IF($C112=1,'Sjekkliste noter'!N246,\"\")","v":""}]
[{"$f":"+'Sjekkliste noter'!A248","v":136},{"$f":"IF('Sjekkliste noter'!K248<>\"\",1,0)","v":0},0,{"$f":"IF($C113=1,'Sjekkliste noter'!A248,\"\")","v":""},{"$f":"IF($C113=1,'Sjekkliste noter'!B248,\"\")","v":""},null,{"$f":"IF($C113=1,'Sjekkliste noter'!N248,\"\")","v":""}]
[{"$f":"+'Sjekkliste noter'!A252","v":137},{"$f":"IF('Sjekkliste noter'!K252<>\"\",1,0)","v":0},0,{"$f":"IF($C114=1,'Sjekkliste noter'!A252,\"\")","v":""},{"$f":"IF($C114=1,'Sjekkliste noter'!B252,\"\")","v":""},null,{"$f":"IF($C114=1,'Sjekkliste noter'!N252,\"\")","v":""}]
[{"$f":"+'Sjekkliste noter'!A254","v":138},{"$f":"IF('Sjekkliste noter'!K254<>\"\",1,0)","v":0},0,{"$f":"IF($C115=1,'Sjekkliste noter'!A254,\"\")","v":""},{"$f":"IF($C115=1,'Sjekkliste noter'!B254,\"\")","v":""},null,{"$f":"IF($C115=1,'Sjekkliste noter'!N254,\"\")","v":""}]
[{"$f":"+'Sjekkliste noter'!A256","v":139},{"$f":"IF('Sjekkliste noter'!K256<>\"\",1,0)","v":0},0,{"$f":"IF($C116=1,'Sjekkliste noter'!A256,\"\")","v":""},{"$f":"IF($C116=1,'Sjekkliste noter'!B256,\"\")","v":""},null,{"$f":"IF($C116=1,'Sjekkliste noter'!N256,\"\")","v":""}]
[{"$f":"+'Sjekkliste noter'!A259","v":140},{"$f":"IF('Sjekkliste noter'!K259<>\"\",1,0)","v":0},0,{"$f":"IF($C117=1,'Sjekkliste noter'!A259,\"\")","v":""},{"$f":"IF($C117=1,'Sjekkliste noter'!B259,\"\")","v":""},null,{"$f":"IF($C117=1,'Sjekkliste noter'!N259,\"\")","v":""}]
[{"$f":"+'Sjekkliste noter'!A262","v":141},{"$f":"IF('Sjekkliste noter'!K262<>\"\",1,0)","v":0},0,{"$f":"IF($C118=1,'Sjekkliste noter'!A262,\"\")","v":""},{"$f":"IF($C118=1,'Sjekkliste noter'!B262,\"\")","v":""},null,{"$f":"IF($C118=1,'Sjekkliste noter'!N262,\"\")","v":""}]
[{"$f":"+'Sjekkliste noter'!A266","v":142},{"$f":"IF('Sjekkliste noter'!K266<>\"\",1,0)","v":0},0,{"$f":"IF($C119=1,'Sjekkliste noter'!A266,\"\")","v":""},{"$f":"IF($C119=1,'Sjekkliste noter'!B266,\"\")","v":""},null,{"$f":"IF($C119=1,'Sjekkliste noter'!N266,\"\")","v":""}]
[{"$f":"+'Sjekkliste noter'!A267","v":143},{"$f":"IF('Sjekkliste noter'!K267<>\"\",1,0)","v":0},0,{"$f":"IF($C120=1,'Sjekkliste noter'!A267,\"\")","v":""},{"$f":"IF($C120=1,'Sjekkliste noter'!B267,\"\")","v":""},null,{"$f":"IF($C120=1,'Sjekkliste noter'!N267,\"\")","v":""}]
[{"$f":"+'Sjekkliste noter'!A268","v":144},{"$f":"IF('Sjekkliste noter'!K268<>\"\",1,0)","v":0},0,{"$f":"IF($C121=1,'Sjekkliste noter'!A268,\"\")","v":""},{"$f":"IF($C121=1,'Sjekkliste noter'!B268,\"\")","v":""},null,{"$f":"IF($C121=1,'Sjekkliste noter'!N268,\"\")","v":""}]
[{"$f":"+'Sjekkliste noter'!A270","v":145},{"$f":"IF('Sjekkliste noter'!K270<>\"\",1,0)","v":0},0,{"$f":"IF($C122=1,'Sjekkliste noter'!A270,\"\")","v":""},{"$f":"IF($C122=1,'Sjekkliste noter'!B270,\"\")","v":""},null,{"$f":"IF($C122=1,'Sjekkliste noter'!N270,\"\")","v":""}]
[{"$f":"+'Sjekkliste noter'!A271","v":146},{"$f":"IF('Sjekkliste noter'!K271<>\"\",1,0)","v":0},0,{"$f":"IF($C123=1,'Sjekkliste noter'!A271,\"\")","v":""},{"$f":"IF($C123=1,'Sjekkliste noter'!B271,\"\")","v":""},null,{"$f":"IF($C123=1,'Sjekkliste noter'!N271,\"\")","v":""}]
[{"$f":"+'Sjekkliste noter'!A273","v":147},{"$f":"IF('Sjekkliste noter'!K273<>\"\",1,0)","v":0},0,{"$f":"IF($C124=1,'Sjekkliste noter'!A273,\"\")","v":""},{"$f":"IF($C124=1,'Sjekkliste noter'!B273,\"\")","v":""},null,{"$f":"IF($C124=1,'Sjekkliste noter'!N273,\"\")","v":""}]
[{"$f":"+'Sjekkliste noter'!A274","v":148},{"$f":"IF('Sjekkliste noter'!K274<>\"\",1,0)","v":0},0,{"$f":"IF($C125=1,'Sjekkliste noter'!A274,\"\")","v":""},{"$f":"IF($C125=1,'Sjekkliste noter'!B274,\"\")","v":""},null,{"$f":"IF($C125=1,'Sjekkliste noter'!N274,\"\")","v":""}]
[{"$f":"+'Sjekkliste noter'!A275","v":149},{"$f":"IF('Sjekkliste noter'!K275<>\"\",1,0)","v":0},0,{"$f":"IF($C126=1,'Sjekkliste noter'!A275,\"\")","v":""},{"$f":"IF($C126=1,'Sjekkliste noter'!B275,\"\")","v":""},null,{"$f":"IF($C126=1,'Sjekkliste noter'!N275,\"\")","v":""}]
[{"$f":"+'Sjekkliste noter'!A279","v":150},{"$f":"IF('Sjekkliste noter'!K279<>\"\",1,0)","v":0},0,{"$f":"IF($C127=1,'Sjekkliste noter'!A279,\"\")","v":""},{"$f":"IF($C127=1,'Sjekkliste noter'!B279,\"\")","v":""},null,{"$f":"IF($C127=1,'Sjekkliste noter'!N279,\"\")","v":""}]
[{"$f":"+'Sjekkliste noter'!A283","v":151},{"$f":"IF('Sjekkliste noter'!K283<>\"\",1,0)","v":0},0,{"$f":"IF($C128=1,'Sjekkliste noter'!A283,\"\")","v":""},{"$f":"IF($C128=1,'Sjekkliste noter'!B283,\"\")","v":""},null,{"$f":"IF($C128=1,'Sjekkliste noter'!N283,\"\")","v":""}]
[{"$f":"+'Sjekkliste noter'!A285","v":152},{"$f":"IF('Sjekkliste noter'!K285<>\"\",1,0)","v":0},0,{"$f":"IF($C129=1,'Sjekkliste noter'!A285,\"\")","v":""},{"$f":"IF($C129=1,'Sjekkliste noter'!B285,\"\")","v":""},null,{"$f":"IF($C129=1,'Sjekkliste noter'!N285,\"\")","v":""}]
[{"$f":"+'Sjekkliste noter'!A287","v":153},{"$f":"IF('Sjekkliste noter'!K287<>\"\",1,0)","v":0},0,{"$f":"IF($C130=1,'Sjekkliste noter'!A287,\"\")","v":""},{"$f":"IF($C130=1,'Sjekkliste noter'!B287,\"\")","v":""},null,{"$f":"IF($C130=1,'Sjekkliste noter'!N287,\"\")","v":""}]
[{"$f":"+'Sjekkliste noter'!A290","v":154},{"$f":"IF('Sjekkliste noter'!K290<>\"\",1,0)","v":0},{"$f":"SUM(B131:B131)","v":0},{"$f":"IF($C131=1,'Sjekkliste noter'!A290,\"\")","v":""},{"$f":"IF($C131=1,'Sjekkliste noter'!B290,\"\")","v":""},null,{"$f":"IF($C131=1,'Sjekkliste noter'!N290,\"\")","v":""}]
[{"$f":"+'Sjekkliste noter'!A291","v":155},{"$f":"IF('Sjekkliste noter'!K291<>\"\",1,0)","v":0},0,{"$f":"IF($C132=1,'Sjekkliste noter'!A291,\"\")","v":""},{"$f":"IF($C132=1,'Sjekkliste noter'!B291,\"\")","v":""},null,{"$f":"IF($C132=1,'Sjekkliste noter'!N291,\"\")","v":""}]
[{"$f":"+'Sjekkliste noter'!A292","v":156},{"$f":"IF('Sjekkliste noter'!K292<>\"\",1,0)","v":0},0,{"$f":"IF($C133=1,'Sjekkliste noter'!A292,\"\")","v":""},{"$f":"IF($C133=1,'Sjekkliste noter'!B292,\"\")","v":""},null,{"$f":"IF($C133=1,'Sjekkliste noter'!N292,\"\")","v":""}]
[{"$f":"+'Sjekkliste noter'!A293","v":157},{"$f":"IF('Sjekkliste noter'!K293<>\"\",1,0)","v":0},0,{"$f":"IF($C134=1,'Sjekkliste noter'!A293,\"\")","v":""},{"$f":"IF($C134=1,'Sjekkliste noter'!B293,\"\")","v":""},null,{"$f":"IF($C134=1,'Sjekkliste noter'!N293,\"\")","v":""}]
[{"$f":"+'Sjekkliste noter'!#REF!","v":{"$error":"#REF!"}},{"$f":"IF('Sjekkliste noter'!#REF!<>\"\",1,0)","v":{"$error":"#REF!"}},{"$error":"#REF!"},{"$f":"IF($C135=1,'Sjekkliste noter'!#REF!,\"\")","v":{"$error":"#REF!"}},{"$f":"IF($C135=1,'Sjekkliste noter'!#REF!,\"\")","v":{"$error":"#REF!"}},null,{"$f":"IF($C135=1,'Sjekkliste noter'!#REF!,\"\")","v":{"$error":"#REF!"}}]
[{"$f":"+'Sjekkliste noter'!#REF!","v":{"$error":"#REF!"}},{"$f":"IF('Sjekkliste noter'!#REF!<>\"\",1,0)","v":{"$error":"#REF!"}},{"$error":"#REF!"},{"$f":"IF($C136=1,'Sjekkliste noter'!#REF!,\"\")","v":{"$error":"#REF!"}},{"$f":"IF($C136=1,'Sjekkliste noter'!#REF!,\"\")","v":{"$error":"#REF!"}},null,{"$f":"IF($C136=1,'Sjekkliste noter'!#REF!,\"\")","v":{"$error":"#REF!"}}]
[{"$f":"+'Sjekkliste noter'!#REF!","v":{"$error":"#REF!"}},{"$f":"IF('Sjekkliste noter'!#REF!<>\"\",1,0)","v":{"$error":"#REF!"}},{"$error":"#REF!"},{"$f":"IF($C137=1,'Sjekkliste noter'!#REF!,\"\")","v":{"$error":"#REF!"}},{"$f":"IF($C137=1,'Sjekkliste noter'!#REF!,\"\")","v":{"$error":"#REF!"}},null,{"$f":"IF($C137=1,'Sjekkliste noter'!#REF!,\"\")","v":{"$error":"#REF!"}}]
[{"$f":"+'Sjekkliste noter'!#REF!","v":{"$error":"#REF!"}},{"$f":"IF('Sjekkliste noter'!#REF!<>\"\",1,0)","v":{"$error":"#REF!"}},{"$error":"#REF!"},{"$f":"IF($C138=1,'Sjekkliste noter'!#REF!,\"\")","v":{"$error":"#REF!"}},{"$f":"IF($C138=1,'Sjekkliste noter'!#REF!,\"\")","v":{"$error":"#REF!"}},null,{"$f":"IF($C138=1,'Sjekkliste noter'!#REF!,\"\")","v":{"$error":"#REF!"}}]
[{"$f":"+'Sjekkliste noter'!#REF!","v":{"$error":"#REF!"}},{"$f":"IF('Sjekkliste noter'!#REF!<>\"\",1,0)","v":{"$error":"#REF!"}},{"$error":"#REF!"},{"$f":"IF($C139=1,'Sjekkliste noter'!#REF!,\"\")","v":{"$error":"#REF!"}},{"$f":"IF($C139=1,'Sjekkliste noter'!#REF!,\"\")","v":{"$error":"#REF!"}},null,{"$f":"IF($C139=1,'Sjekkliste noter'!#REF!,\"\")","v":{"$error":"#REF!"}}]
[{"$f":"+'Sjekkliste noter'!#REF!","v":{"$error":"#REF!"}},{"$f":"IF('Sjekkliste noter'!#REF!<>\"\",1,0)","v":{"$error":"#REF!"}},{"$error":"#REF!"},{"$f":"IF($C140=1,'Sjekkliste noter'!#REF!,\"\")","v":{"$error":"#REF!"}},{"$f":"IF($C140=1,'Sjekkliste noter'!#REF!,\"\")","v":{"$error":"#REF!"}},null,{"$f":"IF($C140=1,'Sjekkliste noter'!#REF!,\"\")","v":{"$error":"#REF!"}}]
[{"$f":"+'Sjekkliste noter'!#REF!","v":{"$error":"#REF!"}},{"$f":"IF('Sjekkliste noter'!#REF!<>\"\",1,0)","v":{"$error":"#REF!"}},{"$error":"#REF!"},{"$f":"IF($C141=1,'Sjekkliste noter'!#REF!,\"\")","v":{"$error":"#REF!"}},{"$f":"IF($C141=1,'Sjekkliste noter'!#REF!,\"\")","v":{"$error":"#REF!"}},null,{"$f":"IF($C141=1,'Sjekkliste noter'!#REF!,\"\")","v":{"$error":"#REF!"}}]
[{"$f":"+'Sjekkliste noter'!#REF!","v":{"$error":"#REF!"}},{"$f":"IF('Sjekkliste noter'!#REF!<>\"\",1,0)","v":{"$error":"#REF!"}},{"$error":"#REF!"},{"$f":"IF($C142=1,'Sjekkliste noter'!#REF!,\"\")","v":{"$error":"#REF!"}},{"$f":"IF($C142=1,'Sjekkliste noter'!#REF!,\"\")","v":{"$error":"#REF!"}},null,{"$f":"IF($C142=1,'Sjekkliste noter'!#REF!,\"\")","v":{"$error":"#REF!"}}]
[{"$f":"+'Sjekkliste noter'!#REF!","v":{"$error":"#REF!"}},{"$f":"IF('Sjekkliste noter'!#REF!<>\"\",1,0)","v":{"$error":"#REF!"}},{"$error":"#REF!"},{"$f":"IF($C143=1,'Sjekkliste noter'!#REF!,\"\")","v":{"$error":"#REF!"}},{"$f":"IF($C143=1,'Sjekkliste noter'!#REF!,\"\")","v":{"$error":"#REF!"}},null,{"$f":"IF($C143=1,'Sjekkliste noter'!#REF!,\"\")","v":{"$error":"#REF!"}}]
[{"$f":"+'Sjekkliste noter'!#REF!","v":{"$error":"#REF!"}},{"$f":"IF('Sjekkliste noter'!#REF!<>\"\",1,0)","v":{"$error":"#REF!"}},{"$error":"#REF!"},{"$f":"IF($C144=1,'Sjekkliste noter'!#REF!,\"\")","v":{"$error":"#REF!"}},{"$f":"IF($C144=1,'Sjekkliste noter'!#REF!,\"\")","v":{"$error":"#REF!"}},null,{"$f":"IF($C144=1,'Sjekkliste noter'!#REF!,\"\")","v":{"$error":"#REF!"}}]
[{"$f":"+'Sjekkliste noter'!#REF!","v":{"$error":"#REF!"}},{"$f":"IF('Sjekkliste noter'!#REF!<>\"\",1,0)","v":{"$error":"#REF!"}},{"$error":"#REF!"},{"$f":"IF($C145=1,'Sjekkliste noter'!#REF!,\"\")","v":{"$error":"#REF!"}},{"$f":"IF($C145=1,'Sjekkliste noter'!#REF!,\"\")","v":{"$error":"#REF!"}},null,{"$f":"IF($C145=1,'Sjekkliste noter'!#REF!,\"\")","v":{"$error":"#REF!"}}]
[{"$f":"+'Sjekkliste noter'!#REF!","v":{"$error":"#REF!"}},{"$f":"IF('Sjekkliste noter'!#REF!<>\"\",1,0)","v":{"$error":"#REF!"}},{"$error":"#REF!"},{"$f":"IF($C146=1,'Sjekkliste noter'!#REF!,\"\")","v":{"$error":"#REF!"}},{"$f":"IF($C146=1,'Sjekkliste noter'!#REF!,\"\")","v":{"$error":"#REF!"}},null,{"$f":"IF($C146=1,'Sjekkliste noter'!#REF!,\"\")","v":{"$error":"#REF!"}}]
[{"$f":"+'Sjekkliste noter'!#REF!","v":{"$error":"#REF!"}},{"$f":"IF('Sjekkliste noter'!#REF!<>\"\",1,0)","v":{"$error":"#REF!"}},{"$error":"#REF!"},{"$f":"IF($C147=1,'Sjekkliste noter'!#REF!,\"\")","v":{"$error":"#REF!"}},{"$f":"IF($C147=1,'Sjekkliste noter'!#REF!,\"\")","v":{"$error":"#REF!"}},null,{"$f":"IF($C147=1,'Sjekkliste noter'!#REF!,\"\")","v":{"$error":"#REF!"}}]
[{"$f":"+'Sjekkliste noter'!#REF!","v":{"$error":"#REF!"}},{"$f":"IF('Sjekkliste noter'!#REF!<>\"\",1,0)","v":{"$error":"#REF!"}},{"$error":"#REF!"},{"$f":"IF($C148=1,'Sjekkliste noter'!#REF!,\"\")","v":{"$error":"#REF!"}},{"$f":"IF($C148=1,'Sjekkliste noter'!#REF!,\"\")","v":{"$error":"#REF!"}},null,{"$f":"IF($C148=1,'Sjekkliste noter'!#REF!,\"\")","v":{"$error":"#REF!"}}]
[{"$f":"+'Sjekkliste noter'!#REF!","v":{"$error":"#REF!"}},{"$f":"IF('Sjekkliste noter'!#REF!<>\"\",1,0)","v":{"$error":"#REF!"}},{"$error":"#REF!"},{"$f":"IF($C149=1,'Sjekkliste noter'!#REF!,\"\")","v":{"$error":"#REF!"}},{"$f":"IF($C149=1,'Sjekkliste noter'!#REF!,\"\")","v":{"$error":"#REF!"}},null,{"$f":"IF($C149=1,'Sjekkliste noter'!#REF!,\"\")","v":{"$error":"#REF!"}}]
[{"$f":"+'Sjekkliste noter'!#REF!","v":{"$error":"#REF!"}},{"$f":"IF('Sjekkliste noter'!#REF!<>\"\",1,0)","v":{"$error":"#REF!"}},{"$error":"#REF!"},{"$f":"IF($C150=1,'Sjekkliste noter'!#REF!,\"\")","v":{"$error":"#REF!"}},{"$f":"IF($C150=1,'Sjekkliste noter'!#REF!,\"\")","v":{"$error":"#REF!"}},null,{"$f":"IF($C150=1,'Sjekkliste noter'!#REF!,\"\")","v":{"$error":"#REF!"}}]
[{"$f":"+'Sjekkliste noter'!#REF!","v":{"$error":"#REF!"}},{"$f":"IF('Sjekkliste noter'!#REF!<>\"\",1,0)","v":{"$error":"#REF!"}},{"$error":"#REF!"},{"$f":"IF($C151=1,'Sjekkliste noter'!#REF!,\"\")","v":{"$error":"#REF!"}},{"$f":"IF($C151=1,'Sjekkliste noter'!#REF!,\"\")","v":{"$error":"#REF!"}},null,{"$f":"IF($C151=1,'Sjekkliste noter'!#REF!,\"\")","v":{"$error":"#REF!"}}]
[{"$f":"+'Sjekkliste noter'!#REF!","v":{"$error":"#REF!"}},{"$f":"IF('Sjekkliste noter'!#REF!<>\"\",1,0)","v":{"$error":"#REF!"}},{"$error":"#REF!"},{"$f":"IF($C152=1,'Sjekkliste noter'!#REF!,\"\")","v":{"$error":"#REF!"}},{"$f":"IF($C152=1,'Sjekkliste noter'!#REF!,\"\")","v":{"$error":"#REF!"}},null,{"$f":"IF($C152=1,'Sjekkliste noter'!#REF!,\"\")","v":{"$error":"#REF!"}}]

{"sheet":"N_IA","index":5,"n_rows":157,"n_cols":7,"rows_kept":157,"cut":false,"hidden":true,"merged":[]}
[null,null,{"$f":"COUNTIF(C2:C196,\"=1\")","v":0},"IA-svar",{"$f":"+Forside!B2","v":0},{"$f":"+Forside!B3","v":2020},"Kommentarer"]
[{"$f":"+'Sjekkliste noter'!A16","v":1},{"$f":"IF('Sjekkliste noter'!M16<>\"\",1,0)","v":0},{"$f":"SUM(B2:B2)","v":0},{"$f":"IF($C2=1,'Sjekkliste noter'!A16,\"\")","v":""},{"$f":"IF($C2=1,'Sjekkliste noter'!B16,\"\")","v":""},null,{"$f":"IF($C2=1,'Sjekkliste noter'!N16,\"\")","v":""}]
[{"$f":"+'Sjekkliste noter'!A17","v":2},{"$f":"IF('Sjekkliste noter'!M17<>\"\",1,0)","v":0},0,{"$f":"IF($C3=1,'Sjekkliste noter'!A17,\"\")","v":""},{"$f":"IF($C3=1,'Sjekkliste noter'!B17,\"\")","v":""},null,{"$f":"IF($C3=1,'Sjekkliste noter'!N17,\"\")","v":""}]
[{"$f":"+'Sjekkliste noter'!A18","v":3},{"$f":"IF('Sjekkliste noter'!M18<>\"\",1,0)","v":0},0,{"$f":"IF($C4=1,'Sjekkliste noter'!A18,\"\")","v":""},{"$f":"IF($C4=1,'Sjekkliste noter'!B18,\"\")","v":""},null,{"$f":"IF($C4=1,'Sjekkliste noter'!N18,\"\")","v":""}]
[{"$f":"+'Sjekkliste noter'!A20","v":4},{"$f":"IF('Sjekkliste noter'!M20<>\"\",1,0)","v":0},0,{"$f":"IF($C5=1,'Sjekkliste noter'!A20,\"\")","v":""},{"$f":"IF($C5=1,'Sjekkliste noter'!B20,\"\")","v":""},null,{"$f":"IF($C5=1,'Sjekkliste noter'!N20,\"\")","v":""}]
[{"$f":"+'Sjekkliste noter'!A21","v":5},{"$f":"IF('Sjekkliste noter'!M21<>\"\",1,0)","v":0},0,{"$f":"IF($C6=1,'Sjekkliste noter'!A21,\"\")","v":""},{"$f":"IF($C6=1,'Sjekkliste noter'!B21,\"\")","v":""},null,{"$f":"IF($C6=1,'Sjekkliste noter'!N21,\"\")","v":""}]
[{"$f":"+'Sjekkliste noter'!A22","v":6},{"$f":"IF('Sjekkliste noter'!M22<>\"\",1,0)","v":0},0,{"$f":"IF($C7=1,'Sjekkliste noter'!A22,\"\")","v":""},{"$f":"IF($C7=1,'Sjekkliste noter'!B22,\"\")","v":""},null,{"$f":"IF($C7=1,'Sjekkliste noter'!N22,\"\")","v":""}]
[{"$f":"+'Sjekkliste noter'!A23","v":7},{"$f":"IF('Sjekkliste noter'!M23<>\"\",1,0)","v":0},0,{"$f":"IF($C8=1,'Sjekkliste noter'!A23,\"\")","v":""},{"$f":"IF($C8=1,'Sjekkliste noter'!B23,\"\")","v":""},null,{"$f":"IF($C8=1,'Sjekkliste noter'!N23,\"\")","v":""}]
[{"$f":"+'Sjekkliste noter'!A24","v":8},{"$f":"IF('Sjekkliste noter'!M24<>\"\",1,0)","v":0},0,{"$f":"IF($C9=1,'Sjekkliste noter'!A24,\"\")","v":""},{"$f":"IF($C9=1,'Sjekkliste noter'!B24,\"\")","v":""},null,{"$f":"IF($C9=1,'Sjekkliste noter'!N24,\"\")","v":""}]
[{"$f":"+'Sjekkliste noter'!A25","v":9},{"$f":"IF('Sjekkliste noter'!M25<>\"\",1,0)","v":0},0,{"$f":"IF($C10=1,'Sjekkliste noter'!A25,\"\")","v":""},{"$f":"IF($C10=1,'Sjekkliste noter'!B25,\"\")","v":""},null,{"$f":"IF($C10=1,'Sjekkliste noter'!N25,\"\")","v":""}]
[{"$f":"+'Sjekkliste noter'!A26","v":10},{"$f":"IF('Sjekkliste noter'!M26<>\"\",1,0)","v":0},0,{"$f":"IF($C11=1,'Sjekkliste noter'!A26,\"\")","v":""},{"$f":"IF($C11=1,'Sjekkliste noter'!B26,\"\")","v":""},null,{"$f":"IF($C11=1,'Sjekkliste noter'!N26,\"\")","v":""}]
[{"$f":"+'Sjekkliste noter'!A27","v":11},{"$f":"IF('Sjekkliste noter'!M27<>\"\",1,0)","v":0},0,{"$f":"IF($C12=1,'Sjekkliste noter'!A27,\"\")","v":""},{"$f":"IF($C12=1,'Sjekkliste noter'!B27,\"\")","v":""},null,{"$f":"IF($C12=1,'Sjekkliste noter'!N27,\"\")","v":""}]
[{"$f":"+'Sjekkliste noter'!A29","v":12},{"$f":"IF('Sjekkliste noter'!M29<>\"\",1,0)","v":0},0,{"$f":"IF($C13=1,'Sjekkliste noter'!A29,\"\")","v":""},{"$f":"IF($C13=1,'Sjekkliste noter'!B29,\"\")","v":""},null,{"$f":"IF($C13=1,'Sjekkliste noter'!N29,\"\")","v":""}]
[{"$f":"+'Sjekkliste noter'!A31","v":13},{"$f":"IF('Sjekkliste noter'!M31<>\"\",1,0)","v":0},0,{"$f":"IF($C14=1,'Sjekkliste noter'!A31,\"\")","v":""},{"$f":"IF($C14=1,'Sjekkliste noter'!B31,\"\")","v":""},null,{"$f":"IF($C14=1,'Sjekkliste noter'!N31,\"\")","v":""}]
[{"$f":"+'Sjekkliste noter'!A34","v":14},{"$f":"IF('Sjekkliste noter'!M34<>\"\",1,0)","v":0},0,{"$f":"IF($C15=1,'Sjekkliste noter'!A34,\"\")","v":""},{"$f":"IF($C15=1,'Sjekkliste noter'!B34,\"\")","v":""},null,{"$f":"IF($C15=1,'Sjekkliste noter'!N34,\"\")","v":""}]
[{"$f":"+'Sjekkliste noter'!A35","v":15},{"$f":"IF('Sjekkliste noter'!M35<>\"\",1,0)","v":0},0,{"$f":"IF($C16=1,'Sjekkliste noter'!A35,\"\")","v":""},{"$f":"IF($C16=1,'Sjekkliste noter'!B35,\"\")","v":""},null,{"$f":"IF($C16=1,'Sjekkliste noter'!N35,\"\")","v":""}]
[{"$f":"+'Sjekkliste noter'!A37","v":16},{"$f":"IF('Sjekkliste noter'!M37<>\"\",1,0)","v":0},0,{"$f":"IF($C17=1,'Sjekkliste noter'!A37,\"\")","v":""},{"$f":"IF($C17=1,'Sjekkliste noter'!B37,\"\")","v":""},null,{"$f":"IF($C17=1,'Sjekkliste noter'!N37,\"\")","v":""}]
[{"$f":"+'Sjekkliste noter'!A38","v":17},{"$f":"IF('Sjekkliste noter'!M38<>\"\",1,0)","v":0},0,{"$f":"IF($C18=1,'Sjekkliste noter'!A38,\"\")","v":""},{"$f":"IF($C18=1,'Sjekkliste noter'!B38,\"\")","v":""},null,{"$f":"IF($C18=1,'Sjekkliste noter'!N38,\"\")","v":""}]
[{"$f":"+'Sjekkliste noter'!A40","v":19},{"$f":"IF('Sjekkliste noter'!M40<>\"\",1,0)","v":0},0,{"$f":"IF($C19=1,'Sjekkliste noter'!A40,\"\")","v":""},{"$f":"IF($C19=1,'Sjekkliste noter'!B40,\"\")","v":""},null,{"$f":"IF($C19=1,'Sjekkliste noter'!N40,\"\")","v":""}]
[{"$f":"+'Sjekkliste noter'!A42","v":20},{"$f":"IF('Sjekkliste noter'!M42<>\"\",1,0)","v":0},0,{"$f":"IF($C20=1,'Sjekkliste noter'!A42,\"\")","v":""},{"$f":"IF($C20=1,'Sjekkliste noter'!B42,\"\")","v":""},null,{"$f":"IF($C20=1,'Sjekkliste noter'!N42,\"\")","v":""}]
[{"$f":"+'Sjekkliste noter'!A44","v":21},{"$f":"IF('Sjekkliste noter'!M44<>\"\",1,0)","v":0},0,{"$f":"IF($C21=1,'Sjekkliste noter'!A44,\"\")","v":""},{"$f":"IF($C21=1,'Sjekkliste noter'!B44,\"\")","v":""},null,{"$f":"IF($C21=1,'Sjekkliste noter'!N44,\"\")","v":""}]
[{"$f":"+'Sjekkliste noter'!A45","v":22},{"$f":"IF('Sjekkliste noter'!M45<>\"\",1,0)","v":0},0,{"$f":"IF($C22=1,'Sjekkliste noter'!A45,\"\")","v":""},{"$f":"IF($C22=1,'Sjekkliste noter'!B45,\"\")","v":""},null,{"$f":"IF($C22=1,'Sjekkliste noter'!N45,\"\")","v":""}]
[{"$f":"+'Sjekkliste noter'!A46","v":23},{"$f":"IF('Sjekkliste noter'!M46<>\"\",1,0)","v":0},0,{"$f":"IF($C23=1,'Sjekkliste noter'!A46,\"\")","v":""},{"$f":"IF($C23=1,'Sjekkliste noter'!B46,\"\")","v":""},null,{"$f":"IF($C23=1,'Sjekkliste noter'!N46,\"\")","v":""}]
[{"$f":"+'Sjekkliste noter'!A47","v":24},{"$f":"IF('Sjekkliste noter'!M47<>\"\",1,0)","v":0},0,{"$f":"IF($C24=1,'Sjekkliste noter'!A47,\"\")","v":""},{"$f":"IF($C24=1,'Sjekkliste noter'!B47,\"\")","v":""},null,{"$f":"IF($C24=1,'Sjekkliste noter'!N47,\"\")","v":""}]
[{"$f":"+'Sjekkliste noter'!A48","v":25},{"$f":"IF('Sjekkliste noter'!M48<>\"\",1,0)","v":0},0,{"$f":"IF($C25=1,'Sjekkliste noter'!A48,\"\")","v":""},{"$f":"IF($C25=1,'Sjekkliste noter'!B48,\"\")","v":""},null,{"$f":"IF($C25=1,'Sjekkliste noter'!N48,\"\")","v":""}]
[{"$f":"+'Sjekkliste noter'!A49","v":26},{"$f":"IF('Sjekkliste noter'!M49<>\"\",1,0)","v":0},0,{"$f":"IF($C26=1,'Sjekkliste noter'!A49,\"\")","v":""},{"$f":"IF($C26=1,'Sjekkliste noter'!B49,\"\")","v":""},null,{"$f":"IF($C26=1,'Sjekkliste noter'!N49,\"\")","v":""}]
[{"$f":"+'Sjekkliste noter'!A52","v":27},{"$f":"IF('Sjekkliste noter'!M52<>\"\",1,0)","v":0},0,{"$f":"IF($C27=1,'Sjekkliste noter'!A52,\"\")","v":""},{"$f":"IF($C27=1,'Sjekkliste noter'!B52,\"\")","v":""},null,{"$f":"IF($C27=1,'Sjekkliste noter'!N52,\"\")","v":""}]
[{"$f":"+'Sjekkliste noter'!A53","v":28},{"$f":"IF('Sjekkliste noter'!M53<>\"\",1,0)","v":0},0,{"$f":"IF($C28=1,'Sjekkliste noter'!A53,\"\")","v":""},{"$f":"IF($C28=1,'Sjekkliste noter'!B53,\"\")","v":""},null,{"$f":"IF($C28=1,'Sjekkliste noter'!N53,\"\")","v":""}]
[{"$f":"+'Sjekkliste noter'!A54","v":29},{"$f":"IF('Sjekkliste noter'!M54<>\"\",1,0)","v":0},0,{"$f":"IF($C29=1,'Sjekkliste noter'!A54,\"\")","v":""},{"$f":"IF($C29=1,'Sjekkliste noter'!B54,\"\")","v":""},null,{"$f":"IF($C29=1,'Sjekkliste noter'!N54,\"\")","v":""}]
[{"$f":"+'Sjekkliste noter'!A55","v":30},{"$f":"IF('Sjekkliste noter'!M55<>\"\",1,0)","v":0},0,{"$f":"IF($C30=1,'Sjekkliste noter'!A55,\"\")","v":""},{"$f":"IF($C30=1,'Sjekkliste noter'!B55,\"\")","v":""},null,{"$f":"IF($C30=1,'Sjekkliste noter'!N55,\"\")","v":""}]
[{"$f":"+'Sjekkliste noter'!A56","v":31},{"$f":"IF('Sjekkliste noter'!M56<>\"\",1,0)","v":0},0,{"$f":"IF($C31=1,'Sjekkliste noter'!A56,\"\")","v":""},{"$f":"IF($C31=1,'Sjekkliste noter'!B56,\"\")","v":""},null,{"$f":"IF($C31=1,'Sjekkliste noter'!N56,\"\")","v":""}]
[{"$f":"+'Sjekkliste noter'!A57","v":32},{"$f":"IF('Sjekkliste noter'!M57<>\"\",1,0)","v":0},0,{"$f":"IF($C32=1,'Sjekkliste noter'!A57,\"\")","v":""},{"$f":"IF($C32=1,'Sjekkliste noter'!B57,\"\")","v":""},null,{"$f":"IF($C32=1,'Sjekkliste noter'!N57,\"\")","v":""}]
[{"$f":"+'Sjekkliste noter'!A58","v":33},{"$f":"IF('Sjekkliste noter'!M58<>\"\",1,0)","v":0},0,{"$f":"IF($C33=1,'Sjekkliste noter'!A58,\"\")","v":""},{"$f":"IF($C33=1,'Sjekkliste noter'!B58,\"\")","v":""},null,{"$f":"IF($C33=1,'Sjekkliste noter'!N58,\"\")","v":""}]
[{"$f":"+'Sjekkliste noter'!A60","v":34},{"$f":"IF('Sjekkliste noter'!M60<>\"\",1,0)","v":0},{"$f":"SUM(B34:B34)","v":0},{"$f":"IF($C34=1,'Sjekkliste noter'!A60,\"\")","v":""},{"$f":"IF($C34=1,'Sjekkliste noter'!B60,\"\")","v":""},null,{"$f":"IF($C34=1,'Sjekkliste noter'!N60,\"\")","v":""}]
[{"$f":"+'Sjekkliste noter'!A62","v":35},{"$f":"IF('Sjekkliste noter'!M62<>\"\",1,0)","v":0},0,{"$f":"IF($C35=1,'Sjekkliste noter'!A62,\"\")","v":""},{"$f":"IF($C35=1,'Sjekkliste noter'!B62,\"\")","v":""},null,{"$f":"IF($C35=1,'Sjekkliste noter'!N62,\"\")","v":""}]
[{"$f":"+'Sjekkliste noter'!A64","v":36},{"$f":"IF('Sjekkliste noter'!M64<>\"\",1,0)","v":0},0,{"$f":"IF($C36=1,'Sjekkliste noter'!A64,\"\")","v":""},{"$f":"IF($C36=1,'Sjekkliste noter'!B64,\"\")","v":""},null,{"$f":"IF($C36=1,'Sjekkliste noter'!N64,\"\")","v":""}]
[{"$f":"+'Sjekkliste noter'!A65","v":37},{"$f":"IF('Sjekkliste noter'!M65<>\"\",1,0)","v":0},0,{"$f":"IF($C37=1,'Sjekkliste noter'!A65,\"\")","v":""},{"$f":"IF($C37=1,'Sjekkliste noter'!B65,\"\")","v":""},null,{"$f":"IF($C37=1,'Sjekkliste noter'!N65,\"\")","v":""}]
[{"$f":"+'Sjekkliste noter'!A66","v":38},{"$f":"IF('Sjekkliste noter'!M66<>\"\",1,0)","v":0},0,{"$f":"IF($C38=1,'Sjekkliste noter'!A66,\"\")","v":""},{"$f":"IF($C38=1,'Sjekkliste noter'!B66,\"\")","v":""},null,{"$f":"IF($C38=1,'Sjekkliste noter'!N66,\"\")","v":""}]
[{"$f":"+'Sjekkliste noter'!A67","v":39},{"$f":"IF('Sjekkliste noter'!M67<>\"\",1,0)","v":0},0,{"$f":"IF($C39=1,'Sjekkliste noter'!A67,\"\")","v":""},{"$f":"IF($C39=1,'Sjekkliste noter'!B67,\"\")","v":""},null,{"$f":"IF($C39=1,'Sjekkliste noter'!N67,\"\")","v":""}]
[{"$f":"+'Sjekkliste noter'!A69","v":40},{"$f":"IF('Sjekkliste noter'!M69<>\"\",1,0)","v":0},0,{"$f":"IF($C40=1,'Sjekkliste noter'!A69,\"\")","v":""},{"$f":"IF($C40=1,'Sjekkliste noter'!B69,\"\")","v":""},null,{"$f":"IF($C40=1,'Sjekkliste noter'!N69,\"\")","v":""}]
[{"$f":"+'Sjekkliste noter'!A70","v":41},{"$f":"IF('Sjekkliste noter'!M70<>\"\",1,0)","v":0},0,{"$f":"IF($C41=1,'Sjekkliste noter'!A70,\"\")","v":""},{"$f":"IF($C41=1,'Sjekkliste noter'!B70,\"\")","v":""},null,{"$f":"IF($C41=1,'Sjekkliste noter'!N70,\"\")","v":""}]
[{"$f":"+'Sjekkliste noter'!A71","v":42},{"$f":"IF('Sjekkliste noter'!M71<>\"\",1,0)","v":0},0,{"$f":"IF($C42=1,'Sjekkliste noter'!A71,\"\")","v":""},{"$f":"IF($C42=1,'Sjekkliste noter'!B71,\"\")","v":""},null,{"$f":"IF($C42=1,'Sjekkliste noter'!N71,\"\")","v":""}]
[{"$f":"+'Sjekkliste noter'!A73","v":43},{"$f":"IF('Sjekkliste noter'!M73<>\"\",1,0)","v":0},0,{"$f":"IF($C43=1,'Sjekkliste noter'!A73,\"\")","v":""},{"$f":"IF($C43=1,'Sjekkliste noter'!B73,\"\")","v":""},null,{"$f":"IF($C43=1,'Sjekkliste noter'!N73,\"\")","v":""}]
[{"$f":"+'Sjekkliste noter'!A75","v":44},{"$f":"IF('Sjekkliste noter'!M75<>\"\",1,0)","v":0},0,{"$f":"IF($C44=1,'Sjekkliste noter'!A75,\"\")","v":""},{"$f":"IF($C44=1,'Sjekkliste noter'!B75,\"\")","v":""},null,{"$f":"IF($C44=1,'Sjekkliste noter'!N75,\"\")","v":""}]
[{"$f":"+'Sjekkliste noter'!A76","v":45},{"$f":"IF('Sjekkliste noter'!M76<>\"\",1,0)","v":0},0,{"$f":"IF($C45=1,'Sjekkliste noter'!A76,\"\")","v":""},{"$f":"IF($C45=1,'Sjekkliste noter'!B76,\"\")","v":""},null,{"$f":"IF($C45=1,'Sjekkliste noter'!N76,\"\")","v":""}]
[{"$f":"+'Sjekkliste noter'!A77","v":46},{"$f":"IF('Sjekkliste noter'!M77<>\"\",1,0)","v":0},0,{"$f":"IF($C46=1,'Sjekkliste noter'!A77,\"\")","v":""},{"$f":"IF($C46=1,'Sjekkliste noter'!B77,\"\")","v":""},null,{"$f":"IF($C46=1,'Sjekkliste noter'!N77,\"\")","v":""}]
[{"$f":"+'Sjekkliste noter'!A81","v":47},{"$f":"IF('Sjekkliste noter'!M81<>\"\",1,0)","v":0},0,{"$f":"IF($C47=1,'Sjekkliste noter'!A81,\"\")","v":""},{"$f":"IF($C47=1,'Sjekkliste noter'!B81,\"\")","v":""},null,{"$f":"IF($C47=1,'Sjekkliste noter'!N81,\"\")","v":""}]
[{"$f":"+'Sjekkliste noter'!A82","v":48},{"$f":"IF('Sjekkliste noter'!M82<>\"\",1,0)","v":0},0,{"$f":"IF($C48=1,'Sjekkliste noter'!A82,\"\")","v":""},{"$f":"IF($C48=1,'Sjekkliste noter'!B82,\"\")","v":""},null,{"$f":"IF($C48=1,'Sjekkliste noter'!N82,\"\")","v":""}]
[{"$f":"+'Sjekkliste noter'!A83","v":49},{"$f":"IF('Sjekkliste noter'!M83<>\"\",1,0)","v":0},0,{"$f":"IF($C49=1,'Sjekkliste noter'!A83,\"\")","v":""},{"$f":"IF($C49=1,'Sjekkliste noter'!B83,\"\")","v":""},null,{"$f":"IF($C49=1,'Sjekkliste noter'!N83,\"\")","v":""}]
[{"$f":"+'Sjekkliste noter'!A85","v":50},{"$f":"IF('Sjekkliste noter'!M85<>\"\",1,0)","v":0},0,{"$f":"IF($C50=1,'Sjekkliste noter'!A85,\"\")","v":""},{"$f":"IF($C50=1,'Sjekkliste noter'!B85,\"\")","v":""},null,{"$f":"IF($C50=1,'Sjekkliste noter'!N85,\"\")","v":""}]
[{"$f":"+'Sjekkliste noter'!A86","v":51},{"$f":"IF('Sjekkliste noter'!M86<>\"\",1,0)","v":0},0,{"$f":"IF($C51=1,'Sjekkliste noter'!A86,\"\")","v":""},{"$f":"IF($C51=1,'Sjekkliste noter'!B86,\"\")","v":""},null,{"$f":"IF($C51=1,'Sjekkliste noter'!N86,\"\")","v":""}]
[{"$f":"+'Sjekkliste noter'!A88","v":52},{"$f":"IF('Sjekkliste noter'!M88<>\"\",1,0)","v":0},0,{"$f":"IF($C52=1,'Sjekkliste noter'!A88,\"\")","v":""},{"$f":"IF($C52=1,'Sjekkliste noter'!B88,\"\")","v":""},null,{"$f":"IF($C52=1,'Sjekkliste noter'!N88,\"\")","v":""}]
[{"$f":"+'Sjekkliste noter'!A90","v":53},{"$f":"IF('Sjekkliste noter'!M90<>\"\",1,0)","v":0},0,{"$f":"IF($C53=1,'Sjekkliste noter'!A90,\"\")","v":""},{"$f":"IF($C53=1,'Sjekkliste noter'!B90,\"\")","v":""},null,{"$f":"IF($C53=1,'Sjekkliste noter'!N90,\"\")","v":""}]
[{"$f":"+'Sjekkliste noter'!A93","v":54},{"$f":"IF('Sjekkliste noter'!M93<>\"\",1,0)","v":0},0,{"$f":"IF($C54=1,'Sjekkliste noter'!A93,\"\")","v":""},{"$f":"IF($C54=1,'Sjekkliste noter'!B93,\"\")","v":""},null,{"$f":"IF($C54=1,'Sjekkliste noter'!N93,\"\")","v":""}]
[{"$f":"+'Sjekkliste noter'!A94","v":55},{"$f":"IF('Sjekkliste noter'!M94<>\"\",1,0)","v":0},0,{"$f":"IF($C55=1,'Sjekkliste noter'!A94,\"\")","v":""},{"$f":"IF($C55=1,'Sjekkliste noter'!B94,\"\")","v":""},null,{"$f":"IF($C55=1,'Sjekkliste noter'!N94,\"\")","v":""}]
[{"$f":"+'Sjekkliste noter'!A95","v":56},{"$f":"IF('Sjekkliste noter'!M95<>\"\",1,0)","v":0},0,{"$f":"IF($C56=1,'Sjekkliste noter'!A95,\"\")","v":""},{"$f":"IF($C56=1,'Sjekkliste noter'!B95,\"\")","v":""},null,{"$f":"IF($C56=1,'Sjekkliste noter'!N95,\"\")","v":""}]
[{"$f":"+'Sjekkliste noter'!A97","v":57},{"$f":"IF('Sjekkliste noter'!M97<>\"\",1,0)","v":0},0,{"$f":"IF($C57=1,'Sjekkliste noter'!A97,\"\")","v":""},{"$f":"IF($C57=1,'Sjekkliste noter'!B97,\"\")","v":""},null,{"$f":"IF($C57=1,'Sjekkliste noter'!N97,\"\")","v":""}]
[{"$f":"+'Sjekkliste noter'!A99","v":58},{"$f":"IF('Sjekkliste noter'!M99<>\"\",1,0)","v":0},0,{"$f":"IF($C58=1,'Sjekkliste noter'!A99,\"\")","v":""},{"$f":"IF($C58=1,'Sjekkliste noter'!B99,\"\")","v":""},null,{"$f":"IF($C58=1,'Sjekkliste noter'!N99,\"\")","v":""}]
[{"$f":"+'Sjekkliste noter'!A102","v":59},{"$f":"IF('Sjekkliste noter'!M102<>\"\",1,0)","v":0},0,{"$f":"IF($C59=1,'Sjekkliste noter'!A102,\"\")","v":""},{"$f":"IF($C59=1,'Sjekkliste noter'!B102,\"\")","v":""},null,{"$f":"IF($C59=1,'Sjekkliste noter'!N102,\"\")","v":""}]
[{"$f":"+'Sjekkliste noter'!A103","v":60},{"$f":"IF('Sjekkliste noter'!M103<>\"\",1,0)","v":0},0,{"$f":"IF($C60=1,'Sjekkliste noter'!A103,\"\")","v":""},{"$f":"IF($C60=1,'Sjekkliste noter'!B103,\"\")","v":""},null,{"$f":"IF($C60=1,'Sjekkliste noter'!N103,\"\")","v":""}]
[{"$f":"+'Sjekkliste noter'!A104","v":61},{"$f":"IF('Sjekkliste noter'!M104<>\"\",1,0)","v":0},0,{"$f":"IF($C61=1,'Sjekkliste noter'!A104,\"\")","v":""},{"$f":"IF($C61=1,'Sjekkliste noter'!B104,\"\")","v":""},null,{"$f":"IF($C61=1,'Sjekkliste noter'!N104,\"\")","v":""}]
[{"$f":"+'Sjekkliste noter'!A107","v":62},{"$f":"IF('Sjekkliste noter'!M107<>\"\",1,0)","v":0},0,{"$f":"IF($C62=1,'Sjekkliste noter'!A107,\"\")","v":""},{"$f":"IF($C62=1,'Sjekkliste noter'!B107,\"\")","v":""},null,{"$f":"IF($C62=1,'Sjekkliste noter'!N107,\"\")","v":""}]
[{"$f":"+'Sjekkliste noter'!A108","v":63},{"$f":"IF('Sjekkliste noter'!M108<>\"\",1,0)","v":0},0,{"$f":"IF($C63=1,'Sjekkliste noter'!A108,\"\")","v":""},{"$f":"IF($C63=1,'Sjekkliste noter'!B108,\"\")","v":""},null,{"$f":"IF($C63=1,'Sjekkliste noter'!N108,\"\")","v":""}]
[{"$f":"+'Sjekkliste noter'!A111","v":64},{"$f":"IF('Sjekkliste noter'!M111<>\"\",1,0)","v":0},0,{"$f":"IF($C64=1,'Sjekkliste noter'!A111,\"\")","v":""},{"$f":"IF($C64=1,'Sjekkliste noter'!B111,\"\")","v":""},null,{"$f":"IF($C64=1,'Sjekkliste noter'!N111,\"\")","v":""}]
[{"$f":"+'Sjekkliste noter'!A113","v":65},{"$f":"IF('Sjekkliste noter'!M113<>\"\",1,0)","v":0},0,{"$f":"IF($C65=1,'Sjekkliste noter'!A113,\"\")","v":""},{"$f":"IF($C65=1,'Sjekkliste noter'!B113,\"\")","v":""},null,{"$f":"IF($C65=1,'Sjekkliste noter'!N113,\"\")","v":""}]
[{"$f":"+'Sjekkliste noter'!A115","v":66},{"$f":"IF('Sjekkliste noter'!M115<>\"\",1,0)","v":0},{"$f":"SUM(B66:B66)","v":0},{"$f":"IF($C66=1,'Sjekkliste noter'!A115,\"\")","v":""},{"$f":"IF($C66=1,'Sjekkliste noter'!B115,\"\")","v":""},null,{"$f":"IF($C66=1,'Sjekkliste noter'!N115,\"\")","v":""}]
[{"$f":"+'Sjekkliste noter'!A116","v":67},{"$f":"IF('Sjekkliste noter'!M116<>\"\",1,0)","v":0},0,{"$f":"IF($C67=1,'Sjekkliste noter'!A116,\"\")","v":""},{"$f":"IF($C67=1,'Sjekkliste noter'!B116,\"\")","v":""},null,{"$f":"IF($C67=1,'Sjekkliste noter'!N116,\"\")","v":""}]
[{"$f":"+'Sjekkliste noter'!A117","v":68},{"$f":"IF('Sjekkliste noter'!M117<>\"\",1,0)","v":0},0,{"$f":"IF($C68=1,'Sjekkliste noter'!A117,\"\")","v":""},{"$f":"IF($C68=1,'Sjekkliste noter'!B117,\"\")","v":""},null,{"$f":"IF($C68=1,'Sjekkliste noter'!N117,\"\")","v":""}]
[{"$f":"+'Sjekkliste noter'!A118","v":69},{"$f":"IF('Sjekkliste noter'!M118<>\"\",1,0)","v":0},0,{"$f":"IF($C69=1,'Sjekkliste noter'!A118,\"\")","v":""},{"$f":"IF($C69=1,'Sjekkliste noter'!B118,\"\")","v":""},null,{"$f":"IF($C69=1,'Sjekkliste noter'!N118,\"\")","v":""}]
[{"$f":"+'Sjekkliste noter'!A120","v":70},{"$f":"IF('Sjekkliste noter'!M120<>\"\",1,0)","v":0},0,{"$f":"IF($C70=1,'Sjekkliste noter'!A120,\"\")","v":""},{"$f":"IF($C70=1,'Sjekkliste noter'!B120,\"\")","v":""},null,{"$f":"IF($C70=1,'Sjekkliste noter'!N120,\"\")","v":""}]
[{"$f":"+'Sjekkliste noter'!A122","v":71},{"$f":"IF('Sjekkliste noter'!M122<>\"\",1,0)","v":0},0,{"$f":"IF($C71=1,'Sjekkliste noter'!A122,\"\")","v":""},{"$f":"IF($C71=1,'Sjekkliste noter'!B122,\"\")","v":""},null,{"$f":"IF($C71=1,'Sjekkliste noter'!N122,\"\")","v":""}]
[{"$f":"+'Sjekkliste noter'!A124","v":72},{"$f":"IF('Sjekkliste noter'!M124<>\"\",1,0)","v":0},0,{"$f":"IF($C72=1,'Sjekkliste noter'!A124,\"\")","v":""},{"$f":"IF($C72=1,'Sjekkliste noter'!B124,\"\")","v":""},null,{"$f":"IF($C72=1,'Sjekkliste noter'!N124,\"\")","v":""}]
[{"$f":"+'Sjekkliste noter'!A129","v":73},{"$f":"IF('Sjekkliste noter'!M129<>\"\",1,0)","v":0},0,{"$f":"IF($C73=1,'Sjekkliste noter'!A129,\"\")","v":""},{"$f":"IF($C73=1,'Sjekkliste noter'!B129,\"\")","v":""},null,{"$f":"IF($C73=1,'Sjekkliste noter'!N129,\"\")","v":""}]
[{"$f":"+'Sjekkliste noter'!A133","v":74},{"$f":"IF('Sjekkliste noter'!M133<>\"\",1,0)","v":0},0,{"$f":"IF($C74=1,'Sjekkliste noter'!A133,\"\")","v":""},{"$f":"IF($C74=1,'Sjekkliste noter'!B133,\"\")","v":""},null,{"$f":"IF($C74=1,'Sjekkliste noter'!N133,\"\")","v":""}]
[{"$f":"+'Sjekkliste noter'!A134","v":75},{"$f":"IF('Sjekkliste noter'!M134<>\"\",1,0)","v":0},0,{"$f":"IF($C75=1,'Sjekkliste noter'!A134,\"\")","v":""},{"$f":"IF($C75=1,'Sjekkliste noter'!B134,\"\")","v":""},null,{"$f":"IF($C75=1,'Sjekkliste noter'!N134,\"\")","v":""}]
[{"$f":"+'Sjekkliste noter'!A135","v":76},{"$f":"IF('Sjekkliste noter'!M135<>\"\",1,0)","v":0},0,{"$f":"IF($C76=1,'Sjekkliste noter'!A135,\"\")","v":""},{"$f":"IF($C76=1,'Sjekkliste noter'!B135,\"\")","v":""},null,{"$f":"IF($C76=1,'Sjekkliste noter'!N135,\"\")","v":""}]
[{"$f":"+'Sjekkliste noter'!A137","v":77},{"$f":"IF('Sjekkliste noter'!M137<>\"\",1,0)","v":0},0,{"$f":"IF($C77=1,'Sjekkliste noter'!A137,\"\")","v":""},{"$f":"IF($C77=1,'Sjekkliste noter'!B137,\"\")","v":""},null,{"$f":"IF($C77=1,'Sjekkliste noter'!N137,\"\")","v":""}]
[{"$f":"+'Sjekkliste noter'!A141","v":78},{"$f":"IF('Sjekkliste noter'!M141<>\"\",1,0)","v":0},0,{"$f":"IF($C78=1,'Sjekkliste noter'!A141,\"\")","v":""},{"$f":"IF($C78=1,'Sjekkliste noter'!B141,\"\")","v":""},null,{"$f":"IF($C78=1,'Sjekkliste noter'!N141,\"\")","v":""}]
[{"$f":"+'Sjekkliste noter'!A144","v":79},{"$f":"IF('Sjekkliste noter'!M144<>\"\",1,0)","v":0},0,{"$f":"IF($C79=1,'Sjekkliste noter'!A144,\"\")","v":""},{"$f":"IF($C79=1,'Sjekkliste noter'!B144,\"\")","v":""},null,{"$f":"IF($C79=1,'Sjekkliste noter'!N144,\"\")","v":""}]
[{"$f":"+'Sjekkliste noter'!A147","v":80},{"$f":"IF('Sjekkliste noter'!M147<>\"\",1,0)","v":0},0,{"$f":"IF($C80=1,'Sjekkliste noter'!A147,\"\")","v":""},{"$f":"IF($C80=1,'Sjekkliste noter'!B147,\"\")","v":""},null,{"$f":"IF($C80=1,'Sjekkliste noter'!N147,\"\")","v":""}]
[{"$f":"+'Sjekkliste noter'!A148","v":81},{"$f":"IF('Sjekkliste noter'!M148<>\"\",1,0)","v":0},0,{"$f":"IF($C81=1,'Sjekkliste noter'!A148,\"\")","v":""},{"$f":"IF($C81=1,'Sjekkliste noter'!B148,\"\")","v":""},null,{"$f":"IF($C81=1,'Sjekkliste noter'!N148,\"\")","v":""}]
[{"$f":"+'Sjekkliste noter'!A149","v":82},{"$f":"IF('Sjekkliste noter'!M149<>\"\",1,0)","v":0},0,{"$f":"IF($C82=1,'Sjekkliste noter'!A149,\"\")","v":""},{"$f":"IF($C82=1,'Sjekkliste noter'!B149,\"\")","v":""},null,{"$f":"IF($C82=1,'Sjekkliste noter'!N149,\"\")","v":""}]
[{"$f":"+'Sjekkliste noter'!A151","v":83},{"$f":"IF('Sjekkliste noter'!M151<>\"\",1,0)","v":0},0,{"$f":"IF($C83=1,'Sjekkliste noter'!A151,\"\")","v":""},{"$f":"IF($C83=1,'Sjekkliste noter'!B151,\"\")","v":""},null,{"$f":"IF($C83=1,'Sjekkliste noter'!N151,\"\")","v":""}]
[{"$f":"+'Sjekkliste noter'!A152","v":84},{"$f":"IF('Sjekkliste noter'!M152<>\"\",1,0)","v":0},0,{"$f":"IF($C84=1,'Sjekkliste noter'!A152,\"\")","v":""},{"$f":"IF($C84=1,'Sjekkliste noter'!B152,\"\")","v":""},null,{"$f":"IF($C84=1,'Sjekkliste noter'!N152,\"\")","v":""}]
[{"$f":"+'Sjekkliste noter'!A153","v":85},{"$f":"IF('Sjekkliste noter'!M153<>\"\",1,0)","v":0},0,{"$f":"IF($C85=1,'Sjekkliste noter'!A153,\"\")","v":""},{"$f":"IF($C85=1,'Sjekkliste noter'!B153,\"\")","v":""},null,{"$f":"IF($C85=1,'Sjekkliste noter'!N153,\"\")","v":""}]
[{"$f":"+'Sjekkliste noter'!A156","v":86},{"$f":"IF('Sjekkliste noter'!M156<>\"\",1,0)","v":0},0,{"$f":"IF($C86=1,'Sjekkliste noter'!A156,\"\")","v":""},{"$f":"IF($C86=1,'Sjekkliste noter'!B156,\"\")","v":""},null,{"$f":"IF($C86=1,'Sjekkliste noter'!N156,\"\")","v":""}]
[{"$f":"+'Sjekkliste noter'!A160","v":87},{"$f":"IF('Sjekkliste noter'!M160<>\"\",1,0)","v":0},0,{"$f":"IF($C87=1,'Sjekkliste noter'!A160,\"\")","v":""},{"$f":"IF($C87=1,'Sjekkliste noter'!B160,\"\")","v":""},null,{"$f":"IF($C87=1,'Sjekkliste noter'!N160,\"\")","v":""}]
[{"$f":"+'Sjekkliste noter'!A161","v":88},{"$f":"IF('Sjekkliste noter'!M161<>\"\",1,0)","v":0},0,{"$f":"IF($C88=1,'Sjekkliste noter'!A161,\"\")","v":""},{"$f":"IF($C88=1,'Sjekkliste noter'!B161,\"\")","v":""},null,{"$f":"IF($C88=1,'Sjekkliste noter'!N161,\"\")","v":""}]
[{"$f":"+'Sjekkliste noter'!A162","v":89},{"$f":"IF('Sjekkliste noter'!M162<>\"\",1,0)","v":0},0,{"$f":"IF($C89=1,'Sjekkliste noter'!A162,\"\")","v":""},{"$f":"IF($C89=1,'Sjekkliste noter'!B162,\"\")","v":""},null,{"$f":"IF($C89=1,'Sjekkliste noter'!N162,\"\")","v":""}]
[{"$f":"+'Sjekkliste noter'!A163","v":90},{"$f":"IF('Sjekkliste noter'!M163<>\"\",1,0)","v":0},0,{"$f":"IF($C90=1,'Sjekkliste noter'!A163,\"\")","v":""},{"$f":"IF($C90=1,'Sjekkliste noter'!B163,\"\")","v":""},null,{"$f":"IF($C90=1,'Sjekkliste noter'!N163,\"\")","v":""}]
[{"$f":"+'Sjekkliste noter'!A167","v":91},{"$f":"IF('Sjekkliste noter'!M167<>\"\",1,0)","v":0},0,{"$f":"IF($C91=1,'Sjekkliste noter'!A167,\"\")","v":""},{"$f":"IF($C91=1,'Sjekkliste noter'!B167,\"\")","v":""},null,{"$f":"IF($C91=1,'Sjekkliste noter'!N167,\"\")","v":""}]
[{"$f":"+'Sjekkliste noter'!A168","v":92},{"$f":"IF('Sjekkliste noter'!M168<>\"\",1,0)","v":0},0,{"$f":"IF($C92=1,'Sjekkliste noter'!A168,\"\")","v":""},{"$f":"IF($C92=1,'Sjekkliste noter'!B168,\"\")","v":""},null,{"$f":"IF($C92=1,'Sjekkliste noter'!N168,\"\")","v":""}]
[{"$f":"+'Sjekkliste noter'!A169","v":93},{"$f":"IF('Sjekkliste noter'!M169<>\"\",1,0)","v":0},0,{"$f":"IF($C93=1,'Sjekkliste noter'!A169,\"\")","v":""},{"$f":"IF($C93=1,'Sjekkliste noter'!B169,\"\")","v":""},null,{"$f":"IF($C93=1,'Sjekkliste noter'!N169,\"\")","v":""}]
[{"$f":"+'Sjekkliste noter'!A170","v":94},{"$f":"IF('Sjekkliste noter'!M170<>\"\",1,0)","v":0},0,{"$f":"IF($C94=1,'Sjekkliste noter'!A170,\"\")","v":""},{"$f":"IF($C94=1,'Sjekkliste noter'!B170,\"\")","v":""},null,{"$f":"IF($C94=1,'Sjekkliste noter'!N170,\"\")","v":""}]
[{"$f":"+'Sjekkliste noter'!A171","v":95},{"$f":"IF('Sjekkliste noter'!M171<>\"\",1,0)","v":0},0,{"$f":"IF($C95=1,'Sjekkliste noter'!A171,\"\")","v":""},{"$f":"IF($C95=1,'Sjekkliste noter'!B171,\"\")","v":""},null,{"$f":"IF($C95=1,'Sjekkliste noter'!N171,\"\")","v":""}]
[{"$f":"+'Sjekkliste noter'!A173","v":96},{"$f":"IF('Sjekkliste noter'!M173<>\"\",1,0)","v":0},0,{"$f":"IF($C96=1,'Sjekkliste noter'!A173,\"\")","v":""},{"$f":"IF($C96=1,'Sjekkliste noter'!B173,\"\")","v":""},null,{"$f":"IF($C96=1,'Sjekkliste noter'!N173,\"\")","v":""}]
[{"$f":"+'Sjekkliste noter'!A174","v":97},{"$f":"IF('Sjekkliste noter'!M174<>\"\",1,0)","v":0},0,{"$f":"IF($C97=1,'Sjekkliste noter'!A174,\"\")","v":""},{"$f":"IF($C97=1,'Sjekkliste noter'!B174,\"\")","v":""},null,{"$f":"IF($C97=1,'Sjekkliste noter'!N174,\"\")","v":""}]
[{"$f":"+'Sjekkliste noter'!A175","v":98},{"$f":"IF('Sjekkliste noter'!M175<>\"\",1,0)","v":0},{"$f":"SUM(B98:B98)","v":0},{"$f":"IF($C98=1,'Sjekkliste noter'!A175,\"\")","v":""},{"$f":"IF($C98=1,'Sjekkliste noter'!B175,\"\")","v":""},null,{"$f":"IF($C98=1,'Sjekkliste noter'!N175,\"\")","v":""}]
[{"$f":"+'Sjekkliste noter'!A177","v":99},{"$f":"IF('Sjekkliste noter'!M177<>\"\",1,0)","v":0},0,{"$f":"IF($C99=1,'Sjekkliste noter'!A177,\"\")","v":""},{"$f":"IF($C99=1,'Sjekkliste noter'!B177,\"\")","v":""},null,{"$f":"IF($C99=1,'Sjekkliste noter'!N177,\"\")","v":""}]
[{"$f":"+'Sjekkliste noter'!A178","v":100},{"$f":"IF('Sjekkliste noter'!M178<>\"\",1,0)","v":0},0,{"$f":"IF($C100=1,'Sjekkliste noter'!A178,\"\")","v":""},{"$f":"IF($C100=1,'Sjekkliste noter'!B178,\"\")","v":""},null,{"$f":"IF($C100=1,'Sjekkliste noter'!N178,\"\")","v":""}]
[{"$f":"+'Sjekkliste noter'!A179","v":101},{"$f":"IF('Sjekkliste noter'!M179<>\"\",1,0)","v":0},0,{"$f":"IF($C101=1,'Sjekkliste noter'!A179,\"\")","v":""},{"$f":"IF($C101=1,'Sjekkliste noter'!B179,\"\")","v":""},null,{"$f":"IF($C101=1,'Sjekkliste noter'!N179,\"\")","v":""}]
[{"$f":"+'Sjekkliste noter'!A180","v":102},{"$f":"IF('Sjekkliste noter'!M180<>\"\",1,0)","v":0},0,{"$f":"IF($C102=1,'Sjekkliste noter'!A180,\"\")","v":""},{"$f":"IF($C102=1,'Sjekkliste noter'!B180,\"\")","v":""},null,{"$f":"IF($C102=1,'Sjekkliste noter'!N180,\"\")","v":""}]
[{"$f":"+'Sjekkliste noter'!A181","v":103},{"$f":"IF('Sjekkliste noter'!M181<>\"\",1,0)","v":0},0,{"$f":"IF($C103=1,'Sjekkliste noter'!A181,\"\")","v":""},{"$f":"IF($C103=1,'Sjekkliste noter'!B181,\"\")","v":""},null,{"$f":"IF($C103=1,'Sjekkliste noter'!N181,\"\")","v":""}]
[{"$f":"+'Sjekkliste noter'!A184","v":104},{"$f":"IF('Sjekkliste noter'!M184<>\"\",1,0)","v":0},0,{"$f":"IF($C104=1,'Sjekkliste noter'!A184,\"\")","v":""},{"$f":"IF($C104=1,'Sjekkliste noter'!B184,\"\")","v":""},null,{"$f":"IF($C104=1,'Sjekkliste noter'!N184,\"\")","v":""}]
[{"$f":"+'Sjekkliste noter'!A187","v":105},{"$f":"IF('Sjekkliste noter'!M187<>\"\",1,0)","v":0},0,{"$f":"IF($C105=1,'Sjekkliste noter'!A187,\"\")","v":""},{"$f":"IF($C105=1,'Sjekkliste noter'!B187,\"\")","v":""},null,{"$f":"IF($C105=1,'Sjekkliste noter'!N187,\"\")","v":""}]
[{"$f":"+'Sjekkliste noter'!A188","v":106},{"$f":"IF('Sjekkliste noter'!M188<>\"\",1,0)","v":0},0,{"$f":"IF($C106=1,'Sjekkliste noter'!A188,\"\")","v":""},{"$f":"IF($C106=1,'Sjekkliste noter'!B188,\"\")","v":""},null,{"$f":"IF($C106=1,'Sjekkliste noter'!N188,\"\")","v":""}]
[{"$f":"+'Sjekkliste noter'!A189","v":107},{"$f":"IF('Sjekkliste noter'!M189<>\"\",1,0)","v":0},0,{"$f":"IF($C107=1,'Sjekkliste noter'!A189,\"\")","v":""},{"$f":"IF($C107=1,'Sjekkliste noter'!B189,\"\")","v":""},null,{"$f":"IF($C107=1,'Sjekkliste noter'!N189,\"\")","v":""}]
[{"$f":"+'Sjekkliste noter'!A190","v":108},{"$f":"IF('Sjekkliste noter'!M190<>\"\",1,0)","v":0},0,{"$f":"IF($C108=1,'Sjekkliste noter'!A190,\"\")","v":""},{"$f":"IF($C108=1,'Sjekkliste noter'!B190,\"\")","v":""},null,{"$f":"IF($C108=1,'Sjekkliste noter'!N190,\"\")","v":""}]
[{"$f":"+'Sjekkliste noter'!A191","v":109},{"$f":"IF('Sjekkliste noter'!M191<>\"\",1,0)","v":0},0,{"$f":"IF($C109=1,'Sjekkliste noter'!A191,\"\")","v":""},{"$f":"IF($C109=1,'Sjekkliste noter'!B191,\"\")","v":""},null,{"$f":"IF($C109=1,'Sjekkliste noter'!N191,\"\")","v":""}]
[{"$f":"+'Sjekkliste noter'!A194","v":110},{"$f":"IF('Sjekkliste noter'!M194<>\"\",1,0)","v":0},0,{"$f":"IF($C110=1,'Sjekkliste noter'!A194,\"\")","v":""},{"$f":"IF($C110=1,'Sjekkliste noter'!B194,\"\")","v":""},null,{"$f":"IF($C110=1,'Sjekkliste noter'!N194,\"\")","v":""}]
[{"$f":"+'Sjekkliste noter'!A195","v":111},{"$f":"IF('Sjekkliste noter'!M195<>\"\",1,0)","v":0},0,{"$f":"IF($C111=1,'Sjekkliste noter'!A195,\"\")","v":""},{"$f":"IF($C111=1,'Sjekkliste noter'!B195,\"\")","v":""},null,{"$f":"IF($C111=1,'Sjekkliste noter'!N195,\"\")","v":""}]
[{"$f":"+'Sjekkliste noter'!A196","v":112},{"$f":"IF('Sjekkliste noter'!M196<>\"\",1,0)","v":0},0,{"$f":"IF($C112=1,'Sjekkliste noter'!A196,\"\")","v":""},{"$f":"IF($C112=1,'Sjekkliste noter'!B196,\"\")","v":""},null,{"$f":"IF($C112=1,'Sjekkliste noter'!N196,\"\")","v":""}]
[{"$f":"+'Sjekkliste noter'!A197","v":113},{"$f":"IF('Sjekkliste noter'!M197<>\"\",1,0)","v":0},0,{"$f":"IF($C113=1,'Sjekkliste noter'!A197,\"\")","v":""},{"$f":"IF($C113=1,'Sjekkliste noter'!B197,\"\")","v":""},null,{"$f":"IF($C113=1,'Sjekkliste noter'!N197,\"\")","v":""}]
[{"$f":"+'Sjekkliste noter'!A198","v":114},{"$f":"IF('Sjekkliste noter'!M198<>\"\",1,0)","v":0},0,{"$f":"IF($C114=1,'Sjekkliste noter'!A198,\"\")","v":""},{"$f":"IF($C114=1,'Sjekkliste noter'!B198,\"\")","v":""},null,{"$f":"IF($C114=1,'Sjekkliste noter'!N198,\"\")","v":""}]
[{"$f":"+'Sjekkliste noter'!A199","v":115},{"$f":"IF('Sjekkliste noter'!M199<>\"\",1,0)","v":0},0,{"$f":"IF($C115=1,'Sjekkliste noter'!A199,\"\")","v":""},{"$f":"IF($C115=1,'Sjekkliste noter'!B199,\"\")","v":""},null,{"$f":"IF($C115=1,'Sjekkliste noter'!N199,\"\")","v":""}]
[{"$f":"+'Sjekkliste noter'!A200","v":116},{"$f":"IF('Sjekkliste noter'!M200<>\"\",1,0)","v":0},0,{"$f":"IF($C116=1,'Sjekkliste noter'!A200,\"\")","v":""},{"$f":"IF($C116=1,'Sjekkliste noter'!B200,\"\")","v":""},null,{"$f":"IF($C116=1,'Sjekkliste noter'!N200,\"\")","v":""}]
[{"$f":"+'Sjekkliste noter'!A201","v":117},{"$f":"IF('Sjekkliste noter'!M201<>\"\",1,0)","v":0},0,{"$f":"IF($C117=1,'Sjekkliste noter'!A201,\"\")","v":""},{"$f":"IF($C117=1,'Sjekkliste noter'!B201,\"\")","v":""},null,{"$f":"IF($C117=1,'Sjekkliste noter'!N201,\"\")","v":""}]
[{"$f":"+'Sjekkliste noter'!A202","v":118},{"$f":"IF('Sjekkliste noter'!M202<>\"\",1,0)","v":0},0,{"$f":"IF($C118=1,'Sjekkliste noter'!A202,\"\")","v":""},{"$f":"IF($C118=1,'Sjekkliste noter'!B202,\"\")","v":""},null,{"$f":"IF($C118=1,'Sjekkliste noter'!N202,\"\")","v":""}]
[{"$f":"+'Sjekkliste noter'!A204","v":119},{"$f":"IF('Sjekkliste noter'!M204<>\"\",1,0)","v":0},0,{"$f":"IF($C119=1,'Sjekkliste noter'!A204,\"\")","v":""},{"$f":"IF($C119=1,'Sjekkliste noter'!B204,\"\")","v":""},null,{"$f":"IF($C119=1,'Sjekkliste noter'!N204,\"\")","v":""}]
[{"$f":"+'Sjekkliste noter'!A206","v":120},{"$f":"IF('Sjekkliste noter'!M206<>\"\",1,0)","v":0},0,{"$f":"IF($C120=1,'Sjekkliste noter'!A206,\"\")","v":""},{"$f":"IF($C120=1,'Sjekkliste noter'!B206,\"\")","v":""},null,{"$f":"IF($C120=1,'Sjekkliste noter'!N206,\"\")","v":""}]
[{"$f":"+'Sjekkliste noter'!A209","v":121},{"$f":"IF('Sjekkliste noter'!M209<>\"\",1,0)","v":0},0,{"$f":"IF($C121=1,'Sjekkliste noter'!A209,\"\")","v":""},{"$f":"IF($C121=1,'Sjekkliste noter'!B209,\"\")","v":""},null,{"$f":"IF($C121=1,'Sjekkliste noter'!N209,\"\")","v":""}]
[{"$f":"+'Sjekkliste noter'!A211","v":122},{"$f":"IF('Sjekkliste noter'!M211<>\"\",1,0)","v":0},0,{"$f":"IF($C122=1,'Sjekkliste noter'!A211,\"\")","v":""},{"$f":"IF($C122=1,'Sjekkliste noter'!B211,\"\")","v":""},null,{"$f":"IF($C122=1,'Sjekkliste noter'!N211,\"\")","v":""}]
[{"$f":"+'Sjekkliste noter'!A215","v":123},{"$f":"IF('Sjekkliste noter'!M215<>\"\",1,0)","v":0},0,{"$f":"IF($C123=1,'Sjekkliste noter'!A215,\"\")","v":""},{"$f":"IF($C123=1,'Sjekkliste noter'!B215,\"\")","v":""},null,{"$f":"IF($C123=1,'Sjekkliste noter'!N215,\"\")","v":""}]
[{"$f":"+'Sjekkliste noter'!A220","v":124},{"$f":"IF('Sjekkliste noter'!M220<>\"\",1,0)","v":0},0,{"$f":"IF($C124=1,'Sjekkliste noter'!A220,\"\")","v":""},{"$f":"IF($C124=1,'Sjekkliste noter'!B220,\"\")","v":""},null,{"$f":"IF($C124=1,'Sjekkliste noter'!N220,\"\")","v":""}]
[{"$f":"+'Sjekkliste noter'!A222","v":125},{"$f":"IF('Sjekkliste noter'!M222<>\"\",1,0)","v":0},0,{"$f":"IF($C125=1,'Sjekkliste noter'!A222,\"\")","v":""},{"$f":"IF($C125=1,'Sjekkliste noter'!B222,\"\")","v":""},null,{"$f":"IF($C125=1,'Sjekkliste noter'!N222,\"\")","v":""}]
[{"$f":"+'Sjekkliste noter'!A224","v":126},{"$f":"IF('Sjekkliste noter'!M224<>\"\",1,0)","v":0},0,{"$f":"IF($C126=1,'Sjekkliste noter'!A224,\"\")","v":""},{"$f":"IF($C126=1,'Sjekkliste noter'!B224,\"\")","v":""},null,{"$f":"IF($C126=1,'Sjekkliste noter'!N224,\"\")","v":""}]
[{"$f":"+'Sjekkliste noter'!A226","v":127},{"$f":"IF('Sjekkliste noter'!M226<>\"\",1,0)","v":0},0,{"$f":"IF($C127=1,'Sjekkliste noter'!A226,\"\")","v":""},{"$f":"IF($C127=1,'Sjekkliste noter'!B226,\"\")","v":""},null,{"$f":"IF($C127=1,'Sjekkliste noter'!N226,\"\")","v":""}]
[{"$f":"+'Sjekkliste noter'!A227","v":128},{"$f":"IF('Sjekkliste noter'!M227<>\"\",1,0)","v":0},0,{"$f":"IF($C128=1,'Sjekkliste noter'!A227,\"\")","v":""},{"$f":"IF($C128=1,'Sjekkliste noter'!B227,\"\")","v":""},null,{"$f":"IF($C128=1,'Sjekkliste noter'!N227,\"\")","v":""}]
[{"$f":"+'Sjekkliste noter'!A228","v":129},{"$f":"IF('Sjekkliste noter'!M228<>\"\",1,0)","v":0},0,{"$f":"IF($C129=1,'Sjekkliste noter'!A228,\"\")","v":""},{"$f":"IF($C129=1,'Sjekkliste noter'!B228,\"\")","v":""},null,{"$f":"IF($C129=1,'Sjekkliste noter'!N228,\"\")","v":""}]
[{"$f":"+'Sjekkliste noter'!A233","v":130},{"$f":"IF('Sjekkliste noter'!M233<>\"\",1,0)","v":0},{"$f":"SUM(B130:B130)","v":0},{"$f":"IF($C130=1,'Sjekkliste noter'!A233,\"\")","v":""},{"$f":"IF($C130=1,'Sjekkliste noter'!B233,\"\")","v":""},null,{"$f":"IF($C130=1,'Sjekkliste noter'!N233,\"\")","v":""}]
[{"$f":"+'Sjekkliste noter'!A236","v":131},{"$f":"IF('Sjekkliste noter'!M236<>\"\",1,0)","v":0},0,{"$f":"IF($C131=1,'Sjekkliste noter'!A236,\"\")","v":""},{"$f":"IF($C131=1,'Sjekkliste noter'!B236,\"\")","v":""},null,{"$f":"IF($C131=1,'Sjekkliste noter'!N236,\"\")","v":""}]
[{"$f":"+'Sjekkliste noter'!A239","v":132},{"$f":"IF('Sjekkliste noter'!M239<>\"\",1,0)","v":0},0,{"$f":"IF($C132=1,'Sjekkliste noter'!A239,\"\")","v":""},{"$f":"IF($C132=1,'Sjekkliste noter'!B239,\"\")","v":""},null,{"$f":"IF($C132=1,'Sjekkliste noter'!N239,\"\")","v":""}]
[{"$f":"+'Sjekkliste noter'!A242","v":133},{"$f":"IF('Sjekkliste noter'!M242<>\"\",1,0)","v":0},0,{"$f":"IF($C133=1,'Sjekkliste noter'!A242,\"\")","v":""},{"$f":"IF($C133=1,'Sjekkliste noter'!B242,\"\")","v":""},null,{"$f":"IF($C133=1,'Sjekkliste noter'!N242,\"\")","v":""}]
[{"$f":"+'Sjekkliste noter'!A244","v":134},{"$f":"IF('Sjekkliste noter'!M244<>\"\",1,0)","v":0},0,{"$f":"IF($C134=1,'Sjekkliste noter'!A244,\"\")","v":""},{"$f":"IF($C134=1,'Sjekkliste noter'!B244,\"\")","v":""},null,{"$f":"IF($C134=1,'Sjekkliste noter'!N244,\"\")","v":""}]
[{"$f":"+'Sjekkliste noter'!A246","v":135},{"$f":"IF('Sjekkliste noter'!M246<>\"\",1,0)","v":0},0,{"$f":"IF($C135=1,'Sjekkliste noter'!A246,\"\")","v":""},{"$f":"IF($C135=1,'Sjekkliste noter'!B246,\"\")","v":""},null,{"$f":"IF($C135=1,'Sjekkliste noter'!N246,\"\")","v":""}]
[{"$f":"+'Sjekkliste noter'!A248","v":136},{"$f":"IF('Sjekkliste noter'!M248<>\"\",1,0)","v":0},0,{"$f":"IF($C136=1,'Sjekkliste noter'!A248,\"\")","v":""},{"$f":"IF($C136=1,'Sjekkliste noter'!B248,\"\")","v":""},null,{"$f":"IF($C136=1,'Sjekkliste noter'!N248,\"\")","v":""}]
[{"$f":"+'Sjekkliste noter'!A252","v":137},{"$f":"IF('Sjekkliste noter'!M252<>\"\",1,0)","v":0},0,{"$f":"IF($C137=1,'Sjekkliste noter'!A252,\"\")","v":""},{"$f":"IF($C137=1,'Sjekkliste noter'!B252,\"\")","v":""},null,{"$f":"IF($C137=1,'Sjekkliste noter'!N252,\"\")","v":""}]
[{"$f":"+'Sjekkliste noter'!A254","v":138},{"$f":"IF('Sjekkliste noter'!M254<>\"\",1,0)","v":0},0,{"$f":"IF($C138=1,'Sjekkliste noter'!A254,\"\")","v":""},{"$f":"IF($C138=1,'Sjekkliste noter'!B254,\"\")","v":""},null,{"$f":"IF($C138=1,'Sjekkliste noter'!N254,\"\")","v":""}]
[{"$f":"+'Sjekkliste noter'!A256","v":139},{"$f":"IF('Sjekkliste noter'!M256<>\"\",1,0)","v":0},0,{"$f":"IF($C139=1,'Sjekkliste noter'!A256,\"\")","v":""},{"$f":"IF($C139=1,'Sjekkliste noter'!B256,\"\")","v":""},null,{"$f":"IF($C139=1,'Sjekkliste noter'!N256,\"\")","v":""}]
[{"$f":"+'Sjekkliste noter'!A259","v":140},{"$f":"IF('Sjekkliste noter'!M259<>\"\",1,0)","v":0},0,{"$f":"IF($C140=1,'Sjekkliste noter'!A259,\"\")","v":""},{"$f":"IF($C140=1,'Sjekkliste noter'!B259,\"\")","v":""},null,{"$f":"IF($C140=1,'Sjekkliste noter'!N259,\"\")","v":""}]
[{"$f":"+'Sjekkliste noter'!A262","v":141},{"$f":"IF('Sjekkliste noter'!M262<>\"\",1,0)","v":0},0,{"$f":"IF($C141=1,'Sjekkliste noter'!A262,\"\")","v":""},{"$f":"IF($C141=1,'Sjekkliste noter'!B262,\"\")","v":""},null,{"$f":"IF($C141=1,'Sjekkliste noter'!N262,\"\")","v":""}]
[{"$f":"+'Sjekkliste noter'!A266","v":142},{"$f":"IF('Sjekkliste noter'!M266<>\"\",1,0)","v":0},0,{"$f":"IF($C142=1,'Sjekkliste noter'!A266,\"\")","v":""},{"$f":"IF($C142=1,'Sjekkliste noter'!B266,\"\")","v":""},null,{"$f":"IF($C142=1,'Sjekkliste noter'!N266,\"\")","v":""}]
[{"$f":"+'Sjekkliste noter'!A267","v":143},{"$f":"IF('Sjekkliste noter'!M267<>\"\",1,0)","v":0},0,{"$f":"IF($C143=1,'Sjekkliste noter'!A267,\"\")","v":""},{"$f":"IF($C143=1,'Sjekkliste noter'!B267,\"\")","v":""},null,{"$f":"IF($C143=1,'Sjekkliste noter'!N267,\"\")","v":""}]
[{"$f":"+'Sjekkliste noter'!A268","v":144},{"$f":"IF('Sjekkliste noter'!M268<>\"\",1,0)","v":0},0,{"$f":"IF($C144=1,'Sjekkliste noter'!A268,\"\")","v":""},{"$f":"IF($C144=1,'Sjekkliste noter'!B268,\"\")","v":""},null,{"$f":"IF($C144=1,'Sjekkliste noter'!N268,\"\")","v":""}]
[{"$f":"+'Sjekkliste noter'!A270","v":145},{"$f":"IF('Sjekkliste noter'!M270<>\"\",1,0)","v":0},0,{"$f":"IF($C145=1,'Sjekkliste noter'!A270,\"\")","v":""},{"$f":"IF($C145=1,'Sjekkliste noter'!B270,\"\")","v":""},null,{"$f":"IF($C145=1,'Sjekkliste noter'!N270,\"\")","v":""}]
[{"$f":"+'Sjekkliste noter'!A271","v":146},{"$f":"IF('Sjekkliste noter'!M271<>\"\",1,0)","v":0},0,{"$f":"IF($C146=1,'Sjekkliste noter'!A271,\"\")","v":""},{"$f":"IF($C146=1,'Sjekkliste noter'!B271,\"\")","v":""},null,{"$f":"IF($C146=1,'Sjekkliste noter'!N271,\"\")","v":""}]
[{"$f":"+'Sjekkliste noter'!A273","v":147},{"$f":"IF('Sjekkliste noter'!M273<>\"\",1,0)","v":0},0,{"$f":"IF($C147=1,'Sjekkliste noter'!A273,\"\")","v":""},{"$f":"IF($C147=1,'Sjekkliste noter'!B273,\"\")","v":""},null,{"$f":"IF($C147=1,'Sjekkliste noter'!N273,\"\")","v":""}]
[{"$f":"+'Sjekkliste noter'!A274","v":148},{"$f":"IF('Sjekkliste noter'!M274<>\"\",1,0)","v":0},0,{"$f":"IF($C148=1,'Sjekkliste noter'!A274,\"\")","v":""},{"$f":"IF($C148=1,'Sjekkliste noter'!B274,\"\")","v":""},null,{"$f":"IF($C148=1,'Sjekkliste noter'!N274,\"\")","v":""}]
[{"$f":"+'Sjekkliste noter'!A275","v":149},{"$f":"IF('Sjekkliste noter'!M275<>\"\",1,0)","v":0},0,{"$f":"IF($C149=1,'Sjekkliste noter'!A275,\"\")","v":""},{"$f":"IF($C149=1,'Sjekkliste noter'!B275,\"\")","v":""},null,{"$f":"IF($C149=1,'Sjekkliste noter'!N275,\"\")","v":""}]
[{"$f":"+'Sjekkliste noter'!A279","v":150},{"$f":"IF('Sjekkliste noter'!M279<>\"\",1,0)","v":0},0,{"$f":"IF($C150=1,'Sjekkliste noter'!A279,\"\")","v":""},{"$f":"IF($C150=1,'Sjekkliste noter'!B279,\"\")","v":""},null,{"$f":"IF($C150=1,'Sjekkliste noter'!N279,\"\")","v":""}]
[{"$f":"+'Sjekkliste noter'!A283","v":151},{"$f":"IF('Sjekkliste noter'!M283<>\"\",1,0)","v":0},0,{"$f":"IF($C151=1,'Sjekkliste noter'!A283,\"\")","v":""},{"$f":"IF($C151=1,'Sjekkliste noter'!B283,\"\")","v":""},null,{"$f":"IF($C151=1,'Sjekkliste noter'!N283,\"\")","v":""}]
[{"$f":"+'Sjekkliste noter'!A285","v":152},{"$f":"IF('Sjekkliste noter'!M285<>\"\",1,0)","v":0},0,{"$f":"IF($C152=1,'Sjekkliste noter'!A285,\"\")","v":""},{"$f":"IF($C152=1,'Sjekkliste noter'!B285,\"\")","v":""},null,{"$f":"IF($C152=1,'Sjekkliste noter'!N285,\"\")","v":""}]
[{"$f":"+'Sjekkliste noter'!A287","v":153},{"$f":"IF('Sjekkliste noter'!M287<>\"\",1,0)","v":0},0,{"$f":"IF($C153=1,'Sjekkliste noter'!A287,\"\")","v":""},{"$f":"IF($C153=1,'Sjekkliste noter'!B287,\"\")","v":""},null,{"$f":"IF($C153=1,'Sjekkliste noter'!N287,\"\")","v":""}]
[{"$f":"+'Sjekkliste noter'!A290","v":154},{"$f":"IF('Sjekkliste noter'!M290<>\"\",1,0)","v":0},0,{"$f":"IF($C154=1,'Sjekkliste noter'!A290,\"\")","v":""},{"$f":"IF($C154=1,'Sjekkliste noter'!B290,\"\")","v":""},null,{"$f":"IF($C154=1,'Sjekkliste noter'!N290,\"\")","v":""}]
[{"$f":"+'Sjekkliste noter'!A291","v":155},{"$f":"IF('Sjekkliste noter'!M291<>\"\",1,0)","v":0},0,{"$f":"IF($C155=1,'Sjekkliste noter'!A291,\"\")","v":""},{"$f":"IF($C155=1,'Sjekkliste noter'!B291,\"\")","v":""},null,{"$f":"IF($C155=1,'Sjekkliste noter'!N291,\"\")","v":""}]
[{"$f":"+'Sjekkliste noter'!A292","v":156},{"$f":"IF('Sjekkliste noter'!M292<>\"\",1,0)","v":0},0,{"$f":"IF($C156=1,'Sjekkliste noter'!A292,\"\")","v":""},{"$f":"IF($C156=1,'Sjekkliste noter'!B292,\"\")","v":""},null,{"$f":"IF($C156=1,'Sjekkliste noter'!N292,\"\")","v":""}]
[{"$f":"+'Sjekkliste noter'!A293","v":157},{"$f":"IF('Sjekkliste noter'!M293<>\"\",1,0)","v":0},0,{"$f":"IF($C157=1,'Sjekkliste noter'!A293,\"\")","v":""},{"$f":"IF($C157=1,'Sjekkliste noter'!B293,\"\")","v":""},null,{"$f":"IF($C157=1,'Sjekkliste noter'!N293,\"\")","v":""}]

{"sheet":"N_IB","index":6,"n_rows":158,"n_cols":7,"rows_kept":158,"cut":false,"hidden":true,"merged":[]}
[null,null,{"$f":"COUNTIF(C2:C160,\"=1\")","v":0},"IBsvar",{"$f":"+Forside!B2","v":0},{"$f":"+Forside!B3","v":2020},"Kommentarer"]
[{"$f":"+'Sjekkliste noter'!A16","v":1},{"$f":"IF('Sjekkliste noter'!L16<>\"\",1,0)","v":0},{"$f":"SUM(B2:B2)","v":0},{"$f":"IF($C2=1,'Sjekkliste noter'!A16,\"\")","v":""},{"$f":"IF($C2=1,'Sjekkliste noter'!B16,\"\")","v":""},null,{"$f":"IF($C2=1,'Sjekkliste noter'!N16,\"\")","v":""}]
[{"$f":"+'Sjekkliste noter'!A17","v":2},{"$f":"IF('Sjekkliste noter'!L17<>\"\",1,0)","v":0},0,{"$f":"IF($C3=1,'Sjekkliste noter'!A17,\"\")","v":""},{"$f":"IF($C3=1,'Sjekkliste noter'!B17,\"\")","v":""},null,{"$f":"IF($C3=1,'Sjekkliste noter'!N17,\"\")","v":""}]
[{"$f":"+'Sjekkliste noter'!A18","v":3},{"$f":"IF('Sjekkliste noter'!L18<>\"\",1,0)","v":0},0,{"$f":"IF($C4=1,'Sjekkliste noter'!A18,\"\")","v":""},{"$f":"IF($C4=1,'Sjekkliste noter'!B18,\"\")","v":""},null,{"$f":"IF($C4=1,'Sjekkliste noter'!N18,\"\")","v":""}]
[{"$f":"+'Sjekkliste noter'!A20","v":4},{"$f":"IF('Sjekkliste noter'!L20<>\"\",1,0)","v":0},0,{"$f":"IF($C5=1,'Sjekkliste noter'!A20,\"\")","v":""},{"$f":"IF($C5=1,'Sjekkliste noter'!B20,\"\")","v":""},null,{"$f":"IF($C5=1,'Sjekkliste noter'!N20,\"\")","v":""}]
[{"$f":"+'Sjekkliste noter'!A21","v":5},{"$f":"IF('Sjekkliste noter'!L21<>\"\",1,0)","v":0},0,{"$f":"IF($C6=1,'Sjekkliste noter'!A21,\"\")","v":""},{"$f":"IF($C6=1,'Sjekkliste noter'!B21,\"\")","v":""},null,{"$f":"IF($C6=1,'Sjekkliste noter'!N21,\"\")","v":""}]
[{"$f":"+'Sjekkliste noter'!A22","v":6},{"$f":"IF('Sjekkliste noter'!L22<>\"\",1,0)","v":0},0,{"$f":"IF($C7=1,'Sjekkliste noter'!A22,\"\")","v":""},{"$f":"IF($C7=1,'Sjekkliste noter'!B22,\"\")","v":""},null,{"$f":"IF($C7=1,'Sjekkliste noter'!N22,\"\")","v":""}]
[{"$f":"+'Sjekkliste noter'!A23","v":7},{"$f":"IF('Sjekkliste noter'!L23<>\"\",1,0)","v":0},0,{"$f":"IF($C8=1,'Sjekkliste noter'!A23,\"\")","v":""},{"$f":"IF($C8=1,'Sjekkliste noter'!B23,\"\")","v":""},null,{"$f":"IF($C8=1,'Sjekkliste noter'!N23,\"\")","v":""}]
[{"$f":"+'Sjekkliste noter'!A24","v":8},{"$f":"IF('Sjekkliste noter'!L24<>\"\",1,0)","v":0},0,{"$f":"IF($C9=1,'Sjekkliste noter'!A24,\"\")","v":""},{"$f":"IF($C9=1,'Sjekkliste noter'!B24,\"\")","v":""},null,{"$f":"IF($C9=1,'Sjekkliste noter'!N24,\"\")","v":""}]
[{"$f":"+'Sjekkliste noter'!A25","v":9},{"$f":"IF('Sjekkliste noter'!L25<>\"\",1,0)","v":0},0,{"$f":"IF($C10=1,'Sjekkliste noter'!A25,\"\")","v":""},{"$f":"IF($C10=1,'Sjekkliste noter'!B25,\"\")","v":""},null,{"$f":"IF($C10=1,'Sjekkliste noter'!N25,\"\")","v":""}]
[{"$f":"+'Sjekkliste noter'!A26","v":10},{"$f":"IF('Sjekkliste noter'!L26<>\"\",1,0)","v":0},0,{"$f":"IF($C11=1,'Sjekkliste noter'!A26,\"\")","v":""},{"$f":"IF($C11=1,'Sjekkliste noter'!B26,\"\")","v":""},null,{"$f":"IF($C11=1,'Sjekkliste noter'!N26,\"\")","v":""}]
[{"$f":"+'Sjekkliste noter'!A27","v":11},{"$f":"IF('Sjekkliste noter'!L27<>\"\",1,0)","v":0},0,{"$f":"IF($C12=1,'Sjekkliste noter'!A27,\"\")","v":""},{"$f":"IF($C12=1,'Sjekkliste noter'!B27,\"\")","v":""},null,{"$f":"IF($C12=1,'Sjekkliste noter'!N27,\"\")","v":""}]
[{"$f":"+'Sjekkliste noter'!A29","v":12},{"$f":"IF('Sjekkliste noter'!L29<>\"\",1,0)","v":0},0,{"$f":"IF($C13=1,'Sjekkliste noter'!A29,\"\")","v":""},{"$f":"IF($C13=1,'Sjekkliste noter'!B29,\"\")","v":""},null,{"$f":"IF($C13=1,'Sjekkliste noter'!N29,\"\")","v":""}]
[{"$f":"+'Sjekkliste noter'!A31","v":13},{"$f":"IF('Sjekkliste noter'!L31<>\"\",1,0)","v":0},0,{"$f":"IF($C14=1,'Sjekkliste noter'!A31,\"\")","v":""},{"$f":"IF($C14=1,'Sjekkliste noter'!B31,\"\")","v":""},null,{"$f":"IF($C14=1,'Sjekkliste noter'!N31,\"\")","v":""}]
[{"$f":"+'Sjekkliste noter'!A34","v":14},{"$f":"IF('Sjekkliste noter'!L34<>\"\",1,0)","v":0},0,{"$f":"IF($C15=1,'Sjekkliste noter'!A34,\"\")","v":""},{"$f":"IF($C15=1,'Sjekkliste noter'!B34,\"\")","v":""},null,{"$f":"IF($C15=1,'Sjekkliste noter'!N34,\"\")","v":""}]
[{"$f":"+'Sjekkliste noter'!A35","v":15},{"$f":"IF('Sjekkliste noter'!L35<>\"\",1,0)","v":0},0,{"$f":"IF($C16=1,'Sjekkliste noter'!A35,\"\")","v":""},{"$f":"IF($C16=1,'Sjekkliste noter'!B35,\"\")","v":""},null,{"$f":"IF($C16=1,'Sjekkliste noter'!N35,\"\")","v":""}]
[{"$f":"+'Sjekkliste noter'!A37","v":16},{"$f":"IF('Sjekkliste noter'!L37<>\"\",1,0)","v":0},0,{"$f":"IF($C17=1,'Sjekkliste noter'!A37,\"\")","v":""},{"$f":"IF($C17=1,'Sjekkliste noter'!B37,\"\")","v":""},null,{"$f":"IF($C17=1,'Sjekkliste noter'!N37,\"\")","v":""}]
[{"$f":"+'Sjekkliste noter'!A38","v":17},{"$f":"IF('Sjekkliste noter'!L38<>\"\",1,0)","v":0},0,{"$f":"IF($C18=1,'Sjekkliste noter'!A38,\"\")","v":""},{"$f":"IF($C18=1,'Sjekkliste noter'!B38,\"\")","v":""},null,{"$f":"IF($C18=1,'Sjekkliste noter'!N38,\"\")","v":""}]
[{"$f":"+'Sjekkliste noter'!A39","v":18},{"$f":"IF('Sjekkliste noter'!L39<>\"\",1,0)","v":0},0,{"$f":"IF($C19=1,'Sjekkliste noter'!A39,\"\")","v":""},{"$f":"IF($C19=1,'Sjekkliste noter'!B39,\"\")","v":""},null,{"$f":"IF($C19=1,'Sjekkliste noter'!N39,\"\")","v":""}]
[{"$f":"+'Sjekkliste noter'!A40","v":19},{"$f":"IF('Sjekkliste noter'!L40<>\"\",1,0)","v":0},0,{"$f":"IF($C20=1,'Sjekkliste noter'!A40,\"\")","v":""},{"$f":"IF($C20=1,'Sjekkliste noter'!B40,\"\")","v":""},null,{"$f":"IF($C20=1,'Sjekkliste noter'!N40,\"\")","v":""}]
[{"$f":"+'Sjekkliste noter'!A42","v":20},{"$f":"IF('Sjekkliste noter'!L42<>\"\",1,0)","v":0},0,{"$f":"IF($C21=1,'Sjekkliste noter'!A42,\"\")","v":""},{"$f":"IF($C21=1,'Sjekkliste noter'!B42,\"\")","v":""},null,{"$f":"IF($C21=1,'Sjekkliste noter'!N42,\"\")","v":""}]
[{"$f":"+'Sjekkliste noter'!A44","v":21},{"$f":"IF('Sjekkliste noter'!L44<>\"\",1,0)","v":0},0,{"$f":"IF($C22=1,'Sjekkliste noter'!A44,\"\")","v":""},{"$f":"IF($C22=1,'Sjekkliste noter'!B44,\"\")","v":""},null,{"$f":"IF($C22=1,'Sjekkliste noter'!N44,\"\")","v":""}]
[{"$f":"+'Sjekkliste noter'!A45","v":22},{"$f":"IF('Sjekkliste noter'!L45<>\"\",1,0)","v":0},0,{"$f":"IF($C23=1,'Sjekkliste noter'!A45,\"\")","v":""},{"$f":"IF($C23=1,'Sjekkliste noter'!B45,\"\")","v":""},null,{"$f":"IF($C23=1,'Sjekkliste noter'!N45,\"\")","v":""}]
[{"$f":"+'Sjekkliste noter'!A46","v":23},{"$f":"IF('Sjekkliste noter'!L46<>\"\",1,0)","v":0},0,{"$f":"IF($C24=1,'Sjekkliste noter'!A46,\"\")","v":""},{"$f":"IF($C24=1,'Sjekkliste noter'!B46,\"\")","v":""},null,{"$f":"IF($C24=1,'Sjekkliste noter'!N46,\"\")","v":""}]
[{"$f":"+'Sjekkliste noter'!A47","v":24},{"$f":"IF('Sjekkliste noter'!L47<>\"\",1,0)","v":0},0,{"$f":"IF($C25=1,'Sjekkliste noter'!A47,\"\")","v":""},{"$f":"IF($C25=1,'Sjekkliste noter'!B47,\"\")","v":""},null,{"$f":"IF($C25=1,'Sjekkliste noter'!N47,\"\")","v":""}]
[{"$f":"+'Sjekkliste noter'!A48","v":25},{"$f":"IF('Sjekkliste noter'!L48<>\"\",1,0)","v":0},0,{"$f":"IF($C26=1,'Sjekkliste noter'!A48,\"\")","v":""},{"$f":"IF($C26=1,'Sjekkliste noter'!B48,\"\")","v":""},null,{"$f":"IF($C26=1,'Sjekkliste noter'!N48,\"\")","v":""}]
[{"$f":"+'Sjekkliste noter'!A49","v":26},{"$f":"IF('Sjekkliste noter'!L49<>\"\",1,0)","v":0},0,{"$f":"IF($C27=1,'Sjekkliste noter'!A49,\"\")","v":""},{"$f":"IF($C27=1,'Sjekkliste noter'!B49,\"\")","v":""},null,{"$f":"IF($C27=1,'Sjekkliste noter'!N49,\"\")","v":""}]
[{"$f":"+'Sjekkliste noter'!A52","v":27},{"$f":"IF('Sjekkliste noter'!L52<>\"\",1,0)","v":0},0,{"$f":"IF($C28=1,'Sjekkliste noter'!A52,\"\")","v":""},{"$f":"IF($C28=1,'Sjekkliste noter'!B52,\"\")","v":""},null,{"$f":"IF($C28=1,'Sjekkliste noter'!N52,\"\")","v":""}]
[{"$f":"+'Sjekkliste noter'!A53","v":28},{"$f":"IF('Sjekkliste noter'!L53<>\"\",1,0)","v":0},0,{"$f":"IF($C29=1,'Sjekkliste noter'!A53,\"\")","v":""},{"$f":"IF($C29=1,'Sjekkliste noter'!B53,\"\")","v":""},null,{"$f":"IF($C29=1,'Sjekkliste noter'!N53,\"\")","v":""}]
[{"$f":"+'Sjekkliste noter'!A54","v":29},{"$f":"IF('Sjekkliste noter'!L54<>\"\",1,0)","v":0},0,{"$f":"IF($C30=1,'Sjekkliste noter'!A54,\"\")","v":""},{"$f":"IF($C30=1,'Sjekkliste noter'!B54,\"\")","v":""},null,{"$f":"IF($C30=1,'Sjekkliste noter'!N54,\"\")","v":""}]
[{"$f":"+'Sjekkliste noter'!A55","v":30},{"$f":"IF('Sjekkliste noter'!L55<>\"\",1,0)","v":0},0,{"$f":"IF($C31=1,'Sjekkliste noter'!A55,\"\")","v":""},{"$f":"IF($C31=1,'Sjekkliste noter'!B55,\"\")","v":""},null,{"$f":"IF($C31=1,'Sjekkliste noter'!N55,\"\")","v":""}]
[{"$f":"+'Sjekkliste noter'!A56","v":31},{"$f":"IF('Sjekkliste noter'!L56<>\"\",1,0)","v":0},0,{"$f":"IF($C32=1,'Sjekkliste noter'!A56,\"\")","v":""},{"$f":"IF($C32=1,'Sjekkliste noter'!B56,\"\")","v":""},null,{"$f":"IF($C32=1,'Sjekkliste noter'!N56,\"\")","v":""}]
[{"$f":"+'Sjekkliste noter'!A57","v":32},{"$f":"IF('Sjekkliste noter'!L57<>\"\",1,0)","v":0},0,{"$f":"IF($C33=1,'Sjekkliste noter'!A57,\"\")","v":""},{"$f":"IF($C33=1,'Sjekkliste noter'!B57,\"\")","v":""},null,{"$f":"IF($C33=1,'Sjekkliste noter'!N57,\"\")","v":""}]
[{"$f":"+'Sjekkliste noter'!A58","v":33},{"$f":"IF('Sjekkliste noter'!L58<>\"\",1,0)","v":0},{"$f":"SUM(B34:B34)","v":0},{"$f":"IF($C34=1,'Sjekkliste noter'!A58,\"\")","v":""},{"$f":"IF($C34=1,'Sjekkliste noter'!B58,\"\")","v":""},null,{"$f":"IF($C34=1,'Sjekkliste noter'!N58,\"\")","v":""}]
[{"$f":"+'Sjekkliste noter'!A60","v":34},{"$f":"IF('Sjekkliste noter'!L60<>\"\",1,0)","v":0},0,{"$f":"IF($C35=1,'Sjekkliste noter'!A60,\"\")","v":""},{"$f":"IF($C35=1,'Sjekkliste noter'!B60,\"\")","v":""},null,{"$f":"IF($C35=1,'Sjekkliste noter'!N60,\"\")","v":""}]
[{"$f":"+'Sjekkliste noter'!A62","v":35},{"$f":"IF('Sjekkliste noter'!L62<>\"\",1,0)","v":0},0,{"$f":"IF($C36=1,'Sjekkliste noter'!A62,\"\")","v":""},{"$f":"IF($C36=1,'Sjekkliste noter'!B62,\"\")","v":""},null,{"$f":"IF($C36=1,'Sjekkliste noter'!N62,\"\")","v":""}]
[{"$f":"+'Sjekkliste noter'!A64","v":36},{"$f":"IF('Sjekkliste noter'!L64<>\"\",1,0)","v":0},0,{"$f":"IF($C37=1,'Sjekkliste noter'!A64,\"\")","v":""},{"$f":"IF($C37=1,'Sjekkliste noter'!B64,\"\")","v":""},null,{"$f":"IF($C37=1,'Sjekkliste noter'!N64,\"\")","v":""}]
[{"$f":"+'Sjekkliste noter'!A65","v":37},{"$f":"IF('Sjekkliste noter'!L65<>\"\",1,0)","v":0},0,{"$f":"IF($C38=1,'Sjekkliste noter'!A65,\"\")","v":""},{"$f":"IF($C38=1,'Sjekkliste noter'!B65,\"\")","v":""},null,{"$f":"IF($C38=1,'Sjekkliste noter'!N65,\"\")","v":""}]
[{"$f":"+'Sjekkliste noter'!A66","v":38},{"$f":"IF('Sjekkliste noter'!L66<>\"\",1,0)","v":0},0,{"$f":"IF($C39=1,'Sjekkliste noter'!A66,\"\")","v":""},{"$f":"IF($C39=1,'Sjekkliste noter'!B66,\"\")","v":""},null,{"$f":"IF($C39=1,'Sjekkliste noter'!N66,\"\")","v":""}]
[{"$f":"+'Sjekkliste noter'!A67","v":39},{"$f":"IF('Sjekkliste noter'!L67<>\"\",1,0)","v":0},0,{"$f":"IF($C40=1,'Sjekkliste noter'!A67,\"\")","v":""},{"$f":"IF($C40=1,'Sjekkliste noter'!B67,\"\")","v":""},null,{"$f":"IF($C40=1,'Sjekkliste noter'!N67,\"\")","v":""}]
[{"$f":"+'Sjekkliste noter'!A69","v":40},{"$f":"IF('Sjekkliste noter'!L69<>\"\",1,0)","v":0},0,{"$f":"IF($C41=1,'Sjekkliste noter'!A69,\"\")","v":""},{"$f":"IF($C41=1,'Sjekkliste noter'!B69,\"\")","v":""},null,{"$f":"IF($C41=1,'Sjekkliste noter'!N69,\"\")","v":""}]
[{"$f":"+'Sjekkliste noter'!A70","v":41},{"$f":"IF('Sjekkliste noter'!L70<>\"\",1,0)","v":0},0,{"$f":"IF($C42=1,'Sjekkliste noter'!A70,\"\")","v":""},{"$f":"IF($C42=1,'Sjekkliste noter'!B70,\"\")","v":""},null,{"$f":"IF($C42=1,'Sjekkliste noter'!N70,\"\")","v":""}]
[{"$f":"+'Sjekkliste noter'!A71","v":42},{"$f":"IF('Sjekkliste noter'!L71<>\"\",1,0)","v":0},0,{"$f":"IF($C43=1,'Sjekkliste noter'!A71,\"\")","v":""},{"$f":"IF($C43=1,'Sjekkliste noter'!B71,\"\")","v":""},null,{"$f":"IF($C43=1,'Sjekkliste noter'!N71,\"\")","v":""}]
[{"$f":"+'Sjekkliste noter'!A73","v":43},{"$f":"IF('Sjekkliste noter'!L73<>\"\",1,0)","v":0},0,{"$f":"IF($C44=1,'Sjekkliste noter'!A73,\"\")","v":""},{"$f":"IF($C44=1,'Sjekkliste noter'!B73,\"\")","v":""},null,{"$f":"IF($C44=1,'Sjekkliste noter'!N73,\"\")","v":""}]
[{"$f":"+'Sjekkliste noter'!A75","v":44},{"$f":"IF('Sjekkliste noter'!L75<>\"\",1,0)","v":0},0,{"$f":"IF($C45=1,'Sjekkliste noter'!A75,\"\")","v":""},{"$f":"IF($C45=1,'Sjekkliste noter'!B75,\"\")","v":""},null,{"$f":"IF($C45=1,'Sjekkliste noter'!N75,\"\")","v":""}]
[{"$f":"+'Sjekkliste noter'!A76","v":45},{"$f":"IF('Sjekkliste noter'!L76<>\"\",1,0)","v":0},0,{"$f":"IF($C46=1,'Sjekkliste noter'!A76,\"\")","v":""},{"$f":"IF($C46=1,'Sjekkliste noter'!B76,\"\")","v":""},null,{"$f":"IF($C46=1,'Sjekkliste noter'!N76,\"\")","v":""}]
[{"$f":"+'Sjekkliste noter'!A77","v":46},{"$f":"IF('Sjekkliste noter'!L77<>\"\",1,0)","v":0},0,{"$f":"IF($C47=1,'Sjekkliste noter'!A77,\"\")","v":""},{"$f":"IF($C47=1,'Sjekkliste noter'!B77,\"\")","v":""},null,{"$f":"IF($C47=1,'Sjekkliste noter'!N77,\"\")","v":""}]
[{"$f":"+'Sjekkliste noter'!A81","v":47},{"$f":"IF('Sjekkliste noter'!L81<>\"\",1,0)","v":0},0,{"$f":"IF($C48=1,'Sjekkliste noter'!A81,\"\")","v":""},{"$f":"IF($C48=1,'Sjekkliste noter'!B81,\"\")","v":""},null,{"$f":"IF($C48=1,'Sjekkliste noter'!N81,\"\")","v":""}]
[{"$f":"+'Sjekkliste noter'!A82","v":48},{"$f":"IF('Sjekkliste noter'!L82<>\"\",1,0)","v":0},0,{"$f":"IF($C49=1,'Sjekkliste noter'!A82,\"\")","v":""},{"$f":"IF($C49=1,'Sjekkliste noter'!B82,\"\")","v":""},null,{"$f":"IF($C49=1,'Sjekkliste noter'!N82,\"\")","v":""}]
[{"$f":"+'Sjekkliste noter'!A83","v":49},{"$f":"IF('Sjekkliste noter'!L83<>\"\",1,0)","v":0},0,{"$f":"IF($C50=1,'Sjekkliste noter'!A83,\"\")","v":""},{"$f":"IF($C50=1,'Sjekkliste noter'!B83,\"\")","v":""},null,{"$f":"IF($C50=1,'Sjekkliste noter'!N83,\"\")","v":""}]
[{"$f":"+'Sjekkliste noter'!A85","v":50},{"$f":"IF('Sjekkliste noter'!L85<>\"\",1,0)","v":0},0,{"$f":"IF($C51=1,'Sjekkliste noter'!A85,\"\")","v":""},{"$f":"IF($C51=1,'Sjekkliste noter'!B85,\"\")","v":""},null,{"$f":"IF($C51=1,'Sjekkliste noter'!N85,\"\")","v":""}]
[{"$f":"+'Sjekkliste noter'!A86","v":51},{"$f":"IF('Sjekkliste noter'!L86<>\"\",1,0)","v":0},0,{"$f":"IF($C52=1,'Sjekkliste noter'!A86,\"\")","v":""},{"$f":"IF($C52=1,'Sjekkliste noter'!B86,\"\")","v":""},null,{"$f":"IF($C52=1,'Sjekkliste noter'!N86,\"\")","v":""}]
[{"$f":"+'Sjekkliste noter'!A88","v":52},{"$f":"IF('Sjekkliste noter'!L88<>\"\",1,0)","v":0},0,{"$f":"IF($C53=1,'Sjekkliste noter'!A88,\"\")","v":""},{"$f":"IF($C53=1,'Sjekkliste noter'!B88,\"\")","v":""},null,{"$f":"IF($C53=1,'Sjekkliste noter'!N88,\"\")","v":""}]
[{"$f":"+'Sjekkliste noter'!A90","v":53},{"$f":"IF('Sjekkliste noter'!L90<>\"\",1,0)","v":0},0,{"$f":"IF($C54=1,'Sjekkliste noter'!A90,\"\")","v":""},{"$f":"IF($C54=1,'Sjekkliste noter'!B90,\"\")","v":""},null,{"$f":"IF($C54=1,'Sjekkliste noter'!N90,\"\")","v":""}]
[{"$f":"+'Sjekkliste noter'!A93","v":54},{"$f":"IF('Sjekkliste noter'!L93<>\"\",1,0)","v":0},0,{"$f":"IF($C55=1,'Sjekkliste noter'!A93,\"\")","v":""},{"$f":"IF($C55=1,'Sjekkliste noter'!B93,\"\")","v":""},null,{"$f":"IF($C55=1,'Sjekkliste noter'!N93,\"\")","v":""}]
[{"$f":"+'Sjekkliste noter'!A94","v":55},{"$f":"IF('Sjekkliste noter'!L94<>\"\",1,0)","v":0},0,{"$f":"IF($C56=1,'Sjekkliste noter'!A94,\"\")","v":""},{"$f":"IF($C56=1,'Sjekkliste noter'!B94,\"\")","v":""},null,{"$f":"IF($C56=1,'Sjekkliste noter'!N94,\"\")","v":""}]
[{"$f":"+'Sjekkliste noter'!A95","v":56},{"$f":"IF('Sjekkliste noter'!L95<>\"\",1,0)","v":0},0,{"$f":"IF($C57=1,'Sjekkliste noter'!A95,\"\")","v":""},{"$f":"IF($C57=1,'Sjekkliste noter'!B95,\"\")","v":""},null,{"$f":"IF($C57=1,'Sjekkliste noter'!N95,\"\")","v":""}]
[{"$f":"+'Sjekkliste noter'!A97","v":57},{"$f":"IF('Sjekkliste noter'!L97<>\"\",1,0)","v":0},0,{"$f":"IF($C58=1,'Sjekkliste noter'!A97,\"\")","v":""},{"$f":"IF($C58=1,'Sjekkliste noter'!B97,\"\")","v":""},null,{"$f":"IF($C58=1,'Sjekkliste noter'!N97,\"\")","v":""}]
[{"$f":"+'Sjekkliste noter'!A99","v":58},{"$f":"IF('Sjekkliste noter'!L99<>\"\",1,0)","v":0},0,{"$f":"IF($C59=1,'Sjekkliste noter'!A99,\"\")","v":""},{"$f":"IF($C59=1,'Sjekkliste noter'!B99,\"\")","v":""},null,{"$f":"IF($C59=1,'Sjekkliste noter'!N99,\"\")","v":""}]
[{"$f":"+'Sjekkliste noter'!A102","v":59},{"$f":"IF('Sjekkliste noter'!L102<>\"\",1,0)","v":0},0,{"$f":"IF($C60=1,'Sjekkliste noter'!A102,\"\")","v":""},{"$f":"IF($C60=1,'Sjekkliste noter'!B102,\"\")","v":""},null,{"$f":"IF($C60=1,'Sjekkliste noter'!N102,\"\")","v":""}]
[{"$f":"+'Sjekkliste noter'!A103","v":60},{"$f":"IF('Sjekkliste noter'!L103<>\"\",1,0)","v":0},0,{"$f":"IF($C61=1,'Sjekkliste noter'!A103,\"\")","v":""},{"$f":"IF($C61=1,'Sjekkliste noter'!B103,\"\")","v":""},null,{"$f":"IF($C61=1,'Sjekkliste noter'!N103,\"\")","v":""}]
[{"$f":"+'Sjekkliste noter'!A104","v":61},{"$f":"IF('Sjekkliste noter'!L104<>\"\",1,0)","v":0},0,{"$f":"IF($C62=1,'Sjekkliste noter'!A104,\"\")","v":""},{"$f":"IF($C62=1,'Sjekkliste noter'!B104,\"\")","v":""},null,{"$f":"IF($C62=1,'Sjekkliste noter'!N104,\"\")","v":""}]
[{"$f":"+'Sjekkliste noter'!A107","v":62},{"$f":"IF('Sjekkliste noter'!L107<>\"\",1,0)","v":0},0,{"$f":"IF($C63=1,'Sjekkliste noter'!A107,\"\")","v":""},{"$f":"IF($C63=1,'Sjekkliste noter'!B107,\"\")","v":""},null,{"$f":"IF($C63=1,'Sjekkliste noter'!N107,\"\")","v":""}]
[{"$f":"+'Sjekkliste noter'!A108","v":63},{"$f":"IF('Sjekkliste noter'!L108<>\"\",1,0)","v":0},0,{"$f":"IF($C64=1,'Sjekkliste noter'!A108,\"\")","v":""},{"$f":"IF($C64=1,'Sjekkliste noter'!B108,\"\")","v":""},null,{"$f":"IF($C64=1,'Sjekkliste noter'!N108,\"\")","v":""}]
[{"$f":"+'Sjekkliste noter'!A111","v":64},{"$f":"IF('Sjekkliste noter'!L111<>\"\",1,0)","v":0},0,{"$f":"IF($C65=1,'Sjekkliste noter'!A111,\"\")","v":""},{"$f":"IF($C65=1,'Sjekkliste noter'!B111,\"\")","v":""},null,{"$f":"IF($C65=1,'Sjekkliste noter'!N111,\"\")","v":""}]
[{"$f":"+'Sjekkliste noter'!A113","v":65},{"$f":"IF('Sjekkliste noter'!L113<>\"\",1,0)","v":0},{"$f":"SUM(B66:B66)","v":0},{"$f":"IF($C66=1,'Sjekkliste noter'!A113,\"\")","v":""},{"$f":"IF($C66=1,'Sjekkliste noter'!B113,\"\")","v":""},null,{"$f":"IF($C66=1,'Sjekkliste noter'!N113,\"\")","v":""}]
[{"$f":"+'Sjekkliste noter'!A115","v":66},{"$f":"IF('Sjekkliste noter'!L115<>\"\",1,0)","v":0},0,{"$f":"IF($C67=1,'Sjekkliste noter'!A115,\"\")","v":""},{"$f":"IF($C67=1,'Sjekkliste noter'!B115,\"\")","v":""},null,{"$f":"IF($C67=1,'Sjekkliste noter'!N115,\"\")","v":""}]
[{"$f":"+'Sjekkliste noter'!A116","v":67},{"$f":"IF('Sjekkliste noter'!L116<>\"\",1,0)","v":0},0,{"$f":"IF($C68=1,'Sjekkliste noter'!A116,\"\")","v":""},{"$f":"IF($C68=1,'Sjekkliste noter'!B116,\"\")","v":""},null,{"$f":"IF($C68=1,'Sjekkliste noter'!N116,\"\")","v":""}]
[{"$f":"+'Sjekkliste noter'!A117","v":68},{"$f":"IF('Sjekkliste noter'!L117<>\"\",1,0)","v":0},0,{"$f":"IF($C69=1,'Sjekkliste noter'!A117,\"\")","v":""},{"$f":"IF($C69=1,'Sjekkliste noter'!B117,\"\")","v":""},null,{"$f":"IF($C69=1,'Sjekkliste noter'!N117,\"\")","v":""}]
[{"$f":"+'Sjekkliste noter'!A118","v":69},{"$f":"IF('Sjekkliste noter'!L118<>\"\",1,0)","v":0},0,{"$f":"IF($C70=1,'Sjekkliste noter'!A118,\"\")","v":""},{"$f":"IF($C70=1,'Sjekkliste noter'!B118,\"\")","v":""},null,{"$f":"IF($C70=1,'Sjekkliste noter'!N118,\"\")","v":""}]
[{"$f":"+'Sjekkliste noter'!A120","v":70},{"$f":"IF('Sjekkliste noter'!L120<>\"\",1,0)","v":0},0,{"$f":"IF($C71=1,'Sjekkliste noter'!A120,\"\")","v":""},{"$f":"IF($C71=1,'Sjekkliste noter'!B120,\"\")","v":""},null,{"$f":"IF($C71=1,'Sjekkliste noter'!N120,\"\")","v":""}]
[{"$f":"+'Sjekkliste noter'!A122","v":71},{"$f":"IF('Sjekkliste noter'!L122<>\"\",1,0)","v":0},0,{"$f":"IF($C72=1,'Sjekkliste noter'!A122,\"\")","v":""},{"$f":"IF($C72=1,'Sjekkliste noter'!B122,\"\")","v":""},null,{"$f":"IF($C72=1,'Sjekkliste noter'!N122,\"\")","v":""}]
[{"$f":"+'Sjekkliste noter'!A124","v":72},{"$f":"IF('Sjekkliste noter'!L124<>\"\",1,0)","v":0},0,{"$f":"IF($C73=1,'Sjekkliste noter'!A124,\"\")","v":""},{"$f":"IF($C73=1,'Sjekkliste noter'!B124,\"\")","v":""},null,{"$f":"IF($C73=1,'Sjekkliste noter'!N124,\"\")","v":""}]
[{"$f":"+'Sjekkliste noter'!A129","v":73},{"$f":"IF('Sjekkliste noter'!L129<>\"\",1,0)","v":0},0,{"$f":"IF($C74=1,'Sjekkliste noter'!A129,\"\")","v":""},{"$f":"IF($C74=1,'Sjekkliste noter'!B129,\"\")","v":""},null,{"$f":"IF($C74=1,'Sjekkliste noter'!N129,\"\")","v":""}]
[{"$f":"+'Sjekkliste noter'!A133","v":74},{"$f":"IF('Sjekkliste noter'!L133<>\"\",1,0)","v":0},0,{"$f":"IF($C75=1,'Sjekkliste noter'!A133,\"\")","v":""},{"$f":"IF($C75=1,'Sjekkliste noter'!B133,\"\")","v":""},null,{"$f":"IF($C75=1,'Sjekkliste noter'!N133,\"\")","v":""}]
[{"$f":"+'Sjekkliste noter'!A134","v":75},{"$f":"IF('Sjekkliste noter'!L134<>\"\",1,0)","v":0},0,{"$f":"IF($C76=1,'Sjekkliste noter'!A134,\"\")","v":""},{"$f":"IF($C76=1,'Sjekkliste noter'!B134,\"\")","v":""},null,{"$f":"IF($C76=1,'Sjekkliste noter'!N134,\"\")","v":""}]
[{"$f":"+'Sjekkliste noter'!A135","v":76},{"$f":"IF('Sjekkliste noter'!L135<>\"\",1,0)","v":0},0,{"$f":"IF($C77=1,'Sjekkliste noter'!A135,\"\")","v":""},{"$f":"IF($C77=1,'Sjekkliste noter'!B135,\"\")","v":""},null,{"$f":"IF($C77=1,'Sjekkliste noter'!N135,\"\")","v":""}]
[{"$f":"+'Sjekkliste noter'!A137","v":77},{"$f":"IF('Sjekkliste noter'!L137<>\"\",1,0)","v":0},0,{"$f":"IF($C78=1,'Sjekkliste noter'!A137,\"\")","v":""},{"$f":"IF($C78=1,'Sjekkliste noter'!B137,\"\")","v":""},null,{"$f":"IF($C78=1,'Sjekkliste noter'!N137,\"\")","v":""}]
[{"$f":"+'Sjekkliste noter'!A141","v":78},{"$f":"IF('Sjekkliste noter'!L141<>\"\",1,0)","v":0},0,{"$f":"IF($C79=1,'Sjekkliste noter'!A141,\"\")","v":""},{"$f":"IF($C79=1,'Sjekkliste noter'!B141,\"\")","v":""},null,{"$f":"IF($C79=1,'Sjekkliste noter'!N141,\"\")","v":""}]
[{"$f":"+'Sjekkliste noter'!A144","v":79},{"$f":"IF('Sjekkliste noter'!L144<>\"\",1,0)","v":0},0,{"$f":"IF($C80=1,'Sjekkliste noter'!A144,\"\")","v":""},{"$f":"IF($C80=1,'Sjekkliste noter'!B144,\"\")","v":""},null,{"$f":"IF($C80=1,'Sjekkliste noter'!N144,\"\")","v":""}]
[{"$f":"+'Sjekkliste noter'!A147","v":80},{"$f":"IF('Sjekkliste noter'!L147<>\"\",1,0)","v":0},0,{"$f":"IF($C81=1,'Sjekkliste noter'!A147,\"\")","v":""},{"$f":"IF($C81=1,'Sjekkliste noter'!B147,\"\")","v":""},null,{"$f":"IF($C81=1,'Sjekkliste noter'!N147,\"\")","v":""}]
[{"$f":"+'Sjekkliste noter'!A148","v":81},{"$f":"IF('Sjekkliste noter'!L148<>\"\",1,0)","v":0},0,{"$f":"IF($C82=1,'Sjekkliste noter'!A148,\"\")","v":""},{"$f":"IF($C82=1,'Sjekkliste noter'!B148,\"\")","v":""},null,{"$f":"IF($C82=1,'Sjekkliste noter'!N148,\"\")","v":""}]
[{"$f":"+'Sjekkliste noter'!A149","v":82},{"$f":"IF('Sjekkliste noter'!L149<>\"\",1,0)","v":0},0,{"$f":"IF($C83=1,'Sjekkliste noter'!A149,\"\")","v":""},{"$f":"IF($C83=1,'Sjekkliste noter'!B149,\"\")","v":""},null,{"$f":"IF($C83=1,'Sjekkliste noter'!N149,\"\")","v":""}]
[{"$f":"+'Sjekkliste noter'!A151","v":83},{"$f":"IF('Sjekkliste noter'!L151<>\"\",1,0)","v":0},0,{"$f":"IF($C84=1,'Sjekkliste noter'!A151,\"\")","v":""},{"$f":"IF($C84=1,'Sjekkliste noter'!B151,\"\")","v":""},null,{"$f":"IF($C84=1,'Sjekkliste noter'!N151,\"\")","v":""}]
[{"$f":"+'Sjekkliste noter'!A152","v":84},{"$f":"IF('Sjekkliste noter'!L152<>\"\",1,0)","v":0},0,{"$f":"IF($C85=1,'Sjekkliste noter'!A152,\"\")","v":""},{"$f":"IF($C85=1,'Sjekkliste noter'!B152,\"\")","v":""},null,{"$f":"IF($C85=1,'Sjekkliste noter'!N152,\"\")","v":""}]
[{"$f":"+'Sjekkliste noter'!A153","v":85},{"$f":"IF('Sjekkliste noter'!L153<>\"\",1,0)","v":0},0,{"$f":"IF($C86=1,'Sjekkliste noter'!A153,\"\")","v":""},{"$f":"IF($C86=1,'Sjekkliste noter'!B153,\"\")","v":""},null,{"$f":"IF($C86=1,'Sjekkliste noter'!N153,\"\")","v":""}]
[{"$f":"+'Sjekkliste noter'!A156","v":86},{"$f":"IF('Sjekkliste noter'!L156<>\"\",1,0)","v":0},0,{"$f":"IF($C87=1,'Sjekkliste noter'!A156,\"\")","v":""},{"$f":"IF($C87=1,'Sjekkliste noter'!B156,\"\")","v":""},null,{"$f":"IF($C87=1,'Sjekkliste noter'!N156,\"\")","v":""}]
[{"$f":"+'Sjekkliste noter'!A160","v":87},{"$f":"IF('Sjekkliste noter'!L160<>\"\",1,0)","v":0},0,{"$f":"IF($C88=1,'Sjekkliste noter'!A160,\"\")","v":""},{"$f":"IF($C88=1,'Sjekkliste noter'!B160,\"\")","v":""},null,{"$f":"IF($C88=1,'Sjekkliste noter'!N160,\"\")","v":""}]
[{"$f":"+'Sjekkliste noter'!A161","v":88},{"$f":"IF('Sjekkliste noter'!L161<>\"\",1,0)","v":0},0,{"$f":"IF($C89=1,'Sjekkliste noter'!A161,\"\")","v":""},{"$f":"IF($C89=1,'Sjekkliste noter'!B161,\"\")","v":""},null,{"$f":"IF($C89=1,'Sjekkliste noter'!N161,\"\")","v":""}]
[{"$f":"+'Sjekkliste noter'!A162","v":89},{"$f":"IF('Sjekkliste noter'!L162<>\"\",1,0)","v":0},0,{"$f":"IF($C90=1,'Sjekkliste noter'!A162,\"\")","v":""},{"$f":"IF($C90=1,'Sjekkliste noter'!B162,\"\")","v":""},null,{"$f":"IF($C90=1,'Sjekkliste noter'!N162,\"\")","v":""}]
[{"$f":"+'Sjekkliste noter'!A163","v":90},{"$f":"IF('Sjekkliste noter'!L163<>\"\",1,0)","v":0},0,{"$f":"IF($C91=1,'Sjekkliste noter'!A163,\"\")","v":""},{"$f":"IF($C91=1,'Sjekkliste noter'!B163,\"\")","v":""},null,{"$f":"IF($C91=1,'Sjekkliste noter'!N163,\"\")","v":""}]
[{"$f":"+'Sjekkliste noter'!A167","v":91},{"$f":"IF('Sjekkliste noter'!L167<>\"\",1,0)","v":0},0,{"$f":"IF($C92=1,'Sjekkliste noter'!A167,\"\")","v":""},{"$f":"IF($C92=1,'Sjekkliste noter'!B167,\"\")","v":""},null,{"$f":"IF($C92=1,'Sjekkliste noter'!N167,\"\")","v":""}]
[{"$f":"+'Sjekkliste noter'!A168","v":92},{"$f":"IF('Sjekkliste noter'!L168<>\"\",1,0)","v":0},0,{"$f":"IF($C93=1,'Sjekkliste noter'!A168,\"\")","v":""},{"$f":"IF($C93=1,'Sjekkliste noter'!B168,\"\")","v":""},null,{"$f":"IF($C93=1,'Sjekkliste noter'!N168,\"\")","v":""}]
[{"$f":"+'Sjekkliste noter'!A169","v":93},{"$f":"IF('Sjekkliste noter'!L169<>\"\",1,0)","v":0},0,{"$f":"IF($C94=1,'Sjekkliste noter'!A169,\"\")","v":""},{"$f":"IF($C94=1,'Sjekkliste noter'!B169,\"\")","v":""},null,{"$f":"IF($C94=1,'Sjekkliste noter'!N169,\"\")","v":""}]
[{"$f":"+'Sjekkliste noter'!A170","v":94},{"$f":"IF('Sjekkliste noter'!L170<>\"\",1,0)","v":0},0,{"$f":"IF($C95=1,'Sjekkliste noter'!A170,\"\")","v":""},{"$f":"IF($C95=1,'Sjekkliste noter'!B170,\"\")","v":""},null,{"$f":"IF($C95=1,'Sjekkliste noter'!N170,\"\")","v":""}]
[{"$f":"+'Sjekkliste noter'!A171","v":95},{"$f":"IF('Sjekkliste noter'!L171<>\"\",1,0)","v":0},0,{"$f":"IF($C96=1,'Sjekkliste noter'!A171,\"\")","v":""},{"$f":"IF($C96=1,'Sjekkliste noter'!B171,\"\")","v":""},null,{"$f":"IF($C96=1,'Sjekkliste noter'!N171,\"\")","v":""}]
[{"$f":"+'Sjekkliste noter'!A173","v":96},{"$f":"IF('Sjekkliste noter'!L173<>\"\",1,0)","v":0},0,{"$f":"IF($C97=1,'Sjekkliste noter'!A173,\"\")","v":""},{"$f":"IF($C97=1,'Sjekkliste noter'!B173,\"\")","v":""},null,{"$f":"IF($C97=1,'Sjekkliste noter'!N173,\"\")","v":""}]
[{"$f":"+'Sjekkliste noter'!A174","v":97},{"$f":"IF('Sjekkliste noter'!L174<>\"\",1,0)","v":0},{"$f":"SUM(B98:B98)","v":0},{"$f":"IF($C98=1,'Sjekkliste noter'!A174,\"\")","v":""},{"$f":"IF($C98=1,'Sjekkliste noter'!B174,\"\")","v":""},null,{"$f":"IF($C98=1,'Sjekkliste noter'!N174,\"\")","v":""}]
[{"$f":"+'Sjekkliste noter'!A175","v":98},{"$f":"IF('Sjekkliste noter'!L175<>\"\",1,0)","v":0},0,{"$f":"IF($C99=1,'Sjekkliste noter'!A175,\"\")","v":""},{"$f":"IF($C99=1,'Sjekkliste noter'!B175,\"\")","v":""},null,{"$f":"IF($C99=1,'Sjekkliste noter'!N175,\"\")","v":""}]
[{"$f":"+'Sjekkliste noter'!A177","v":99},{"$f":"IF('Sjekkliste noter'!L177<>\"\",1,0)","v":0},0,{"$f":"IF($C100=1,'Sjekkliste noter'!A177,\"\")","v":""},{"$f":"IF($C100=1,'Sjekkliste noter'!B177,\"\")","v":""},null,{"$f":"IF($C100=1,'Sjekkliste noter'!N177,\"\")","v":""}]
[{"$f":"+'Sjekkliste noter'!A178","v":100},{"$f":"IF('Sjekkliste noter'!L178<>\"\",1,0)","v":0},0,{"$f":"IF($C101=1,'Sjekkliste noter'!A178,\"\")","v":""},{"$f":"IF($C101=1,'Sjekkliste noter'!B178,\"\")","v":""},null,{"$f":"IF($C101=1,'Sjekkliste noter'!N178,\"\")","v":""}]
[{"$f":"+'Sjekkliste noter'!A179","v":101},{"$f":"IF('Sjekkliste noter'!L179<>\"\",1,0)","v":0},0,{"$f":"IF($C102=1,'Sjekkliste noter'!A179,\"\")","v":""},{"$f":"IF($C102=1,'Sjekkliste noter'!B179,\"\")","v":""},null,{"$f":"IF($C102=1,'Sjekkliste noter'!N179,\"\")","v":""}]
[{"$f":"+'Sjekkliste noter'!A180","v":102},{"$f":"IF('Sjekkliste noter'!L180<>\"\",1,0)","v":0},0,{"$f":"IF($C103=1,'Sjekkliste noter'!A180,\"\")","v":""},{"$f":"IF($C103=1,'Sjekkliste noter'!B180,\"\")","v":""},null,{"$f":"IF($C103=1,'Sjekkliste noter'!N180,\"\")","v":""}]
[{"$f":"+'Sjekkliste noter'!A181","v":103},{"$f":"IF('Sjekkliste noter'!L181<>\"\",1,0)","v":0},0,{"$f":"IF($C104=1,'Sjekkliste noter'!A181,\"\")","v":""},{"$f":"IF($C104=1,'Sjekkliste noter'!B181,\"\")","v":""},null,{"$f":"IF($C104=1,'Sjekkliste noter'!N181,\"\")","v":""}]
[{"$f":"+'Sjekkliste noter'!A184","v":104},{"$f":"IF('Sjekkliste noter'!L184<>\"\",1,0)","v":0},0,{"$f":"IF($C105=1,'Sjekkliste noter'!A184,\"\")","v":""},{"$f":"IF($C105=1,'Sjekkliste noter'!B184,\"\")","v":""},null,{"$f":"IF($C105=1,'Sjekkliste noter'!N184,\"\")","v":""}]
[{"$f":"+'Sjekkliste noter'!A187","v":105},{"$f":"IF('Sjekkliste noter'!L187<>\"\",1,0)","v":0},0,{"$f":"IF($C106=1,'Sjekkliste noter'!A187,\"\")","v":""},{"$f":"IF($C106=1,'Sjekkliste noter'!B187,\"\")","v":""},null,{"$f":"IF($C106=1,'Sjekkliste noter'!N187,\"\")","v":""}]
[{"$f":"+'Sjekkliste noter'!A188","v":106},{"$f":"IF('Sjekkliste noter'!L188<>\"\",1,0)","v":0},0,{"$f":"IF($C107=1,'Sjekkliste noter'!A188,\"\")","v":""},{"$f":"IF($C107=1,'Sjekkliste noter'!B188,\"\")","v":""},null,{"$f":"IF($C107=1,'Sjekkliste noter'!N188,\"\")","v":""}]
[{"$f":"+'Sjekkliste noter'!A189","v":107},{"$f":"IF('Sjekkliste noter'!L189<>\"\",1,0)","v":0},0,{"$f":"IF($C108=1,'Sjekkliste noter'!A189,\"\")","v":""},{"$f":"IF($C108=1,'Sjekkliste noter'!B189,\"\")","v":""},null,{"$f":"IF($C108=1,'Sjekkliste noter'!N189,\"\")","v":""}]
[{"$f":"+'Sjekkliste noter'!A190","v":108},{"$f":"IF('Sjekkliste noter'!L190<>\"\",1,0)","v":0},0,{"$f":"IF($C109=1,'Sjekkliste noter'!A190,\"\")","v":""},{"$f":"IF($C109=1,'Sjekkliste noter'!B190,\"\")","v":""},null,{"$f":"IF($C109=1,'Sjekkliste noter'!N190,\"\")","v":""}]
[{"$f":"+'Sjekkliste noter'!A191","v":109},{"$f":"IF('Sjekkliste noter'!L191<>\"\",1,0)","v":0},0,{"$f":"IF($C110=1,'Sjekkliste noter'!A191,\"\")","v":""},{"$f":"IF($C110=1,'Sjekkliste noter'!B191,\"\")","v":""},null,{"$f":"IF($C110=1,'Sjekkliste noter'!N191,\"\")","v":""}]
[{"$f":"+'Sjekkliste noter'!A194","v":110},{"$f":"IF('Sjekkliste noter'!L194<>\"\",1,0)","v":0},0,{"$f":"IF($C111=1,'Sjekkliste noter'!A194,\"\")","v":""},{"$f":"IF($C111=1,'Sjekkliste noter'!B194,\"\")","v":""},null,{"$f":"IF($C111=1,'Sjekkliste noter'!N194,\"\")","v":""}]
[{"$f":"+'Sjekkliste noter'!A195","v":111},{"$f":"IF('Sjekkliste noter'!L195<>\"\",1,0)","v":0},0,{"$f":"IF($C112=1,'Sjekkliste noter'!A195,\"\")","v":""},{"$f":"IF($C112=1,'Sjekkliste noter'!B195,\"\")","v":""},null,{"$f":"IF($C112=1,'Sjekkliste noter'!N195,\"\")","v":""}]
[{"$f":"+'Sjekkliste noter'!A196","v":112},{"$f":"IF('Sjekkliste noter'!L196<>\"\",1,0)","v":0},0,{"$f":"IF($C113=1,'Sjekkliste noter'!A196,\"\")","v":""},{"$f":"IF($C113=1,'Sjekkliste noter'!B196,\"\")","v":""},null,{"$f":"IF($C113=1,'Sjekkliste noter'!N196,\"\")","v":""}]
[{"$f":"+'Sjekkliste noter'!A197","v":113},{"$f":"IF('Sjekkliste noter'!L197<>\"\",1,0)","v":0},0,{"$f":"IF($C114=1,'Sjekkliste noter'!A197,\"\")","v":""},{"$f":"IF($C114=1,'Sjekkliste noter'!B197,\"\")","v":""},null,{"$f":"IF($C114=1,'Sjekkliste noter'!N197,\"\")","v":""}]
[{"$f":"+'Sjekkliste noter'!A198","v":114},{"$f":"IF('Sjekkliste noter'!L198<>\"\",1,0)","v":0},0,{"$f":"IF($C115=1,'Sjekkliste noter'!A198,\"\")","v":""},{"$f":"IF($C115=1,'Sjekkliste noter'!B198,\"\")","v":""},null,{"$f":"IF($C115=1,'Sjekkliste noter'!N198,\"\")","v":""}]
[{"$f":"+'Sjekkliste noter'!A199","v":115},{"$f":"IF('Sjekkliste noter'!L199<>\"\",1,0)","v":0},0,{"$f":"IF($C116=1,'Sjekkliste noter'!A199,\"\")","v":""},{"$f":"IF($C116=1,'Sjekkliste noter'!B199,\"\")","v":""},null,{"$f":"IF($C116=1,'Sjekkliste noter'!N199,\"\")","v":""}]
[{"$f":"+'Sjekkliste noter'!A200","v":116},{"$f":"IF('Sjekkliste noter'!L200<>\"\",1,0)","v":0},0,{"$f":"IF($C117=1,'Sjekkliste noter'!A200,\"\")","v":""},{"$f":"IF($C117=1,'Sjekkliste noter'!B200,\"\")","v":""},null,{"$f":"IF($C117=1,'Sjekkliste noter'!N200,\"\")","v":""}]
[{"$f":"+'Sjekkliste noter'!A201","v":117},{"$f":"IF('Sjekkliste noter'!L201<>\"\",1,0)","v":0},0,{"$f":"IF($C118=1,'Sjekkliste noter'!A201,\"\")","v":""},{"$f":"IF($C118=1,'Sjekkliste noter'!B201,\"\")","v":""},null,{"$f":"IF($C118=1,'Sjekkliste noter'!N201,\"\")","v":""}]
[{"$f":"+'Sjekkliste noter'!A202","v":118},{"$f":"IF('Sjekkliste noter'!L202<>\"\",1,0)","v":0},0,{"$f":"IF($C119=1,'Sjekkliste noter'!A202,\"\")","v":""},{"$f":"IF($C119=1,'Sjekkliste noter'!B202,\"\")","v":""},null,{"$f":"IF($C119=1,'Sjekkliste noter'!N202,\"\")","v":""}]
[{"$f":"+'Sjekkliste noter'!A204","v":119},{"$f":"IF('Sjekkliste noter'!L204<>\"\",1,0)","v":0},0,{"$f":"IF($C120=1,'Sjekkliste noter'!A204,\"\")","v":""},{"$f":"IF($C120=1,'Sjekkliste noter'!B204,\"\")","v":""},null,{"$f":"IF($C120=1,'Sjekkliste noter'!N204,\"\")","v":""}]
[{"$f":"+'Sjekkliste noter'!A206","v":120},{"$f":"IF('Sjekkliste noter'!L206<>\"\",1,0)","v":0},0,{"$f":"IF($C121=1,'Sjekkliste noter'!A206,\"\")","v":""},{"$f":"IF($C121=1,'Sjekkliste noter'!B206,\"\")","v":""},null,{"$f":"IF($C121=1,'Sjekkliste noter'!N206,\"\")","v":""}]
[{"$f":"+'Sjekkliste noter'!A209","v":121},{"$f":"IF('Sjekkliste noter'!L209<>\"\",1,0)","v":0},0,{"$f":"IF($C122=1,'Sjekkliste noter'!A209,\"\")","v":""},{"$f":"IF($C122=1,'Sjekkliste noter'!B209,\"\")","v":""},null,{"$f":"IF($C122=1,'Sjekkliste noter'!N209,\"\")","v":""}]
[{"$f":"+'Sjekkliste noter'!A211","v":122},{"$f":"IF('Sjekkliste noter'!L211<>\"\",1,0)","v":0},0,{"$f":"IF($C123=1,'Sjekkliste noter'!A211,\"\")","v":""},{"$f":"IF($C123=1,'Sjekkliste noter'!B211,\"\")","v":""},null,{"$f":"IF($C123=1,'Sjekkliste noter'!N211,\"\")","v":""}]
[{"$f":"+'Sjekkliste noter'!A215","v":123},{"$f":"IF('Sjekkliste noter'!L215<>\"\",1,0)","v":0},0,{"$f":"IF($C124=1,'Sjekkliste noter'!A215,\"\")","v":""},{"$f":"IF($C124=1,'Sjekkliste noter'!B215,\"\")","v":""},null,{"$f":"IF($C124=1,'Sjekkliste noter'!N215,\"\")","v":""}]
[{"$f":"+'Sjekkliste noter'!A220","v":124},{"$f":"IF('Sjekkliste noter'!L220<>\"\",1,0)","v":0},0,{"$f":"IF($C125=1,'Sjekkliste noter'!A220,\"\")","v":""},{"$f":"IF($C125=1,'Sjekkliste noter'!B220,\"\")","v":""},null,{"$f":"IF($C125=1,'Sjekkliste noter'!N220,\"\")","v":""}]
[{"$f":"+'Sjekkliste noter'!A222","v":125},{"$f":"IF('Sjekkliste noter'!L222<>\"\",1,0)","v":0},0,{"$f":"IF($C126=1,'Sjekkliste noter'!A222,\"\")","v":""},{"$f":"IF($C126=1,'Sjekkliste noter'!B222,\"\")","v":""},null,{"$f":"IF($C126=1,'Sjekkliste noter'!N222,\"\")","v":""}]
[{"$f":"+'Sjekkliste noter'!A224","v":126},{"$f":"IF('Sjekkliste noter'!L224<>\"\",1,0)","v":0},0,{"$f":"IF($C127=1,'Sjekkliste noter'!A224,\"\")","v":""},{"$f":"IF($C127=1,'Sjekkliste noter'!B224,\"\")","v":""},null,{"$f":"IF($C127=1,'Sjekkliste noter'!N224,\"\")","v":""}]
[{"$f":"+'Sjekkliste noter'!A226","v":127},{"$f":"IF('Sjekkliste noter'!L226<>\"\",1,0)","v":0},0,{"$f":"IF($C128=1,'Sjekkliste noter'!A226,\"\")","v":""},{"$f":"IF($C128=1,'Sjekkliste noter'!B226,\"\")","v":""},null,{"$f":"IF($C128=1,'Sjekkliste noter'!N226,\"\")","v":""}]
[{"$f":"+'Sjekkliste noter'!A227","v":128},{"$f":"IF('Sjekkliste noter'!L227<>\"\",1,0)","v":0},0,{"$f":"IF($C129=1,'Sjekkliste noter'!A227,\"\")","v":""},{"$f":"IF($C129=1,'Sjekkliste noter'!B227,\"\")","v":""},null,{"$f":"IF($C129=1,'Sjekkliste noter'!N227,\"\")","v":""}]
[{"$f":"+'Sjekkliste noter'!A228","v":129},{"$f":"IF('Sjekkliste noter'!L228<>\"\",1,0)","v":0},{"$f":"SUM(B130:B130)","v":0},{"$f":"IF($C130=1,'Sjekkliste noter'!A228,\"\")","v":""},{"$f":"IF($C130=1,'Sjekkliste noter'!B228,\"\")","v":""},null,{"$f":"IF($C130=1,'Sjekkliste noter'!N228,\"\")","v":""}]
[{"$f":"+'Sjekkliste noter'!A233","v":130},{"$f":"IF('Sjekkliste noter'!L233<>\"\",1,0)","v":0},0,{"$f":"IF($C131=1,'Sjekkliste noter'!A233,\"\")","v":""},{"$f":"IF($C131=1,'Sjekkliste noter'!B233,\"\")","v":""},null,{"$f":"IF($C131=1,'Sjekkliste noter'!N233,\"\")","v":""}]
[{"$f":"+'Sjekkliste noter'!A236","v":131},{"$f":"IF('Sjekkliste noter'!L236<>\"\",1,0)","v":0},0,{"$f":"IF($C132=1,'Sjekkliste noter'!A236,\"\")","v":""},{"$f":"IF($C132=1,'Sjekkliste noter'!B236,\"\")","v":""},null,{"$f":"IF($C132=1,'Sjekkliste noter'!N236,\"\")","v":""}]
[{"$f":"+'Sjekkliste noter'!A239","v":132},{"$f":"IF('Sjekkliste noter'!L239<>\"\",1,0)","v":0},0,{"$f":"IF($C133=1,'Sjekkliste noter'!A239,\"\")","v":""},{"$f":"IF($C133=1,'Sjekkliste noter'!B239,\"\")","v":""},null,{"$f":"IF($C133=1,'Sjekkliste noter'!N239,\"\")","v":""}]
[{"$f":"+'Sjekkliste noter'!A242","v":133},{"$f":"IF('Sjekkliste noter'!L242<>\"\",1,0)","v":0},0,{"$f":"IF($C134=1,'Sjekkliste noter'!A242,\"\")","v":""},{"$f":"IF($C134=1,'Sjekkliste noter'!B242,\"\")","v":""},null,{"$f":"IF($C134=1,'Sjekkliste noter'!N242,\"\")","v":""}]
[{"$f":"+'Sjekkliste noter'!A244","v":134},{"$f":"IF('Sjekkliste noter'!L244<>\"\",1,0)","v":0},0,{"$f":"IF($C135=1,'Sjekkliste noter'!A244,\"\")","v":""},{"$f":"IF($C135=1,'Sjekkliste noter'!B244,\"\")","v":""},null,{"$f":"IF($C135=1,'Sjekkliste noter'!N244,\"\")","v":""}]
[{"$f":"+'Sjekkliste noter'!A246","v":135},{"$f":"IF('Sjekkliste noter'!L246<>\"\",1,0)","v":0},0,{"$f":"IF($C136=1,'Sjekkliste noter'!A246,\"\")","v":""},{"$f":"IF($C136=1,'Sjekkliste noter'!B246,\"\")","v":""},null,{"$f":"IF($C136=1,'Sjekkliste noter'!N246,\"\")","v":""}]
[{"$f":"+'Sjekkliste noter'!A248","v":136},{"$f":"IF('Sjekkliste noter'!L248<>\"\",1,0)","v":0},0,{"$f":"IF($C137=1,'Sjekkliste noter'!A248,\"\")","v":""},{"$f":"IF($C137=1,'Sjekkliste noter'!B248,\"\")","v":""},null,{"$f":"IF($C137=1,'Sjekkliste noter'!N248,\"\")","v":""}]
[{"$f":"+'Sjekkliste noter'!A252","v":137},{"$f":"IF('Sjekkliste noter'!L252<>\"\",1,0)","v":0},0,{"$f":"IF($C138=1,'Sjekkliste noter'!A252,\"\")","v":""},{"$f":"IF($C138=1,'Sjekkliste noter'!B252,\"\")","v":""},null,{"$f":"IF($C138=1,'Sjekkliste noter'!N252,\"\")","v":""}]
[{"$f":"+'Sjekkliste noter'!A254","v":138},{"$f":"IF('Sjekkliste noter'!L254<>\"\",1,0)","v":0},0,{"$f":"IF($C139=1,'Sjekkliste noter'!A254,\"\")","v":""},{"$f":"IF($C139=1,'Sjekkliste noter'!B254,\"\")","v":""},null,{"$f":"IF($C139=1,'Sjekkliste noter'!N254,\"\")","v":""}]
[{"$f":"+'Sjekkliste noter'!A256","v":139},{"$f":"IF('Sjekkliste noter'!L256<>\"\",1,0)","v":0},0,{"$f":"IF($C140=1,'Sjekkliste noter'!A256,\"\")","v":""},{"$f":"IF($C140=1,'Sjekkliste noter'!B256,\"\")","v":""},null,{"$f":"IF($C140=1,'Sjekkliste noter'!N256,\"\")","v":""}]
[{"$f":"+'Sjekkliste noter'!A259","v":140},{"$f":"IF('Sjekkliste noter'!L259<>\"\",1,0)","v":0},0,{"$f":"IF($C141=1,'Sjekkliste noter'!A259,\"\")","v":""},{"$f":"IF($C141=1,'Sjekkliste noter'!B259,\"\")","v":""},null,{"$f":"IF($C141=1,'Sjekkliste noter'!N259,\"\")","v":""}]
[{"$f":"+'Sjekkliste noter'!A262","v":141},{"$f":"IF('Sjekkliste noter'!L262<>\"\",1,0)","v":0},0,{"$f":"IF($C142=1,'Sjekkliste noter'!A262,\"\")","v":""},{"$f":"IF($C142=1,'Sjekkliste noter'!B262,\"\")","v":""},null,{"$f":"IF($C142=1,'Sjekkliste noter'!N262,\"\")","v":""}]
[{"$f":"+'Sjekkliste noter'!A266","v":142},{"$f":"IF('Sjekkliste noter'!L266<>\"\",1,0)","v":0},0,{"$f":"IF($C143=1,'Sjekkliste noter'!A266,\"\")","v":""},{"$f":"IF($C143=1,'Sjekkliste noter'!B266,\"\")","v":""},null,{"$f":"IF($C143=1,'Sjekkliste noter'!N266,\"\")","v":""}]
[{"$f":"+'Sjekkliste noter'!A267","v":143},{"$f":"IF('Sjekkliste noter'!L267<>\"\",1,0)","v":0},0,{"$f":"IF($C144=1,'Sjekkliste noter'!A267,\"\")","v":""},{"$f":"IF($C144=1,'Sjekkliste noter'!B267,\"\")","v":""},null,{"$f":"IF($C144=1,'Sjekkliste noter'!N267,\"\")","v":""}]
[{"$f":"+'Sjekkliste noter'!A268","v":144},{"$f":"IF('Sjekkliste noter'!L268<>\"\",1,0)","v":0},0,{"$f":"IF($C145=1,'Sjekkliste noter'!A268,\"\")","v":""},{"$f":"IF($C145=1,'Sjekkliste noter'!B268,\"\")","v":""},null,{"$f":"IF($C145=1,'Sjekkliste noter'!N268,\"\")","v":""}]
[{"$f":"+'Sjekkliste noter'!A270","v":145},{"$f":"IF('Sjekkliste noter'!L270<>\"\",1,0)","v":0},0,{"$f":"IF($C146=1,'Sjekkliste noter'!A270,\"\")","v":""},{"$f":"IF($C146=1,'Sjekkliste noter'!B270,\"\")","v":""},null,{"$f":"IF($C146=1,'Sjekkliste noter'!N270,\"\")","v":""}]
[{"$f":"+'Sjekkliste noter'!A271","v":146},{"$f":"IF('Sjekkliste noter'!L271<>\"\",1,0)","v":0},0,{"$f":"IF($C147=1,'Sjekkliste noter'!A271,\"\")","v":""},{"$f":"IF($C147=1,'Sjekkliste noter'!B271,\"\")","v":""},null,{"$f":"IF($C147=1,'Sjekkliste noter'!N271,\"\")","v":""}]
[{"$f":"+'Sjekkliste noter'!A273","v":147},{"$f":"IF('Sjekkliste noter'!L273<>\"\",1,0)","v":0},0,{"$f":"IF($C148=1,'Sjekkliste noter'!A273,\"\")","v":""},{"$f":"IF($C148=1,'Sjekkliste noter'!B273,\"\")","v":""},null,{"$f":"IF($C148=1,'Sjekkliste noter'!N273,\"\")","v":""}]
[{"$f":"+'Sjekkliste noter'!A274","v":148},{"$f":"IF('Sjekkliste noter'!L274<>\"\",1,0)","v":0},0,{"$f":"IF($C149=1,'Sjekkliste noter'!A274,\"\")","v":""},{"$f":"IF($C149=1,'Sjekkliste noter'!B274,\"\")","v":""},null,{"$f":"IF($C149=1,'Sjekkliste noter'!N274,\"\")","v":""}]
[{"$f":"+'Sjekkliste noter'!A275","v":149},{"$f":"IF('Sjekkliste noter'!L275<>\"\",1,0)","v":0},0,{"$f":"IF($C150=1,'Sjekkliste noter'!A275,\"\")","v":""},{"$f":"IF($C150=1,'Sjekkliste noter'!B275,\"\")","v":""},null,{"$f":"IF($C150=1,'Sjekkliste noter'!N275,\"\")","v":""}]
[{"$f":"+'Sjekkliste noter'!A279","v":150},{"$f":"IF('Sjekkliste noter'!L279<>\"\",1,0)","v":0},0,{"$f":"IF($C151=1,'Sjekkliste noter'!A279,\"\")","v":""},{"$f":"IF($C151=1,'Sjekkliste noter'!B279,\"\")","v":""},null,{"$f":"IF($C151=1,'Sjekkliste noter'!N279,\"\")","v":""}]
[{"$f":"+'Sjekkliste noter'!A283","v":151},{"$f":"IF('Sjekkliste noter'!L283<>\"\",1,0)","v":0},0,{"$f":"IF($C152=1,'Sjekkliste noter'!A283,\"\")","v":""},{"$f":"IF($C152=1,'Sjekkliste noter'!B283,\"\")","v":""},null,{"$f":"IF($C152=1,'Sjekkliste noter'!N283,\"\")","v":""}]
[{"$f":"+'Sjekkliste noter'!A285","v":152},{"$f":"IF('Sjekkliste noter'!L285<>\"\",1,0)","v":0},0,{"$f":"IF($C153=1,'Sjekkliste noter'!A285,\"\")","v":""},{"$f":"IF($C153=1,'Sjekkliste noter'!B285,\"\")","v":""},null,{"$f":"IF($C153=1,'Sjekkliste noter'!N285,\"\")","v":""}]
[{"$f":"+'Sjekkliste noter'!A287","v":153},{"$f":"IF('Sjekkliste noter'!L287<>\"\",1,0)","v":0},0,{"$f":"IF($C154=1,'Sjekkliste noter'!A287,\"\")","v":""},{"$f":"IF($C154=1,'Sjekkliste noter'!B287,\"\")","v":""},null,{"$f":"IF($C154=1,'Sjekkliste noter'!N287,\"\")","v":""}]
[{"$f":"+'Sjekkliste noter'!A290","v":154},{"$f":"IF('Sjekkliste noter'!L290<>\"\",1,0)","v":0},0,{"$f":"IF($C155=1,'Sjekkliste noter'!A290,\"\")","v":""},{"$f":"IF($C155=1,'Sjekkliste noter'!B290,\"\")","v":""},null,{"$f":"IF($C155=1,'Sjekkliste noter'!N290,\"\")","v":""}]
[{"$f":"+'Sjekkliste noter'!A291","v":155},{"$f":"IF('Sjekkliste noter'!L291<>\"\",1,0)","v":0},0,{"$f":"IF($C156=1,'Sjekkliste noter'!A291,\"\")","v":""},{"$f":"IF($C156=1,'Sjekkliste noter'!B291,\"\")","v":""},null,{"$f":"IF($C156=1,'Sjekkliste noter'!N291,\"\")","v":""}]
[{"$f":"+'Sjekkliste noter'!A292","v":156},{"$f":"IF('Sjekkliste noter'!L292<>\"\",1,0)","v":0},0,{"$f":"IF($C157=1,'Sjekkliste noter'!A292,\"\")","v":""},{"$f":"IF($C157=1,'Sjekkliste noter'!B292,\"\")","v":""},null,{"$f":"IF($C157=1,'Sjekkliste noter'!N292,\"\")","v":""}]
[{"$f":"+'Sjekkliste noter'!A293","v":157},{"$f":"IF('Sjekkliste noter'!L293<>\"\",1,0)","v":0},0,{"$f":"IF($C158=1,'Sjekkliste noter'!A293,\"\")","v":""},{"$f":"IF($C158=1,'Sjekkliste noter'!B293,\"\")","v":""},null,{"$f":"IF($C158=1,'Sjekkliste noter'!N293,\"\")","v":""}]

{"sheet":"sjekkliste_noter_matrix","index":7,"n_rows":293,"n_cols":39,"rows_kept":293,"cut":false,"hidden":true,"merged":[]}
["F0","E0",{"$f":"\"F\"&COLUMN(A1)","v":"F1"},{"$f":"\"F\"&COLUMN(B1)","v":"F2"},"F3","F4","F5","F6","F7","F8","F9","F8F9",{"$f":"\"F\"&COLUMN(J1)","v":"F10"},{"$f":"\"F\"&COLUMN(K1)","v":"F11"},{"$f":"\"F\"&COLUMN(L1)","v":"F12"},"F13","F14","F15","F16","F17",{"$f":"\"F\"&COLUMN(R1)","v":"F18"},{"$f":"\"F\"&COLUMN(S1)","v":"F19"},{"$f":"\"F\"&COLUMN(T1)","v":"F20"},"F21",{"$f":"\"E\"&COLUMN(A1)","v":"E1"},"E2","E3","E4","E5","E6","E7","E8","E9",{"$f":"\"E\"&COLUMN(J1)","v":"E10"},"E11",{"$f":"\"E\"&COLUMN(L1)","v":"E12"},{"$f":"\"E\"&COLUMN(M1)","v":"E13"},{"$f":"\"E\"&COLUMN(N1)","v":"E14"},{"$f":"\"E\"&COLUMN(O1)","v":"E15"}]
["x","x","x","x","x","x","x","x","x","x","x","x","x","x","x","x","x","x","x","x","x","x","x","x","x","x","x","x","x","x","x","x","x","x","x","x","x","x","x"]
["x","x","x","x","x","x","x","x","x","x","x","x","x","x","x","x","x","x","x","x","x","x","x","x","x","x","x","x","x","x","x","x","x","x","x","x","x","x","x"]
["x","x","x","x","x","x","x","x","x","x","x","x","x","x","x","x","x","x","x","x","x","x","x","x","x","x","x","x","x","x","x","x","x","x","x","x","x","x","x"]
["x","x","x","x","x","x","x","x","x","x","x","x","x","x","x","x","x","x","x","x","x","x","x","x","x","x","x","x","x","x","x","x","x","x","x","x","x","x","x"]
["x","x","x","x","x","x","x","x","x","x","x","x","x","x","x","x","x","x","x","x","x","x","x","x","x","x","x","x","x","x","x","x","x","x","x","x","x","x","x"]
["x","x","x","x","x","x","x","x","x","x","x","x","x","x","x","x","x","x","x","x","x","x","x","x","x","x","x","x","x","x","x","x","x","x","x","x","x","x","x"]
["x",null,"x","x","x","x","x","x","x","x","x","x","x","x","x","x","x","x","x","x","x","x","x","x",null,"","","","x","","","","",""]
["x",null,"x","x","x","x","x","x","x","x","x","x","x","x","x","x","x","x","x","x","x","x","x","x",null,"","","","x","","","","",""]
["x",null,"x","x","x","x","x","x","x","x","x","x","x","x","x","x","x","x","x","x","x","x","x","x",null,"","","","","","","","",""]
["x",null,"x","x","x","x","x","x","x","x","x","x","x","x","x","x","x","x","x","x","x","x","x","x",null,"","","","","","","","",""]
["x",null,"x","x","x","x","x","x","x","x","x","x","x","x","x","x","x","x","x","x","x","x","x","x",null,"","","","","","","","",""]
["x",null,"x","x","x","x","x","x","x","x","x","x","x","x","x","x","x","x","x","x","x","x","x","x",null,"","","","","","","","",""]
["x",null,"x","x","x","x","x","x","x","x","x","x","x","x","x","x","x","x","x","x","x","x","x","x",null,"","","","","","","","x",""]
["x","x","x","x","x","x","x","x","x","x","x","x","x","x","x","x","x","x","x","x","x","x","x","x","x","","","","","","","","x",""]
["x",null,"x","x","x","x","x","x","x","x","x","x","x","x","x","x","x","x","x","x","x","x","x","x",null,"","","",null,"","","","x",""]
["x",null,"x","x","x","x","x","x","x","x","x","x","x","x","x","x","x","x","x","x","x","x","x","x",null,"","","","x","","","","x"]
["x",null,"x","x","x","x","x","x","x","x","x","x","x","x","x","x","x","x","x","x","x","x","x","x",null,"","","","x","","","","x"]
["x",null,"x","x","x","x","x","x","x","x","x","x","x","x","x","x","x","x","x","x","x","x","x","x",null,"","","","","","","","x",""]
["x",null,"x","x","x","x","x","x","x","x","x","x","x","x","x","x","x","x","x","x","x","x","x","x",null,"","","","","","","","x",""]
["x",null,"x","x","x","x","x","x","x","x","x","x","x","x","x","x","x","x","x","x","x","x","x","x",null,"","","","","","","","x",""]
["x",null,"x","x","x","x","x","x","x","x","x","x","x","x","x","x","x","x","x","x","x","x","x","x",null,"","","","","","","","x",""]
["x",null,"x","x","x","x","x","x","x","x","x","x","x","x","x","x","x","x","x","x","x","x","x","x",null,"","","","","","","","x",""]
["x",null,"x","x","x",null,"x","x","x","x","x","x","x","x","x","x","x","x","x","x","x","x","x","x",null,"","","","","","","","x",""]
["x",null,"x","x","x","x","x","x","x","x","x","x","x","x","x","x","x","x","x","x","x","x","x","x",null,"","","","","","","","x",""]
["x",null,"x","x","x","x","x","x","x","x","x","x","x","x","x","x","x","x","x","x","x","x","x","x",null,"","","","","","","","x",""]
["x",null,"x","x",null,"x","x","x","x","x","x","x","x","x","x","x","x","x","x","x","x","x","x","x",null,"","","","","","","","x",""]
["x",null,"x","x",null,"x","x","x","x","x","x","x","x","x","x","x","x","x","x","x","x","x","x","x",null,"","","","","","","","x",""]
["x",null,"x","x","x","x","x","x","x","x","x","x","x","x","x","x","x","x","x","x","x","x","x","x",null,"","","","","","","","x",""]
["x",null,"x","x","x","x","x","x","x","x","x","x","x","x","x","x","x","x","x","x","x","x","x","x",null,"","","","","","","","x",""]
["x",null,"x","x","x","x","x","x","x","x","x","x","x","x","x","x","x","x","x","x","x","x","x","x",null,"","","","","","","","x",""]
["x",null,"x","x","x","x","x","x","x","x","x","x","x","x","x","x","x","x","x","x","x","x","x","x",null,"","","","","","","","x",""]
["x",null,"x","x","x","x","x","x","x","x","x","x","x","x","x","x","x","x","x","x","x","x","x","x",null,"","","","","","","","x",""]
["x",null,"x","x","x","x","x","x","x","x","x","x","x","x","x","x","x","x","x","x","x","x","x","x",null,"","","","","","","","x",""]
["x",null,"x","x","x","x","x","x","x","x","x","x","x","x","x","x","x","x","x","x","x","x","x","x",null,"","","","","","","","x",""]
["x",null,"x","x","x","x","x","x","x","x","x","x","x","x","x","x","x","x","x","x","x","x","x","x",null,"","","","","","","","x",""]
["x",null,"x","x","x","x","x","x","x","x","x","x","x","x","x","x","x","x","x","x","x","x","x","x",null,"","","","x","","","","x",""]
["x",null,"x","x","x","x","x",null,"x","x","x","x","x","x","x","x","x","x","x","x","x","x","x","x",null,"","","","","","","",null,""]
["x",null,"x","x","x","x",null,"x","x","x","x","x","x","x","x","x","x","x","x","x","x","x","x","x",null,"","","","x","","","",null,""]
["x",null,"x","x","x","x","x","x","x","x","x","x","x","x","x","x","x","x","x","x","x","x","x","x",null,"","","","","","","","",""]
["x","x","x","x","x","x","x","x","x","x","x","x","x","x","x","x","x","x","x","x","x","x","x","x","x","","","","","","","","",""]
["x",null,"x","x","x","x","x","x","x","x","x","x","x",null,"x","x","x","x","x","x","x","x","x","x",null,"","","","","","","","",""]
["x",null,"x","x","x","x","x","x","x","x","x","x","x",null,"x","x","x","x","x","x","x","x","x","x",null,"","","","","","","","",""]
["x",null,"x","x","x","x","x","x","x","x","x","x","x",null,"x","x","x","x","x","x","x","x","x","x",null,"","","","","","","","",""]
["x",null,"x","x","x","x","x","x","x","x","x","x","x",null,"x","x","x","x","x","x","x","x","x","x",null,"","","","","","","","",""]
["x",null,"x","x","x","x","x","x","x","x","x","x","x",null,"x","x","x","x","x","x","x","x","x","x",null,"","","","","","","","",""]
["x",null,"x","x","x","x","x","x","x","x","x","x","x",null,"x","x","x","x","x","x","x","x","x","x"]
["x",null,"x","x","x","x","x","x","x","x","x","x","x",null,"x","x","x","x","x","x","x","x","x","x"]
["x",null,"x","x","x","x","x","x","x","x","x","x","x",null,"x","x","x","x","x","x","x","x","x","x"]
["x","x","x","x","x","x","x","x","x","x","x","x","x","x","x","x","x","x","x","x","x","x","x","x","x","","","","","","","","",""]
["x",null,"x","x",null,"x","x","x","x","x","x","x","x","x","x","x","x","x","x","x","x","x","x","x",null,"","","","","","","","",""]
["x",null,"x","x",null,"x","x","x","x","x","x","x","x","x","x","x","x","x","x","x","x","x","x","x",null,"","","","","","","","",""]
["x",null,"x","x",null,"x","x","x","x","x","x","x","x","x","x","x","x","x","x","x","x","x","x","x",null,"","","","","","","","",""]
["x",null,"x","x",null,"x","x","x","x","x","x","x","x","x","x","x","x","x","x","x","x","x","x","x",null,"","","","","","","","",""]
["x",null,"x","x",null,"x","x","x","x","x","x","x","x","x","x","x","x","x","x","x","x","x","x","x",null,"","","","","","","","",""]
["x",null,"x","x",null,"x","x","x","x","x","x","x","x","x","x","x","x","x","x","x","x","x","x","x",null,"","","","","","","","",""]
["x",null,"x","x",null,"x","x","x","x","x","x","x","x","x","x","x","x","x","x","x","x","x","x","x",null,"","","","","","","","",""]
["x",null,"x","x",null,"x","x","x","x","x","x","x","x","x","x","x","x","x","x","x","x","x","x","x",null,"","","","","","","","",""]
["x",null,"x","x",null,"x","x","x","x","x","x","x","x","x","x","x","x","x","x","x","x","x","x","x",null,"","","","","","","","",""]
["x",null,"x","x",null,"x","x","x","x","x","x","x","x","x","x","x","x","x","x","x","x","x","x","x",null,"","","","","","","","",""]
["x","x","x","x","x","x","x","x","x","x","x","x","x","x","x","x","x","x","x","x","x","x","x","x","x","","","","","","","","",""]
["x",null,"x","x","x","x","x","x","x","x","x","x","x","x","x","x","x","x","x","x","x","x","x","x",null,"x","","","","","","","",""]
["x",null,"x","x","x","x","x","x","x","x","x","x","x","x","x","x","x","x","x","x","x","x","x","x",null,"x","","","","","","","",""]
["x",null,"x","x","x","x","x","x","x","x","x","x","x","x","x","x","x","x","x","x","x","x","x","x",null,"x","","","","","","","",""]
["x",null,"x","x","x","x","x","x","x","x","x","x","x","x","x","x","x","x","x","x","x","x","x","x",null,"x","","","","","","","",""]
["x",null,"x","x","x","x","x","x","x","x","x","x","x","x","x","x","x","x","x","x","x","x","x","x",null,"x","","","","","","","",""]
["x",null,"x","x","x","x","x","x","x","x","x","x","x","x","x","x","x","x","x","x","x","x","x","x",null,"x","","","","","","","",""]
["x","x","x","x","x","x","x","x","x","x","x","x","x","x","x","x","x","x","x","x","x","x","x","x","x","","","","","","","","",""]
["x",null,"x","x","x","x","x","x","x","x","x","x","x","x","x","x","x","x","x","x","x","x","x","x",null,"x","","","x","","","","",""]
["x",null,"x","x","x","x","x","x","x","x","x","x","x","x","x","x","x","x","x","x","x","x","x","x",null,"x","","","x","","","","",""]
["x",null,"x","x","x","x","x","x","x","x","x","x","x","x","x","x","x","x","x","x","x","x","x","x",null,"x","","","x","","","","",""]
["x","x","x","x","x","x","x","x","x","x","x","x","x","x","x","x","x","x","x","x","x","x","x","x","x","","","","","","","","",""]
["x",null,"x","x","x","x","x","x","x","x","x","x","x","x","x","x","x","x","x","x",null,"x","x","x",null,"","x","","","","","","",""]
["x",null,"x","x","x","x","x","x","x","x","x","x","x","x","x","x","x","x","x","x",null,"x","x","x",null,"","x","","","","","","",""]
["x",null,"x","x","x","x","x","x","x","x","x","x","x","x","x","x","x","x","x","x",null,"x","x","x",null,"","x","","","","","","",""]
["x",null,"x","x","x","x","x","x","x","x","x","x","x","x","x","x","x","x","x","x",null,"x","x","x",null,"","x","","","","","","",""]
["x",null,"x","x","x","x",null,"x","x","x","x","x","x","x","x","x","x","x","x","x",null,"x","x","x",null,"","x",null,"x"]
["x","x","x","x","x","x","x","x","x","x","x","x","x","x","x","x","x","x","x","x",null,"x","x","x","x","","x","","","","","","",""]
["x",null,"x","x","x","x","x","x","x","x","x","x","x","x","x","x","x","x","x","x",null,"x","x","x",null,"","x","","","","","","",""]
["x",null,"x","x","x","x","x","x","x","x","x","x","x","x","x","x","x","x","x","x",null,"x","x","x",null,"","x","","","","","","",""]
["x",null,"x","x","x","x","x","x","x","x","x","x","x","x","x","x","x","x","x","x",null,"x","x","x",null,"","x","","","","","","",""]
["x",null,"x","x","x","x","x","x","x","x","x","x","x","x","x","x","x","x","x","x",null,"x","x","x",null,"","x","","","","","","",""]
["x",null,"x","x","x","x","x","x","x","x","x","x","x","x","x","x","x","x","x","x",null,"x","x","x",null,"","x","","","","","","",""]
["x",null,"x","x","x","x","x",null,"x","x","x","x","x","x","x","x","x","x","x","x",null,"x","x","x",null,"","x","","","","","","",""]
["x",null,"x","x","x","x","x",null,"x","x","x","x","x","x","x","x","x","x","x","x",null,"x","x","x",null,"","x","","","","","","",""]
["x",null,"x","x","x","x","x",null,"x","x","x","x","x","x","x","x","x","x","x","x",null,"x","x","x",null,"","x","","","","","","",""]
["x","x","x","x","x","x","x","x","x","x","x","x","x","x","x","x","x","x","x","x","x","x","x","x","x","","","","","","","","",""]
["x",null,"x","x","x","x","x","x","x","x","x","x","x","x","x","x","x","x","x","x","x",null,"x","x",null,"","","x","","","","","",""]
["x",null,"x","x","x","x","x","x","x","x","x","x","x","x","x","x","x","x","x","x","x",null,"x","x",null,"","","x","","","","","",""]
["x",null,"x","x","x","x","x","x","x","x","x","x","x","x","x","x","x","x","x","x","x",null,"x","x",null,"","","x","","","","","",""]
["x",null,"x","x","x","x","x","x","x","x","x","x","x","x","x","x","x","x","x","x","x",null,"x","x",null,"","","x","","","","","",""]
["x",null,"x","x","x","x","x","x","x","x","x","x","x","x","x","x","x","x","x","x","x",null,"x","x",null,"","","x","","","","","",""]
["x",null,"x","x","x","x","x","x","x","x","x","x","x","x","x","x","x","x","x","x","x",null,"x","x",null,"","","x","","","","","",""]
["x",null,"x","x","x","x","x","x","x","x","x","x","x","x","x","x","x","x","x","x","x",null,"x","x",null,"","","x","","","","","",""]
["x",null,"x","x","x","x","x","x","x","x","x","x","x","x","x","x","x","x","x","x","x",null,"x","x",null,"","","x","","","","","",""]
["x","x","x","x","x","x","x","x","x","x","x","x","x","x","x","x","x","x","x","x","x","x","x","x","x","","","","","","","","",""]
["x",null,"x","x","x","x","x","x","x","x","x","x","x","x","x","x","x","x","x","x","x","x",null,"x",null,"","","",null,"","","","",""]
["x",null,"x","x","x","x","x","x","x","x","x","x","x","x","x","x","x","x","x","x","x","x",null,"x",null,"","","",null,"","","","",""]
["x",null,"x","x","x","x","x","x","x","x","x","x","x","x","x","x","x","x","x","x","x","x",null,"x",null,"","","",null,"","","","",""]
["x",null,"x","x","x","x","x","x","x","x","x","x","x","x","x","x","x","x","x","x","x","x",null,"x",null,"","","",null,"","","","",""]
["x",null,"x","x","x","x","x","x","x","x","x","x","x","x","x","x","x","x","x","x","x","x",null,"x",null,"","","",null,"","","","",""]
["x",null,"x","x","x","x","x","x","x","x","x","x","x","x","x","x","x","x","x","x","x","x",null,"x",null,"","","",null,"","","","",""]
["x",null,"x","x","x","x","x","x","x","x","x","x","x","x","x","x","x","x","x","x","x","x",null,"x",null,"","","",null,"","","","",""]
["x",null,"x","x","x","x","x","x","x","x","x","x","x","x","x","x","x","x","x","x","x","x",null,"x",null,"","","",null,"","","","",""]
["x","x","x","x","x","x","x","x","x","x","x","x","x","x","x","x","x","x","x","x","x","x","x","x","x","","","","","","","","",""]
["x",null,"x","x","x","x","x","x","x","x","x","x","x","x","x","x","x","x","x","x","x","x","x",null,null,"","","","","","","","",""]
["x",null,"x","x","x","x","x","x","x","x","x","x","x","x","x","x","x","x","x","x","x","x","x",null,null,"","","","","","","","",""]
["x",null,"x","x","x","x","x","x","x","x","x","x","x","x","x","x","x","x","x","x","x","x","x",null,null,"","","","","","","","",""]
["x",null,"x","x","x","x","x","x","x","x","x","x","x","x","x","x","x","x","x","x","x","x","x",null,null,"","","","","","","","",""]
["x",null,"x","x","x","x","x","x","x","x","x","x","x","x","x","x","x","x","x","x","x","x","x",null,null,"","","","","","","","",""]
["x",null,"x","x","x","x","x","x","x","x","x","x","x","x","x","x","x","x","x","x","x","x","x",null,null,"","","","","","","","",""]
["x","x","x","x","x","x","x","x","x","x","x","x","x","x","x","x","x","x","x","x","x","x","x","x","x","","","","","","","","",""]
["x",null,"x","x","x","x","x","x","x","x","x","x","x","x","x","x","x","x","x","x","x","x","x","x",null,"","","","","","","","",""]
["x",null,"x","x","x","x","x","x","x","x","x","x","x","x","x","x","x","x","x","x","x","x","x","x",null,"","","","","","","","",""]
["x",null,"x","x","x","x","x","x","x","x","x","x","x","x","x","x","x","x","x","x","x","x","x","x",null,"","","","","","","","",""]
["x",null,"x","x","x","x","x","x","x","x","x","x","x","x","x","x","x","x","x","x","x","x","x","x",null,"","","","","","","","",""]
["x",null,"x","x","x","x","x","x","x","x","x","x","x","x","x","x","x","x","x","x","x","x","x","x",null,"","","","","","","","",""]
["x",null,"x","x","x","x","x","x","x","x","x","x","x","x","x","x","x","x","x","x","x","x","x","x",null,"","","","","","","","",""]
["x","x","x","x","x","x","x","x","x","x","x","x","x","x","x","x","x","x","x","x","x","x","x","x","x","","","","","","","","",""]
["x",null,"x","x","x","x","x","x","x","x","x","x","x","x","x","x","x","x","x","x","x","x","x","x",null,"","","","","","","","",""]
["x",null,"x","x","x","x","x","x","x","x","x","x","x","x","x","x","x","x","x","x","x","x","x","x",null,"","","","","","","","",""]
["x",null,"x","x","x","x","x","x","x","x","x","x","x","x","x","x","x","x","x","x","x","x","x","x",null,"","","","","","","","",""]
["x",null,"x","x","x","x","x","x","x","x","x","x","x","x","x","x","x","x","x","x","x","x","x","x",null,"","","","","","","","",""]
["x",null,"x","x","x","x","x","x","x","x","x","x","x","x","x","x","x","x","x","x","x","x","x","x",null,"","","","","","","","",""]
["x","x","x","x","x","x","x","x","x","x","x","x","x","x","x","x","x","x","x","x","x","x","x","x","x","","","","","","","","",""]
["x",null,"x","x","x","x","x","x","x","x","x","x","x","x","x","x","x","x","x","x","x","x","x","x",null,"","","","","","","","",""]
["x",null,"x","x","x","x","x","x","x","x","x","x","x","x","x","x","x","x","x","x","x","x","x","x",null,"","","","","","","","",""]
["x","x","x","x","x","x","x","x","x","x","x","x","x","x","x","x","x","x","x","x","x","x","x","x","x","","","","","","","","",""]
["x",null,"x","x","x",null,"x","x","x","x","x","x","x","x","x","x","x","x","x","x","x","x","x","x",null,"","","","","","","","",""]
["x",null,"x","x","x",null,"x","x","x","x","x","x","x","x","x","x","x","x","x","x","x","x","x","x",null,"","","","","","","","",""]
["x",null,"x","x","x",null,"x","x","x","x","x","x","x","x","x","x","x","x","x","x","x","x","x","x",null,"","","","","","","","",""]
["x","x","x","x","x","x","x","x","x","x","x","x","x","x","x","x","x","x","x","x","x","x","x","x","x","","","","","","","","",""]
["x",null,"x","x","x","x","x","x","x","x","x","x","x","x","x","x","x","x","x","x","x","x","x","x",null,"","","","","","","","",""]
["x",null,"x","x","x","x","x","x","x","x","x","x","x","x","x","x","x","x","x","x","x","x","x","x",null,"","","","","","","","",""]
["x",null,"x","x","x","x","x","x","x","x","x","x","x","x","x","x","x","x","x","x","x","x","x","x",null,"","","","","","","","",""]
["x","x","x","x","x","x","x","x","x","x","x","x","x","x","x","x","x","x","x","x","x","x","x","x","x","","","","","","","","",""]
["x",null,"x","x","x","x","x","x","x","x","x","x","x","x","x","x","x","x","x","x","x","x","x","x",null,"","","","","","","","",""]
["x","x","x","x","x","x","x","x","x","x","x","x","x","x","x","x","x","x","x","x","x","x","x","x","x","","","","","","","","",""]
["x",null,"x","x","x","x","x","x","x","x","x","x","x","x","x","x","x","x","x","x","x","x","x","x",null,"","","","","x","","","",""]
["x",null,"x","x","x","x","x","x","x","x","x","x","x","x","x","x","x","x","x","x","x","x","x","x",null,"","","","","x","","","",""]
["x",null,"x","x","x","x","x","x","x","x","x","x","x","x","x","x","x","x","x","x","x","x","x","x",null,"","","","","x","","","",""]
["x",null,"x","x","x","x","x","x","x","x","x","x","x","x","x","x","x","x","x","x","x","x","x","x",null,"","","","","x","","","",""]
["x",null,"x","x","x","x","x","x","x","x","x","x","x","x","x","x","x","x","x","x","x","x","x","x",null,"","","","","x","","","",""]
["x",null,"x","x","x","x","x","x","x","x","x","x","x","x","x","x","x","x","x","x","x","x","x","x",null,"","","","","x","","","",""]
["x",null,"x","x","x","x","x","x","x","x","x","x","x","x","x","x","x","x","x","x","x","x","x","x",null,"","","","","x","","","",""]
["x",null,"x","x","x","x","x","x","x","x","x","x","x","x","x","x","x","x","x","x","x","x","x","x",null,"","","","","x","","","",""]
["x",null,"x","x","x","x","x","x","x","x","x","x","x","x","x","x","x","x","x","x","x","x","x","x",null,"","","","","x","","","",""]
["x",null,"x","x","x","x","x","x","x","x","x","x","x","x","x","x","x","x","x","x","x","x","x","x",null,"","","","","x","","","",""]
["x",null,"x","x","x","x","x","x","x","x","x","x","x","x","x","x","x","x","x","x","x","x","x","x",null,"","","","","x","","","",""]
["x",null,"x","x","x","x","x","x","x","x","x","x","x","x","x","x","x","x","x","x","x","x","x","x",null,"","","","","x","","","",""]
["x",null,"x","x","x","x","x","x","x","x","x","x","x","x","x","x","x","x","x","x","x","x","x","x",null,"","","","","x","","","",""]
["x",null,"x","x","x","x","x","x","x","x","x","x","x","x","x","x","x","x","x","x","x","x","x","x",null,"","","","","x","","","",""]
["x",null,"x","x","x","x","x","x","x","x","x","x","x","x","x","x","x","x","x","x","x","x","x","x",null,"","","","","x","","","",""]
["x",null,"x","x","x","x","x","x","x","x","x","x","x","x","x","x","x","x","x","x","x","x","x","x",null,"","","","","x","","","",""]
["x",null,"x","x","x","x","x","x","x","x","x","x","x","x","x","x","x","x","x","x","x","x","x","x",null,"","","","","x"]
["x",null,"x","x","x","x","x","x","x","x","x","x","x","x","x","x","x","x","x","x","x","x","x","x",null,"","","","x","x"]
["x","x","x","x","x","x","x","x","x","x","x","x","x","x","x","x","x","x","x","x","x","x","x","x","x","","","","","","","","",""]
["x",null,"x","x","x","x","x","x","x","x","x","x","x","x","x","x","x","x","x","x","x","x","x","x",null,"","","","","","","","",""]
["x",null,"x","x","x","x","x","x","x","x","x","x","x","x","x","x","x","x","x","x","x","x","x","x",null,"","","","","","","","",""]
["x",null,"x","x","x","x","x","x","x","x","x","x","x","x","x","x","x","x","x","x","x","x","x","x",null,"","","","","","","","",""]
["x",null,"x","x","x","x","x","x","x","x","x","x","x","x","x","x","x","x","x","x","x","x","x","x",null,"","","","","","","","",""]
["x",null,"x","x","x","x","x","x","x","x","x","x","x","x","x","x","x","x","x","x","x","x","x","x",null,"","","","","","","","",""]
["x",null,"x","x","x","x","x","x","x","x","x","x","x","x","x","x","x","x","x","x","x","x","x","x",null,"","","","","","","","",""]
["x",null,"x","x","x","x","x","x","x","x","x","x","x","x","x","x","x","x","x","x","x","x","x","x",null,"","","","","","","","",""]
["x","x","x","x","x","x","x","x","x","x","x","x","x","x","x","x","x","x","x","x","x","x","x","x","x","","","","","","","","",""]
["x",null,null,null,"x","x","x","x","x","x","x","x","x","x","x","x","x","x","x","x","x","x","x","x",null,"","","","","","x","","",""]
["x",null,null,null,"x","x","x","x","x","x","x","x","x","x","x","x","x","x","x","x","x","x","x","x",null,"","","","","","x","","",""]
["x",null,null,null,"x","x","x","x","x","x","x","x","x","x","x","x","x","x","x","x","x","x","x","x",null,"","","","","","x","","",""]
["x",null,null,null,"x","x","x","x","x","x","x","x","x","x","x","x","x","x","x","x","x","x","x","x",null,"","","","","","x","","",""]
["x",null,null,null,"x","x","x","x","x","x","x","x","x","x","x","x","x","x","x","x","x","x","x","x",null,"","","","","","x","","",""]
["x",null,null,null,"x","x","x","x","x","x","x","x","x","x","x","x","x","x","x","x","x","x","x","x",null,"","","","","","x","","",""]
["x",null,null,null,"x","x","x","x","x","x","x","x","x","x","x","x","x","x","x","x","x","x","x","x",null,"","","","","","x","","",""]
["x",null,null,null,"x","x","x","x","x","x","x","x","x","x","x","x","x","x","x","x","x","x","x","x",null,"","","","","","x","","",""]
["x",null,null,null,"x","x","x","x","x","x","x","x","x","x","x","x","x","x","x","x","x","x","x","x",null,"","","","","","x","","",""]
["x",null,null,null,"x","x","x","x","x","x","x","x","x","x","x","x","x","x","x","x","x","x","x","x",null,"","","","","","x","","",""]
["x",null,null,null,"x","x","x","x","x","x","x","x","x","x","x","x","x","x","x","x","x","x","x","x",null,"","","","","","x","","",""]
["x",null,null,null,"x","x","x","x","x","x","x","x","x","x","x","x","x","x","x","x","x","x","x","x",null,"","","","","","x","","",""]
["x",null,null,null,"x","x","x","x","x","x","x","x","x","x","x","x","x","x","x","x","x","x","x","x",null,"","","","","","x","","",""]
["x",null,null,null,"x","x","x","x","x","x","x","x","x","x","x","x","x","x","x","x","x","x","x","x",null,"","","","","","x","","",""]
["x",null,null,null,"x","x","x","x","x","x","x","x","x","x","x","x","x","x","x","x","x","x","x","x",null,"","","","","","x","","",""]
["x",null,null,null,"x","x","x","x","x","x","x","x","x","x","x","x","x","x","x","x","x","x","x","x",null,"","","","","","x","","",""]
["x",null,null,null,"x","x","x","x","x","x","x","x","x","x","x","x","x","x","x","x","x","x","x","x",null,"","","","","","x","","",""]
["x","x","x","x","x","x","x","x","x","x","x","x","x","x","x","x","x","x","x","x","x","x","x","x","x","","","","","","x","","",""]
["x",null,null,"x","x","x","x","x","x","x","x","x","x","x","x","x","x","x","x","x","x","x","x","x",null,"","","","","","x","","",""]
["x",null,null,"x","x","x","x","x","x","x","x","x","x","x","x","x","x","x","x","x","x","x","x","x",null,"","","","","","","","",""]
["x","x","x","x","x","x","x","x","x","x","x","x","x","x","x","x","x","x","x","x","x","x","x","x","x","","","","","","","","",""]
["x",null,"x","x","x","x","x","x","x","x","x","x","x","x","x","x","x","x","x","x","x","x","x","x",null,null,null,null,"x"]
["x",null,"x","x","x","x","x","x","x","x","x","x","x","x","x","x","x","x","x","x","x","x","x","x",null,null,null,null,"x"]
["x",null,"x","x","x","x","x","x","x","x","x","x","x","x","x","x","x","x","x","x","x","x","x","x",null,"","","","","","","","",""]
["x",null,"x","x","x","x","x","x","x","x","x","x","x","x","x","x","x","x","x","x","x","x","x","x",null,"","","","","","","","",""]
["x",null,"x","x","x","x","x","x","x","x","x","x","x","x","x","x","x","x","x","x","x","x","x","x",null,"","","","x","","","","",""]
["x",null,"x","x","x","x","x","x","x","x","x","x","x","x","x","x","x","x","x","x","x","x","x","x"]
["x","x","x","x","x","x","x","x","x","x","x","x","x","x","x","x","x","x","x","x","x","x","x","x","x","","","","","","","","",""]
["x",null,"x","x","x","x","x","x","x","x","x","x","x","x","x","x","x","x","x","x","x","x","x","x",null,null,null,null,"x"]
["x",null,"x","x","x","x","x","x","x","x","x","x","x","x","x","x","x","x","x","x","x","x","x","x",null,null,null,null,"x"]
["x",null,"x","x","x","x","x","x","x","x","x","x","x","x","x","x","x","x","x","x","x","x","x","x",null,null,null,null,"x"]
["x",null,"x","x","x","x","x","x","x","x","x","x","x","x","x","x","x","x","x","x","x","x","x","x",null,null,null,null,"x"]
["x",null,"x","x","x","x","x","x","x","x","x","x","x","x","x","x","x","x","x","x","x","x","x","x",null,null,null,null,"x"]
["x",null,"x","x","x","x","x","x","x","x","x","x","x","x","x","x","x","x","x","x","x","x","x","x",null,null,null,null,"x"]
["x",null,"x","x","x","x","x","x","x","x","x","x","x","x","x","x","x","x","x","x","x","x","x","x",null,null,null,null,"x"]
["x",null,"x","x","x","x","x","x","x","x","x","x","x","x","x","x","x","x","x","x","x","x","x","x",null,null,null,null,"x"]
["x",null,"x","x","x","x","x","x","x","x","x","x","x","x","x","x","x","x","x","x","x","x","x","x",null,null,null,null,"x"]
["x","x","x","x","x","x","x","x","x","x","x","x","x","x","x","x","x","x","x","x","x","x","x","x","x","","","","","","","","",""]
["x",null,"x","x","x","x","x","x","x","x","x","x","x","x","x","x","x","x","x","x","x","x","x","x",null,"","","","x","","","","",""]
["x",null,"x","x","x","x","x","x","x","x","x","x","x","x","x","x","x","x","x","x","x","x","x","x",null,"","","","","","","","",""]
["x",null,"x","x","x","x","x","x","x","x","x","x","x","x","x","x","x","x","x","x","x","x","x","x",null,"","","","","","","","",""]
["x",null,"x","x","x","x","x","x","x","x","x","x","x","x","x","x","x","x","x","x","x","x","x","x",null,"","","","","","","","",""]
["x","x","x","x","x","x","x","x","x","x","x","x","x","x","x","x","x","x","x","x","x","x","x","x","x"]
["x",null,null,"x","x","x","x","x","x","x","x","x","x","x","x","x","x","x","x","x","x","x","x","x"]
["x",null,null,"x","x","x","x","x","x","x","x","x","x","x","x","x","x","x","x","x","x","x","x","x"]
["x",null,null,"x","x","x","x","x","x","x","x","x","x","x","x","x","x","x","x","x","x","x","x","x"]
["x",null,null,"x","x","x","x","x","x","x","x","x","x","x","x","x","x","x","x","x","x","x","x","x"]
["x","x","x","x","x","x","x","x","x","x","x","x","x","x","x","x","x","x","x","x","x","x","x","x","x","","","","","","","","",""]
["x",null,"x","x","x","x","x","x","x","x","x","x","x","x","x","x","x","x","x","x","x","x","x","x",null,"","","","","","","","",""]
["x",null,"x","x","x","x","x","x","x","x","x","x","x","x","x","x","x","x","x","x","x","x","x","x",null,"","","","","","","","",""]
["x","x","x","x","x","x","x","x","x","x","x","x","x","x","x","x","x","x","x","x","x","x","x","x","x","","","","","","","","",""]
["x",null,"x","x","x","x","x","x","x","x","x","x","x","x","x","x","x","x","x","x","x","x","x","x",null,"","","","","","","","",""]
["x",null,"x","x","x","x","x","x","x","x","x","x","x","x","x","x","x","x","x","x","x","x","x","x"]
["x",null,"x","x","x","x","x","x","x","x","x","x","x","x","x","x","x","x","x","x","x","x","x","x"]
["x",null,"x","x","x","x","x","x","x","x","x","x","x","x","x","x","x","x","x","x","x","x","x","x",null,null,null,null,"x"]
["x","x","x","x","x","x","x","x","x","x","x","x","x","x","x","x","x","x","x","x","x","x","x","x","x","","","","","","","","",""]
["x",null,"x","x","x","x","x","x","x","x","x","x","x","x","x","x","x","x","x","x","x","x","x","x",null,"","","","","","","","",""]
["x","x","x","x","x","x","x","x","x","x","x","x","x","x","x","x","x","x","x","x","x","x","x","x","x","","","","","","","","",""]
["x",null,"x","x","x","x","x","x","x","x","x","x","x","x","x","x","x","x","x","x","x","x","x","x",null,"","","","","","","","",""]
["x","x","x","x","x","x","x","x","x","x","x","x","x","x","x","x","x","x","x","x","x","x","x","x","x","","","","","","","","",""]
["x",null,"x","x","x","x","x","x","x","x","x","x","x","x","x","x","x","x","x","x","x","x","x","x",null,"","","","x","","","","",""]
["x",null,"x","x","x","x","x","x","x","x","x","x","x","x","x","x","x","x","x","x","x","x","x","x",null,"","","","x","","","","",""]
["x",null,"x","x","x","x","x","x","x","x","x","x","x","x","x","x","x","x","x","x","x","x","x","x",null,"","","","x","","","","",""]
["x","x","x","x","x","x","x","x","x","x","x","x","x","x","x","x","x","x","x","x","x","x","x","x","x","","","","","","","","",""]
["x",null,"x","x","x","x","x","x","x","x","x","x","x","x","x","x","x","x","x","x","x","x","x","x",null,"","","","","","","","",""]
["x",null,"x","x","x","x","x","x","x","x","x","x","x","x","x","x","x","x","x","x","x","x","x","x",null,"","","","","","","","",""]
["x","x","x","x","x","x","x","x","x","x","x","x","x","x","x","x","x","x","x","x","x","x","x","x","x","","","","","","","","",""]
["x",null,"x","x","x","x","x","x","x","x","x","x","x","x","x","x","x","x","x","x","x","x","x","x",null,"","","","","","","","",""]
["x",null,"x","x","x","x","x","x","x","x","x","x","x","x","x","x","x","x","x","x","x","x","x","x",null,"","","","","","","","",""]
["x","x","x","x","x","x","x","x","x","x","x","x","x","x","x","x","x","x","x","x","x","x","x","x","x","","","","","","","","",""]
["x",null,"x","x","x","x","x","x","x","x","x","x","x","x","x","x","x","x","x","x","x","x","x","x",null,"","","","","","","","",""]
["x",null,"x","x","x","x","x","x","x","x","x","x","x","x","x","x","x","x","x","x","x","x","x","x",null,"","","","","","","","",""]
["x","x","x","x","x","x","x","x","x","x","x","x","x","x","x","x","x","x","x","x","x","x","x","x","x","","","","","","","","",""]
["x",null,"x","x","x","x","x","x","x","x","x","x","x","x","x","x","x","x","x","x","x","x","x","x",null,"","","","","","","","",""]
["x",null,"x","x","x","x","x","x","x","x","x","x","x","x","x","x","x","x","x","x","x","x","x","x",null,"","","","","","","","",""]
["x","x","x","x","x","x","x","x","x","x","x","x","x","x","x","x","x","x","x","x","x","x","x","x","x","","","","","","",null,"",""]
["x",null,"x","x","x","x","x","x","x","x","x","x","x","x","x","x","x","x","x","x","x","x","x","x",null,"","","","","","","x","",""]
["x",null,"x","x","x","x","x","x","x","x","x","x","x","x","x","x","x","x","x","x","x","x","x","x",null,"","","","","","","x","",""]
["x",null,"x","x","x","x","x","x","x","x","x","x","x","x","x","x","x","x","x","x","x","x","x","x",null,"","","","","","","x","",""]
["x","x","x","x","x","x","x","x","x","x","x","x","x","x","x","x","x","x","x","x","x","x","x","x","x","","","","","","",null,"",""]
["x",null,"x","x","x","x","x","x","x","x","x","x","x","x","x","x","x","x","x","x","x","x","x","x",null,"","","","","","","x","",""]
["x",null,"x","x","x","x","x","x","x","x","x","x","x","x","x","x","x","x","x","x","x","x","x","x",null,"","","","","","","x","",""]
["x",null,"x","x","x","x","x","x","x","x","x","x","x","x","x","x","x","x","x","x","x","x","x","x",null,"","","","","","","x","",""]
["x",null,"x","x","x","x","x","x","x","x","x","x","x","x","x","x","x","x","x","x","x","x","x","x",null,"","","","","","","x","",""]
["x",null,"x","x","x","x","x","x","x","x","x","x","x","x","x","x","x","x","x","x","x","x","x","x",null,"","","","","","","x","",""]
["x",null,"x","x","x","x","x","x","x","x","x","x","x","x","x","x","x","x","x","x","x","x","x","x",null,"","","","","","","x","",""]
["x",null,"x","x","x","x","x","x","x","x","x","x","x","x","x","x","x","x","x","x","x","x","x","x",null,"","","","","","","x","",""]
["x",null,"x","x","x","x","x","x","x","x","x","x","x","x","x","x","x","x","x","x","x","x","x","x",null,"","","","","","","x","",""]
["x",null,"x","x","x","x","x","x","x","x","x","x","x","x","x","x","x","x","x","x","x","x","x","x",null,"","","","","","","","",""]
["x",null,"x","x","x","x","x","x","x","x","x","x","x","x","x","x","x","x","x","x","x","x","x","x",null,"","","","","","","","",""]
["x",null,"x","x","x","x","x","x","x","x","x","x","x","x","x","x","x","x","x","x","x","x","x","x",null,"","","","","","","","",""]
["x",null,"x","x","x","x","x","x","x","x","x","x","x","x","x","x","x","x","x","x","x","x","x","x",null,"","","","","","","","",""]
["x","x","x","x","x","x","x","x","x","x","x","x","x","x","x","x","x","x","x","x","x","x","x","x","x","","","","","","","","",""]
["x",null,"x","x","x","x","x","x","x","x","x","x","x","x","x","x","x","x","x","x","x","x","x","x",null,"","","","","","","","",""]
["x",null,"x","x","x","x","x","x","x","x","x","x","x","x","x","x","x","x","x","x","x","x","x","x",null,"","","","","","","","",""]
["x","x","x","x","x","x","x","x","x","x","x","x","x","x","x","x","x","x","x","x","x","x","x","x","x","","","","","","","","",""]
["x",null,"x","x","x","x","x","x","x","x","x","x","x","x","x","x","x","x","x","x","x","x","x","x",null,"","","","","","","","",""]
["x",null,"x","x","x","x","x","x","x","x","x","x","x","x","x","x","x","x","x","x","x","x","x","x",null,"","","","","","","","",""]
["x",null,"x","x","x","x","x","x","x","x","x","x","x","x","x","x","x","x","x","x","x","x","x","x",null,"","","","","","","","",""]
["x",null,"x","x","x","x","x","x","x","x","x","x","x","x","x","x","x","x","x","x","x","x","x","x",null,"","","","","","","","",""]
["x",null,"x","x","x","x","x","x","x","x","x","x","x","x","x","x","x","x","x","x","x","x","x","x",null,"","","","","","","","",""]
["x",null,"x","x","x","x","x","x","x","x","x","x","x","x","x","x","x","x","x","x","x","x","x","x",null,"","","","","","","","",""]
["x",null,"x","x","x","x","x","x","x","x","x","x","x","x","x","x","x","x","x","x","x","x","x","x",null,"","","","","","","","",""]
["x",null,"x","x","x","x","x","x","x","x","x","x","x","x","x","x","x","x","x","x","x","x","x","x",null,"","","","","","","","",""]
["x",null,"x","x","x","x","x","x","x","x","x","x","x","x","x","x","x","x","x","x","x","x","x","x",null,"","","","","","","","",""]
["x",null,"x","x","x","x","x","x","x","x","x","x","x","x","x","x","x","x","x","x","x","x","x","x",null,"","","","","","","","",""]
["x","x","x","x","x","x","x","x","x","x","x","x","x","x","x","x","x","x","x","x","x","x","x","x","x","","","","","","","","",""]
["x",null,"x","x","x","x","x","x",null,"x",null,"x","x","x","x","x","x","x","x","x","x","x","x","x",null,"","","","","","","","",""]
["x",null,"x","x","x","x","x","x",null,"x",null,"x","x","x","x","x","x","x","x","x","x","x","x","x",null,"","","","","","","","",""]
["x",null,"x","x","x","x","x","x",null,"x",null,"x","x","x","x","x","x","x","x","x","x","x","x","x",null,"","","","","","","","",""]
["x",null,"x","x","x","x","x","x",null,"x",null,"x","x","x","x","x","x","x","x","x","x","x","x","x",null,"","","","","","","","",""]
["x",null,"x","x","x","x","x","x",null,"x",null,"x","x","x","x","x","x","x","x","x","x","x","x","x",null,"","","","","","","","",""]
["x","x","x","x","x","x","x","x","x","x","x","x","x","x","x","x","x","x","x","x","x","x","x","x","x","","","","","","","","",""]
["x",null,"x","x","x","x","x","x",null,null,"x","x","x","x","x","x","x","x","x","x","x","x","x","x",null,"","","","","","","","",""]
["x",null,"x","x","x","x","x","x",null,null,"x","x","x","x","x","x","x","x","x","x","x","x","x","x",null,"","","","","","","","",""]
["x",null,"x","x","x","x","x","x",null,null,"x","x","x","x","x","x","x","x","x","x","x","x","x","x",null,"","","","","","","","",""]
["x","x","x","x","x","x","x","x","x","x","x","x","x","x","x","x","x","x","x","x","x","x","x","x","x","","","","","","","","",""]
["x",null,"x","x","x","x",null,"x","x","x","x","x","x","x","x","x","x","x","x","x","x","x","x","x",null,"","","","","","","","",""]
["x",null,"x","x","x","x",null,"x","x","x","x","x","x","x","x","x","x","x","x","x","x","x","x","x",null,"","","","","","","","",""]
["x",null,"x","x","x","x",null,"x","x","x","x","x","x","x","x","x","x","x","x","x","x","x","x","x",null,"","","","","","","","",""]
["x","x","x","x","x","x","x","x","x","x","x","x","x","x","x","x","x","x","x","x","x","x","x","x","x","","","","","","","","",""]
["x",null,"x","x","x","x","x","x","x","x","x","x","x","x","x","x","x","x","x","x","x","x","x","x",null,"","","","","","","","",""]
["x","x","x","x","x","x","x","x","x","x","x","x","x","x","x","x","x","x","x","x","x","x","x","x","x","","","","","","","","",""]
["x",null,"x","x","x","x","x","x","x","x","x","x","x","x","x","x","x","x","x","x","x","x","x","x",null,"","","","","","","","",""]
["x",null,"x","x","x","x","x","x","x","x","x","x","x","x","x","x","x","x","x","x","x","x","x","x",null,"","","","","","","","",""]
["x",null,"x","x","x","x","x","x","x","x","x","x","x","x","x","x","x","x","x","x","x","x","x","x",null,"","","","","","","","",""]
["x",null,"x","x","x","x","x","x","x","x","x","x","x","x","x","x","x","x","x","x","x","x","x","x",null,"","","","","","","","",""]
["x",null,"x","x","x","x","x","x","x","x","x","x","x","x","x","x","x","x","x","x","x","x","x","x",null,"","","","","","","","",""]

{"sheet":"meta_data","index":8,"n_rows":40,"n_cols":3,"rows_kept":40,"cut":false,"hidden":true,"merged":[]}
["Key","Beskrivelse","trigger_code"]
[{"$f":"TRANSPOSE(sjekkliste_noter_matrix!A1:AM22)","v":"F0"},"Full",false]
["E0","Endring",true]
["F1","Har selskapet ansatte",false]
["F2","Ytelsespensjon",false]
["F3","FOU",false]
["F4","langs. Tilvirkningskontrakter",false]
["F5","Datter",false]
["F6","Konsernregnskap",false]
["F7","Restrukturering",false]
["F8","Fusjon",true]
["F9","Fisjon",true]
["F8F9","Fusjon og Fisjon",true]
["F10","Samvirkeforetak",true]
["F11","Goodwill",false]
["F12","Borettslag",true]
["F13","Betalingsforetak",true]
["F14","E-pengeforetak",true]
["F15","Eiendomsmegler",true]
["F16","Inkassovirksomhet",true]
["F17","Ingen av delene",false]
["F18","Datter",false]
["F19","TS",false]
["F20","FKV",false]
["F21","Andre aksjer",false]
["E1","Policy",true]
["E2","Driftsmidler",false]
["E3","Datter",false]
["E4","TS",false]
["E5","NRS (F) krav",false]
["E6","Fordring mm",false]
["E7","Pensjon",false]
["E8","Ytelser",false]
["E9","Regnskaprinsipper",false]
["E10","Borettslag",false]
["E11","Betalingsforetak",false]
["E12","E-pengeforetak",false]
["E13","Eiendomsmegler",false]
["E14","Inkassovirksomhet",false]
["E15","Ingen av delene",true]

{"sheet":"sjekkliste_formelle_matrix","index":9,"n_rows":65,"n_cols":39,"rows_kept":65,"cut":false,"hidden":true,"merged":[]}
[{"$f":"sjekkliste_noter_matrix!A1","v":"F0"},{"$f":"sjekkliste_noter_matrix!B1","v":"E0"},{"$f":"sjekkliste_noter_matrix!C1","v":"F1"},{"$f":"sjekkliste_noter_matrix!D1","v":"F2"},{"$f":"sjekkliste_noter_matrix!E1","v":"F3"},{"$f":"sjekkliste_noter_matrix!F1","v":"F4"},{"$f":"sjekkliste_noter_matrix!G1","v":"F5"},{"$f":"sjekkliste_noter_matrix!H1","v":"F6"},{"$f":"sjekkliste_noter_matrix!I1","v":"F7"},{"$f":"sjekkliste_noter_matrix!J1","v":"F8"},{"$f":"sjekkliste_noter_matrix!K1","v":"F9"},{"$f":"sjekkliste_noter_matrix!L1","v":"F8F9"},{"$f":"sjekkliste_noter_matrix!M1","v":"F10"},{"$f":"sjekkliste_noter_matrix!N1","v":"F11"},{"$f":"sjekkliste_noter_matrix!O1","v":"F12"},{"$f":"sjekkliste_noter_matrix!P1","v":"F13"},{"$f":"sjekkliste_noter_matrix!Q1","v":"F14"},{"$f":"sjekkliste_noter_matrix!R1","v":"F15"},{"$f":"sjekkliste_noter_matrix!S1","v":"F16"},{"$f":"sjekkliste_noter_matrix!T1","v":"F17"},{"$f":"sjekkliste_noter_matrix!U1","v":"F18"},{"$f":"sjekkliste_noter_matrix!V1","v":"F19"},{"$f":"sjekkliste_noter_matrix!W1","v":"F20"},{"$f":"sjekkliste_noter_matrix!X1","v":"F21"},{"$f":"sjekkliste_noter_matrix!Y1","v":"E1"},{"$f":"sjekkliste_noter_matrix!Z1","v":"E2"},{"$f":"sjekkliste_noter_matrix!AA1","v":"E3"},{"$f":"sjekkliste_noter_matrix!AB1","v":"E4"},{"$f":"sjekkliste_noter_matrix!AC1","v":"E5"},{"$f":"sjekkliste_noter_matrix!AD1","v":"E6"},{"$f":"sjekkliste_noter_matrix!AE1","v":"E7"},{"$f":"sjekkliste_noter_matrix!AF1","v":"E8"},{"$f":"sjekkliste_noter_matrix!AG1","v":"E9"},{"$f":"sjekkliste_noter_matrix!AH1","v":"E10"},{"$f":"sjekkliste_noter_matrix!AI1","v":"E11"},{"$f":"sjekkliste_noter_matrix!AJ1","v":"E12"},{"$f":"sjekkliste_noter_matrix!AK1","v":"E13"},{"$f":"sjekkliste_noter_matrix!AL1","v":"E14"},{"$f":"sjekkliste_noter_matrix!AM1","v":"E15"}]
["x","x","x","x","x","x","x","x","x","x","x","x","x","x","x","x","x","x","x","x","x","x","x","x","x","x","x","x","x","x","x","x","x","x","x","x","x","x","x"]
["x","x","x","x","x","x","x","x","x","x","x","x","x","x","x","x","x","x","x","x","x","x","x","x","x","x","x","x","x","x","x","x","x","x","x","x","x","x","x"]
["x","x","x","x","x","x","x","x","x","x","x","x","x","x","x","x","x","x","x","x","x","x","x","x","x","x","x","x","x","x","x","x","x","x","x","x","x","x","x"]
["x","x","x","x","x","x","x","x","x","x","x","x","x","x","x","x","x","x","x","x","x","x","x","x","x","x","x","x","x","x","x","x","x","x","x","x","x","x","x"]
["x","x","x","x","x","x","x","x","x","x","x","x","x","x","x","x","x","x","x","x","x","x","x","x","x","x","x","x","x","x","x","x","x","x","x","x","x","x","x"]
["x","x","x","x","x","x","x","x","x","x","x","x","x","x","x","x","x","x","x","x","x","x","x","x","x","x","x","x","x","x","x","x","x","x","x","x","x","x","x"]
["x","x","x","x","x","x","x","x","x","x","x","x","x","x","x","x","x","x","x","x","x","x","x","x","x","x","x","x","x","x","x","x","x","x","x","x","x","x","x"]
["x",null,"x","x","x","x","x","x","x","x","x","x","x","x","x","x","x","x","x","x","x","x","x","x"]
["x",null,"x","x","x","x","x","x","x","x","x","x","x","x","x","x","x","x","x","x","x","x","x","x"]
["x",null,"x","x","x","x","x","x","x","x","x","x","x","x","x","x","x","x","x","x","x","x","x","x"]
["x",null,"x","x","x","x","x","x","x","x","x","x","x","x","x","x","x","x","x","x","x","x","x","x"]
["x",null,"x","x","x","x","x","x","x","x","x","x","x","x","x","x","x","x","x","x","x","x","x","x"]
["x",null,"x","x","x","x","x","x","x","x","x","x","x","x","x","x","x","x","x","x","x","x","x","x"]
["x","x","x","x","x","x","x","x","x","x","x","x","x","x","x","x","x","x","x","x","x","x","x","x","x"]
["x",null,"x","x","x","x","x","x","x","x","x","x","x","x","x","x","x","x","x","x","x","x","x","x"]
["x",null,"x","x","x","x","x","x","x","x","x","x","x","x","x","x","x","x","x","x","x","x","x","x"]
["x",null,"x","x","x","x","x","x","x","x","x","x","x","x","x","x","x","x","x","x","x","x","x","x"]
["x","x","x","x","x","x","x","x","x","x","x","x","x","x","x","x","x","x","x","x","x","x","x","x","x"]
["x",null,"x","x","x","x","x","x","x","x","x","x","x","x","x","x","x","x","x","x","x","x","x","x"]
["x",null,"x","x","x","x","x","x","x","x","x","x","x","x","x","x","x","x","x","x","x","x","x","x"]
["x",null,"x","x","x","x","x","x","x","x","x","x","x","x","x","x","x","x","x","x","x","x","x","x"]
["x","x","x","x","x","x","x","x","x","x","x","x","x","x","x","x","x","x","x","x","x","x","x","x","x"]
["x",null,"x","x","x","x","x","x","x","x","x","x","x","x","x","x","x","x","x","x","x","x","x","x"]
["x",null,"x","x","x","x","x","x","x","x","x","x","x","x","x","x","x","x","x","x","x","x","x","x"]
["x",null,"x","x","x","x","x","x","x","x","x","x","x","x","x","x","x","x","x","x","x","x","x","x"]
["x",null,"x","x","x","x","x","x","x","x","x","x","x","x","x","x","x","x","x","x","x","x","x","x"]
["x",null,"x","x","x","x","x","x","x","x","x","x","x","x","x","x","x","x","x","x","x","x","x","x"]
["x",null,"x","x","x","x","x","x","x","x","x","x","x","x","x","x","x","x","x","x","x","x","x","x"]
["x","x","x","x","x","x","x","x","x","x","x","x","x","x","x","x","x","x","x","x","x","x","x","x","x"]
["x",null,"x","x","x","x","x","x","x","x","x","x","x","x","x","x","x","x","x","x","x","x","x","x"]
["x",null,"x","x","x","x","x","x","x","x","x","x","x","x","x","x","x","x","x","x","x","x","x","x"]
["x",null,"x","x","x","x","x","x","x","x","x","x","x","x","x","x","x","x","x","x","x","x","x","x"]
["x","x","x","x","x","x","x","x","x","x","x","x","x","x","x","x","x","x","x","x","x","x","x","x","x"]
["x",null,"x","x","x","x","x","x","x","x","x","x","x","x","x","x","x","x","x","x","x","x","x","x"]
["x",null,"x","x","x","x","x","x","x","x","x","x","x","x","x","x","x","x","x","x","x","x","x","x"]
["x",null,"x","x","x","x","x","x","x","x","x","x","x","x","x","x","x","x","x","x","x","x","x","x",null,null,null,null,"x"]
["x",null,"x","x","x","x","x","x","x","x","x","x","x","x","x","x","x","x","x","x","x","x","x","x"]
["x",null,"x","x","x","x","x","x","x","x","x","x","x","x","x","x","x","x","x","x","x","x","x","x"]
["x",null,"x","x","x","x","x","x","x","x","x","x","x","x","x","x","x","x","x","x","x","x","x","x"]
["x",null,"x","x","x","x","x","x","x","x","x","x","x","x","x","x","x","x","x","x","x","x","x","x"]
["x",null,"x","x","x","x","x","x","x","x","x","x","x","x","x","x","x","x","x","x","x","x","x","x"]
["x",null,"x","x","x","x","x","x","x","x","x","x","x","x","x","x","x","x","x","x","x","x","x","x"]
["x",null,"x","x","x","x","x","x","x","x","x","x","x","x","x","x","x","x","x","x","x","x","x","x"]
["x","x","x","x","x","x","x","x","x","x","x","x","x","x","x","x","x","x","x","x","x","x","x","x","x"]
["x",null,"x","x","x","x","x","x","x","x","x","x","x","x","x","x","x","x","x","x","x","x","x","x"]
["x",null,"x","x","x","x","x","x","x","x","x","x","x","x","x","x","x","x","x","x","x","x","x","x"]
["x",null,"x","x","x","x","x","x","x","x","x","x","x","x","x","x","x","x","x","x","x","x","x","x"]
["x",null,"x","x","x","x","x","x","x","x","x","x","x","x","x","x","x","x","x","x","x","x","x","x"]
["x",null,"x","x","x","x","x","x","x","x","x","x","x","x","x","x","x","x","x","x","x","x","x","x"]
["x","x","x","x","x","x","x","x","x","x","x","x","x","x","x","x","x","x","x","x","x","x","x","x","x"]
["x",null,"x","x","x","x","x","x","x","x","x","x","x","x","x","x","x","x","x","x","x","x","x","x"]
["x",null,"x","x","x","x","x","x","x","x","x","x","x","x","x","x","x","x","x","x","x","x","x","x",null,null,null,null,"x"]
["x",null,"x","x","x","x","x","x","x","x","x","x","x","x","x","x","x","x","x","x","x","x","x","x"]
["x",null,"x","x","x","x","x","x","x","x","x","x","x","x","x","x","x","x","x","x","x","x","x","x"]
["x",null,"x","x","x","x","x","x","x","x","x","x","x","x","x","x","x","x","x","x","x","x","x","x"]
["x",null,"x","x","x","x","x","x","x","x","x","x","x","x","x","x","x","x","x","x","x","x","x","x"]
["x","x","x","x","x","x","x","x","x","x","x","x","x","x","x","x","x","x","x","x","x","x","x","x","x"]
["x",null,"x","x","x","x","x",null,"x","x","x","x","x","x","x","x","x","x","x","x","x","x","x","x"]
["x",null,"x","x","x","x","x",null,"x","x","x","x","x","x","x","x","x","x","x","x","x","x","x","x"]
["x",null,"x","x","x","x","x",null,"x","x","x","x","x","x","x","x","x","x","x","x","x","x","x","x"]
["x",null,"x","x","x","x","x",null,"x","x","x","x","x","x","x","x","x","x","x","x","x","x","x","x"]
["x",null,"x","x","x","x","x",null,"x","x","x","x","x","x","x","x","x","x","x","x","x","x","x","x"]
["x",null,"x","x","x","x","x",null,"x","x","x","x","x","x","x","x","x","x","x","x","x","x","x","x"]
["x",null,"x","x","x","x","x",null,"x","x","x","x","x","x","x","x","x","x","x","x","x","x","x","x"]

{"sheet":"Sjekkliste formelle forhold","index":10,"n_rows":65,"n_cols":17,"rows_kept":65,"cut":false,"hidden":false,"merged":[[48,13,49,13],[3,0,4,10],[19,1,20,1],[48,1,49,1],[48,9,49,9],[48,10,49,10],[48,12,49,12]]}
["Formelle forhold i årsregnskapet - små foretak - Ideelle organisasjoner",null,null,"Utfylt:"]
["Klient:",{"$f":"+Forside!B2","v":0},null,"Review:",null,null,null,null,null,null,null,null,null,null,null,"Ikke besvart:",{"$f":"Forside!B10","v":0}]
["År:",{"$f":"+Forside!B3","v":2020},null,null,null,null,null,null,null,null,null,null,null,null,null,"Ja-svar:",{"$f":"Forside!C10","v":0}]
["Sjekklisten gjelder for ideelle organisasjoner som følger NRS (F) God regnskapsskikk for ideelle organisasjoner. ",null,null,null,null,null,null,null,null,null,null,null,null,null,null,"Nei-svar:",{"$f":"Forside!D10","v":0}]
[null,null,null,null,null,null,null,null,null,null,null,null,null,null,null,"Ikke av betydning:",{"$f":"+Forside!E10","v":0}]
[null,null,null,null,null,null,null,null,null,null,null,"Ikke av",null,null,null,"IA-svar:",{"$f":"Forside!F10","v":33}]
[null,"Spørsmål",null,"Ref. ",null,null,null,null,null,"Ja","Nei","betydning","I/A","Kommentar",null,"Sum:",{"$f":"SUM(Q2:Q6)","v":33}]
["Generelt"]
[null,"Inneholder årsregnskapet:",null,"rskl § 3-2"]
[1,"• resultatregnskap/aktivitetsregnskap",null,null,{"$f":"IF(SUM(F10:I10)>1,\"Oppgi kun et alternativ!\",\"\")","v":""},{"$f":"IF(J10=\"\",\"\",1)","v":""},{"$f":"IF(K10=\"\",\"\",1)","v":""},"","",null,null,null,null,null,null,{"$f":"IF(K10<>\"\",\"Du har satt X for at forholdet ikke er avklart. Gi en nærmere foklaring i kommentarfeltet.\",\"\")","v":""}]
[{"$f":"1+A10","v":2},"• balanse",null,null,{"$f":"IF(SUM(F11:I11)>1,\"Oppgi kun et alternativ!\",\"\")","v":""},{"$f":"IF(J11=\"\",\"\",1)","v":""},{"$f":"IF(K11=\"\",\"\",1)","v":""},{"$f":"IF(L11=\"\",\"\",1)","v":""},{"$f":"IF(M11=\"\",\"\",1)","v":""},null,null,null,null,null,null,{"$f":"IF(K11<>\"\",\"Du har satt X for at forholdet ikke er avklart. Gi en nærmere foklaring i kommentarfeltet.\",\"\")","v":""}]
[{"$f":"1+A11","v":3},"• noter",null,null,"","","","","",null,null,null,null,null,null,{"$f":"IF(K12<>\"\",\"Du har satt X for at forholdet ikke er avklart. Gi en nærmere foklaring i kommentarfeltet.\",\"\")","v":""}]
[{"$f":"1+A12","v":4},"• eventuelt en egen oppstilling over endringer i egenkapitalen",null,null,"","","","","",null,null,null,null,null,null,{"$f":"IF(K13<>\"\",\"Du har satt X for at forholdet ikke er avklart. Gi en nærmere foklaring i kommentarfeltet.\",\"\")","v":""}]
[{"$f":"1+A13","v":5},"Er det gitt referanser til noteopplysninger fra resultatregnskap og balanse?",null,null,"","","","","",null,null,null,null,null,null,{"$f":"IF(K14<>\"\",\"Du har satt X for at forholdet ikke er avklart. Gi en nærmere foklaring i kommentarfeltet.\",\"\")","v":""}]
["Valuta og språk"]
[{"$f":"+A14+1","v":6},"Er regnskapsvalutaen norske kroner, alternativt den funksjonelle valutaen?",null,"rskl § 3-4",{"$f":"IF(SUM(F16:I16)>1,\"Oppgi kun et alternativ!\",\"\")","v":""},{"$f":"IF(J16=\"\",\"\",1)","v":""},{"$f":"IF(K16=\"\",\"\",1)","v":""},{"$f":"IF(L16=\"\",\"\",1)","v":""},{"$f":"IF(M16=\"\",\"\",1)","v":""},null,null,null,null,null,null,{"$f":"IF(K16<>\"\",\"Du har satt X for at forholdet ikke er avklart. Gi en nærmere foklaring i kommentarfeltet.\",\"\")","v":""}]
[{"$f":"+A16+1","v":7},"Er årsregnskapet presentert i norske kroner, euro, eller den funksjonelle valutaen?",null,null,{"$f":"IF(SUM(F17:I17)>1,\"Oppgi kun et alternativ!\",\"\")","v":""},{"$f":"IF(J17=\"\",\"\",1)","v":""},"","","",null,null,null,null,null,null,{"$f":"IF(K17<>\"\",\"Du har satt X for at forholdet ikke er avklart. Gi en nærmere foklaring i kommentarfeltet.\",\"\")","v":""}]
[{"$f":"+A17+1","v":8},"Er årsregnskapet og årsberetningen på norsk?",null,null,{"$f":"IF(SUM(F18:I18)>1,\"Oppgi kun et alternativ!\",\"\")","v":""},{"$f":"IF(J18=\"\",\"\",1)","v":""},"","","",null,null,null,null,null,null,{"$f":"IF(K18<>\"\",\"Du har satt X for at forholdet ikke er avklart. Gi en nærmere foklaring i kommentarfeltet.\",\"\")","v":""}]
["Sammenligning med foregående årsregnskap"]
[null,"Etter hovedregelen i rskl skal tallene omarbeides for å bli sammenlignbare, med mindre annet følger av god regnskapsskikk. Små foretak kan unnlate å omarbeide sammenligningstallene. ",null,"rskl § 6-6 "]
[null,null,null,"NRS 8 pkt 3.3.1"]
[{"$f":"+A18+1","v":9},"Er det vist tilsvarende tall fra foregående årsregnskap, og er de omarbeidet i nødvendig grad? ",null,"rskl § 6-6",{"$f":"IF(SUM(F22:I22)>1,\"Oppgi kun et alternativ!\",\"\")","v":""},{"$f":"IF(J22=\"\",\"\",1)","v":""},{"$f":"IF(K22=\"\",\"\",1)","v":""},{"$f":"IF(L22=\"\",\"\",1)","v":""},{"$f":"IF(M22=\"\",\"\",1)","v":""},null,null,null,null,null,null,{"$f":"IF(K22<>\"\",\"Du har satt X for at forholdet ikke er avklart. Gi en nærmere foklaring i kommentarfeltet.\",\"\")","v":""}]
["Oppdeling eller sammenslåing av poster"]
[null,"Regnskapsposter skal om nødvendig oppdeles eller tilføyes. ",null,"rskl § 6-3"]
[null,"Dette kan for eksempel gjelde lån fra aksjonær."]
[{"$f":"+A22+1","v":10},"Er det foretatt en ytterligere oppdeling av resultatregnskap og balanse eller tilføyelse av poster der foretakets forhold tilsier det?",null,"rskl § 6-3",{"$f":"IF(SUM(F26:I26)>1,\"Oppgi kun et alternativ!\",\"\")","v":""},{"$f":"IF(J26=\"\",\"\",1)","v":""},{"$f":"IF(K26=\"\",\"\",1)","v":""},{"$f":"IF(L26=\"\",\"\",1)","v":""},{"$f":"IF(M26=\"\",\"\",1)","v":""},null,null,null,null,null,null,{"$f":"IF(K26<>\"\",\"Du har satt X for at forholdet ikke er avklart. Gi en nærmere foklaring i kommentarfeltet.\",\"\")","v":""}]
[null,"Poster skal slås sammen hvis sammenslåingen fører til et mer oversiktlig årsregnskap, med følgende unntak:\n• Bare linjer innenfor hvert romertall kan slås sammen, og linjer kan ikke slås sammen på tvers av romertall\n• Egenkapitalposter kan ikke slås sammen",null,"rskl § 6-3"]
[{"$f":"+A26+1","v":11},"Er poster slått sammen i resultatregnskap og balanse hvis sammenslåingen fører til et mer oversiktlig årsregnskap?",null,"rskl § 6-3",{"$f":"IF(SUM(F28:I28)>1,\"Oppgi kun et alternativ!\",\"\")","v":""},{"$f":"IF(J28=\"\",\"\",1)","v":""},{"$f":"IF(K28=\"\",\"\",1)","v":""},{"$f":"IF(L28=\"\",\"\",1)","v":""},{"$f":"IF(M28=\"\",\"\",1)","v":""},null,null,null,null,null,null,{"$f":"IF(K28<>\"\",\"Du har satt X for at forholdet ikke er avklart. Gi en nærmere foklaring i kommentarfeltet.\",\"\")","v":""}]
[{"$f":"+A28+1","v":12},"Er poster i oppstillingsplanen for resultatregnskapet som er slått sammen spesifisert i note?",null,"rskl § 7-38",{"$f":"IF(SUM(F29:I29)>1,\"Oppgi kun et alternativ!\",\"\")","v":""},{"$f":"IF(J29=\"\",\"\",1)","v":""},"","","",null,null,null,null,null,null,{"$f":"IF(K29<>\"\",\"Du har satt X for at forholdet ikke er avklart. Gi en nærmere foklaring i kommentarfeltet.\",\"\")","v":""}]
["Underskrift"]
[{"$f":"+A29+1","v":13},"Er årsregnskapet underskrevet av samtlige styremedlemmer og eventuelt av daglig leder, alternativt av deltakerne eller medlemmene hvis foretaket ikke har styre eller daglig leder?",null,"rskl § 3-5",{"$f":"IF(SUM(F31:I31)>1,\"Oppgi kun et alternativ!\",\"\")","v":""},{"$f":"IF(J31=\"\",\"\",1)","v":""},{"$f":"IF(K31=\"\",\"\",1)","v":""},{"$f":"IF(L31=\"\",\"\",1)","v":""},{"$f":"IF(M31=\"\",\"\",1)","v":""},null,null,null,null,null,null,{"$f":"IF(K31<>\"\",\"Du har satt X for at forholdet ikke er avklart. Gi en nærmere foklaring i kommentarfeltet.\",\"\")","v":""}]
[{"$f":"+A31+1","v":14},"Dersom den som skal underskrive har innvendinger mot årsregnskapet, har vedkommende underskrevet med påtegnet forbehold og gitt nærmere redegjørelse i årsberetningen?",null,"rskl § 3-5",{"$f":"IF(SUM(F32:I32)>1,\"Oppgi kun et alternativ!\",\"\")","v":""},{"$f":"IF(J32=\"\",\"\",1)","v":""},"","","",null,null,null,null,null,null,{"$f":"IF(K32<>\"\",\"Du har satt X for at forholdet ikke er avklart. Gi en nærmere foklaring i kommentarfeltet.\",\"\")","v":""}]
[{"$f":"+A32+1","v":15},"Er årsregnskapet avlagt innenfor lovens frist?",null,"rskl § 3-1",{"$f":"IF(SUM(F33:I33)>1,\"Oppgi kun et alternativ!\",\"\")","v":""},{"$f":"IF(J33=\"\",\"\",1)","v":""},"","","",null,null,null,null,null,null,{"$f":"IF(K33<>\"\",\"Du har satt X for at forholdet ikke er avklart. Gi en nærmere foklaring i kommentarfeltet.\",\"\")","v":""}]
["Resultatregnskapet"]
[{"$f":"+A33+1","v":16},"Er resultatregnskapet satt opp i henhold til Regnskapslovens oppstillingsplan?",null,"rskl § 6-1",{"$f":"IF(SUM(F35:I35)>1,\"Oppgi kun et alternativ!\",\"\")","v":""},{"$f":"IF(J35=\"\",\"\",1)","v":""},{"$f":"IF(K35=\"\",\"\",1)","v":""},{"$f":"IF(L35=\"\",\"\",1)","v":""},{"$f":"IF(M35=\"\",\"\",1)","v":""},null,null,null,null,null,null,{"$f":"IF(K35<>\"\",\"Du har satt X for at forholdet ikke er avklart. Gi en nærmere foklaring i kommentarfeltet.\",\"\")","v":""}]
[{"$f":"+A35+1","v":17},"Hvis driftskostnadene er inndelt etter funksjon, er da artsinndeling vist i note?",null,"rskl § 7-38",{"$f":"IF(SUM(F36:I36)>1,\"Oppgi kun et alternativ!\",\"\")","v":""},{"$f":"IF(J36=\"\",\"\",1)","v":""},"","","",null,null,null,null,null,null,{"$f":"IF(K36<>\"\",\"Du har satt X for at forholdet ikke er avklart. Gi en nærmere foklaring i kommentarfeltet.\",\"\")","v":""}]
[{"$f":"+A36+1","v":18},"Dersom det er valgt å benytte en aktivitetsbasert oppstillingsplan iht unntaket i regnskapslovens 6-3 tredje ledd, er dette inndelt iht NRS (F) God regnskapsskikk for ideelle organisasjoner? Er ytterligere inndeling gjort der dette er nødvendig for å gi et rettvisende bilde av organisasjonens aktiviteter?",null,"NRS (F) GRS for ideelle organisasjoner pkt 4.3",{"$f":"IF(SUM(F37:I37)>1,\"Oppgi kun et alternativ!\",\"\")","v":""},{"$f":"IF(J37=\"\",\"\",1)","v":""},"","","",null,null,null,null,null,null,{"$f":"IF(K37<>\"\",\"Du har satt X for at forholdet ikke er avklart. Gi en nærmere foklaring i kommentarfeltet.\",\"\")","v":""}]
[null,"Ihht NRS 8 er det ikke tillatt å klassifisere resultatposter som ekstraordinære, bortsett fra prinsippendringer og korrigering av feil som omtales nedenfor. Det kan imidlertid foreligge særlige poster som krever spesifikasjon på egen linje, for eksempel en uvanlig stor nedskrivning av varelager eller restruktureringskostnader. ",null,"NRS 8 pkt 7.3 "]
[{"$f":"+A37+1","v":19},"Er det påsett at regnskapet ikke inneholder ekstraordinære poster utover virkning av prinsippendring og korrigering av feil?",null,"NRS 8 pkt 7.3 ",{"$f":"IF(SUM(F39:I39)>1,\"Oppgi kun et alternativ!\",\"\")","v":""},{"$f":"IF(J39=\"\",\"\",1)","v":""},{"$f":"IF(K39=\"\",\"\",1)","v":""},{"$f":"IF(L39=\"\",\"\",1)","v":""},{"$f":"IF(M39=\"\",\"\",1)","v":""}]
[{"$f":"+A39+1","v":20},"Dersom det foreligger særlige poster, er disse spesifisert og benevnt etter inntektens eller kostnadens innhold?",null,"NRS 8 pkt 7.3 ",{"$f":"IF(SUM(F40:I40)>1,\"Oppgi kun et alternativ!\",\"\")","v":""},{"$f":"IF(J40=\"\",\"\",1)","v":""},"","",""]
[null,"Små foretak kan velge om prinsippendringer og korrigeringer av tidligere års feil skal føres etter hovedregelen, dvs direkte over egenkapitalen, eller resultatføres. Dersom dette resultatføres skal det presenteres på egne linjer etter ordinært resultat, og spesifiseres etter sin art som hhv \"korrigering av feil\" eller \"virkning av prinsippendring\"."]
[{"$f":"+A40+1","v":21},"Dersom prinsippendring eller korrigering av feil er resultatført, er de presentert etter ordinært resultat, og spesifisert som \"virkning av prinsippendring\" eller \"korrigering av feil\"?",null,"NRS 8 pkt 7.3.2",{"$f":"IF(SUM(F42:I42)>1,\"Oppgi kun et alternativ!\",\"\")","v":""},{"$f":"IF(J42=\"\",\"\",1)","v":""},{"$f":"IF(K42=\"\",\"\",1)","v":""},{"$f":"IF(L42=\"\",\"\",1)","v":""},{"$f":"IF(M42=\"\",\"\",1)","v":""},null,null,null,null,null,null,{"$f":"IF(K42<>\"\",\"Du har satt X for at forholdet ikke er avklart. Gi en nærmere foklaring i kommentarfeltet.\",\"\")","v":""}]
[null,"Skatteeffekten av prinsippendringer eller korrigering av feil som resultatføres skal etter NRS 8 presenteres på en av følgende måter: \n• Presentert separat, benevnt som \"skattekostnad på virkning av prinsippendring / korrigering av feil\"\n• Skattekostnaden kan presenteres samlet på skattekostnadslinjen før ordinært resultat\n• Skattekostnaden kan presenteres samlet etter postene \"virkning av prinsippendring\" / \"korrigering av feil\""]
[{"$f":"+A42+1","v":22},"Er skatteeffekten av prinsippendringer eller korrigering av feil korrekt presentert?",null,"NRS 8 pkt 7.3.2",{"$f":"IF(SUM(F44:I44)>1,\"Oppgi kun et alternativ!\",\"\")","v":""},{"$f":"IF(J44=\"\",\"\",1)","v":""},{"$f":"IF(K44=\"\",\"\",1)","v":""},{"$f":"IF(L44=\"\",\"\",1)","v":""},{"$f":"IF(M44=\"\",\"\",1)","v":""}]
["Resultatdisponering",null,null,null,null,null,null,null,null,null,null,null,null,{"$f":"IF(K45<>\"\",\"Du har satt X for at forholdet ikke er avklart. Gi en nærmere foklaring i kommentarfeltet.\",\"\")","v":""}]
[null,"Små foretak kan velge om forslag til anvendelse av overskudd eller dekning av tap skal stå i tilknytning til resultatregnskapet, i eventuell oppstilling over endringer i egenkapitalen, i noter eller årsberetningen. NRS 8 anbefaler at opplysningen gis i tilknytning til resultatregnskapet, eventuelt i årsberetningen.",null,"NRS 8 pkt 3.1",null,null,null,null,null,null,null,null,null,null,null,{"$f":"IF(K46<>\"\",\"Du har satt X for at forholdet ikke er avklart. Gi en nærmere foklaring i kommentarfeltet.\",\"\")","v":""}]
[{"$f":"+A44+1","v":23},"Er det opplyst om forslag til anvendelse av overskudd eller dekning av tap i samsvar med bestemmelsene i regnskapsstandarden?",null,"NRS 8 pkt 3.1",{"$f":"IF(SUM(F47:I47)>1,\"Oppgi kun et alternativ!\",\"\")","v":""},{"$f":"IF(J47=\"\",\"\",1)","v":""},{"$f":"IF(K47=\"\",\"\",1)","v":""},{"$f":"IF(L47=\"\",\"\",1)","v":""},{"$f":"IF(M47=\"\",\"\",1)","v":""},null,null,null,null,null,null,{"$f":"IF(K47<>\"\",\"Du har satt X for at forholdet ikke er avklart. Gi en nærmere foklaring i kommentarfeltet.\",\"\")","v":""}]
[{"$f":"+A47+1","v":24},"Hvis det er delt ut tilleggsutbytte eller ekstraordinært utbytte som er regnskapsført i uttaksåret, er det da gitt opplysning om dette utbyttet sammen med disponeringen av årets resultat?",null,"NRS 8 pkt 5.3.1",{"$f":"IF(SUM(F48:I48)>1,\"Oppgi kun et alternativ!\",\"\")","v":""},{"$f":"IF(J48=\"\",\"\",1)","v":""},"","","",null,null,null,null,null,null,{"$f":"IF(K48<>\"\",\"Du har satt X for at forholdet ikke er avklart. Gi en nærmere foklaring i kommentarfeltet.\",\"\")","v":""}]
[{"$f":"+A48+1","v":25},"Er det gitt opplysning i årsregnskap eller årsberetning om konsernbidrag fra morselskap til datterselskap som er ført som investering i morselskapets regnskap?",null,"asl. § 8-5 og ",{"$f":"IF(SUM(F49:I49)>1,\"Oppgi kun et alternativ!\",\"\")","v":""},{"$f":"IF(J49=\"\",\"\",1)","v":""},"","","",null,null,null,null,null,null,{"$f":"IF(K49<>\"\",\"Du har satt X for at forholdet ikke er avklart. Gi en nærmere foklaring i kommentarfeltet.\",\"\")","v":""}]
[null,null,null,"§ 8-2"]
["Balansen",null,null," "]
[{"$f":"+A49+1","v":26},"Er balansen spesifisert i henhold til regnskapslovens oppstillingsplan, evt.etter likviditet, dersom dette gir mer relevante og pålitelige opplysninger?",null,"rskl § 6-2",{"$f":"IF(SUM(F52:I52)>1,\"Oppgi kun et alternativ!\",\"\")","v":""},{"$f":"IF(J52=\"\",\"\",1)","v":""},{"$f":"IF(K52=\"\",\"\",1)","v":""},{"$f":"IF(L52=\"\",\"\",1)","v":""},{"$f":"IF(M52=\"\",\"\",1)","v":""},null,null,null,null,null,null,{"$f":"IF(K52<>\"\",\"Du har satt X for at forholdet ikke er avklart. Gi en nærmere foklaring i kommentarfeltet.\",\"\")","v":""}]
[{"$f":"+A52+1","v":27},"Er oppstillingsplanen for balansen justert iht NRS (F) God regnskapsskikk for ideelle organisasjoner når dette er relevant mht bevaringsverdige eiendeler, formålskapital og tilskudd? ",null,"NRS (F) GRS for ideelle organisasjoner pkt 4.4",{"$f":"IF(SUM(F53:I53)>1,\"Oppgi kun et alternativ!\",\"\")","v":""},{"$f":"IF(J53=\"\",\"\",1)","v":""},"","","",null,null,null,null,null,null,{"$f":"IF(K53<>\"\",\"Du har satt X for at forholdet ikke er avklart. Gi en nærmere foklaring i kommentarfeltet.\",\"\")","v":""}]
[{"$f":"+A53+1","v":28},"Er eiendeler bestemt til varig eie eller bruk, og fordringer som ikke skal tilbakebetales innen ett år, klassifisert som anleggsmidler, og øvrige eiendeler klassifisert som omløpsmidler?",null,null,{"$f":"IF(SUM(F54:I54)>1,\"Oppgi kun et alternativ!\",\"\")","v":""},{"$f":"IF(J54=\"\",\"\",1)","v":""},"","","",null,null,null,null,null,null,{"$f":"IF(K54<>\"\",\"Du har satt X for at forholdet ikke er avklart. Gi en nærmere foklaring i kommentarfeltet.\",\"\")","v":""}]
[null,"Beholding av egne aksjer: Pålydende på egne aksjer skal enten føres på en egen linje under aksjekapital, eller trekkes ut av linjen for aksjekapital. Dersom man velger å trekke det ut av linjen for aksjekapital skal dette spesifiseres i note. Evt. overskytende beløp skal føres mot annen egenkapital. Dersom kjøpesummen er lavere enn pålydende skal differansen føres på linjen for annen innskutt egenkapital."]
[{"$f":"+A54+1","v":29},"Er eventuell beholdning av egne aksjer ført opp i samsvar med regnskapslovens krav?",null,"rskl § 6-2, 2. ledd.",{"$f":"IF(SUM(F56:I56)>1,\"Oppgi kun et alternativ!\",\"\")","v":""},{"$f":"IF(J56=\"\",\"\",1)","v":""},{"$f":"IF(K56=\"\",\"\",1)","v":""},{"$f":"IF(L56=\"\",\"\",1)","v":""},{"$f":"IF(M56=\"\",\"\",1)","v":""},null,null,null,null,null,null,{"$f":"IF(K56<>\"\",\"Du har satt X for at forholdet ikke er avklart. Gi en nærmere foklaring i kommentarfeltet.\",\"\")","v":""}]
[{"$f":"+A56+1","v":30},"Inngår tilleggsutbytte eller ekstraordinært utbytte som er besluttet før balansedagen, og som står ubetalt på balansedagen, i kortsiktig gjeld?",null,"NRS 8 pkt 6.2.1.7.1",{"$f":"IF(SUM(F57:I57)>1,\"Oppgi kun et alternativ!\",\"\")","v":""},{"$f":"IF(J57=\"\",\"\",1)","v":""},"","","",null,null,null,null,null,null,{"$f":"IF(K57<>\"\",\"Du har satt X for at forholdet ikke er avklart. Gi en nærmere foklaring i kommentarfeltet.\",\"\")","v":""}]
["Konsernregnskap"]
[null,"Små foretak har ikke plikt til å utarbeide konsernregnskap. Dersom et av selskapene i konsernet har aksjer, grunnfondsbevis eller obligasjoner notert på børs eller lignende, har selskapet allikevel plikt til å utarbeide konsernregnskap.",null,"rskl § 3-2, 4. ledd"]
[null,"Hvis små foretak frivillig utarbeider konsernregnskap, kan de forenklede reglene for små foretak brukes også i konsernregnskapet. Konsernregnskapet må utarbeides etter ensartede regnskapsprinsipper og vurderingsregler. ",null,"NRS 8 pkt 2.1.1."]
[null,"Morselskapet bør bruke konsernets regnskapsprinsipper og vurderingsregler i selskapsregnskapet.",null,"NRS 8 pkt 2.1.1."]
[null,"Dersom små foretak utarbeider konsernregnskap, skal alle formelle forhold knyttet til konsernregnskap følges:"]
[{"$f":"+A57+1","v":31},"Er eventuelle minoritetsinteresser ført opp under egenkapital i balansen og som fradrag i årsresultatet i resultatregnskapet; slik at regnskapet viser årsresultat før og etter minoritetsinteresser?",null,"rskl § 6-5",{"$f":"IF(SUM(F63:I63)>1,\"Oppgi kun et alternativ!\",\"\")","v":""},{"$f":"IF(J63=\"\",\"\",1)","v":""},{"$f":"IF(K63=\"\",\"\",1)","v":""},{"$f":"IF(L63=\"\",\"\",1)","v":""},{"$f":"IF(M63=\"\",\"\",1)","v":""},null,null,null,null,null,null,{"$f":"IF(K63<>\"\",\"Du har satt X for at forholdet ikke er avklart. Gi en nærmere foklaring i kommentarfeltet.\",\"\")","v":""}]
[{"$f":"+A63+1","v":32},"Bygger konsernregnskapet på de konsoliderte selskapenes selskapsregnskap? Dersom datterselskap ikke benytter samme prinsipper som konsernet, er disse regnskapene da omarbeidet for konsolideringsformål?",null,"rskl § 3-6",{"$f":"IF(SUM(F64:I64)>1,\"Oppgi kun et alternativ!\",\"\")","v":""},{"$f":"IF(J64=\"\",\"\",1)","v":""},"","","",null,null,null,null,null,null,{"$f":"IF(K64<>\"\",\"Du har satt X for at forholdet ikke er avklart. Gi en nærmere foklaring i kommentarfeltet.\",\"\")","v":""}]
[{"$f":"+A64+1","v":33},"Dersom utenlandske datterselskap har et annet regnskapsår enn morselskapet, bygger da konsernregnskapet på et delårsregnskap som er avgitt ved regnskapsårets slutt (eventuelt max 3 mnd +/- med tillegg for vesentlige transaksjoner)?",null,null,{"$f":"IF(SUM(F65:I65)>1,\"Oppgi kun et alternativ!\",\"\")","v":""},{"$f":"IF(J65=\"\",\"\",1)","v":""},"","","",null,null,null,null,null,null,{"$f":"IF(K65<>\"\",\"Du har satt X for at forholdet ikke er avklart. Gi en nærmere foklaring i kommentarfeltet.\",\"\")","v":""}]

{"sheet":"F_Ubesv.","index":11,"n_rows":29,"n_cols":4,"rows_kept":29,"cut":false,"hidden":true,"merged":[]}
["Ikke besvart","Spørsmål",2018,"Kommentar"]
[1,"• resultatregnskap"]
[2,"• balanse"]
[3,"• noter"]
[4,"• eventuelt en egen oppstilling over endringer i egenkapitalen"]
[5,"Er det gitt referanser til noteopplysninger fra resultatregnskap og balanse?"]
[6,"Er regnskapsvalutaen norske kroner, alternativt den funksjonelle valutaen?"]
[7,"Er årsregnskapet presentert i norske kroner, euro, eller den funksjonelle valutaen?"]
[8,"Er årsregnskapet og årsberetningen på norsk?"]
[9,"Er det vist tilsvarende tall fra foregående årsregnskap, og er de omarbeidet i nødvendig grad? "]
[10,"Er det foretatt en ytterligere oppdeling av resultatregnskap og balanse eller tilføyelse av poster der foretakets forhold tilsier det?"]
[11,"Er poster slått sammen i resultatregnskap og balanse hvis sammenslåingen fører til et mer oversiktlig årsregnskap?"]
[12,"Er poster i oppstillingsplanen for resultatregnskapet som er slått sammen spesifisert i note?"]
[13,"Er årsregnskapet underskrevet av samtlige styremedlemmer og eventuelt av daglig leder, alternativt av deltakerne eller medlemmene hvis foretaket ikke har styre eller daglig leder?"]
[14,"Dersom den som skal underskrive har innvendinger mot årsregnskapet, har vedkommende underskrevet med påtegnet forbehold og gitt nærmere redegjørelse i årsberetningen?"]
[15,"Er årsregnskapet avlagt innenfor lovens frist?"]
[16,"Er resultatregnskapet satt opp i henhold til Regnskapslovens oppstillingsplan?"]
[17,"Hvis driftskostnadene er inndelt etter funksjon, er da artsinndeling vist i note?"]
[18,"Er det påsett at regnskapet ikke inneholder ekstraordinære poster utover virkning av prinsippendring og korrigering av feil?"]
[19,"Dersom det foreligger særlige poster, er disse spesifisert og benevnt etter inntektens eller kostnadens innhold?"]
[20,"Dersom prinsippendring eller korrigering av feil er resultatført, er de presentert etter ordinært resultat, og spesifisert som \"virkning av prinsippendring\" eller \"korrigering av feil\"?"]
[21,"Er skatteeffekten av prinsippendringer eller korrigering av feil korrekt presentert?"]
[22,"Er det opplyst om forslag til anvendelse av overskudd eller dekning av tap i samsvar med bestemmelsene i regnskapsstandarden?"]
[23,"Hvis det er delt ut tilleggsutbytte eller ekstraordinært utbytte som er regnskapsført i uttaksåret, er det da gitt opplysning om dette utbyttet sammen med disponeringen av årets resultat?"]
[24,"Er det gitt opplysning i årsregnskap eller årsberetning om konsernbidrag fra morselskap til datterselskap som er ført som investering i morselskapets regnskap?"]
[25,"Er balansen spesifisert i henhold til regnskapslovens oppstillingsplan, evt.etter likviditet, dersom dette gir mer relevante og pålitelige opplysninger?"]
[26,"Er eiendeler bestemt til varig eie eller bruk, og fordringer som ikke skal tilbakebetales innen ett år, klassifisert som anleggsmidler, og øvrige eiendeler klassifisert som omløpsmidler?"]
[27,"Er eventuell beholdning av egne aksjer ført opp i samsvar med regnskapslovens krav?"]
[28,"Inngår tilleggsutbytte eller ekstraordinært utbytte som er besluttet før balansedagen, og som står ubetalt på balansedagen, i kortsiktig gjeld?"]

{"sheet":"F_Ja","index":12,"n_rows":41,"n_cols":7,"rows_kept":41,"cut":false,"hidden":true,"merged":[]}
[null,null,{"$f":"COUNTIF(C2:C122,\"=1\")","v":0},"Ja-svar",{"$f":"+Forside!B2","v":0},{"$f":"+Forside!B3","v":2020},"Kommentarer"]
[{"$f":"+'Sjekkliste formelle forhold'!A10","v":1},{"$f":"IF('Sjekkliste formelle forhold'!J10<>\"\",1,0)","v":0},{"$f":"SUM(B2:B2)","v":0},{"$f":"IF($C2=1,'Sjekkliste formelle forhold'!A10,\"\")","v":""},{"$f":"IF($C2=1,'Sjekkliste formelle forhold'!B10,\"\")","v":""},null,{"$f":"IF($C2=1,'Sjekkliste formelle forhold'!N10,\"\")","v":""}]
[{"$f":"+'Sjekkliste formelle forhold'!A11","v":2},{"$f":"IF('Sjekkliste formelle forhold'!J11<>\"\",1,0)","v":0},0,{"$f":"IF($C3=1,'Sjekkliste formelle forhold'!A11,\"\")","v":""},{"$f":"IF($C3=1,'Sjekkliste formelle forhold'!B11,\"\")","v":""},null,{"$f":"IF($C3=1,'Sjekkliste formelle forhold'!N11,\"\")","v":""}]
[{"$f":"+'Sjekkliste formelle forhold'!A12","v":3},{"$f":"IF('Sjekkliste formelle forhold'!J12<>\"\",1,0)","v":0},0,{"$f":"IF($C4=1,'Sjekkliste formelle forhold'!A12,\"\")","v":""},{"$f":"IF($C4=1,'Sjekkliste formelle forhold'!B12,\"\")","v":""},null,{"$f":"IF($C4=1,'Sjekkliste formelle forhold'!N12,\"\")","v":""}]
[{"$f":"+'Sjekkliste formelle forhold'!A13","v":4},{"$f":"IF('Sjekkliste formelle forhold'!J13<>\"\",1,0)","v":0},0,{"$f":"IF($C5=1,'Sjekkliste formelle forhold'!A13,\"\")","v":""},{"$f":"IF($C5=1,'Sjekkliste formelle forhold'!B13,\"\")","v":""},null,{"$f":"IF($C5=1,'Sjekkliste formelle forhold'!N13,\"\")","v":""}]
[{"$f":"+'Sjekkliste formelle forhold'!A14","v":5},{"$f":"IF('Sjekkliste formelle forhold'!J14<>\"\",1,0)","v":0},0,{"$f":"IF($C6=1,'Sjekkliste formelle forhold'!A14,\"\")","v":""},{"$f":"IF($C6=1,'Sjekkliste formelle forhold'!B14,\"\")","v":""},null,{"$f":"IF($C6=1,'Sjekkliste formelle forhold'!N14,\"\")","v":""}]
[{"$f":"+'Sjekkliste formelle forhold'!A16","v":6},{"$f":"IF('Sjekkliste formelle forhold'!J16<>\"\",1,0)","v":0},0,{"$f":"IF($C7=1,'Sjekkliste formelle forhold'!A16,\"\")","v":""},{"$f":"IF($C7=1,'Sjekkliste formelle forhold'!B16,\"\")","v":""},null,{"$f":"IF($C7=1,'Sjekkliste formelle forhold'!N16,\"\")","v":""}]
[{"$f":"+'Sjekkliste formelle forhold'!A17","v":7},{"$f":"IF('Sjekkliste formelle forhold'!J17<>\"\",1,0)","v":0},0,{"$f":"IF($C8=1,'Sjekkliste formelle forhold'!A17,\"\")","v":""},{"$f":"IF($C8=1,'Sjekkliste formelle forhold'!B17,\"\")","v":""},null,{"$f":"IF($C8=1,'Sjekkliste formelle forhold'!N17,\"\")","v":""}]
[{"$f":"+'Sjekkliste formelle forhold'!A18","v":8},{"$f":"IF('Sjekkliste formelle forhold'!J18<>\"\",1,0)","v":0},0,{"$f":"IF($C9=1,'Sjekkliste formelle forhold'!A18,\"\")","v":""},{"$f":"IF($C9=1,'Sjekkliste formelle forhold'!B18,\"\")","v":""},null,{"$f":"IF($C9=1,'Sjekkliste formelle forhold'!N18,\"\")","v":""}]
[{"$f":"+'Sjekkliste formelle forhold'!A22","v":9},{"$f":"IF('Sjekkliste formelle forhold'!J22<>\"\",1,0)","v":0},0,{"$f":"IF($C10=1,'Sjekkliste formelle forhold'!A22,\"\")","v":""},{"$f":"IF($C10=1,'Sjekkliste formelle forhold'!B22,\"\")","v":""},null,{"$f":"IF($C10=1,'Sjekkliste formelle forhold'!N22,\"\")","v":""}]
[{"$f":"+'Sjekkliste formelle forhold'!A26","v":10},{"$f":"IF('Sjekkliste formelle forhold'!J26<>\"\",1,0)","v":0},0,{"$f":"IF($C11=1,'Sjekkliste formelle forhold'!A26,\"\")","v":""},{"$f":"IF($C11=1,'Sjekkliste formelle forhold'!B26,\"\")","v":""},null,{"$f":"IF($C11=1,'Sjekkliste formelle forhold'!N26,\"\")","v":""}]
[{"$f":"+'Sjekkliste formelle forhold'!A28","v":11},{"$f":"IF('Sjekkliste formelle forhold'!J28<>\"\",1,0)","v":0},0,{"$f":"IF($C12=1,'Sjekkliste formelle forhold'!A28,\"\")","v":""},{"$f":"IF($C12=1,'Sjekkliste formelle forhold'!B28,\"\")","v":""},null,{"$f":"IF($C12=1,'Sjekkliste formelle forhold'!N28,\"\")","v":""}]
[{"$f":"+'Sjekkliste formelle forhold'!A29","v":12},{"$f":"IF('Sjekkliste formelle forhold'!J29<>\"\",1,0)","v":0},0,{"$f":"IF($C13=1,'Sjekkliste formelle forhold'!A29,\"\")","v":""},{"$f":"IF($C13=1,'Sjekkliste formelle forhold'!B29,\"\")","v":""},null,{"$f":"IF($C13=1,'Sjekkliste formelle forhold'!N29,\"\")","v":""}]
[{"$f":"+'Sjekkliste formelle forhold'!A31","v":13},{"$f":"IF('Sjekkliste formelle forhold'!J31<>\"\",1,0)","v":0},0,{"$f":"IF($C14=1,'Sjekkliste formelle forhold'!A31,\"\")","v":""},{"$f":"IF($C14=1,'Sjekkliste formelle forhold'!B31,\"\")","v":""},null,{"$f":"IF($C14=1,'Sjekkliste formelle forhold'!N31,\"\")","v":""}]
[{"$f":"+'Sjekkliste formelle forhold'!A32","v":14},{"$f":"IF('Sjekkliste formelle forhold'!J32<>\"\",1,0)","v":0},0,{"$f":"IF($C15=1,'Sjekkliste formelle forhold'!A32,\"\")","v":""},{"$f":"IF($C15=1,'Sjekkliste formelle forhold'!B32,\"\")","v":""},null,{"$f":"IF($C15=1,'Sjekkliste formelle forhold'!N32,\"\")","v":""}]
[{"$f":"+'Sjekkliste formelle forhold'!A33","v":15},{"$f":"IF('Sjekkliste formelle forhold'!J33<>\"\",1,0)","v":0},0,{"$f":"IF($C16=1,'Sjekkliste formelle forhold'!A33,\"\")","v":""},{"$f":"IF($C16=1,'Sjekkliste formelle forhold'!B33,\"\")","v":""},null,{"$f":"IF($C16=1,'Sjekkliste formelle forhold'!N33,\"\")","v":""}]
[{"$f":"+'Sjekkliste formelle forhold'!A35","v":16},{"$f":"IF('Sjekkliste formelle forhold'!J35<>\"\",1,0)","v":0},0,{"$f":"IF($C17=1,'Sjekkliste formelle forhold'!A35,\"\")","v":""},{"$f":"IF($C17=1,'Sjekkliste formelle forhold'!B35,\"\")","v":""},null,{"$f":"IF($C17=1,'Sjekkliste formelle forhold'!N35,\"\")","v":""}]
[{"$f":"+'Sjekkliste formelle forhold'!A36","v":17},{"$f":"IF('Sjekkliste formelle forhold'!J36<>\"\",1,0)","v":0},0,{"$f":"IF($C18=1,'Sjekkliste formelle forhold'!A36,\"\")","v":""},{"$f":"IF($C18=1,'Sjekkliste formelle forhold'!B36,\"\")","v":""},null,{"$f":"IF($C18=1,'Sjekkliste formelle forhold'!N36,\"\")","v":""}]
[{"$f":"+'Sjekkliste formelle forhold'!A39","v":19},{"$f":"IF('Sjekkliste formelle forhold'!J39<>\"\",1,0)","v":0},0,{"$f":"IF($C19=1,'Sjekkliste formelle forhold'!A39,\"\")","v":""},{"$f":"IF($C19=1,'Sjekkliste formelle forhold'!B39,\"\")","v":""},null,{"$f":"IF($C19=1,'Sjekkliste formelle forhold'!N39,\"\")","v":""}]
[{"$f":"+'Sjekkliste formelle forhold'!A40","v":20},{"$f":"IF('Sjekkliste formelle forhold'!J40<>\"\",1,0)","v":0},0,{"$f":"IF($C20=1,'Sjekkliste formelle forhold'!A40,\"\")","v":""},{"$f":"IF($C20=1,'Sjekkliste formelle forhold'!B40,\"\")","v":""},null,{"$f":"IF($C20=1,'Sjekkliste formelle forhold'!N40,\"\")","v":""}]
[{"$f":"+'Sjekkliste formelle forhold'!A42","v":21},{"$f":"IF('Sjekkliste formelle forhold'!J42<>\"\",1,0)","v":0},0,{"$f":"IF($C21=1,'Sjekkliste formelle forhold'!A42,\"\")","v":""},{"$f":"IF($C21=1,'Sjekkliste formelle forhold'!B42,\"\")","v":""},null,{"$f":"IF($C21=1,'Sjekkliste formelle forhold'!N42,\"\")","v":""}]
[{"$f":"+'Sjekkliste formelle forhold'!A44","v":22},{"$f":"IF('Sjekkliste formelle forhold'!J44<>\"\",1,0)","v":0},0,{"$f":"IF($C22=1,'Sjekkliste formelle forhold'!A44,\"\")","v":""},{"$f":"IF($C22=1,'Sjekkliste formelle forhold'!B44,\"\")","v":""},null,{"$f":"IF($C22=1,'Sjekkliste formelle forhold'!N44,\"\")","v":""}]
[{"$f":"+'Sjekkliste formelle forhold'!A47","v":23},{"$f":"IF('Sjekkliste formelle forhold'!J47<>\"\",1,0)","v":0},0,{"$f":"IF($C23=1,'Sjekkliste formelle forhold'!A47,\"\")","v":""},{"$f":"IF($C23=1,'Sjekkliste formelle forhold'!B47,\"\")","v":""},null,{"$f":"IF($C23=1,'Sjekkliste formelle forhold'!N47,\"\")","v":""}]
[{"$f":"+'Sjekkliste formelle forhold'!A48","v":24},{"$f":"IF('Sjekkliste formelle forhold'!J48<>\"\",1,0)","v":0},0,{"$f":"IF($C24=1,'Sjekkliste formelle forhold'!A48,\"\")","v":""},{"$f":"IF($C24=1,'Sjekkliste formelle forhold'!B48,\"\")","v":""},null,{"$f":"IF($C24=1,'Sjekkliste formelle forhold'!N48,\"\")","v":""}]
[{"$f":"+'Sjekkliste formelle forhold'!A49","v":25},{"$f":"IF('Sjekkliste formelle forhold'!J49<>\"\",1,0)","v":0},0,{"$f":"IF($C25=1,'Sjekkliste formelle forhold'!A49,\"\")","v":""},{"$f":"IF($C25=1,'Sjekkliste formelle forhold'!B49,\"\")","v":""},null,{"$f":"IF($C25=1,'Sjekkliste formelle forhold'!N49,\"\")","v":""}]
[{"$f":"+'Sjekkliste formelle forhold'!A52","v":26},{"$f":"IF('Sjekkliste formelle forhold'!J52<>\"\",1,0)","v":0},0,{"$f":"IF($C26=1,'Sjekkliste formelle forhold'!A52,\"\")","v":""},{"$f":"IF($C26=1,'Sjekkliste formelle forhold'!B52,\"\")","v":""},null,{"$f":"IF($C26=1,'Sjekkliste formelle forhold'!N52,\"\")","v":""}]
[{"$f":"+'Sjekkliste formelle forhold'!A54","v":28},{"$f":"IF('Sjekkliste formelle forhold'!J54<>\"\",1,0)","v":0},0,{"$f":"IF($C27=1,'Sjekkliste formelle forhold'!A54,\"\")","v":""},{"$f":"IF($C27=1,'Sjekkliste formelle forhold'!B54,\"\")","v":""},null,{"$f":"IF($C27=1,'Sjekkliste formelle forhold'!N54,\"\")","v":""}]
[{"$f":"+'Sjekkliste formelle forhold'!A56","v":29},{"$f":"IF('Sjekkliste formelle forhold'!J56<>\"\",1,0)","v":0},0,{"$f":"IF($C28=1,'Sjekkliste formelle forhold'!A56,\"\")","v":""},{"$f":"IF($C28=1,'Sjekkliste formelle forhold'!B56,\"\")","v":""},null,{"$f":"IF($C28=1,'Sjekkliste formelle forhold'!N56,\"\")","v":""}]
[{"$f":"+'Sjekkliste formelle forhold'!A57","v":30},{"$f":"IF('Sjekkliste formelle forhold'!J57<>\"\",1,0)","v":0},0,{"$f":"IF($C29=1,'Sjekkliste formelle forhold'!A57,\"\")","v":""},{"$f":"IF($C29=1,'Sjekkliste formelle forhold'!B57,\"\")","v":""},null,{"$f":"IF($C29=1,'Sjekkliste formelle forhold'!N57,\"\")","v":""}]
[{"$f":"+'Sjekkliste formelle forhold'!A63","v":31},{"$f":"IF('Sjekkliste formelle forhold'!J63<>\"\",1,0)","v":0},0,{"$f":"IF($C30=1,'Sjekkliste formelle forhold'!A63,\"\")","v":""},{"$f":"IF($C30=1,'Sjekkliste formelle forhold'!B63,\"\")","v":""},null,{"$f":"IF($C30=1,'Sjekkliste formelle forhold'!N63,\"\")","v":""}]
[{"$f":"+'Sjekkliste formelle forhold'!A64","v":32},{"$f":"IF('Sjekkliste formelle forhold'!J64<>\"\",1,0)","v":0},0,{"$f":"IF($C31=1,'Sjekkliste formelle forhold'!A64,\"\")","v":""},{"$f":"IF($C31=1,'Sjekkliste formelle forhold'!B64,\"\")","v":""},null,{"$f":"IF($C31=1,'Sjekkliste formelle forhold'!N64,\"\")","v":""}]
[{"$f":"+'Sjekkliste formelle forhold'!A65","v":33},{"$f":"IF('Sjekkliste formelle forhold'!J65<>\"\",1,0)","v":0},0,{"$f":"IF($C32=1,'Sjekkliste formelle forhold'!A65,\"\")","v":""},{"$f":"IF($C32=1,'Sjekkliste formelle forhold'!B65,\"\")","v":""},null,{"$f":"IF($C32=1,'Sjekkliste formelle forhold'!N65,\"\")","v":""}]
[{"$f":"+'Sjekkliste formelle forhold'!#REF!","v":{"$error":"#REF!"}},{"$f":"IF('Sjekkliste formelle forhold'!#REF!<>\"\",1,0)","v":{"$error":"#REF!"}},{"$error":"#REF!"},{"$f":"IF($C33=1,'Sjekkliste formelle forhold'!#REF!,\"\")","v":{"$error":"#REF!"}},{"$f":"IF($C33=1,'Sjekkliste formelle forhold'!#REF!,\"\")","v":{"$error":"#REF!"}},null,{"$f":"IF($C33=1,'Sjekkliste formelle forhold'!#REF!,\"\")","v":{"$error":"#REF!"}}]
[{"$f":"+'Sjekkliste formelle forhold'!#REF!","v":{"$error":"#REF!"}},{"$f":"IF('Sjekkliste formelle forhold'!#REF!<>\"\",1,0)","v":{"$error":"#REF!"}},{"$error":"#REF!"},{"$f":"IF($C34=1,'Sjekkliste formelle forhold'!#REF!,\"\")","v":{"$error":"#REF!"}},{"$f":"IF($C34=1,'Sjekkliste formelle forhold'!#REF!,\"\")","v":{"$error":"#REF!"}},null,{"$f":"IF($C34=1,'Sjekkliste formelle forhold'!#REF!,\"\")","v":{"$error":"#REF!"}}]
[{"$f":"+'Sjekkliste formelle forhold'!#REF!","v":{"$error":"#REF!"}},{"$f":"IF('Sjekkliste formelle forhold'!#REF!<>\"\",1,0)","v":{"$error":"#REF!"}},{"$error":"#REF!"},{"$f":"IF($C35=1,'Sjekkliste formelle forhold'!#REF!,\"\")","v":{"$error":"#REF!"}},{"$f":"IF($C35=1,'Sjekkliste formelle forhold'!#REF!,\"\")","v":{"$error":"#REF!"}},null,{"$f":"IF($C35=1,'Sjekkliste formelle forhold'!#REF!,\"\")","v":{"$error":"#REF!"}}]
[{"$f":"+'Sjekkliste formelle forhold'!#REF!","v":{"$error":"#REF!"}},{"$f":"IF('Sjekkliste formelle forhold'!#REF!<>\"\",1,0)","v":{"$error":"#REF!"}},{"$error":"#REF!"},{"$f":"IF($C36=1,'Sjekkliste formelle forhold'!#REF!,\"\")","v":{"$error":"#REF!"}},{"$f":"IF($C36=1,'Sjekkliste formelle forhold'!#REF!,\"\")","v":{"$error":"#REF!"}},null,{"$f":"IF($C36=1,'Sjekkliste formelle forhold'!#REF!,\"\")","v":{"$error":"#REF!"}}]
[{"$f":"+'Sjekkliste formelle forhold'!#REF!","v":{"$error":"#REF!"}},{"$f":"IF('Sjekkliste formelle forhold'!#REF!<>\"\",1,0)","v":{"$error":"#REF!"}},{"$error":"#REF!"},{"$f":"IF($C37=1,'Sjekkliste formelle forhold'!#REF!,\"\")","v":{"$error":"#REF!"}},{"$f":"IF($C37=1,'Sjekkliste formelle forhold'!#REF!,\"\")","v":{"$error":"#REF!"}},null,{"$f":"IF($C37=1,'Sjekkliste formelle forhold'!#REF!,\"\")","v":{"$error":"#REF!"}}]
[{"$f":"+'Sjekkliste formelle forhold'!#REF!","v":{"$error":"#REF!"}},{"$f":"IF('Sjekkliste formelle forhold'!#REF!<>\"\",1,0)","v":{"$error":"#REF!"}},{"$error":"#REF!"},{"$f":"IF($C38=1,'Sjekkliste formelle forhold'!#REF!,\"\")","v":{"$error":"#REF!"}},{"$f":"IF($C38=1,'Sjekkliste formelle forhold'!#REF!,\"\")","v":{"$error":"#REF!"}},null,{"$f":"IF($C38=1,'Sjekkliste formelle forhold'!#REF!,\"\")","v":{"$error":"#REF!"}}]
[{"$f":"+'Sjekkliste formelle forhold'!#REF!","v":{"$error":"#REF!"}},{"$f":"IF('Sjekkliste formelle forhold'!#REF!<>\"\",1,0)","v":{"$error":"#REF!"}},{"$error":"#REF!"},{"$f":"IF($C39=1,'Sjekkliste formelle forhold'!#REF!,\"\")","v":{"$error":"#REF!"}},{"$f":"IF($C39=1,'Sjekkliste formelle forhold'!#REF!,\"\")","v":{"$error":"#REF!"}},null,{"$f":"IF($C39=1,'Sjekkliste formelle forhold'!#REF!,\"\")","v":{"$error":"#REF!"}}]
[{"$f":"+'Sjekkliste formelle forhold'!#REF!","v":{"$error":"#REF!"}},{"$f":"IF('Sjekkliste formelle forhold'!#REF!<>\"\",1,0)","v":{"$error":"#REF!"}},{"$error":"#REF!"},{"$f":"IF($C40=1,'Sjekkliste formelle forhold'!#REF!,\"\")","v":{"$error":"#REF!"}},{"$f":"IF($C40=1,'Sjekkliste formelle forhold'!#REF!,\"\")","v":{"$error":"#REF!"}},null,{"$f":"IF($C40=1,'Sjekkliste formelle forhold'!#REF!,\"\")","v":{"$error":"#REF!"}}]
[{"$f":"+'Sjekkliste formelle forhold'!#REF!","v":{"$error":"#REF!"}},{"$f":"IF('Sjekkliste formelle forhold'!#REF!<>\"\",1,0)","v":{"$error":"#REF!"}},{"$error":"#REF!"},{"$f":"IF($C41=1,'Sjekkliste formelle forhold'!#REF!,\"\")","v":{"$error":"#REF!"}},{"$f":"IF($C41=1,'Sjekkliste formelle forhold'!#REF!,\"\")","v":{"$error":"#REF!"}},null,{"$f":"IF($C41=1,'Sjekkliste formelle forhold'!#REF!,\"\")","v":{"$error":"#REF!"}}]

{"sheet":"F_Nei","index":13,"n_rows":34,"n_cols":7,"rows_kept":34,"cut":false,"hidden":true,"merged":[]}
[null,null,{"$f":"COUNTIF(C2:C108,\"=1\")","v":0},"Nei-svar",{"$f":"+Forside!B2","v":0},{"$f":"+Forside!B3","v":2020},"Kommentarer"]
[{"$f":"+'Sjekkliste formelle forhold'!A10","v":1},{"$f":"IF('Sjekkliste formelle forhold'!K10<>\"\",1,0)","v":0},{"$f":"SUM(B2:B2)","v":0},{"$f":"IF($C2=1,'Sjekkliste formelle forhold'!A10,\"\")","v":""},{"$f":"IF($C2=1,'Sjekkliste formelle forhold'!B10,\"\")","v":""},null,{"$f":"IF($C2=1,'Sjekkliste formelle forhold'!N10,\"\")","v":""}]
[{"$f":"+'Sjekkliste formelle forhold'!A11","v":2},{"$f":"IF('Sjekkliste formelle forhold'!K11<>\"\",1,0)","v":0},0,{"$f":"IF($C3=1,'Sjekkliste formelle forhold'!A11,\"\")","v":""},{"$f":"IF($C3=1,'Sjekkliste formelle forhold'!B11,\"\")","v":""},null,{"$f":"IF($C3=1,'Sjekkliste formelle forhold'!N11,\"\")","v":""}]
[{"$f":"+'Sjekkliste formelle forhold'!A12","v":3},{"$f":"IF('Sjekkliste formelle forhold'!K12<>\"\",1,0)","v":0},0,{"$f":"IF($C4=1,'Sjekkliste formelle forhold'!A12,\"\")","v":""},{"$f":"IF($C4=1,'Sjekkliste formelle forhold'!B12,\"\")","v":""},null,{"$f":"IF($C4=1,'Sjekkliste formelle forhold'!N12,\"\")","v":""}]
[{"$f":"+'Sjekkliste formelle forhold'!A13","v":4},{"$f":"IF('Sjekkliste formelle forhold'!K13<>\"\",1,0)","v":0},0,{"$f":"IF($C5=1,'Sjekkliste formelle forhold'!A13,\"\")","v":""},{"$f":"IF($C5=1,'Sjekkliste formelle forhold'!B13,\"\")","v":""},null,{"$f":"IF($C5=1,'Sjekkliste formelle forhold'!N13,\"\")","v":""}]
[{"$f":"+'Sjekkliste formelle forhold'!A14","v":5},{"$f":"IF('Sjekkliste formelle forhold'!K14<>\"\",1,0)","v":0},0,{"$f":"IF($C6=1,'Sjekkliste formelle forhold'!A14,\"\")","v":""},{"$f":"IF($C6=1,'Sjekkliste formelle forhold'!B14,\"\")","v":""},null,{"$f":"IF($C6=1,'Sjekkliste formelle forhold'!N14,\"\")","v":""}]
[{"$f":"+'Sjekkliste formelle forhold'!A16","v":6},{"$f":"IF('Sjekkliste formelle forhold'!K16<>\"\",1,0)","v":0},0,{"$f":"IF($C7=1,'Sjekkliste formelle forhold'!A16,\"\")","v":""},{"$f":"IF($C7=1,'Sjekkliste formelle forhold'!B16,\"\")","v":""},null,{"$f":"IF($C7=1,'Sjekkliste formelle forhold'!N16,\"\")","v":""}]
[{"$f":"+'Sjekkliste formelle forhold'!A17","v":7},{"$f":"IF('Sjekkliste formelle forhold'!K17<>\"\",1,0)","v":0},0,{"$f":"IF($C8=1,'Sjekkliste formelle forhold'!A17,\"\")","v":""},{"$f":"IF($C8=1,'Sjekkliste formelle forhold'!B17,\"\")","v":""},null,{"$f":"IF($C8=1,'Sjekkliste formelle forhold'!N17,\"\")","v":""}]
[{"$f":"+'Sjekkliste formelle forhold'!A18","v":8},{"$f":"IF('Sjekkliste formelle forhold'!K18<>\"\",1,0)","v":0},0,{"$f":"IF($C9=1,'Sjekkliste formelle forhold'!A18,\"\")","v":""},{"$f":"IF($C9=1,'Sjekkliste formelle forhold'!B18,\"\")","v":""},null,{"$f":"IF($C9=1,'Sjekkliste formelle forhold'!N18,\"\")","v":""}]
[{"$f":"+'Sjekkliste formelle forhold'!A22","v":9},{"$f":"IF('Sjekkliste formelle forhold'!K22<>\"\",1,0)","v":0},0,{"$f":"IF($C10=1,'Sjekkliste formelle forhold'!A22,\"\")","v":""},{"$f":"IF($C10=1,'Sjekkliste formelle forhold'!B22,\"\")","v":""},null,{"$f":"IF($C10=1,'Sjekkliste formelle forhold'!N22,\"\")","v":""}]
[{"$f":"+'Sjekkliste formelle forhold'!A26","v":10},{"$f":"IF('Sjekkliste formelle forhold'!K26<>\"\",1,0)","v":0},0,{"$f":"IF($C11=1,'Sjekkliste formelle forhold'!A26,\"\")","v":""},{"$f":"IF($C11=1,'Sjekkliste formelle forhold'!B26,\"\")","v":""},null,{"$f":"IF($C11=1,'Sjekkliste formelle forhold'!N26,\"\")","v":""}]
[{"$f":"+'Sjekkliste formelle forhold'!A28","v":11},{"$f":"IF('Sjekkliste formelle forhold'!K28<>\"\",1,0)","v":0},0,{"$f":"IF($C12=1,'Sjekkliste formelle forhold'!A28,\"\")","v":""},{"$f":"IF($C12=1,'Sjekkliste formelle forhold'!B28,\"\")","v":""},null,{"$f":"IF($C12=1,'Sjekkliste formelle forhold'!N28,\"\")","v":""}]
[{"$f":"+'Sjekkliste formelle forhold'!A29","v":12},{"$f":"IF('Sjekkliste formelle forhold'!K29<>\"\",1,0)","v":0},0,{"$f":"IF($C13=1,'Sjekkliste formelle forhold'!A29,\"\")","v":""},{"$f":"IF($C13=1,'Sjekkliste formelle forhold'!B29,\"\")","v":""},null,{"$f":"IF($C13=1,'Sjekkliste formelle forhold'!N29,\"\")","v":""}]
[{"$f":"+'Sjekkliste formelle forhold'!A31","v":13},{"$f":"IF('Sjekkliste formelle forhold'!K31<>\"\",1,0)","v":0},0,{"$f":"IF($C14=1,'Sjekkliste formelle forhold'!A31,\"\")","v":""},{"$f":"IF($C14=1,'Sjekkliste formelle forhold'!B31,\"\")","v":""},null,{"$f":"IF($C14=1,'Sjekkliste formelle forhold'!N31,\"\")","v":""}]
[{"$f":"+'Sjekkliste formelle forhold'!A32","v":14},{"$f":"IF('Sjekkliste formelle forhold'!K32<>\"\",1,0)","v":0},0,{"$f":"IF($C15=1,'Sjekkliste formelle forhold'!A32,\"\")","v":""},{"$f":"IF($C15=1,'Sjekkliste formelle forhold'!B32,\"\")","v":""},null,{"$f":"IF($C15=1,'Sjekkliste formelle forhold'!N32,\"\")","v":""}]
[{"$f":"+'Sjekkliste formelle forhold'!A33","v":15},{"$f":"IF('Sjekkliste formelle forhold'!K33<>\"\",1,0)","v":0},0,{"$f":"IF($C16=1,'Sjekkliste formelle forhold'!A33,\"\")","v":""},{"$f":"IF($C16=1,'Sjekkliste formelle forhold'!B33,\"\")","v":""},null,{"$f":"IF($C16=1,'Sjekkliste formelle forhold'!N33,\"\")","v":""}]
[{"$f":"+'Sjekkliste formelle forhold'!A35","v":16},{"$f":"IF('Sjekkliste formelle forhold'!K35<>\"\",1,0)","v":0},0,{"$f":"IF($C17=1,'Sjekkliste formelle forhold'!A35,\"\")","v":""},{"$f":"IF($C17=1,'Sjekkliste formelle forhold'!B35,\"\")","v":""},null,{"$f":"IF($C17=1,'Sjekkliste formelle forhold'!N35,\"\")","v":""}]
[{"$f":"+'Sjekkliste formelle forhold'!A36","v":17},{"$f":"IF('Sjekkliste formelle forhold'!K36<>\"\",1,0)","v":0},0,{"$f":"IF($C18=1,'Sjekkliste formelle forhold'!A36,\"\")","v":""},{"$f":"IF($C18=1,'Sjekkliste formelle forhold'!B36,\"\")","v":""},null,{"$f":"IF($C18=1,'Sjekkliste formelle forhold'!N36,\"\")","v":""}]
[{"$f":"+'Sjekkliste formelle forhold'!A37","v":18},{"$f":"IF('Sjekkliste formelle forhold'!K37<>\"\",1,0)","v":0},{"$f":"SUM(B19:B19)","v":0},{"$f":"IF($C19=1,'Sjekkliste formelle forhold'!A37,\"\")","v":""},{"$f":"IF($C19=1,'Sjekkliste formelle forhold'!B37,\"\")","v":""},null,{"$f":"IF($C19=1,'Sjekkliste formelle forhold'!N37,\"\")","v":""}]
[{"$f":"+'Sjekkliste formelle forhold'!A39","v":19},{"$f":"IF('Sjekkliste formelle forhold'!K39<>\"\",1,0)","v":0},0,{"$f":"IF($C20=1,'Sjekkliste formelle forhold'!A39,\"\")","v":""},{"$f":"IF($C20=1,'Sjekkliste formelle forhold'!B39,\"\")","v":""},null,{"$f":"IF($C20=1,'Sjekkliste formelle forhold'!N39,\"\")","v":""}]
[{"$f":"+'Sjekkliste formelle forhold'!A40","v":20},{"$f":"IF('Sjekkliste formelle forhold'!K40<>\"\",1,0)","v":0},0,{"$f":"IF($C21=1,'Sjekkliste formelle forhold'!A40,\"\")","v":""},{"$f":"IF($C21=1,'Sjekkliste formelle forhold'!B40,\"\")","v":""},null,{"$f":"IF($C21=1,'Sjekkliste formelle forhold'!N40,\"\")","v":""}]
[{"$f":"+'Sjekkliste formelle forhold'!A42","v":21},{"$f":"IF('Sjekkliste formelle forhold'!K42<>\"\",1,0)","v":0},0,{"$f":"IF($C22=1,'Sjekkliste formelle forhold'!A42,\"\")","v":""},{"$f":"IF($C22=1,'Sjekkliste formelle forhold'!B42,\"\")","v":""},null,{"$f":"IF($C22=1,'Sjekkliste formelle forhold'!N42,\"\")","v":""}]
[{"$f":"+'Sjekkliste formelle forhold'!A44","v":22},{"$f":"IF('Sjekkliste formelle forhold'!K44<>\"\",1,0)","v":0},0,{"$f":"IF($C23=1,'Sjekkliste formelle forhold'!A44,\"\")","v":""},{"$f":"IF($C23=1,'Sjekkliste formelle forhold'!B44,\"\")","v":""},null,{"$f":"IF($C23=1,'Sjekkliste formelle forhold'!N44,\"\")","v":""}]
[{"$f":"+'Sjekkliste formelle forhold'!A47","v":23},{"$f":"IF('Sjekkliste formelle forhold'!K47<>\"\",1,0)","v":0},0,{"$f":"IF($C24=1,'Sjekkliste formelle forhold'!A47,\"\")","v":""},{"$f":"IF($C24=1,'Sjekkliste formelle forhold'!B47,\"\")","v":""},null,{"$f":"IF($C24=1,'Sjekkliste formelle forhold'!N47,\"\")","v":""}]
[{"$f":"+'Sjekkliste formelle forhold'!A48","v":24},{"$f":"IF('Sjekkliste formelle forhold'!K48<>\"\",1,0)","v":0},0,{"$f":"IF($C25=1,'Sjekkliste formelle forhold'!A48,\"\")","v":""},{"$f":"IF($C25=1,'Sjekkliste formelle forhold'!B48,\"\")","v":""},null,{"$f":"IF($C25=1,'Sjekkliste formelle forhold'!N48,\"\")","v":""}]
[{"$f":"+'Sjekkliste formelle forhold'!A49","v":25},{"$f":"IF('Sjekkliste formelle forhold'!K49<>\"\",1,0)","v":0},0,{"$f":"IF($C26=1,'Sjekkliste formelle forhold'!A49,\"\")","v":""},{"$f":"IF($C26=1,'Sjekkliste formelle forhold'!B49,\"\")","v":""},null,{"$f":"IF($C26=1,'Sjekkliste formelle forhold'!N49,\"\")","v":""}]
[{"$f":"+'Sjekkliste formelle forhold'!A52","v":26},{"$f":"IF('Sjekkliste formelle forhold'!K52<>\"\",1,0)","v":0},0,{"$f":"IF($C27=1,'Sjekkliste formelle forhold'!A52,\"\")","v":""},{"$f":"IF($C27=1,'Sjekkliste formelle forhold'!B52,\"\")","v":""},null,{"$f":"IF($C27=1,'Sjekkliste formelle forhold'!N52,\"\")","v":""}]
[{"$f":"+'Sjekkliste formelle forhold'!A53","v":27},{"$f":"IF('Sjekkliste formelle forhold'!K53<>\"\",1,0)","v":0},{"$f":"SUM(B28:B28)","v":0},{"$f":"IF($C28=1,'Sjekkliste formelle forhold'!A53,\"\")","v":""},{"$f":"IF($C28=1,'Sjekkliste formelle forhold'!B53,\"\")","v":""},null,{"$f":"IF($C28=1,'Sjekkliste formelle forhold'!N53,\"\")","v":""}]
[{"$f":"+'Sjekkliste formelle forhold'!A54","v":28},{"$f":"IF('Sjekkliste formelle forhold'!K54<>\"\",1,0)","v":0},0,{"$f":"IF($C29=1,'Sjekkliste formelle forhold'!A54,\"\")","v":""},{"$f":"IF($C29=1,'Sjekkliste formelle forhold'!B54,\"\")","v":""},null,{"$f":"IF($C29=1,'Sjekkliste formelle forhold'!N54,\"\")","v":""}]
[{"$f":"+'Sjekkliste formelle forhold'!A56","v":29},{"$f":"IF('Sjekkliste formelle forhold'!K56<>\"\",1,0)","v":0},0,{"$f":"IF($C30=1,'Sjekkliste formelle forhold'!A56,\"\")","v":""},{"$f":"IF($C30=1,'Sjekkliste formelle forhold'!B56,\"\")","v":""},null,{"$f":"IF($C30=1,'Sjekkliste formelle forhold'!N56,\"\")","v":""}]
[{"$f":"+'Sjekkliste formelle forhold'!A57","v":30},{"$f":"IF('Sjekkliste formelle forhold'!K57<>\"\",1,0)","v":0},0,{"$f":"IF($C31=1,'Sjekkliste formelle forhold'!A57,\"\")","v":""},{"$f":"IF($C31=1,'Sjekkliste formelle forhold'!B57,\"\")","v":""},null,{"$f":"IF($C31=1,'Sjekkliste formelle forhold'!N57,\"\")","v":""}]
[{"$f":"+'Sjekkliste formelle forhold'!A63","v":31},{"$f":"IF('Sjekkliste formelle forhold'!K63<>\"\",1,0)","v":0},0,{"$f":"IF($C32=1,'Sjekkliste formelle forhold'!A63,\"\")","v":""},{"$f":"IF($C32=1,'Sjekkliste formelle forhold'!B63,\"\")","v":""},null,{"$f":"IF($C32=1,'Sjekkliste formelle forhold'!N63,\"\")","v":""}]
[{"$f":"+'Sjekkliste formelle forhold'!A64","v":32},{"$f":"IF('Sjekkliste formelle forhold'!K64<>\"\",1,0)","v":0},0,{"$f":"IF($C33=1,'Sjekkliste formelle forhold'!A64,\"\")","v":""},{"$f":"IF($C33=1,'Sjekkliste formelle forhold'!B64,\"\")","v":""},null,{"$f":"IF($C33=1,'Sjekkliste formelle forhold'!N64,\"\")","v":""}]
[{"$f":"+'Sjekkliste formelle forhold'!A65","v":33},{"$f":"IF('Sjekkliste formelle forhold'!K65<>\"\",1,0)","v":0},0,{"$f":"IF($C34=1,'Sjekkliste formelle forhold'!A65,\"\")","v":""},{"$f":"IF($C34=1,'Sjekkliste formelle forhold'!B65,\"\")","v":""},null,{"$f":"IF($C34=1,'Sjekkliste formelle forhold'!N65,\"\")","v":""}]

{"sheet":"F_IB","index":14,"n_rows":34,"n_cols":7,"rows_kept":34,"cut":false,"hidden":true,"merged":[]}
[null,null,{"$f":"COUNTIF(C2:C427,\"=1\")","v":0},"IA-svar",{"$f":"+Forside!B2","v":0},{"$f":"+Forside!B3","v":2020},"Kommentarer"]
[{"$f":"+'Sjekkliste formelle forhold'!A11","v":2},{"$f":"IF('Sjekkliste formelle forhold'!L11<>\"\",1,0)","v":0},{"$f":"SUM(B2:B2)","v":0},{"$f":"IF($C2=1,'Sjekkliste formelle forhold'!A11,\"\")","v":""},{"$f":"IF($C2=1,'Sjekkliste formelle forhold'!B11,\"\")","v":""},null,{"$f":"IF($C2=1,'Sjekkliste formelle forhold'!N11,\"\")","v":""}]
[{"$f":"+'Sjekkliste formelle forhold'!A13","v":4},{"$f":"IF('Sjekkliste formelle forhold'!L13<>\"\",1,0)","v":0},0,{"$f":"IF($C3=1,'Sjekkliste formelle forhold'!A13,\"\")","v":""},{"$f":"IF($C3=1,'Sjekkliste formelle forhold'!B13,\"\")","v":""},null,{"$f":"IF($C3=1,'Sjekkliste formelle forhold'!N13,\"\")","v":""}]
[{"$f":"+'Sjekkliste formelle forhold'!A16","v":6},{"$f":"IF('Sjekkliste formelle forhold'!L16<>\"\",1,0)","v":0},0,{"$f":"IF($C4=1,'Sjekkliste formelle forhold'!A16,\"\")","v":""},{"$f":"IF($C4=1,'Sjekkliste formelle forhold'!B16,\"\")","v":""},null,{"$f":"IF($C4=1,'Sjekkliste formelle forhold'!N16,\"\")","v":""}]
[{"$f":"+'Sjekkliste formelle forhold'!A10","v":1},{"$f":"IF('Sjekkliste formelle forhold'!L10<>\"\",1,0)","v":0},0,{"$f":"IF($C5=1,'Sjekkliste formelle forhold'!A10,\"\")","v":""},{"$f":"IF($C5=1,'Sjekkliste formelle forhold'!B10,\"\")","v":""},null,{"$f":"IF($C5=1,'Sjekkliste formelle forhold'!N10,\"\")","v":""}]
[{"$f":"+'Sjekkliste formelle forhold'!A12","v":3},{"$f":"IF('Sjekkliste formelle forhold'!L12<>\"\",1,0)","v":0},0,{"$f":"IF($C6=1,'Sjekkliste formelle forhold'!A12,\"\")","v":""},{"$f":"IF($C6=1,'Sjekkliste formelle forhold'!B12,\"\")","v":""},null,{"$f":"IF($C6=1,'Sjekkliste formelle forhold'!N12,\"\")","v":""}]
[{"$f":"+'Sjekkliste formelle forhold'!A14","v":5},{"$f":"IF('Sjekkliste formelle forhold'!L14<>\"\",1,0)","v":0},0,{"$f":"IF($C7=1,'Sjekkliste formelle forhold'!A14,\"\")","v":""},{"$f":"IF($C7=1,'Sjekkliste formelle forhold'!B14,\"\")","v":""},null,{"$f":"IF($C7=1,'Sjekkliste formelle forhold'!N14,\"\")","v":""}]
[{"$f":"+'Sjekkliste formelle forhold'!A17","v":7},{"$f":"IF('Sjekkliste formelle forhold'!L17<>\"\",1,0)","v":0},0,{"$f":"IF($C8=1,'Sjekkliste formelle forhold'!A17,\"\")","v":""},{"$f":"IF($C8=1,'Sjekkliste formelle forhold'!B17,\"\")","v":""},null,{"$f":"IF($C8=1,'Sjekkliste formelle forhold'!N17,\"\")","v":""}]
[{"$f":"+'Sjekkliste formelle forhold'!A18","v":8},{"$f":"IF('Sjekkliste formelle forhold'!L18<>\"\",1,0)","v":0},0,{"$f":"IF($C9=1,'Sjekkliste formelle forhold'!A18,\"\")","v":""},{"$f":"IF($C9=1,'Sjekkliste formelle forhold'!B18,\"\")","v":""},null,{"$f":"IF($C9=1,'Sjekkliste formelle forhold'!N18,\"\")","v":""}]
[{"$f":"+'Sjekkliste formelle forhold'!A22","v":9},{"$f":"IF('Sjekkliste formelle forhold'!L22<>\"\",1,0)","v":0},0,{"$f":"IF($C10=1,'Sjekkliste formelle forhold'!A22,\"\")","v":""},{"$f":"IF($C10=1,'Sjekkliste formelle forhold'!B22,\"\")","v":""},null,{"$f":"IF($C10=1,'Sjekkliste formelle forhold'!N22,\"\")","v":""}]
[{"$f":"+'Sjekkliste formelle forhold'!A26","v":10},{"$f":"IF('Sjekkliste formelle forhold'!L26<>\"\",1,0)","v":0},0,{"$f":"IF($C11=1,'Sjekkliste formelle forhold'!A26,\"\")","v":""},{"$f":"IF($C11=1,'Sjekkliste formelle forhold'!B26,\"\")","v":""},null,{"$f":"IF($C11=1,'Sjekkliste formelle forhold'!N26,\"\")","v":""}]
[{"$f":"+'Sjekkliste formelle forhold'!A28","v":11},{"$f":"IF('Sjekkliste formelle forhold'!L28<>\"\",1,0)","v":0},0,{"$f":"IF($C12=1,'Sjekkliste formelle forhold'!A28,\"\")","v":""},{"$f":"IF($C12=1,'Sjekkliste formelle forhold'!B28,\"\")","v":""},null,{"$f":"IF($C12=1,'Sjekkliste formelle forhold'!N28,\"\")","v":""}]
[{"$f":"+'Sjekkliste formelle forhold'!A29","v":12},{"$f":"IF('Sjekkliste formelle forhold'!L29<>\"\",1,0)","v":0},0,{"$f":"IF($C13=1,'Sjekkliste formelle forhold'!A29,\"\")","v":""},{"$f":"IF($C13=1,'Sjekkliste formelle forhold'!B29,\"\")","v":""},null,{"$f":"IF($C13=1,'Sjekkliste formelle forhold'!N29,\"\")","v":""}]
[{"$f":"+'Sjekkliste formelle forhold'!A31","v":13},{"$f":"IF('Sjekkliste formelle forhold'!L31<>\"\",1,0)","v":0},0,{"$f":"IF($C14=1,'Sjekkliste formelle forhold'!A31,\"\")","v":""},{"$f":"IF($C14=1,'Sjekkliste formelle forhold'!B31,\"\")","v":""},null,{"$f":"IF($C14=1,'Sjekkliste formelle forhold'!N31,\"\")","v":""}]
[{"$f":"+'Sjekkliste formelle forhold'!A32","v":14},{"$f":"IF('Sjekkliste formelle forhold'!L32<>\"\",1,0)","v":0},0,{"$f":"IF($C15=1,'Sjekkliste formelle forhold'!A32,\"\")","v":""},{"$f":"IF($C15=1,'Sjekkliste formelle forhold'!B32,\"\")","v":""},null,{"$f":"IF($C15=1,'Sjekkliste formelle forhold'!N32,\"\")","v":""}]
[{"$f":"+'Sjekkliste formelle forhold'!A33","v":15},{"$f":"IF('Sjekkliste formelle forhold'!L33<>\"\",1,0)","v":0},0,{"$f":"IF($C16=1,'Sjekkliste formelle forhold'!A33,\"\")","v":""},{"$f":"IF($C16=1,'Sjekkliste formelle forhold'!B33,\"\")","v":""},null,{"$f":"IF($C16=1,'Sjekkliste formelle forhold'!N33,\"\")","v":""}]
[{"$f":"+'Sjekkliste formelle forhold'!A35","v":16},{"$f":"IF('Sjekkliste formelle forhold'!L35<>\"\",1,0)","v":0},0,{"$f":"IF($C17=1,'Sjekkliste formelle forhold'!A35,\"\")","v":""},{"$f":"IF($C17=1,'Sjekkliste formelle forhold'!B35,\"\")","v":""},null,{"$f":"IF($C17=1,'Sjekkliste formelle forhold'!N35,\"\")","v":""}]
[{"$f":"+'Sjekkliste formelle forhold'!A36","v":17},{"$f":"IF('Sjekkliste formelle forhold'!L36<>\"\",1,0)","v":0},0,{"$f":"IF($C18=1,'Sjekkliste formelle forhold'!A36,\"\")","v":""},{"$f":"IF($C18=1,'Sjekkliste formelle forhold'!B36,\"\")","v":""},null,{"$f":"IF($C18=1,'Sjekkliste formelle forhold'!N36,\"\")","v":""}]
[{"$f":"+'Sjekkliste formelle forhold'!A37","v":18},{"$f":"IF('Sjekkliste formelle forhold'!L37<>\"\",1,0)","v":0},0,{"$f":"IF($C19=1,'Sjekkliste formelle forhold'!A37,\"\")","v":""},{"$f":"IF($C19=1,'Sjekkliste formelle forhold'!B37,\"\")","v":""},null,{"$f":"IF($C19=1,'Sjekkliste formelle forhold'!N37,\"\")","v":""}]
[{"$f":"+'Sjekkliste formelle forhold'!A39","v":19},{"$f":"IF('Sjekkliste formelle forhold'!L39<>\"\",1,0)","v":0},0,{"$f":"IF($C20=1,'Sjekkliste formelle forhold'!A39,\"\")","v":""},{"$f":"IF($C20=1,'Sjekkliste formelle forhold'!B39,\"\")","v":""},null,{"$f":"IF($C20=1,'Sjekkliste formelle forhold'!N39,\"\")","v":""}]
[{"$f":"+'Sjekkliste formelle forhold'!A40","v":20},{"$f":"IF('Sjekkliste formelle forhold'!L40<>\"\",1,0)","v":0},0,{"$f":"IF($C21=1,'Sjekkliste formelle forhold'!A40,\"\")","v":""},{"$f":"IF($C21=1,'Sjekkliste formelle forhold'!B40,\"\")","v":""},null,{"$f":"IF($C21=1,'Sjekkliste formelle forhold'!N40,\"\")","v":""}]
[{"$f":"+'Sjekkliste formelle forhold'!A42","v":21},{"$f":"IF('Sjekkliste formelle forhold'!L42<>\"\",1,0)","v":0},0,{"$f":"IF($C22=1,'Sjekkliste formelle forhold'!A42,\"\")","v":""},{"$f":"IF($C22=1,'Sjekkliste formelle forhold'!B42,\"\")","v":""},null,{"$f":"IF($C22=1,'Sjekkliste formelle forhold'!N42,\"\")","v":""}]
[{"$f":"+'Sjekkliste formelle forhold'!A44","v":22},{"$f":"IF('Sjekkliste formelle forhold'!L44<>\"\",1,0)","v":0},0,{"$f":"IF($C23=1,'Sjekkliste formelle forhold'!A44,\"\")","v":""},{"$f":"IF($C23=1,'Sjekkliste formelle forhold'!B44,\"\")","v":""},null,{"$f":"IF($C23=1,'Sjekkliste formelle forhold'!N44,\"\")","v":""}]
[{"$f":"+'Sjekkliste formelle forhold'!A47","v":23},{"$f":"IF('Sjekkliste formelle forhold'!L47<>\"\",1,0)","v":0},0,{"$f":"IF($C24=1,'Sjekkliste formelle forhold'!A47,\"\")","v":""},{"$f":"IF($C24=1,'Sjekkliste formelle forhold'!B47,\"\")","v":""},null,{"$f":"IF($C24=1,'Sjekkliste formelle forhold'!N47,\"\")","v":""}]
[{"$f":"+'Sjekkliste formelle forhold'!A48","v":24},{"$f":"IF('Sjekkliste formelle forhold'!L48<>\"\",1,0)","v":0},0,{"$f":"IF($C25=1,'Sjekkliste formelle forhold'!A48,\"\")","v":""},{"$f":"IF($C25=1,'Sjekkliste formelle forhold'!B48,\"\")","v":""},null,{"$f":"IF($C25=1,'Sjekkliste formelle forhold'!N48,\"\")","v":""}]
[{"$f":"+'Sjekkliste formelle forhold'!A49","v":25},{"$f":"IF('Sjekkliste formelle forhold'!L49<>\"\",1,0)","v":0},0,{"$f":"IF($C26=1,'Sjekkliste formelle forhold'!A49,\"\")","v":""},{"$f":"IF($C26=1,'Sjekkliste formelle forhold'!B49,\"\")","v":""},null,{"$f":"IF($C26=1,'Sjekkliste formelle forhold'!N49,\"\")","v":""}]
[{"$f":"+'Sjekkliste formelle forhold'!A52","v":26},{"$f":"IF('Sjekkliste formelle forhold'!L52<>\"\",1,0)","v":0},0,{"$f":"IF($C27=1,'Sjekkliste formelle forhold'!A52,\"\")","v":""},{"$f":"IF($C27=1,'Sjekkliste formelle forhold'!B52,\"\")","v":""},null,{"$f":"IF($C27=1,'Sjekkliste formelle forhold'!N52,\"\")","v":""}]
[{"$f":"+'Sjekkliste formelle forhold'!A53","v":27},{"$f":"IF('Sjekkliste formelle forhold'!L53<>\"\",1,0)","v":0},0,{"$f":"IF($C28=1,'Sjekkliste formelle forhold'!A53,\"\")","v":""},{"$f":"IF($C28=1,'Sjekkliste formelle forhold'!B53,\"\")","v":""},null,{"$f":"IF($C28=1,'Sjekkliste formelle forhold'!N53,\"\")","v":""}]
[{"$f":"+'Sjekkliste formelle forhold'!A54","v":28},{"$f":"IF('Sjekkliste formelle forhold'!L54<>\"\",1,0)","v":0},0,{"$f":"IF($C29=1,'Sjekkliste formelle forhold'!A54,\"\")","v":""},{"$f":"IF($C29=1,'Sjekkliste formelle forhold'!B54,\"\")","v":""},null,{"$f":"IF($C29=1,'Sjekkliste formelle forhold'!N54,\"\")","v":""}]
[{"$f":"+'Sjekkliste formelle forhold'!A56","v":29},{"$f":"IF('Sjekkliste formelle forhold'!L56<>\"\",1,0)","v":0},0,{"$f":"IF($C30=1,'Sjekkliste formelle forhold'!A56,\"\")","v":""},{"$f":"IF($C30=1,'Sjekkliste formelle forhold'!B56,\"\")","v":""},null,{"$f":"IF($C30=1,'Sjekkliste formelle forhold'!N56,\"\")","v":""}]
[{"$f":"+'Sjekkliste formelle forhold'!A57","v":30},{"$f":"IF('Sjekkliste formelle forhold'!L57<>\"\",1,0)","v":0},0,{"$f":"IF($C31=1,'Sjekkliste formelle forhold'!A57,\"\")","v":""},{"$f":"IF($C31=1,'Sjekkliste formelle forhold'!B57,\"\")","v":""},null,{"$f":"IF($C31=1,'Sjekkliste formelle forhold'!N57,\"\")","v":""}]
[{"$f":"+'Sjekkliste formelle forhold'!A63","v":31},{"$f":"IF('Sjekkliste formelle forhold'!L63<>\"\",1,0)","v":0},0,{"$f":"IF($C32=1,'Sjekkliste formelle forhold'!A63,\"\")","v":""},{"$f":"IF($C32=1,'Sjekkliste formelle forhold'!B63,\"\")","v":""},null,{"$f":"IF($C32=1,'Sjekkliste formelle forhold'!N63,\"\")","v":""}]
[{"$f":"+'Sjekkliste formelle forhold'!A64","v":32},{"$f":"IF('Sjekkliste formelle forhold'!L64<>\"\",1,0)","v":0},0,{"$f":"IF($C33=1,'Sjekkliste formelle forhold'!A64,\"\")","v":""},{"$f":"IF($C33=1,'Sjekkliste formelle forhold'!B64,\"\")","v":""},null,{"$f":"IF($C33=1,'Sjekkliste formelle forhold'!N64,\"\")","v":""}]
[{"$f":"+'Sjekkliste formelle forhold'!A65","v":33},{"$f":"IF('Sjekkliste formelle forhold'!L65<>\"\",1,0)","v":0},0,{"$f":"IF($C34=1,'Sjekkliste formelle forhold'!A65,\"\")","v":""},{"$f":"IF($C34=1,'Sjekkliste formelle forhold'!B65,\"\")","v":""},null,{"$f":"IF($C34=1,'Sjekkliste formelle forhold'!N65,\"\")","v":""}]

{"sheet":"F_IA","index":15,"n_rows":34,"n_cols":7,"rows_kept":34,"cut":false,"hidden":true,"merged":[]}
[null,null,{"$f":"COUNTIF(C2:C457,\"=1\")","v":0},"IA-svar",{"$f":"+Forside!B2","v":0},{"$f":"+Forside!B3","v":2020},"Kommentarer"]
[{"$f":"+'Sjekkliste formelle forhold'!A10","v":1},{"$f":"IF('Sjekkliste formelle forhold'!M10<>\"\",1,0)","v":0},{"$f":"SUM(B2:B2)","v":0},{"$f":"IF($C2=1,'Sjekkliste formelle forhold'!A10,\"\")","v":""},{"$f":"IF($C2=1,'Sjekkliste formelle forhold'!B10,\"\")","v":""},null,{"$f":"IF($C2=1,'Sjekkliste formelle forhold'!N10,\"\")","v":""}]
[{"$f":"+'Sjekkliste formelle forhold'!A11","v":2},{"$f":"IF('Sjekkliste formelle forhold'!M11<>\"\",1,0)","v":0},0,{"$f":"IF($C3=1,'Sjekkliste formelle forhold'!A11,\"\")","v":""},{"$f":"IF($C3=1,'Sjekkliste formelle forhold'!B11,\"\")","v":""},null,{"$f":"IF($C3=1,'Sjekkliste formelle forhold'!N11,\"\")","v":""}]
[{"$f":"+'Sjekkliste formelle forhold'!A12","v":3},{"$f":"IF('Sjekkliste formelle forhold'!M12<>\"\",1,0)","v":0},0,{"$f":"IF($C4=1,'Sjekkliste formelle forhold'!A12,\"\")","v":""},{"$f":"IF($C4=1,'Sjekkliste formelle forhold'!B12,\"\")","v":""},null,{"$f":"IF($C4=1,'Sjekkliste formelle forhold'!N12,\"\")","v":""}]
[{"$f":"+'Sjekkliste formelle forhold'!A13","v":4},{"$f":"IF('Sjekkliste formelle forhold'!M13<>\"\",1,0)","v":0},0,{"$f":"IF($C5=1,'Sjekkliste formelle forhold'!A13,\"\")","v":""},{"$f":"IF($C5=1,'Sjekkliste formelle forhold'!B13,\"\")","v":""},null,{"$f":"IF($C5=1,'Sjekkliste formelle forhold'!N13,\"\")","v":""}]
[{"$f":"+'Sjekkliste formelle forhold'!A14","v":5},{"$f":"IF('Sjekkliste formelle forhold'!M14<>\"\",1,0)","v":0},0,{"$f":"IF($C6=1,'Sjekkliste formelle forhold'!A14,\"\")","v":""},{"$f":"IF($C6=1,'Sjekkliste formelle forhold'!B14,\"\")","v":""},null,{"$f":"IF($C6=1,'Sjekkliste formelle forhold'!N14,\"\")","v":""}]
[{"$f":"+'Sjekkliste formelle forhold'!A16","v":6},{"$f":"IF('Sjekkliste formelle forhold'!M16<>\"\",1,0)","v":0},0,{"$f":"IF($C7=1,'Sjekkliste formelle forhold'!A16,\"\")","v":""},{"$f":"IF($C7=1,'Sjekkliste formelle forhold'!B16,\"\")","v":""},null,{"$f":"IF($C7=1,'Sjekkliste formelle forhold'!N16,\"\")","v":""}]
[{"$f":"+'Sjekkliste formelle forhold'!A17","v":7},{"$f":"IF('Sjekkliste formelle forhold'!M17<>\"\",1,0)","v":0},0,{"$f":"IF($C8=1,'Sjekkliste formelle forhold'!A17,\"\")","v":""},{"$f":"IF($C8=1,'Sjekkliste formelle forhold'!B17,\"\")","v":""},null,{"$f":"IF($C8=1,'Sjekkliste formelle forhold'!N17,\"\")","v":""}]
[{"$f":"+'Sjekkliste formelle forhold'!A18","v":8},{"$f":"IF('Sjekkliste formelle forhold'!M18<>\"\",1,0)","v":0},0,{"$f":"IF($C9=1,'Sjekkliste formelle forhold'!A18,\"\")","v":""},{"$f":"IF($C9=1,'Sjekkliste formelle forhold'!B18,\"\")","v":""},null,{"$f":"IF($C9=1,'Sjekkliste formelle forhold'!N18,\"\")","v":""}]
[{"$f":"+'Sjekkliste formelle forhold'!A22","v":9},{"$f":"IF('Sjekkliste formelle forhold'!M22<>\"\",1,0)","v":0},0,{"$f":"IF($C10=1,'Sjekkliste formelle forhold'!A22,\"\")","v":""},{"$f":"IF($C10=1,'Sjekkliste formelle forhold'!B22,\"\")","v":""},null,{"$f":"IF($C10=1,'Sjekkliste formelle forhold'!N22,\"\")","v":""}]
[{"$f":"+'Sjekkliste formelle forhold'!A26","v":10},{"$f":"IF('Sjekkliste formelle forhold'!M26<>\"\",1,0)","v":0},0,{"$f":"IF($C11=1,'Sjekkliste formelle forhold'!A26,\"\")","v":""},{"$f":"IF($C11=1,'Sjekkliste formelle forhold'!B26,\"\")","v":""},null,{"$f":"IF($C11=1,'Sjekkliste formelle forhold'!N26,\"\")","v":""}]
[{"$f":"+'Sjekkliste formelle forhold'!A28","v":11},{"$f":"IF('Sjekkliste formelle forhold'!M28<>\"\",1,0)","v":0},0,{"$f":"IF($C12=1,'Sjekkliste formelle forhold'!A28,\"\")","v":""},{"$f":"IF($C12=1,'Sjekkliste formelle forhold'!B28,\"\")","v":""},null,{"$f":"IF($C12=1,'Sjekkliste formelle forhold'!N28,\"\")","v":""}]
[{"$f":"+'Sjekkliste formelle forhold'!A29","v":12},{"$f":"IF('Sjekkliste formelle forhold'!M29<>\"\",1,0)","v":0},0,{"$f":"IF($C13=1,'Sjekkliste formelle forhold'!A29,\"\")","v":""},{"$f":"IF($C13=1,'Sjekkliste formelle forhold'!B29,\"\")","v":""},null,{"$f":"IF($C13=1,'Sjekkliste formelle forhold'!N29,\"\")","v":""}]
[{"$f":"+'Sjekkliste formelle forhold'!A31","v":13},{"$f":"IF('Sjekkliste formelle forhold'!M31<>\"\",1,0)","v":0},0,{"$f":"IF($C14=1,'Sjekkliste formelle forhold'!A31,\"\")","v":""},{"$f":"IF($C14=1,'Sjekkliste formelle forhold'!B31,\"\")","v":""},null,{"$f":"IF($C14=1,'Sjekkliste formelle forhold'!N31,\"\")","v":""}]
[{"$f":"+'Sjekkliste formelle forhold'!A32","v":14},{"$f":"IF('Sjekkliste formelle forhold'!M32<>\"\",1,0)","v":0},0,{"$f":"IF($C15=1,'Sjekkliste formelle forhold'!A32,\"\")","v":""},{"$f":"IF($C15=1,'Sjekkliste formelle forhold'!B32,\"\")","v":""},null,{"$f":"IF($C15=1,'Sjekkliste formelle forhold'!N32,\"\")","v":""}]
[{"$f":"+'Sjekkliste formelle forhold'!A33","v":15},{"$f":"IF('Sjekkliste formelle forhold'!M33<>\"\",1,0)","v":0},0,{"$f":"IF($C16=1,'Sjekkliste formelle forhold'!A33,\"\")","v":""},{"$f":"IF($C16=1,'Sjekkliste formelle forhold'!B33,\"\")","v":""},null,{"$f":"IF($C16=1,'Sjekkliste formelle forhold'!N33,\"\")","v":""}]
[{"$f":"+'Sjekkliste formelle forhold'!A35","v":16},{"$f":"IF('Sjekkliste formelle forhold'!M35<>\"\",1,0)","v":0},0,{"$f":"IF($C17=1,'Sjekkliste formelle forhold'!A35,\"\")","v":""},{"$f":"IF($C17=1,'Sjekkliste formelle forhold'!B35,\"\")","v":""},null,{"$f":"IF($C17=1,'Sjekkliste formelle forhold'!N35,\"\")","v":""}]
[{"$f":"+'Sjekkliste formelle forhold'!A36","v":17},{"$f":"IF('Sjekkliste formelle forhold'!M36<>\"\",1,0)","v":0},0,{"$f":"IF($C18=1,'Sjekkliste formelle forhold'!A36,\"\")","v":""},{"$f":"IF($C18=1,'Sjekkliste formelle forhold'!B36,\"\")","v":""},null,{"$f":"IF($C18=1,'Sjekkliste formelle forhold'!N36,\"\")","v":""}]
[{"$f":"+'Sjekkliste formelle forhold'!A37","v":18},{"$f":"IF('Sjekkliste formelle forhold'!M37<>\"\",1,0)","v":0},0,{"$f":"IF($C19=1,'Sjekkliste formelle forhold'!A37,\"\")","v":""},{"$f":"IF($C19=1,'Sjekkliste formelle forhold'!B37,\"\")","v":""},null,{"$f":"IF($C19=1,'Sjekkliste formelle forhold'!N37,\"\")","v":""}]
[{"$f":"+'Sjekkliste formelle forhold'!A39","v":19},{"$f":"IF('Sjekkliste formelle forhold'!M39<>\"\",1,0)","v":0},0,{"$f":"IF($C20=1,'Sjekkliste formelle forhold'!A39,\"\")","v":""},{"$f":"IF($C20=1,'Sjekkliste formelle forhold'!B39,\"\")","v":""},null,{"$f":"IF($C20=1,'Sjekkliste formelle forhold'!N39,\"\")","v":""}]
[{"$f":"+'Sjekkliste formelle forhold'!A40","v":20},{"$f":"IF('Sjekkliste formelle forhold'!M40<>\"\",1,0)","v":0},0,{"$f":"IF($C21=1,'Sjekkliste formelle forhold'!A40,\"\")","v":""},{"$f":"IF($C21=1,'Sjekkliste formelle forhold'!B40,\"\")","v":""},null,{"$f":"IF($C21=1,'Sjekkliste formelle forhold'!N40,\"\")","v":""}]
[{"$f":"+'Sjekkliste formelle forhold'!A42","v":21},{"$f":"IF('Sjekkliste formelle forhold'!M42<>\"\",1,0)","v":0},0,{"$f":"IF($C22=1,'Sjekkliste formelle forhold'!A42,\"\")","v":""},{"$f":"IF($C22=1,'Sjekkliste formelle forhold'!B42,\"\")","v":""},null,{"$f":"IF($C22=1,'Sjekkliste formelle forhold'!N42,\"\")","v":""}]
[{"$f":"+'Sjekkliste formelle forhold'!A44","v":22},{"$f":"IF('Sjekkliste formelle forhold'!M44<>\"\",1,0)","v":0},0,{"$f":"IF($C23=1,'Sjekkliste formelle forhold'!A44,\"\")","v":""},{"$f":"IF($C23=1,'Sjekkliste formelle forhold'!B44,\"\")","v":""},null,{"$f":"IF($C23=1,'Sjekkliste formelle forhold'!N44,\"\")","v":""}]
[{"$f":"+'Sjekkliste formelle forhold'!A47","v":23},{"$f":"IF('Sjekkliste formelle forhold'!M47<>\"\",1,0)","v":0},0,{"$f":"IF($C24=1,'Sjekkliste formelle forhold'!A47,\"\")","v":""},{"$f":"IF($C24=1,'Sjekkliste formelle forhold'!B47,\"\")","v":""},null,{"$f":"IF($C24=1,'Sjekkliste formelle forhold'!N47,\"\")","v":""}]
[{"$f":"+'Sjekkliste formelle forhold'!A48","v":24},{"$f":"IF('Sjekkliste formelle forhold'!M48<>\"\",1,0)","v":0},0,{"$f":"IF($C25=1,'Sjekkliste formelle forhold'!A48,\"\")","v":""},{"$f":"IF($C25=1,'Sjekkliste formelle forhold'!B48,\"\")","v":""},null,{"$f":"IF($C25=1,'Sjekkliste formelle forhold'!N48,\"\")","v":""}]
[{"$f":"+'Sjekkliste formelle forhold'!A49","v":25},{"$f":"IF('Sjekkliste formelle forhold'!M49<>\"\",1,0)","v":0},0,{"$f":"IF($C26=1,'Sjekkliste formelle forhold'!A49,\"\")","v":""},{"$f":"IF($C26=1,'Sjekkliste formelle forhold'!B49,\"\")","v":""},null,{"$f":"IF($C26=1,'Sjekkliste formelle forhold'!N49,\"\")","v":""}]
[{"$f":"+'Sjekkliste formelle forhold'!A52","v":26},{"$f":"IF('Sjekkliste formelle forhold'!M52<>\"\",1,0)","v":0},0,{"$f":"IF($C27=1,'Sjekkliste formelle forhold'!A52,\"\")","v":""},{"$f":"IF($C27=1,'Sjekkliste formelle forhold'!B52,\"\")","v":""},null,{"$f":"IF($C27=1,'Sjekkliste formelle forhold'!N52,\"\")","v":""}]
[{"$f":"+'Sjekkliste formelle forhold'!A53","v":27},{"$f":"IF('Sjekkliste formelle forhold'!M53<>\"\",1,0)","v":0},0,{"$f":"IF($C28=1,'Sjekkliste formelle forhold'!A53,\"\")","v":""},{"$f":"IF($C28=1,'Sjekkliste formelle forhold'!B53,\"\")","v":""},null,{"$f":"IF($C28=1,'Sjekkliste formelle forhold'!N53,\"\")","v":""}]
[{"$f":"+'Sjekkliste formelle forhold'!A54","v":28},{"$f":"IF('Sjekkliste formelle forhold'!M54<>\"\",1,0)","v":0},0,{"$f":"IF($C29=1,'Sjekkliste formelle forhold'!A54,\"\")","v":""},{"$f":"IF($C29=1,'Sjekkliste formelle forhold'!B54,\"\")","v":""},null,{"$f":"IF($C29=1,'Sjekkliste formelle forhold'!N54,\"\")","v":""}]
[{"$f":"+'Sjekkliste formelle forhold'!A56","v":29},{"$f":"IF('Sjekkliste formelle forhold'!M56<>\"\",1,0)","v":0},0,{"$f":"IF($C30=1,'Sjekkliste formelle forhold'!A56,\"\")","v":""},{"$f":"IF($C30=1,'Sjekkliste formelle forhold'!B56,\"\")","v":""},null,{"$f":"IF($C30=1,'Sjekkliste formelle forhold'!N56,\"\")","v":""}]
[{"$f":"+'Sjekkliste formelle forhold'!A57","v":30},{"$f":"IF('Sjekkliste formelle forhold'!M57<>\"\",1,0)","v":0},0,{"$f":"IF($C31=1,'Sjekkliste formelle forhold'!A57,\"\")","v":""},{"$f":"IF($C31=1,'Sjekkliste formelle forhold'!B57,\"\")","v":""},null,{"$f":"IF($C31=1,'Sjekkliste formelle forhold'!N57,\"\")","v":""}]
[{"$f":"+'Sjekkliste formelle forhold'!A63","v":31},{"$f":"IF('Sjekkliste formelle forhold'!M63<>\"\",1,0)","v":0},0,{"$f":"IF($C32=1,'Sjekkliste formelle forhold'!A63,\"\")","v":""},{"$f":"IF($C32=1,'Sjekkliste formelle forhold'!B63,\"\")","v":""},null,{"$f":"IF($C32=1,'Sjekkliste formelle forhold'!N63,\"\")","v":""}]
[{"$f":"+'Sjekkliste formelle forhold'!A64","v":32},{"$f":"IF('Sjekkliste formelle forhold'!M64<>\"\",1,0)","v":0},0,{"$f":"IF($C33=1,'Sjekkliste formelle forhold'!A64,\"\")","v":""},{"$f":"IF($C33=1,'Sjekkliste formelle forhold'!B64,\"\")","v":""},null,{"$f":"IF($C33=1,'Sjekkliste formelle forhold'!N64,\"\")","v":""}]
[{"$f":"+'Sjekkliste formelle forhold'!A65","v":33},{"$f":"IF('Sjekkliste formelle forhold'!M65<>\"\",1,0)","v":0},0,{"$f":"IF($C34=1,'Sjekkliste formelle forhold'!A65,\"\")","v":""},{"$f":"IF($C34=1,'Sjekkliste formelle forhold'!B65,\"\")","v":""},null,{"$f":"IF($C34=1,'Sjekkliste formelle forhold'!N65,\"\")","v":""}]