{"text_format":"1","workbook":"xlsx","n_sheets":14,"sheets":["Forside","sjekkliste_noter_matrix","sjekkliste_formelle_matrix","meta_data","Sjekkliste noter","N_Ubesv.","N_Ja","N_Nei","N_IA","Sjekkliste formelle forhold","F_Ubesv.","F_Ja","F_Nei","F_IA"],"not_rendered":{"charts":0,"images":84,"macros":1,"external_links":0,"defined_names":237,"comments":0,"pivot_tables":0},"unopened":[],"bounds":{"document_bytes":16777216,"sheet_cells":100000,"rows_first":2000,"rows_last":500,"rows_between":2000,"halvings":0,"cell_chars":16384,"cell_head_chars":4096},"cells_cut":0,"cells_raw":0,"read":"whole","date_system":"1900"}

{"sheet":"Forside","index":0,"n_rows":78,"n_cols":6,"rows_kept":78,"cut":false,"hidden":false,"merged":[[64,0,64,2],[77,0,77,4],[46,0,46,5],[15,0,15,5],[33,0,33,2],[11,0,11,5],[0,0,0,5],[1,1,1,5],[2,1,2,5],[3,1,3,5],[4,1,4,5]]}
["Sjekkliste årsregnskap store og øvrige foretak"]
["Selskap"]
["År",2021]
["Utfylt"]
["Review"]
[]
[]
[null,"Ubesvart","Ja","Nei","IA","Sum"]
["Noter",{"$f":"F9-SUM(C9:E9)","v":1},{"$f":"_xlfn.AGGREGATE(3,5,'Sjekkliste noter'!E7:E645)","v":0},{"$f":"_xlfn.AGGREGATE(3,5,'Sjekkliste noter'!F7:F645)","v":0},{"$f":"_xlfn.AGGREGATE(3,5,'Sjekkliste noter'!G7:G645)+(F9-_xlfn.AGGREGATE(2,5,'Sjekkliste noter'!A7:A645))","v":432},{"$f":"_xlfn.AGGREGATE(2,4,'Sjekkliste noter'!A7:A645)","v":433}]
["Formelle forhold",{"$f":"F10-SUM(C10:E10)","v":0},{"$f":"_xlfn.AGGREGATE(3,5,'Sjekkliste formelle forhold'!E7:E110)","v":0},{"$f":"_xlfn.AGGREGATE(3,5,'Sjekkliste formelle forhold'!F7:F110)","v":0},{"$f":"_xlfn.AGGREGATE(3,5,'Sjekkliste formelle forhold'!G7:G110)+(F10-_xlfn.AGGREGATE(2,5,'Sjekkliste formelle forhold'!A7:A110))","v":64},{"$f":"_xlfn.AGGREGATE(2,4,'Sjekkliste formelle forhold'!A7:A110)","v":64}]
[]
[]
[]
["Ønsker du å bruke full sjekkliste, eller kun å kontrollere endringer i regelverk fra tidligere år og utvalgte risikoområder i virksomheten?"]
[]
["Veiledning for bruk av full sjekkliste:\nSjekklisten kan spisses sånn at den kun omfatter forhold som er relevante for den aktuelle virksomheten. "]
[]
["Full sjekkliste"]
["Er selskapet et stort foretak?"]
["Har selskapet ansatte?"]
["Har selskapet ytelsespensjon?"]
["Driver selskapet med forskning og utvikling?"]
["Har selskapet langsiktige tilvirkningskontrakter?"]
["Er selskapet et datterselskap?"]
["Avlegger selskapet konsernregnskap?"]
["Har foretaket vært gjennom en restrukturering gjennom året?"]
["Er selskapet et samvirkeforetak?"]
["Har selskapet bokført goodwill?"]
[]
["Har foretaket aksjer i:"]
[]
[]
[]
["Er foretaket omfattet av disse bransjereglene:"]
["Utvinner av petroleum, kraftprodusent eller gruvedrift",null,"Ja",null,"Nei"]
["Rederiselskap",null,"Ja",null,"Nei"]
["Borettslag",null,"Ja",null,"Nei"]
["Betalingsforetak",null,"Ja",null,"Nei"]
["E-pengeforetak",null,"Ja",null,"Nei"]
["Eiendomsmegler",null,"Ja",null,"Nei"]
["Inkassovirksomhet",null,"Ja",null,"Nei"]
["Verdipapirforetak, forvaltningsselskap eller AIF-forvalter med tillatelse",null,"Ja",null,"Nei"]
["Verdipapirfond",null,"Ja",null,"Nei"]
[]
[]
[]
["Veiledning for bruk av endringssjekkliste:\nVed avkryssing i listen nedenfor velger du de deler av sjekklisten som er relevante for det temaet du krysser av for. Du får da opp alle sjekkpunkter i regelverket som er aktuelle for det temaet du har valgt. "]
[]
["Endringssjekkliste"]
["Er policy for bruk av endringssjekkliste fulgt?",null,"Ja",null,"Nei"]
[]
["Angi siste år for gjennomgang av full sjekkliste"]
[]
["Har det vært endringer i foretaket, eller er det spesifikke områder som kan ha økt risiko for feil, som man ønsker å kontrollere?"]
["Tilleggskrav for store foretak"]
["Driftsmidler"]
["Investeringer i datterselskaper"]
["Investeringer i tilknyttede selskaper"]
["Investeringer i felleskontrollert virksomhet"]
["Fordringer, gjeld, garantiforpliktelser"]
["Pensjonsordninger"]
["Ytelser til ledende personer"]
["Har selskapet endret noen regnskapsprinsipper?"]
[]
["Er foretaket omfattet av disse bransjereglene:"]
["Utvinner av petroleum, kraftprodusent eller gruvedrift",null,"Ja",null,"Nei"]
["Rederiselskap",null,"Ja",null,"Nei"]
["Borettslag",null,"Ja",null,"Nei"]
["Betalingsforetak",null,"Ja",null,"Nei"]
["E-pengeforetak",null,"Ja",null,"Nei"]
["Eiendomsmegler",null,"Ja",null,"Nei"]
["Inkassovirksomhet",null,"Ja",null,"Nei"]
["Verdipapirforetak, forvaltningsselskap eller AIF-forvalter med tillatelse",null,"Ja",null,"Nei"]
["Verdipapirfond",null,"Ja",null,"Nei"]
[]
[]
["Annet (må spesifiseres nedenfor, og du må selv velge manuelt de deler av sjekklisten du ønsker å ta inn)"]
["Tekst her"]

{"sheet":"sjekkliste_noter_matrix","index":1,"n_rows":645,"n_cols":47,"rows_kept":645,"cut":false,"hidden":true,"merged":[]}
["F0","E0","F1","F2","F3","F4","F5","F6","F7","F8","F9","F10","F9F10","F11","F12","F13","F14","F15","F16","F17","F18","F19","F20","F21","F22","F23","F24","F25","E1","E2","E3","E4","E5","E6","E7","E8","E9","E10","E11","E12","E13","E14","E15","E16","E17","E18","E19"]
["x","x","x","x","x","x","x","x","x","x","x","x","x","x","x","x","x","x","x","x","x","x","x","x","x","x","x","x","x","x","x","x","x","x","x","x","x","x","x","x","x","x","x","x","x","x","x"]
["x","x","x","x","x","x","x","x","x","x","x","x","x","x","x","x","x","x","x","x","x","x","x","x","x","x","x","x","x","x","x","x","x","x","x","x","x","x","x","x","x","x","x","x","x","x","x"]
["x","x","x","x","x","x","x","x","x","x","x","x","x","x","x","x","x","x","x","x","x","x","x","x","x","x","x","x","x","x","x","x","x","x","x","x","x","x","x","x","x","x","x","x","x","x","x"]
["x","x","x","x","x","x","x","x","x","x","x","x","x","x","x","x","x","x","x","x","x","x","x","x","x","x","x","x","x","x","x","x","x","x","x","x","x","x","x","x","x","x","x","x","x","x","x"]
["x","x","x","x","x","x","x","x","x","x","x","x","x","x","x","x","x","x","x","x","x","x","x","x","x","x","x","x","x","x","x","x","x","x","x","x","x","x","x","x","x","x","x","x","x","x","x"]
["x","x","x","x","x","x","x","x","x","x","x","x","x","x","x","x","x","x","x","x","x","x","x","x","x","x","x","x","x","x","x","x","x","x","x","x","x","x","x","x","x","x","x","x","x","x","x"]
["x","x","x","x","x","x","x","x","x","x","x","x","x","x","x","x","x","x","x","x","x","x","x","x","x","x","x","x","x","x","x","x","x","x","x","x","x","x","x","x","x","x","x","x","x","x","x"]
["x","x","x","x","x","x","x","x","x","x","x","x","x","x","x","x","x","x","x","x","x","x","x","x","x","x","x","x","x","x","x","x","x","x","x","x","x","x","x","x","x","x","x","x","x","x","x"]
["x","x","x","x","x","x","x","x","x","x","x","x","x","x","x","x","x","x","x","x","x","x","x","x","x","x","x","x","x","x","x","x","x","x","x","x","x","x","x","x","x","x","x","x","x","x","x"]
["x","x","x","x","x","x","x","x","x","x","x","x","x","x","x","x","x","x","x","x","x","x","x","x","x","x","x","x","x","x","x","x","x","x","x","x","x","x","x","x","x","x","x","x","x","x","x"]
["x","x","x","x","x","x","x","x","x","x","x","x","x","x","x","x","x","x","x","x","x","x","x","x","x","x","x","x","x","x","x","x","x","x","x","x","x","x","x","x","x","x","x","x","x","x","x"]
["x","x","x","x","x","x","x","x","x","x","x","x","x","x","x","x","x","x","x","x","x","x","x","x","x","x","x","x","x","x","x","x","x","x","x","x","x","x","x","x","x","x","x","x","x","x","x"]
["x","x","x","x","x","x","x","x","x","x","x","x","x","x","x","x","x","x","x","x","x","x","x","x","x","x","x","x","x","x","x","x","x","x","x","x","x","x","x","x","x","x","x","x","x","x","x"]
["x","x","x","x","x","x","x","x","x","x","x","x","x","x","x","x","x","x","x","x","x","x","x","x","x","x","x","x","x","x","x","x","x","x","x","x","x","x","x","x","x","x","x","x","x","x","x"]
["x",null,"x","x","x","x","x","x","x","x","x","x","x","x","x","x","x","x","x","x","x","x","x","x","x","x","x","x",null,null,null,null,null,null,null,null,null,"x"]
["x",null,"x","x","x","x","x","x","x","x","x","x","x","x","x","x","x","x","x","x","x","x","x","x","x","x","x","x",null,null,null,null,null,null,null,null,null,"x"]
["x",null,"x","x","x","x","x","x","x","x","x","x","x","x","x","x","x","x","x","x","x","x","x","x","x","x","x","x",null,null,null,null,null,null,null,null,null,"x"]
["x",null,"x","x","x","x","x","x","x","x","x","x","x","x","x","x","x","x","x","x","x","x","x","x","x","x","x","x",null,null,null,null,null,null,null,null,null,"x"]
["x",null,"x","x","x","x","x","x","x","x","x","x","x","x","x","x","x","x","x","x","x","x","x","x","x","x","x","x",null,null,null,null,null,null,null,null,null,"x"]
["x",null,"x","x","x","x","x","x","x","x","x","x","x","x","x","x","x","x","x","x","x","x","x","x","x","x","x","x",null,null,null,null,null,null,null,null,null,"x"]
["x",null,"x","x","x","x","x","x","x","x","x","x","x","x","x","x","x","x","x","x","x","x","x","x","x","x","x","x",null,null,null,null,null,null,null,null,null,"x"]
["x",null,"x","x","x","x","x","x","x","x","x","x","x","x","x","x","x","x","x","x","x","x","x","x","x","x","x","x",null,null,null,null,null,null,null,null,null,"x"]
["x",null,"x","x","x","x","x","x","x","x","x","x","x","x","x","x","x","x","x","x","x","x","x","x","x","x","x","x",null,null,null,null,null,null,null,null,null,"x"]
["x",null,"x","x","x","x","x","x","x","x","x","x","x","x","x","x","x","x","x","x","x","x","x","x","x","x","x","x",null,null,null,null,null,null,null,null,null,"x"]
["x",null,"x","x","x","x","x","x","x","x","x","x","x","x","x","x","x","x","x","x","x","x","x","x","x","x","x","x",null,null,null,null,null,null,null,null,null,"x"]
["x",null,"x","x","x","x","x","x","x","x","x","x","x","x","x","x","x","x","x","x","x","x","x","x","x","x","x","x",null,null,null,null,null,null,null,null,null,"x"]
["x",null,"x","x","x","x","x","x","x","x","x","x","x","x","x","x","x","x","x","x","x","x","x","x","x","x","x","x",null,null,null,null,null,null,null,null,null,"x"]
["x",null,"x","x","x","x","x","x","x","x","x","x","x","x","x","x","x","x","x","x","x","x","x","x","x","x","x","x",null,null,null,null,null,null,null,null,null,"x"]
["x",null,"x","x","x","x","x","x","x","x","x","x","x","x","x","x","x","x","x","x","x","x","x","x","x","x","x","x",null,null,null,null,null,null,null,null,null,"x"]
["x",null,"x","x","x","x",null,"x","x","x","x","x","x","x","x","x","x","x","x","x","x","x","x","x","x","x","x","x",null,null,null,null,null,null,null,null,null,"x"]
["x",null,"x","x","x","x","x","x","x","x","x","x","x","x","x","x","x","x","x","x","x","x","x","x","x","x","x","x",null,null,null,null,null,null,null,null,null,"x"]
["x",null,"x","x","x","x","x","x","x","x","x","x","x","x","x","x","x","x","x","x","x","x","x","x","x","x","x","x",null,null,null,null,null,null,null,null,null,"x"]
["x",null,"x","x","x",null,"x","x","x","x","x","x","x","x","x","x","x","x","x","x","x","x","x","x","x","x","x","x",null,null,null,null,null,null,null,null,null,"x"]
["x",null,"x","x","x","x","x","x","x","x","x","x","x","x","x","x","x","x","x","x","x","x","x","x","x","x","x","x",null,null,null,null,null,null,null,null,null,"x"]
["x",null,"x","x","x","x","x","x","x","x","x","x","x","x","x","x","x","x","x","x","x","x","x","x","x","x","x","x",null,null,null,null,null,null,null,null,null,"x"]
["x",null,"x","x","x","x","x","x","x","x","x","x","x","x","x","x","x","x","x","x","x","x","x","x","x","x","x","x",null,null,null,null,null,null,null,null,null,"x"]
["x",null,"x",null,"x","x","x","x","x","x","x","x","x","x","x","x","x","x","x","x","x","x","x","x","x","x","x","x",null,null,null,null,null,null,null,"x",null,"x"]
["x",null,"x","x","x","x","x","x","x","x","x","x","x","x","x","x","x","x","x","x","x","x","x","x","x","x","x","x",null,null,null,null,null,null,null,null,null,"x"]
["x",null,"x","x","x","x","x","x","x","x","x","x","x","x","x","x","x","x","x","x","x","x","x","x","x","x","x","x",null,null,null,null,null,null,null,null,null,"x"]
["x",null,"x","x","x","x","x","x","x","x","x","x","x","x","x","x","x","x","x","x","x","x","x","x","x","x","x","x",null,null,null,null,null,null,null,null,null,"x"]
["x",null,"x","x","x","x","x","x","x","x","x","x","x","x","x","x","x","x","x","x","x","x","x","x","x","x","x","x",null,null,null,null,null,null,null,null,null,"x"]
["x",null,"x","x","x","x","x","x","x","x","x","x","x","x","x","x","x","x","x","x","x","x","x","x","x","x","x","x",null,null,null,null,null,null,null,null,null,"x"]
["x","x","x","x","x","x","x","x","x","x","x","x","x","x","x","x","x","x","x","x","x","x","x","x","x","x","x","x","x","x","x","x","x","x","x","x","x","x","x","x","x","x","x","x","x","x","x"]
["x",null,"x","x","x","x","x","x",null,"x","x","x","x","x","x","x","x","x","x","x","x","x","x","x","x","x","x","x"]
["x",null,"x","x","x","x","x","x",null,"x","x","x","x","x","x","x","x","x","x","x","x","x","x","x","x","x","x","x"]
["x","x","x","x","x","x","x","x","x","x","x","x","x","x","x","x","x","x","x","x","x","x","x","x","x","x","x","x","x","x","x","x","x","x","x","x","x","x","x","x","x","x","x","x","x","x","x"]
["x",null,"x","x","x","x","x","x","x","x","x","x","x","x","x","x","x","x","x","x","x","x","x","x","x","x","x","x"]
["x",null,"x","x","x","x","x","x","x","x","x","x","x","x","x","x","x","x","x","x","x","x","x","x","x","x","x","x"]
["x","x","x","x","x","x","x","x","x","x","x","x","x","x","x","x","x","x","x","x","x","x","x","x","x","x","x","x","x","x","x","x","x","x","x","x","x","x","x","x","x","x","x","x","x","x","x"]
["x",null,"x","x","x","x","x","x","x","x","x","x","x","x","x","x","x","x","x","x","x","x","x","x","x","x","x","x"]
["x",null,"x","x","x","x","x","x","x","x","x","x","x","x","x","x","x","x","x","x","x","x","x","x","x","x","x","x"]
["x",null,"x","x","x","x","x","x","x","x","x","x","x","x","x","x","x","x","x","x","x","x","x","x","x","x","x","x"]
["x","x","x","x","x","x","x","x","x","x","x","x","x","x","x","x","x","x","x","x","x","x","x","x","x","x","x","x","x","x","x","x","x","x","x","x","x","x","x","x","x","x","x","x","x","x","x"]
["x",null,"x","x","x","x","x","x","x","x","x","x","x","x","x","x","x","x","x","x","x","x","x","x","x","x","x","x"]
["x",null,"x","x","x","x","x","x","x","x","x","x","x","x","x","x","x","x","x","x","x","x","x","x","x","x","x","x"]
["x",null,"x","x","x","x","x","x","x","x","x","x","x","x","x","x","x","x","x","x","x","x","x","x","x","x","x","x"]
["x",null,"x","x","x","x","x","x","x","x","x","x","x","x","x","x","x","x","x","x","x","x","x","x","x","x","x","x"]
["x",null,"x","x","x","x","x","x","x","x","x","x","x","x","x","x","x","x","x","x","x","x","x","x","x","x","x","x"]
["x","x","x","x","x","x","x","x","x","x","x","x","x","x","x","x","x","x","x","x","x","x","x","x","x","x","x","x","x","x","x","x","x","x","x","x","x","x","x","x","x","x","x","x","x","x","x"]
["x",null,"x","x","x","x","x","x","x","x","x","x","x","x","x","x","x","x","x","x","x","x","x","x","x","x","x","x"]
["x",null,"x","x","x","x","x","x","x","x","x","x","x","x","x","x","x","x","x","x","x","x","x","x","x","x","x","x"]
["x",null,"x","x","x","x","x","x","x","x","x","x","x","x","x","x","x","x","x","x","x","x","x","x","x","x","x","x"]
["x",null,"x","x","x","x","x","x","x","x","x","x","x","x","x","x","x","x","x","x","x","x","x","x","x","x","x","x"]
["x",null,"x","x","x","x","x","x","x","x","x","x","x","x","x","x","x","x","x","x","x","x","x","x","x","x","x","x"]
["x",null,"x","x","x","x","x","x","x","x","x","x","x","x","x","x","x","x","x","x","x","x","x","x","x","x","x","x"]
["x",null,"x","x","x","x","x","x","x","x","x","x","x","x","x","x","x","x","x","x","x","x","x","x","x","x","x","x"]
["x",null,"x","x","x","x","x","x","x","x","x","x","x","x","x","x","x","x","x","x","x","x","x","x","x","x","x","x"]
["x",null,"x","x","x","x","x","x","x","x","x","x","x","x","x","x","x","x","x","x","x","x","x","x","x","x","x","x"]
["x",null,"x","x","x","x","x","x","x","x","x","x","x","x","x","x","x","x","x","x","x","x","x","x","x","x","x","x"]
["x",null,"x","x","x","x","x","x","x","x","x","x","x","x","x","x","x","x","x","x","x","x","x","x","x","x","x","x"]
["x",null,"x","x","x","x","x","x","x","x","x","x","x","x","x","x","x","x","x","x","x","x","x","x","x","x","x","x"]
["x",null,"x","x","x","x","x","x","x","x","x","x","x","x","x","x","x","x","x","x","x","x","x","x","x","x","x","x"]
["x",null,"x","x","x","x","x","x","x","x","x","x","x","x","x","x","x","x","x","x","x","x","x","x","x","x","x","x"]
["x",null,"x","x","x",null,"x","x","x","x","x","x","x","x","x","x","x","x","x","x","x","x","x","x","x","x","x","x"]
["x",null,"x","x","x",null,"x","x","x","x","x","x","x","x","x","x","x","x","x","x","x","x","x","x","x","x","x","x"]
["x",null,"x","x","x",null,"x","x","x","x","x","x","x","x","x","x","x","x","x","x","x","x","x","x","x","x","x","x"]
["x",null,"x","x","x",null,"x","x","x","x","x","x","x","x","x","x","x","x","x","x","x","x","x","x","x","x","x","x"]
["x",null,"x","x","x",null,"x","x","x","x","x","x","x","x","x","x","x","x","x","x","x","x","x","x","x","x","x","x"]
["x",null,"x","x","x",null,"x","x","x","x","x","x","x","x","x","x","x","x","x","x","x","x","x","x","x","x","x","x"]
["x",null,"x","x","x",null,"x","x","x","x","x","x","x","x","x","x","x","x","x","x","x","x","x","x","x","x","x","x"]
["x",null,"x","x","x",null,"x","x","x","x","x","x","x","x","x","x","x","x","x","x","x","x","x","x","x","x","x","x"]
["x","x","x","x","x","x","x","x","x","x","x","x","x","x",null,"x","x","x","x","x","x","x","x","x","x","x","x","x","x","x","x","x","x","x","x","x","x","x","x","x","x","x","x","x","x","x","x"]
["x",null,"x","x","x","x","x","x","x","x","x","x","x","x",null,"x","x","x","x","x","x","x","x","x","x","x","x","x"]
["x",null,"x","x","x","x","x","x","x","x","x","x","x","x",null,"x","x","x","x","x","x","x","x","x","x","x","x","x"]
["x",null,"x","x","x","x","x","x","x","x","x","x","x","x",null,"x","x","x","x","x","x","x","x","x","x","x","x","x"]
["x",null,"x","x","x","x","x","x","x","x","x","x","x","x",null,"x","x","x","x","x","x","x","x","x","x","x","x","x"]
["x",null,"x","x","x","x","x","x","x","x","x","x","x","x",null,"x","x","x","x","x","x","x","x","x","x","x","x","x"]
["x",null,"x","x","x","x","x","x","x","x","x","x","x","x",null,"x","x","x","x","x","x","x","x","x","x","x","x","x"]
["x","x","x","x","x","x","x","x","x","x","x","x","x","x","x","x","x","x","x","x","x","x","x","x","x","x","x","x","x","x","x","x","x","x","x","x","x","x","x","x","x","x","x","x","x","x","x"]
["x",null,"x","x","x","x","x","x","x","x","x","x","x","x","x","x","x","x","x","x","x","x","x","x","x","x","x","x",null,null,"x"]
["x",null,"x","x","x","x","x","x","x","x","x","x","x","x","x","x","x","x","x","x","x","x","x","x","x","x","x","x",null,null,"x"]
["x",null,"x","x","x","x","x","x","x","x","x","x","x","x","x","x","x","x","x","x","x","x","x","x","x","x","x","x",null,null,"x"]
["x",null,"x","x","x","x","x","x","x","x","x","x","x","x","x","x","x","x","x","x","x","x","x","x","x","x","x","x",null,null,"x"]
["x",null,"x","x","x","x","x","x","x","x","x","x","x","x","x","x","x","x","x","x","x","x","x","x","x","x","x","x",null,null,"x"]
["x",null,"x","x","x","x","x","x","x","x","x","x","x","x","x","x","x","x","x","x","x","x","x","x","x","x","x","x",null,null,"x"]
["x",null,"x","x","x","x","x","x","x","x","x","x","x","x","x","x","x","x","x","x","x","x","x","x","x","x","x","x",null,null,"x"]
["x",null,"x","x","x","x","x","x","x","x","x","x","x","x","x","x","x","x","x","x","x","x","x","x","x","x","x","x",null,null,"x"]
["x",null,"x","x","x","x","x","x","x","x","x","x","x","x","x","x","x","x","x","x","x","x","x","x","x","x","x","x",null,null,"x"]
["x",null,"x","x","x","x","x","x","x","x","x","x","x","x","x","x","x","x","x","x","x","x","x","x","x","x","x","x",null,null,"x"]
["x",null,"x","x","x","x","x","x","x","x","x","x","x","x","x","x","x","x","x","x","x","x","x","x","x","x","x","x",null,null,"x"]
["x",null,"x","x","x","x","x","x","x","x","x","x","x","x","x","x","x","x","x","x","x","x","x","x","x","x","x","x",null,null,"x"]
["x",null,"x","x","x","x","x","x","x","x","x","x","x","x","x","x","x","x","x","x","x","x","x","x","x","x","x","x",null,null,"x"]
["x",null,"x","x","x","x","x","x","x","x","x","x","x","x","x","x","x","x","x","x","x","x","x","x","x","x","x","x",null,null,"x"]
["x",null,"x","x","x","x","x","x","x","x","x","x","x","x","x","x","x","x","x","x","x","x","x","x","x","x","x","x",null,null,"x"]
["x","x","x","x","x","x","x","x","x","x","x","x","x","x","x","x","x","x","x","x","x","x","x","x","x","x","x","x","x","x","x","x","x","x","x","x","x","x","x","x","x","x","x","x","x","x","x"]
["x",null,"x","x","x","x","x","x","x","x","x","x","x","x","x","x","x","x","x","x","x","x","x","x","x","x","x","x"]
["x","x","x","x","x","x","x","x","x","x","x","x","x","x","x","x","x","x","x","x","x","x","x","x","x","x","x","x","x","x","x","x","x","x","x","x","x","x","x","x","x","x","x","x","x","x","x"]
["x",null,"x","x","x","x","x","x","x","x","x","x","x","x","x","x","x","x","x","x","x","x","x","x","x","x","x","x"]
["x",null,"x","x","x","x","x","x","x","x","x","x","x","x","x","x","x","x","x","x","x","x","x","x","x","x","x","x"]
["x",null,"x","x","x","x","x","x","x","x","x","x","x","x","x","x","x","x","x","x","x","x","x","x","x","x","x","x"]
["x",null,"x","x","x","x","x","x","x","x","x","x","x","x","x","x","x","x","x","x","x","x","x","x","x","x","x","x"]
["x",null,"x","x","x","x","x","x","x","x","x","x","x","x","x","x","x","x","x","x","x","x","x","x","x","x","x","x"]
["x",null,"x","x","x","x","x","x","x","x","x","x","x","x","x","x","x","x","x","x","x","x","x","x","x","x","x","x"]
["x",null,"x","x","x","x","x","x","x","x","x","x","x","x","x","x","x","x","x","x","x","x","x","x","x","x","x","x"]
["x",null,"x","x","x","x","x","x","x","x","x","x","x","x","x","x","x","x","x","x","x","x","x","x","x","x","x","x"]
["x",null,"x","x","x","x","x","x","x","x","x","x","x","x","x","x","x","x","x","x","x","x","x","x","x","x","x","x"]
["x",null,"x","x","x","x","x","x","x","x","x","x","x","x","x","x","x","x","x","x","x","x","x","x","x","x","x","x"]
["x",null,"x","x","x","x","x","x","x","x","x","x","x","x","x","x","x","x","x","x","x","x","x","x","x","x","x","x"]
["x",null,"x","x","x","x","x","x","x","x","x","x","x","x","x","x","x","x","x","x","x","x","x","x","x","x","x","x"]
["x",null,"x","x","x","x","x","x","x","x","x","x","x","x","x","x","x","x","x","x","x","x","x","x","x","x","x","x"]
["x",null,"x","x","x","x","x","x","x","x","x","x","x","x","x","x","x","x","x","x","x","x","x","x","x","x","x","x"]
["x","x","x","x","x","x","x","x","x","x","x","x","x","x","x","x","x","x","x","x","x","x","x","x","x","x","x","x","x","x","x","x","x","x","x","x","x","x","x","x","x","x","x","x","x","x","x"]
["x",null,"x","x","x","x","x","x","x","x","x","x","x","x","x","x","x","x","x","x","x","x","x","x","x","x","x","x"]
["x",null,"x","x","x","x","x","x","x","x","x","x","x","x","x","x","x","x","x","x","x","x","x","x","x","x","x","x"]
["x","x","x","x","x","x","x","x","x","x","x","x","x","x","x","x","x","x","x","x","x","x","x","x","x","x","x","x","x","x","x","x","x","x","x","x","x","x","x","x","x","x","x","x","x","x","x"]
["x",null,"x","x","x","x","x","x","x","x","x","x","x","x","x","x","x","x","x","x","x","x","x","x","x","x","x","x"]
["x","x","x","x","x","x","x","x","x","x","x","x","x","x","x","x","x","x","x","x","x","x","x","x","x","x","x","x","x","x","x","x","x","x","x","x","x","x","x","x","x","x","x","x","x","x","x"]
["x",null,"x","x","x","x","x","x","x","x","x","x","x","x","x",null,"x","x","x","x","x","x","x","x","x","x","x","x",null,null,null,"x"]
["x",null,"x","x","x","x","x","x","x","x","x","x","x","x","x",null,"x","x","x","x","x","x","x","x","x","x","x","x",null,null,null,"x"]
["x",null,"x","x","x","x","x","x","x","x","x","x","x","x","x",null,"x","x","x","x","x","x","x","x","x","x","x","x",null,null,null,"x"]
["x",null,"x","x","x","x","x","x","x","x","x","x","x","x","x",null,"x","x","x","x","x","x","x","x","x","x","x","x",null,null,null,"x"]
["x",null,"x","x","x","x","x","x","x","x","x","x","x","x","x",null,"x","x","x","x","x","x","x","x","x","x","x","x",null,null,null,"x"]
["x","x","x","x","x","x","x","x","x","x","x","x","x","x","x","x","x","x","x","x","x","x","x","x","x","x","x","x","x","x","x","x","x","x","x","x","x","x","x","x","x","x","x","x","x","x","x"]
["x",null,"x","x","x","x","x","x","x","x","x","x","x","x","x","x",null,"x","x","x","x","x","x","x","x","x","x","x",null,null,null,null,"x"]
["x",null,"x","x","x","x","x","x","x","x","x","x","x","x","x","x",null,"x","x","x","x","x","x","x","x","x","x","x",null,null,null,null,"x"]
["x",null,"x","x","x","x","x","x","x","x","x","x","x","x","x","x",null,"x","x","x","x","x","x","x","x","x","x","x",null,null,null,null,"x"]
["x",null,"x","x","x","x","x","x","x","x","x","x","x","x","x","x",null,"x","x","x","x","x","x","x","x","x","x","x",null,null,null,null,"x"]
["x",null,"x","x","x","x","x","x","x","x","x","x","x","x","x","x",null,"x","x","x","x","x","x","x","x","x","x","x",null,null,null,null,"x"]
["x","x","x","x","x","x","x","x","x","x","x","x","x","x","x","x","x",null,"x","x","x","x","x","x","x","x","x","x","x","x","x","x","x","x","x","x","x","x","x","x","x","x","x","x","x","x","x"]
["x",null,"x","x","x","x","x","x","x","x","x","x","x","x","x","x","x",null,"x","x","x","x","x","x","x","x","x","x",null,null,null,null,null,"x"]
["x",null,"x","x","x","x","x","x","x","x","x","x","x","x","x","x","x",null,"x","x","x","x","x","x","x","x","x","x",null,null,null,null,null,"x"]
["x","x","x","x","x","x","x","x","x","x","x","x","x","x","x","x","x","x","x","x","x","x","x","x","x","x","x","x","x","x","x","x","x","x","x","x","x","x","x","x","x","x","x","x","x","x","x"]
["x",null,"x","x","x","x","x","x","x","x","x","x","x","x","x","x","x","x","x","x","x","x","x","x","x","x","x","x",null,null,null,"x","x"]
["x",null,"x","x","x","x","x","x","x","x","x","x","x","x","x","x","x","x","x","x","x","x","x","x","x","x","x","x",null,null,null,"x","x"]
["x",null,"x","x","x","x","x","x","x","x","x","x","x","x","x","x","x","x","x","x","x","x","x","x","x","x","x","x",null,null,null,"x","x"]
["x",null,"x","x","x","x","x","x","x","x","x","x","x","x","x","x","x","x","x","x","x","x","x","x","x","x","x","x",null,null,null,"x","x"]
["x","x","x","x","x","x","x","x","x","x","x","x","x","x","x","x","x","x","x","x","x","x","x","x","x","x","x","x","x","x","x","x","x","x","x","x","x","x","x","x","x","x","x","x","x","x","x"]
["x",null,"x","x","x","x","x","x","x","x","x","x","x","x","x","x","x","x",null,"x","x","x","x","x","x","x","x","x"]
["x",null,"x","x","x","x","x","x","x","x","x","x","x","x","x","x","x","x",null,"x","x","x","x","x","x","x","x","x"]
["x","x","x","x","x","x","x","x","x","x","x","x","x","x","x","x","x","x","x","x","x","x","x","x","x","x","x","x","x","x","x","x","x","x","x","x","x","x","x","x","x","x","x","x","x","x","x"]
["x",null,"x","x","x","x","x","x","x","x","x","x","x","x","x","x","x","x","x","x","x","x","x","x","x","x","x","x"]
["x",null,"x","x","x","x","x","x","x","x","x","x","x","x","x","x","x","x","x","x","x","x","x","x","x","x","x","x"]
["x","x","x","x","x","x","x","x","x","x","x","x","x","x","x","x","x","x","x","x","x","x","x","x","x","x","x","x","x","x","x","x","x","x","x","x","x","x","x","x","x","x","x","x","x","x","x"]
["x",null,"x","x","x","x",null,"x","x","x","x","x","x","x","x","x","x","x","x","x","x","x","x","x","x","x","x","x"]
["x",null,"x","x","x","x",null,"x","x","x","x","x","x","x","x","x","x","x","x","x","x","x","x","x","x","x","x","x"]
["x",null,"x","x","x","x",null,"x","x","x","x","x","x","x","x","x","x","x","x","x","x","x","x","x","x","x","x","x"]
["x",null,"x","x","x","x",null,"x","x","x","x","x","x","x","x","x","x","x","x","x","x","x","x","x","x","x","x","x"]
["x","x","x","x","x","x","x","x","x","x","x","x","x","x","x","x","x","x","x","x","x","x","x","x","x","x","x","x","x","x","x","x","x","x","x","x","x","x","x","x","x","x","x","x","x","x","x"]
["x",null,"x","x","x","x","x","x","x","x","x","x","x","x","x","x","x","x","x","x","x","x","x","x","x","x","x","x"]
["x",null,"x","x","x","x","x","x","x","x","x","x","x","x","x","x","x","x","x","x","x","x","x","x","x","x","x","x"]
["x",null,"x","x","x","x","x","x","x","x","x","x","x","x","x","x","x","x","x","x","x","x","x","x","x","x","x","x"]
["x",null,"x","x","x","x","x","x","x","x","x","x","x","x","x","x","x","x","x","x","x","x","x","x","x","x","x","x"]
["x",null,"x","x","x","x","x","x","x","x","x","x","x","x","x","x","x","x","x","x","x","x","x","x","x","x","x","x"]
["x",null,"x","x","x","x","x","x","x","x","x","x","x","x","x","x","x","x","x","x","x","x","x","x","x","x","x","x"]
["x",null,"x","x","x","x","x","x","x","x","x","x","x","x","x","x","x","x","x","x","x","x","x","x","x","x","x","x"]
["x",null,"x","x","x","x","x","x","x","x","x","x","x","x","x","x","x","x","x","x","x","x","x","x","x","x","x","x"]
["x","x","x","x","x","x","x","x","x","x","x","x","x","x","x","x","x","x","x","x","x","x","x","x","x","x","x","x","x","x","x","x","x","x","x","x","x","x","x","x","x","x","x","x","x","x","x"]
["x","x","x","x","x","x","x","x","x","x","x","x","x","x","x","x","x","x","x","x","x","x","x","x","x","x","x","x","x","x","x","x","x","x","x","x","x","x","x","x","x","x","x","x","x","x","x"]
["x",null,"x","x","x","x","x","x","x","x","x","x","x","x","x","x","x","x","x","x","x","x","x","x","x","x","x","x"]
["x",null,"x","x","x","x","x","x","x","x","x","x","x","x","x","x","x","x","x","x","x","x","x","x","x","x","x","x"]
["x",null,"x","x","x","x","x","x","x","x","x","x","x","x","x","x","x","x","x","x","x","x","x","x","x","x","x","x"]
["x",null,"x","x","x","x","x","x","x","x","x","x","x","x","x","x","x","x","x","x","x","x","x","x","x","x","x","x"]
["x",null,"x","x","x","x","x","x","x","x","x","x","x","x","x","x","x","x","x","x","x","x","x","x","x","x","x","x"]
["x",null,null,"x","x","x","x","x","x","x","x","x","x","x","x","x","x","x","x","x","x","x","x","x","x","x","x","x",null,"x"]
["x","x","x","x","x","x","x","x","x","x","x","x","x","x","x","x","x","x","x","x","x","x","x","x","x","x","x","x","x","x","x","x","x","x","x","x","x","x","x","x","x","x","x","x","x","x","x"]
["x",null,"x","x","x","x","x","x","x","x","x","x","x","x","x","x","x","x","x","x","x","x","x","x","x","x","x","x"]
["x",null,"x","x","x","x","x","x","x","x","x","x","x","x","x","x","x","x","x","x","x","x","x","x","x","x","x","x"]
["x",null,"x","x","x","x","x","x","x","x","x","x","x","x","x","x","x","x","x","x","x","x","x","x","x","x","x","x"]
["x",null,"x","x","x","x","x","x","x","x","x","x","x","x","x","x","x","x","x","x","x","x","x","x","x","x","x","x"]
["x",null,"x","x","x","x","x","x","x","x","x","x","x","x","x","x","x","x","x","x","x","x","x","x","x","x","x","x"]
["x",null,"x","x","x","x","x","x","x","x","x","x","x","x","x","x","x","x","x","x","x","x","x","x","x","x","x","x"]
["x",null,"x","x","x","x","x","x","x","x","x","x","x","x","x","x","x","x","x","x","x","x","x","x","x","x","x","x"]
["x",null,"x","x","x","x","x","x","x","x","x","x","x","x","x","x","x","x","x","x","x","x","x","x","x","x","x","x"]
["x",null,"x","x","x","x","x","x","x","x","x","x","x","x","x","x","x","x","x","x","x","x","x","x","x","x","x","x"]
["x",null,"x","x","x","x","x","x","x","x","x","x","x","x","x","x","x","x","x","x","x","x","x","x","x","x","x","x"]
["x","x","x","x","x","x","x","x","x","x","x","x","x","x","x","x","x","x","x","x","x","x","x","x","x","x","x","x","x","x","x","x","x","x","x","x","x","x","x","x","x","x","x","x","x","x","x"]
["x",null,"x","x","x","x","x","x","x","x","x","x","x","x","x","x","x","x","x","x","x","x","x","x","x","x","x","x"]
["x",null,"x","x","x","x","x","x","x","x","x","x","x","x","x","x","x","x","x","x","x","x","x","x","x","x","x","x"]
["x","x","x","x","x","x","x","x","x","x","x","x","x","x","x","x","x","x","x","x","x","x","x","x","x","x","x","x","x","x","x","x","x","x","x","x","x","x","x","x","x","x","x","x","x","x","x"]
["x",null,"x","x","x","x","x","x","x","x","x","x","x","x","x","x","x","x","x","x","x","x","x","x","x","x","x","x",null,null,null,null,null,null,"x"]
["x",null,"x","x","x","x","x","x","x","x","x","x","x","x","x","x","x","x","x","x","x","x","x","x","x","x","x","x",null,null,null,null,null,null,"x"]
["x","x","x","x","x","x","x","x","x","x","x","x","x","x","x","x","x","x","x","x","x","x","x","x","x","x","x","x","x","x","x","x","x","x","x","x","x","x","x","x","x","x","x","x","x","x","x"]
["x",null,"x","x","x","x","x","x","x","x","x","x","x","x","x","x","x","x","x","x","x","x","x","x","x","x","x","x",null,null,null,null,null,null,"x"]
["x",null,"x","x","x","x","x","x","x","x","x","x","x","x","x","x","x","x","x","x","x","x","x","x","x","x","x","x",null,null,null,null,null,null,"x"]
["x",null,"x","x","x","x","x","x","x","x","x","x","x","x","x","x","x","x","x","x","x","x","x","x","x","x","x","x",null,null,null,null,null,null,"x"]
["x",null,"x","x","x","x","x","x","x","x","x","x","x","x","x","x","x","x","x","x","x","x","x","x","x","x","x","x",null,null,null,null,null,null,"x"]
["x",null,"x","x","x","x","x","x","x","x","x","x","x","x","x","x","x","x","x","x","x","x","x","x","x","x","x","x",null,null,null,null,null,null,"x"]
["x",null,null,"x","x","x","x","x","x","x","x","x","x","x","x","x","x","x","x","x","x","x","x","x","x","x","x","x",null,"x",null,null,null,null,"x"]
["x","x","x","x","x","x","x","x","x","x","x","x","x","x","x","x","x","x","x","x","x","x","x","x","x","x","x","x","x","x","x","x","x","x","x","x","x","x","x","x","x","x","x","x","x","x","x"]
["x",null,"x","x","x","x","x","x","x","x","x","x","x","x","x","x","x","x","x","x","x","x","x","x","x","x","x","x",null,null,null,null,null,null,"x"]
["x",null,"x","x","x","x","x","x","x","x","x","x","x","x","x","x","x","x","x","x","x","x","x","x","x","x","x","x",null,null,null,null,null,null,"x"]
["x",null,"x","x","x","x","x","x","x","x","x","x","x","x","x","x","x","x","x","x","x","x","x","x","x","x","x","x",null,null,null,null,null,null,"x"]
["x",null,"x","x","x","x","x","x","x","x","x","x","x","x","x","x","x","x","x","x","x","x","x","x","x","x","x","x",null,null,null,null,null,null,"x"]
["x",null,"x","x","x","x","x","x","x","x","x","x","x","x","x","x","x","x","x","x","x","x","x","x","x","x","x","x",null,null,null,null,null,null,"x"]
["x",null,"x","x","x","x","x","x","x","x","x","x","x","x","x","x","x","x","x","x","x","x","x","x","x","x","x","x",null,null,null,null,null,null,"x"]
["x","x","x","x","x","x","x","x","x","x","x","x","x","x","x","x","x","x","x","x","x","x","x","x","x","x","x","x","x","x","x","x","x","x","x","x","x","x","x","x","x","x","x","x","x","x","x"]
["x",null,"x","x","x","x","x","x","x","x","x","x","x","x","x","x","x","x","x","x","x","x","x","x","x","x","x","x"]
["x",null,"x","x","x","x","x","x","x","x","x","x","x","x","x","x","x","x","x","x","x","x","x","x","x","x","x","x"]
["x",null,null,"x","x","x","x","x","x","x","x","x","x","x","x","x","x","x","x","x","x","x","x","x","x","x","x","x",null,"x"]
["x","x","x","x","x","x","x","x","x","x","x","x","x","x","x","x","x","x","x","x","x","x","x","x","x","x","x","x","x","x","x","x","x","x","x","x","x","x","x","x","x","x","x","x","x","x","x"]
["x",null,"x","x","x","x","x","x","x","x","x","x","x","x","x","x","x","x","x","x","x","x","x","x","x","x","x","x"]
["x",null,"x","x","x","x","x","x","x","x","x","x","x","x","x","x","x","x","x","x","x","x","x","x","x","x","x","x"]
["x",null,"x","x","x","x","x","x","x","x","x","x","x","x","x","x","x","x","x","x","x","x","x","x","x","x","x","x"]
["x","x","x","x","x","x","x","x","x","x","x","x","x","x","x","x","x","x","x","x","x","x","x","x","x","x","x","x","x","x","x","x","x","x","x","x","x","x","x","x","x","x","x","x","x","x","x"]
["x",null,"x","x","x","x","x","x","x","x","x","x","x","x","x","x","x","x","x","x","x","x","x","x","x","x","x","x"]
["x",null,"x","x","x","x","x","x","x","x","x","x","x","x","x","x","x","x","x","x","x","x","x","x","x","x","x","x"]
["x",null,"x","x","x","x","x","x","x","x","x","x","x","x","x","x","x","x","x","x","x","x","x","x","x","x","x","x"]
["x","x","x","x","x","x","x","x","x","x","x","x","x","x","x","x","x","x","x","x","x","x","x","x","x","x","x","x","x","x","x","x","x","x","x","x","x","x","x","x","x","x","x","x","x","x","x"]
["x",null,"x","x","x","x","x","x","x","x","x","x","x","x","x","x","x","x","x","x","x","x","x","x","x","x","x","x"]
["x",null,"x","x","x","x","x","x","x","x","x","x","x","x","x","x","x","x","x","x","x","x","x","x","x","x","x","x"]
["x",null,"x","x","x","x","x","x","x","x","x","x","x","x","x","x","x","x","x","x","x","x","x","x","x","x","x","x"]
["x","x","x","x","x","x","x","x","x","x","x","x","x","x","x","x","x","x","x","x","x","x","x","x","x","x","x","x","x","x","x","x","x","x","x","x","x","x","x","x","x","x","x","x","x","x","x"]
["x",null,"x","x","x","x","x","x","x","x","x","x","x","x","x","x","x","x","x","x","x","x","x","x","x","x","x","x"]
["x",null,"x","x","x","x","x","x","x","x","x","x","x","x","x","x","x","x","x","x","x","x","x","x","x","x","x","x"]
["x","x","x","x","x","x","x","x","x","x","x","x","x","x","x","x","x","x","x","x","x","x","x","x","x","x","x","x","x","x","x","x","x","x","x","x","x","x","x","x","x","x","x","x","x","x","x"]
["x",null,"x","x","x","x","x","x","x","x","x","x","x","x","x","x","x","x","x","x","x","x","x","x","x","x","x","x"]
["x",null,"x","x","x","x","x","x","x","x","x","x","x","x","x","x","x","x","x","x","x","x","x","x","x","x","x","x"]
["x",null,null,"x","x","x","x","x","x","x","x","x","x","x","x","x","x","x","x","x","x","x","x","x","x","x","x","x",null,"x"]
["x",null,null,"x","x","x","x","x","x","x","x","x","x","x","x","x","x","x","x","x","x","x","x","x","x","x","x","x",null,"x"]
["x",null,null,"x","x","x","x","x","x","x","x","x","x","x","x","x","x","x","x","x","x","x","x","x","x","x","x","x",null,"x"]
["x",null,null,"x","x","x","x","x","x","x","x","x","x","x","x","x","x","x","x","x","x","x","x","x","x","x","x","x",null,"x"]
["x",null,null,"x","x","x","x","x","x","x","x","x","x","x","x","x","x","x","x","x","x","x","x","x","x","x","x","x",null,"x"]
["x","x","x","x","x","x","x","x","x","x","x","x","x","x","x","x","x","x","x","x","x","x","x","x","x","x","x","x","x","x","x","x","x","x","x","x","x","x","x","x","x","x","x","x","x","x","x"]
["x",null,"x","x","x","x","x","x","x","x","x","x","x","x","x","x","x","x","x","x","x","x","x","x","x","x","x","x"]
["x",null,"x","x","x","x","x","x","x","x","x","x","x","x","x","x","x","x","x","x","x","x","x","x","x","x","x","x"]
["x",null,"x","x","x","x","x","x","x","x","x","x","x","x","x","x","x","x","x","x","x","x","x","x","x","x","x","x"]
["x","x","x","x","x","x","x","x","x","x","x","x","x","x","x","x","x","x","x","x","x","x","x","x","x","x","x","x","x","x","x","x","x","x","x","x","x","x","x","x","x","x","x","x","x","x","x"]
["x",null,"x","x","x","x","x","x","x","x","x","x","x",null,"x","x","x","x","x","x","x","x","x","x","x","x","x","x"]
["x",null,"x","x","x","x","x","x","x","x","x","x","x",null,"x","x","x","x","x","x","x","x","x","x","x","x","x","x"]
["x","x","x","x","x","x","x","x","x","x","x","x","x","x","x","x","x","x","x","x","x","x","x","x","x","x","x","x","x","x","x","x","x","x","x","x","x","x","x","x","x","x","x","x","x","x","x"]
["x",null,"x",null,"x","x","x","x","x","x","x","x","x","x","x","x","x","x","x","x","x","x","x","x","x","x","x","x",null,null,null,null,null,null,"x"]
["x",null,"x",null,"x","x","x","x","x","x","x","x","x","x","x","x","x","x","x","x","x","x","x","x","x","x","x","x",null,null,null,null,null,null,"x"]
["x",null,"x",null,"x","x","x","x","x","x","x","x","x","x","x","x","x","x","x","x","x","x","x","x","x","x","x","x",null,null,null,null,null,null,"x"]
["x","x","x","x","x","x","x","x","x","x","x","x","x","x","x","x","x","x","x","x","x","x","x","x","x","x","x","x","x","x","x","x","x","x","x","x","x","x","x","x","x","x","x","x","x","x","x"]
["x",null,"x",null,null,"x","x","x","x","x","x","x","x","x","x","x","x","x","x","x","x","x","x","x","x","x","x","x",null,null,null,null,null,null,"x"]
["x",null,"x",null,null,"x","x","x","x","x","x","x","x","x","x","x","x","x","x","x","x","x","x","x","x","x","x","x",null,null,null,null,null,null,"x"]
["x",null,"x",null,null,"x","x","x","x","x","x","x","x","x","x","x","x","x","x","x","x","x","x","x","x","x","x","x",null,null,null,null,null,null,"x"]
["x",null,"x",null,null,"x","x","x","x","x","x","x","x","x","x","x","x","x","x","x","x","x","x","x","x","x","x","x",null,null,null,null,null,null,"x"]
["x",null,"x",null,null,"x","x","x","x","x","x","x","x","x","x","x","x","x","x","x","x","x","x","x","x","x","x","x",null,null,null,null,null,null,"x"]
["x",null,"x",null,null,"x","x","x","x","x","x","x","x","x","x","x","x","x","x","x","x","x","x","x","x","x","x","x",null,null,null,null,null,null,"x"]
["x",null,"x",null,null,"x","x","x","x","x","x","x","x","x","x","x","x","x","x","x","x","x","x","x","x","x","x","x",null,null,null,null,null,null,"x"]
["x","x","x","x","x","x","x","x","x","x","x","x","x","x","x","x","x","x","x","x","x","x","x","x","x","x","x","x","x","x","x","x","x","x","x","x","x","x","x","x","x","x","x","x","x","x","x"]
["x",null,"x",null,"x","x","x","x","x","x","x","x","x","x","x","x","x","x","x","x","x","x","x","x","x","x","x","x",null,null,null,null,null,null,"x"]
["x",null,"x",null,"x","x","x","x","x","x","x","x","x","x","x","x","x","x","x","x","x","x","x","x","x","x","x","x",null,null,null,null,null,null,"x"]
["x",null,"x",null,"x","x","x","x","x","x","x","x","x","x","x","x","x","x","x","x","x","x","x","x","x","x","x","x",null,null,null,null,null,null,"x"]
["x","x","x","x","x","x","x","x","x","x","x","x","x","x","x","x","x","x","x","x","x","x","x","x","x","x","x","x","x","x","x","x","x","x","x","x","x","x","x","x","x","x","x","x","x","x","x"]
["x",null,"x","x","x","x","x","x","x","x","x","x","x","x","x","x","x","x","x","x","x","x","x","x","x","x","x","x"]
["x",null,"x","x","x","x","x","x","x","x","x","x","x","x","x","x","x","x","x","x","x","x","x","x","x","x","x","x"]
["x",null,"x","x","x","x","x","x","x","x","x","x","x","x","x","x","x","x","x","x","x","x","x","x","x","x","x","x"]
["x",null,"x","x","x","x","x","x","x","x","x","x","x","x","x","x","x","x","x","x","x","x","x","x","x","x","x","x"]
["x",null,"x","x","x","x","x","x","x","x","x","x","x","x","x","x","x","x","x","x","x","x","x","x","x","x","x","x"]
["x",null,"x","x","x","x","x","x","x","x","x","x","x","x","x","x","x","x","x","x","x","x","x","x","x","x","x","x"]
["x",null,"x","x","x","x","x","x","x","x","x","x","x","x","x","x","x","x","x","x","x","x","x","x","x","x","x","x"]
["x",null,"x","x","x","x","x","x","x","x","x","x","x","x","x","x","x","x","x","x","x","x","x","x","x","x","x","x"]
["x",null,"x","x","x","x","x","x","x","x","x","x","x","x","x","x","x","x","x","x","x","x","x","x","x","x","x","x"]
["x","x","x","x","x","x","x","x","x","x","x","x","x","x","x","x","x","x","x","x","x","x","x","x","x","x","x","x","x","x","x","x","x","x","x","x","x","x","x","x","x","x","x","x","x","x","x"]
["x",null,"x","x","x","x","x","x","x","x","x","x","x","x","x","x","x","x","x","x","x","x","x","x","x","x","x","x"]
["x",null,"x","x","x","x","x","x","x","x","x","x","x","x","x","x","x","x","x","x","x","x","x","x","x","x","x","x"]
["x","x","x","x","x","x","x","x","x","x","x","x","x","x","x","x","x","x","x","x","x","x","x","x","x","x","x","x","x","x","x","x","x","x","x","x","x","x","x","x","x","x","x","x","x","x","x"]
["x",null,"x","x","x","x","x","x","x","x","x","x","x","x","x","x","x","x","x","x","x","x","x","x","x","x","x","x"]
["x",null,"x","x","x","x","x","x","x","x","x","x","x","x","x","x","x","x","x","x","x","x","x","x","x","x","x","x"]
["x","x","x","x","x","x","x","x","x","x","x","x","x","x","x","x","x","x","x","x","x","x","x","x","x","x","x","x","x","x","x","x","x","x","x","x","x","x","x","x","x","x","x","x","x","x","x"]
["x","x","x","x","x","x","x","x","x","x","x","x","x","x","x","x","x","x","x","x","x","x","x","x","x","x","x","x","x","x","x","x","x","x","x","x","x","x","x","x","x","x","x","x","x","x","x"]
["x",null,"x","x","x","x","x","x","x","x","x","x","x","x","x","x","x","x","x","x","x","x","x","x","x","x","x","x"]
["x",null,"x","x","x","x","x","x","x","x","x","x","x","x","x","x","x","x","x","x","x","x","x","x","x","x","x","x"]
["x","x",null,"x","x","x","x","x","x","x","x","x","x","x","x","x","x","x","x","x","x","x","x","x","x","x","x","x","x","x","x","x","x","x","x","x","x","x","x","x","x","x","x","x","x","x","x"]
["x",null,null,"x","x","x","x","x","x","x","x","x","x","x","x","x","x","x","x","x","x","x","x","x","x","x","x","x",null,"x"]
["x",null,null,"x","x","x","x","x","x","x","x","x","x","x","x","x","x","x","x","x","x","x","x","x","x","x","x","x",null,"x"]
["x",null,null,"x","x","x","x","x","x","x","x","x","x","x","x","x","x","x","x","x","x","x","x","x","x","x","x","x",null,"x"]
["x",null,null,"x","x","x","x","x","x","x","x","x","x","x","x","x","x","x","x","x","x","x","x","x","x","x","x","x",null,"x"]
["x",null,null,"x","x","x","x","x","x","x","x","x","x","x","x","x","x","x","x","x","x","x","x","x","x","x","x","x",null,"x"]
["x",null,null,"x","x","x","x","x","x","x","x","x","x","x","x","x","x","x","x","x","x","x","x","x","x","x","x","x",null,"x"]
["x",null,null,"x","x","x","x","x","x","x","x","x","x","x","x","x","x","x","x","x","x","x","x","x","x","x","x","x",null,"x"]
["x",null,null,"x","x","x","x","x","x","x","x","x","x","x","x","x","x","x","x","x","x","x","x","x","x","x","x","x",null,"x"]
["x",null,null,"x","x","x","x","x","x","x","x","x","x","x","x","x","x","x","x","x","x","x","x","x","x","x","x","x",null,"x"]
["x",null,null,"x","x","x","x","x","x","x","x","x","x","x","x","x","x","x","x","x","x","x","x","x","x","x","x","x",null,"x"]
["x",null,null,"x","x","x","x","x","x","x","x","x","x","x","x","x","x","x","x","x","x","x","x","x","x","x","x","x",null,"x"]
["x","x","x","x","x","x","x","x","x","x","x","x","x","x","x","x","x","x","x","x","x","x","x","x","x","x","x","x","x","x","x","x","x","x","x","x","x","x","x","x","x","x","x","x","x","x","x"]
["x",null,"x","x","x","x","x","x","x","x","x","x","x","x","x","x","x","x","x","x","x","x","x","x","x","x","x","x"]
["x",null,"x","x","x","x","x","x","x","x","x","x","x","x","x","x","x","x","x","x","x","x","x","x","x","x","x","x"]
["x","x",null,"x","x","x","x","x","x","x","x","x","x","x","x","x","x","x","x","x","x","x","x","x","x","x","x","x","x","x","x","x","x","x","x","x","x","x","x","x","x","x","x","x","x","x","x"]
["x",null,null,"x","x","x","x","x","x","x","x","x","x","x","x","x","x","x","x","x","x","x","x","x","x","x","x","x",null,"x"]
["x",null,null,"x","x","x","x","x","x","x","x","x","x","x","x","x","x","x","x","x","x","x","x","x","x","x","x","x",null,"x"]
["x",null,null,"x","x","x","x","x","x","x","x","x","x","x","x","x","x","x","x","x","x","x","x","x","x","x","x","x",null,"x"]
["x",null,null,"x","x","x","x","x","x","x","x","x","x","x","x","x","x","x","x","x","x","x","x","x","x","x","x","x",null,"x"]
["x",null,null,"x","x","x","x","x","x","x","x","x","x","x","x","x","x","x","x","x","x","x","x","x","x","x","x","x",null,"x"]
["x",null,null,"x","x","x","x","x","x","x","x","x","x","x","x","x","x","x","x","x","x","x","x","x","x","x","x","x",null,"x"]
["x",null,null,"x","x","x","x","x","x","x","x","x","x","x","x","x","x","x","x","x","x","x","x","x","x","x","x","x",null,"x"]
["x","x",null,"x","x","x","x","x","x","x","x","x","x","x","x","x","x","x","x","x","x","x","x","x","x","x","x","x","x","x","x","x","x","x","x","x","x","x","x","x","x","x","x","x","x","x","x"]
["x",null,null,"x","x","x","x","x","x","x","x","x","x","x","x","x","x","x","x","x","x","x","x","x","x","x","x","x",null,"x"]
["x",null,null,"x","x","x","x","x","x","x","x","x","x","x","x","x","x","x","x","x","x","x","x","x","x","x","x","x",null,"x"]
["x",null,null,"x","x","x","x","x","x","x","x","x","x","x","x","x","x","x","x","x","x","x","x","x","x","x","x","x",null,"x"]
["x",null,null,"x","x","x","x","x","x","x","x","x","x","x","x","x","x","x","x","x","x","x","x","x","x","x","x","x",null,"x"]
["x","x","x","x","x","x","x","x","x","x","x","x","x","x","x","x","x","x","x","x","x","x","x","x","x","x","x","x","x","x","x","x","x","x","x","x","x","x","x","x","x","x","x","x","x","x","x"]
["x",null,"x","x","x","x","x","x","x","x","x","x","x","x","x","x","x","x","x","x","x","x","x","x","x","x","x","x"]
["x",null,"x","x","x","x","x","x","x","x","x","x","x","x","x","x","x","x","x","x","x","x","x","x","x","x","x","x"]
["x",null,"x","x","x","x","x","x","x","x","x","x","x","x","x","x","x","x","x","x","x","x","x","x","x","x","x","x"]
["x",null,"x","x","x","x","x","x","x","x","x","x","x","x","x","x","x","x","x","x","x","x","x","x","x","x","x","x"]
["x",null,"x","x","x","x","x","x","x","x","x","x","x","x","x","x","x","x","x","x","x","x","x","x","x","x","x","x"]
["x",null,"x","x","x","x","x","x","x","x","x","x","x","x","x","x","x","x","x","x","x","x","x","x","x","x","x","x"]
["x","x","x","x","x","x","x","x","x","x","x","x","x","x","x","x","x","x","x","x","x","x","x","x","x","x","x","x","x","x","x","x","x","x","x","x","x","x","x","x","x","x","x","x","x","x","x"]
["x",null,"x","x","x","x","x","x","x","x","x","x","x","x","x","x","x","x","x","x","x","x","x","x","x","x","x","x"]
["x","x","x","x","x","x","x","x","x","x","x","x","x","x","x","x","x","x","x","x","x","x","x","x","x","x","x","x","x","x","x","x","x","x","x","x","x","x","x","x","x","x","x","x","x","x","x"]
["x",null,"x","x","x","x","x","x","x","x","x","x","x","x","x","x","x","x","x","x","x","x","x","x","x","x","x","x"]
["x",null,"x","x","x","x","x","x","x","x","x","x","x","x","x","x","x","x","x","x","x","x","x","x","x","x","x","x"]
["x","x","x","x","x","x","x","x","x","x","x","x","x","x","x","x","x","x","x","x","x","x","x","x","x","x","x","x","x","x","x","x","x","x","x","x","x","x","x","x","x","x","x","x","x","x","x"]
["x","x","x",null,"x","x","x","x","x","x","x","x","x","x","x","x","x","x","x","x","x","x","x","x","x","x","x","x","x","x","x","x","x","x","x","x","x","x","x","x","x","x","x","x","x","x","x"]
["x",null,"x",null,"x","x","x","x","x","x","x","x","x","x","x","x","x","x","x","x","x","x","x","x","x","x","x","x"]
["x",null,"x",null,"x","x","x","x","x","x","x","x","x","x","x","x","x","x","x","x","x","x","x","x","x","x","x","x"]
["x","x","x",null,"x","x","x","x","x","x","x","x","x","x","x","x","x","x","x","x","x","x","x","x","x","x","x","x","x","x","x","x","x","x","x","x","x","x","x","x","x","x","x","x","x","x","x"]
["x",null,"x",null,"x","x","x","x","x","x","x","x","x","x","x","x","x","x","x","x","x","x","x","x","x","x","x","x"]
["x",null,"x",null,"x","x","x","x","x","x","x","x","x","x","x","x","x","x","x","x","x","x","x","x","x","x","x","x"]
["x",null,"x",null,"x","x","x","x","x","x","x","x","x","x","x","x","x","x","x","x","x","x","x","x","x","x","x","x"]
["x",null,"x",null,"x","x","x","x","x","x","x","x","x","x","x","x","x","x","x","x","x","x","x","x","x","x","x","x"]
["x",null,"x",null,"x","x","x","x","x","x","x","x","x","x","x","x","x","x","x","x","x","x","x","x","x","x","x","x"]
["x",null,"x",null,"x","x","x","x","x","x","x","x","x","x","x","x","x","x","x","x","x","x","x","x","x","x","x","x"]
["x",null,"x",null,"x","x","x","x","x","x","x","x","x","x","x","x","x","x","x","x","x","x","x","x","x","x","x","x"]
["x",null,"x",null,"x","x","x","x","x","x","x","x","x","x","x","x","x","x","x","x","x","x","x","x","x","x","x","x"]
["x",null,"x",null,"x","x","x","x","x","x","x","x","x","x","x","x","x","x","x","x","x","x","x","x","x","x","x","x"]
["x",null,"x",null,"x","x","x","x","x","x","x","x","x","x","x","x","x","x","x","x","x","x","x","x","x","x","x","x"]
["x",null,"x",null,"x","x","x","x","x","x","x","x","x","x","x","x","x","x","x","x","x","x","x","x","x","x","x","x"]
["x",null,"x",null,"x","x","x","x","x","x","x","x","x","x","x","x","x","x","x","x","x","x","x","x","x","x","x","x"]
["x",null,"x",null,"x","x","x","x","x","x","x","x","x","x","x","x","x","x","x","x","x","x","x","x","x","x","x","x"]
["x",null,"x",null,"x","x","x","x","x","x","x","x","x","x","x","x","x","x","x","x","x","x","x","x","x","x","x","x"]
["x",null,"x",null,"x","x","x","x","x","x","x","x","x","x","x","x","x","x","x","x","x","x","x","x","x","x","x","x"]
["x",null,"x",null,"x","x","x","x","x","x","x","x","x","x","x","x","x","x","x","x","x","x","x","x","x","x","x","x"]
["x",null,"x",null,"x","x","x","x","x","x","x","x","x","x","x","x","x","x","x","x","x","x","x","x","x","x","x","x"]
["x",null,"x",null,"x","x","x","x","x","x","x","x","x","x","x","x","x","x","x","x","x","x","x","x","x","x","x","x"]
["x",null,"x",null,"x","x","x","x","x","x","x","x","x","x","x","x","x","x","x","x","x","x","x","x","x","x","x","x"]
["x",null,"x",null,"x","x","x","x","x","x","x","x","x","x","x","x","x","x","x","x","x","x","x","x","x","x","x","x"]
["x",null,"x",null,"x","x","x","x","x","x","x","x","x","x","x","x","x","x","x","x","x","x","x","x","x","x","x","x"]
["x","x","x",null,"x","x","x","x","x","x","x","x","x","x","x","x","x","x","x","x","x","x","x","x","x","x","x","x","x","x","x","x","x","x","x","x","x","x","x","x","x","x","x","x","x","x","x"]
["x",null,"x",null,"x","x","x","x","x","x","x","x","x","x","x","x","x","x","x","x","x","x","x","x","x","x","x","x",null,null,null,null,null,null,null,null,"x"]
["x",null,"x",null,"x","x","x","x","x","x","x","x","x","x","x","x","x","x","x","x","x","x","x","x","x","x","x","x",null,null,null,null,null,null,null,null,"x"]
["x",null,"x",null,"x","x","x","x","x","x","x","x","x","x","x","x","x","x","x","x","x","x","x","x","x","x","x","x",null,null,null,null,null,null,null,null,"x"]
["x",null,"x",null,"x","x","x","x","x","x","x","x","x","x","x","x","x","x","x","x","x","x","x","x","x","x","x","x",null,null,null,null,null,null,null,null,"x"]
["x","x","x",null,"x","x","x","x","x","x","x","x","x","x","x","x","x","x","x","x","x","x","x","x","x","x","x","x","x","x","x","x","x","x","x","x","x","x","x","x","x","x","x","x","x","x","x"]
["x",null,"x",null,"x","x","x","x","x","x","x","x","x","x","x","x","x","x","x","x","x","x","x","x","x","x","x","x",null,null,null,null,null,null,null,null,"x"]
["x",null,"x",null,"x","x","x","x","x","x","x","x","x","x","x","x","x","x","x","x","x","x","x","x","x","x","x","x",null,null,null,null,null,null,null,null,"x"]
["x",null,"x",null,"x","x","x","x","x","x","x","x","x","x","x","x","x","x","x","x","x","x","x","x","x","x","x","x",null,null,null,null,null,null,null,null,"x"]
["x",null,"x",null,"x","x","x","x","x","x","x","x","x","x","x","x","x","x","x","x","x","x","x","x","x","x","x","x",null,null,null,null,null,null,null,null,"x"]
["x",null,"x",null,"x","x","x","x","x","x","x","x","x","x","x","x","x","x","x","x","x","x","x","x","x","x","x","x",null,null,null,null,null,null,null,null,"x"]
["x",null,"x",null,"x","x","x","x","x","x","x","x","x","x","x","x","x","x","x","x","x","x","x","x","x","x","x","x",null,null,null,null,null,null,null,null,"x"]
["x",null,"x",null,"x","x","x","x","x","x","x","x","x","x","x","x","x","x","x","x","x","x","x","x","x","x","x","x",null,null,null,null,null,null,null,null,"x"]
["x",null,"x",null,"x","x","x","x","x","x","x","x","x","x","x","x","x","x","x","x","x","x","x","x","x","x","x","x",null,null,null,null,null,null,null,null,"x"]
["x",null,"x",null,"x","x","x","x","x","x","x","x","x","x","x","x","x","x","x","x","x","x","x","x","x","x","x","x",null,null,null,null,null,null,null,null,"x"]
["x",null,"x",null,"x","x","x","x","x","x","x","x","x","x","x","x","x","x","x","x","x","x","x","x","x","x","x","x",null,null,null,null,null,null,null,null,"x"]
["x","x",null,null,"x","x","x","x","x","x","x","x","x","x","x","x","x","x","x","x","x","x","x","x","x","x","x","x","x","x","x","x","x","x","x","x","x","x","x","x","x","x","x","x","x","x","x"]
["x",null,null,null,"x","x","x","x","x","x","x","x","x","x","x","x","x","x","x","x","x","x","x","x","x","x","x","x",null,"x",null,null,null,null,null,null,"x"]
["x",null,null,null,"x","x","x","x","x","x","x","x","x","x","x","x","x","x","x","x","x","x","x","x","x","x","x","x",null,"x",null,null,null,null,null,null,"x"]
["x",null,null,null,"x","x","x","x","x","x","x","x","x","x","x","x","x","x","x","x","x","x","x","x","x","x","x","x",null,"x",null,null,null,null,null,null,"x"]
["x",null,null,null,"x","x","x","x","x","x","x","x","x","x","x","x","x","x","x","x","x","x","x","x","x","x","x","x",null,"x",null,null,null,null,null,null,"x"]
["x",null,null,null,"x","x","x","x","x","x","x","x","x","x","x","x","x","x","x","x","x","x","x","x","x","x","x","x",null,"x",null,null,null,null,null,null,"x"]
["x",null,null,null,"x","x","x","x","x","x","x","x","x","x","x","x","x","x","x","x","x","x","x","x","x","x","x","x",null,"x",null,null,null,null,null,null,"x"]
["x",null,null,null,"x","x","x","x","x","x","x","x","x","x","x","x","x","x","x","x","x","x","x","x","x","x","x","x",null,"x",null,null,null,null,null,null,"x"]
["x",null,null,null,"x","x","x","x","x","x","x","x","x","x","x","x","x","x","x","x","x","x","x","x","x","x","x","x",null,"x",null,null,null,null,null,null,"x"]
["x",null,null,null,"x","x","x","x","x","x","x","x","x","x","x","x","x","x","x","x","x","x","x","x","x","x","x","x",null,"x",null,null,null,null,null,null,"x"]
["x",null,null,null,"x","x","x","x","x","x","x","x","x","x","x","x","x","x","x","x","x","x","x","x","x","x","x","x",null,"x",null,null,null,null,null,null,"x"]
["x",null,null,null,"x","x","x","x","x","x","x","x","x","x","x","x","x","x","x","x","x","x","x","x","x","x","x","x",null,"x",null,null,null,null,null,null,"x"]
["x",null,null,null,"x","x","x","x","x","x","x","x","x","x","x","x","x","x","x","x","x","x","x","x","x","x","x","x",null,"x",null,null,null,null,null,null,"x"]
["x",null,null,null,"x","x","x","x","x","x","x","x","x","x","x","x","x","x","x","x","x","x","x","x","x","x","x","x",null,"x",null,null,null,null,null,null,"x"]
["x",null,null,null,"x","x","x","x","x","x","x","x","x","x","x","x","x","x","x","x","x","x","x","x","x","x","x","x",null,"x",null,null,null,null,null,null,"x"]
["x",null,null,null,"x","x","x","x","x","x","x","x","x","x","x","x","x","x","x","x","x","x","x","x","x","x","x","x",null,"x",null,null,null,null,null,null,"x"]
["x",null,null,null,"x","x","x","x","x","x","x","x","x","x","x","x","x","x","x","x","x","x","x","x","x","x","x","x",null,"x",null,null,null,null,null,null,"x"]
["x",null,null,null,"x","x","x","x","x","x","x","x","x","x","x","x","x","x","x","x","x","x","x","x","x","x","x","x",null,"x",null,null,null,null,null,null,"x"]
["x",null,null,null,"x","x","x","x","x","x","x","x","x","x","x","x","x","x","x","x","x","x","x","x","x","x","x","x",null,"x",null,null,null,null,null,null,"x"]
["x",null,null,null,"x","x","x","x","x","x","x","x","x","x","x","x","x","x","x","x","x","x","x","x","x","x","x","x",null,"x",null,null,null,null,null,null,"x"]
["x",null,null,null,"x","x","x","x","x","x","x","x","x","x","x","x","x","x","x","x","x","x","x","x","x","x","x","x",null,"x",null,null,null,null,null,null,"x"]
["x",null,null,null,"x","x","x","x","x","x","x","x","x","x","x","x","x","x","x","x","x","x","x","x","x","x","x","x",null,"x",null,null,null,null,null,null,"x"]
["x",null,null,null,"x","x","x","x","x","x","x","x","x","x","x","x","x","x","x","x","x","x","x","x","x","x","x","x",null,"x",null,null,null,null,null,null,"x"]
["x",null,null,null,"x","x","x","x","x","x","x","x","x","x","x","x","x","x","x","x","x","x","x","x","x","x","x","x",null,"x",null,null,null,null,null,null,"x"]
["x",null,null,null,"x","x","x","x","x","x","x","x","x","x","x","x","x","x","x","x","x","x","x","x","x","x","x","x",null,"x",null,null,null,null,null,null,"x"]
["x",null,null,null,"x","x","x","x","x","x","x","x","x","x","x","x","x","x","x","x","x","x","x","x","x","x","x","x",null,"x",null,null,null,null,null,null,"x"]
["x",null,null,null,"x","x","x","x","x","x","x","x","x","x","x","x","x","x","x","x","x","x","x","x","x","x","x","x",null,"x",null,null,null,null,null,null,"x"]
["x",null,null,null,"x","x","x","x","x","x","x","x","x","x","x","x","x","x","x","x","x","x","x","x","x","x","x","x",null,"x",null,null,null,null,null,null,"x"]
["x",null,null,null,"x","x","x","x","x","x","x","x","x","x","x","x","x","x","x","x","x","x","x","x","x","x","x","x",null,"x",null,null,null,null,null,null,"x"]
["x",null,null,null,"x","x","x","x","x","x","x","x","x","x","x","x","x","x","x","x","x","x","x","x","x","x","x","x",null,"x",null,null,null,null,null,null,"x"]
["x","x",null,null,"x","x","x","x","x","x","x","x","x","x","x","x","x","x","x","x","x","x","x","x","x","x","x","x",null,"x","x",null,null,null,null,null,"x"]
["x","x","x","x","x","x","x","x","x","x","x","x","x","x","x","x","x","x","x","x","x","x","x","x","x","x","x","x","x","x","x","x","x","x","x","x","x","x","x","x","x","x","x","x","x","x","x"]
["x",null,"x","x","x","x","x","x","x","x","x","x","x","x","x","x","x","x","x","x","x","x","x","x","x","x","x","x"]
["x",null,"x","x","x","x","x","x","x","x","x","x","x","x","x","x","x","x","x","x","x","x","x","x","x","x","x","x"]
["x","x","x","x","x","x","x","x","x","x","x","x","x","x","x","x","x","x","x","x","x","x","x","x","x","x","x","x","x","x","x","x","x","x","x","x","x","x","x","x","x","x","x","x","x","x","x"]
["x",null,"x","x","x","x","x","x","x","x","x","x","x","x","x","x","x","x","x","x","x","x","x","x","x","x","x","x"]
["x","x","x","x","x","x","x","x","x","x","x","x","x","x","x","x","x","x","x","x","x","x","x","x","x","x","x","x","x","x","x","x","x","x","x","x","x","x","x","x","x","x","x","x","x","x","x"]
["x",null,"x","x","x","x","x","x","x","x","x","x","x","x","x","x","x","x","x","x","x","x","x","x","x","x","x","x"]
["x",null,"x","x","x","x","x","x","x","x","x","x","x","x","x","x","x","x","x","x","x","x","x","x","x","x","x","x"]
["x",null,"x","x","x","x","x","x","x","x","x","x","x","x","x","x","x","x","x","x","x","x","x","x","x","x","x","x"]
["x",null,"x","x","x","x","x","x","x","x","x","x","x","x","x","x","x","x","x","x","x","x","x","x","x","x","x","x"]
["x","x","x","x","x","x","x","x","x","x","x","x","x","x","x","x","x","x","x","x","x","x","x","x","x","x","x","x","x","x","x","x","x","x","x","x","x","x","x","x","x","x","x","x","x","x","x"]
["x",null,"x","x","x","x","x","x","x","x","x","x","x","x","x","x","x","x","x","x","x","x","x","x","x","x","x","x"]
["x",null,"x","x","x","x","x","x","x","x","x","x","x","x","x","x","x","x","x","x","x","x","x","x","x","x","x","x"]
["x",null,"x","x","x","x","x","x","x","x","x","x","x","x","x","x","x","x","x","x","x","x","x","x","x","x","x","x"]
["x",null,"x","x","x","x","x","x","x","x","x","x","x","x","x","x","x","x","x","x","x","x","x","x","x","x","x","x"]
["x",null,"x","x","x","x","x","x","x","x","x","x","x","x","x","x","x","x","x","x","x","x","x","x","x","x","x","x"]
["x",null,"x","x","x","x","x","x","x","x","x","x","x","x","x","x","x","x","x","x","x","x","x","x","x","x","x","x"]
["x",null,"x","x","x","x","x","x","x","x","x","x","x","x","x","x","x","x","x","x","x","x","x","x","x","x","x","x"]
["x",null,"x","x","x","x","x","x","x","x","x","x","x","x","x","x","x","x","x","x","x","x","x","x","x","x","x","x"]
["x",null,"x","x","x","x","x","x","x","x","x","x","x","x","x","x","x","x","x","x","x","x","x","x","x","x","x","x"]
["x",null,"x","x","x","x","x","x","x","x","x","x","x","x","x","x","x","x","x","x","x","x","x","x","x","x","x","x"]
["x",null,"x","x","x","x","x","x","x","x","x","x","x","x","x","x","x","x","x","x","x","x","x","x","x","x","x","x"]
["x",null,"x","x","x","x","x","x","x","x","x","x","x","x","x","x","x","x","x","x","x","x","x","x","x","x","x","x"]
["x","x","x","x","x","x","x","x","x","x","x","x","x","x","x","x","x","x","x","x","x","x","x","x","x","x","x","x","x","x","x","x","x","x","x","x","x","x","x","x","x","x","x","x","x","x","x"]
["x",null,"x","x","x","x","x","x","x","x","x","x","x","x","x","x","x","x","x","x","x","x","x","x","x","x","x","x"]
["x",null,"x","x","x","x","x","x","x","x","x","x","x","x","x","x","x","x","x","x","x","x","x","x","x","x","x","x"]
["x",null,"x","x","x","x","x","x","x","x","x","x","x","x","x","x","x","x","x","x","x","x","x","x","x","x","x","x"]
["x",null,"x","x","x","x","x","x","x","x","x","x","x","x","x","x","x","x","x","x","x","x","x","x","x","x","x","x"]
["x",null,"x","x","x","x","x","x","x","x","x","x","x","x","x","x","x","x","x","x","x","x","x","x","x","x","x","x"]
["x",null,"x","x","x","x","x","x","x","x","x","x","x","x","x","x","x","x","x","x","x","x","x","x","x","x","x","x"]
["x","x","x","x","x","x","x","x","x","x","x","x","x","x","x","x","x","x","x","x","x","x","x","x","x","x","x","x","x","x","x","x","x","x","x","x","x","x","x","x","x","x","x","x","x","x","x"]
["x",null,"x","x","x","x","x","x","x","x","x","x","x","x","x","x","x","x","x","x","x","x","x","x","x","x","x","x"]
["x",null,"x","x","x","x","x","x","x","x","x","x","x","x","x","x","x","x","x","x","x","x","x","x","x","x","x","x"]
["x",null,"x","x","x","x","x","x","x","x","x","x","x","x","x","x","x","x","x","x","x","x","x","x","x","x","x","x"]
["x",null,"x","x","x","x","x","x","x","x","x","x","x","x","x","x","x","x","x","x","x","x","x","x","x","x","x","x"]
["x",null,"x","x","x","x","x","x","x","x","x","x","x","x","x","x","x","x","x","x","x","x","x","x","x","x","x","x"]
["x",null,"x","x","x","x","x","x","x","x","x","x","x","x","x","x","x","x","x","x","x","x","x","x","x","x","x","x"]
["x","x","x","x","x","x","x","x","x","x","x","x","x","x","x","x","x","x","x","x","x","x","x","x","x","x","x","x","x","x","x","x","x","x","x","x","x","x","x","x","x","x","x","x","x","x","x"]
["x",null,"x","x","x","x","x","x","x","x","x","x","x","x","x","x","x","x","x","x","x","x","x","x","x","x","x","x"]
["x",null,"x","x","x","x","x","x","x","x","x","x","x","x","x","x","x","x","x","x","x","x","x","x","x","x","x","x"]
["x",null,"x","x","x","x","x","x","x","x","x","x","x","x","x","x","x","x","x","x","x","x","x","x","x","x","x","x"]
["x",null,"x","x","x","x","x","x","x","x","x","x","x","x","x","x","x","x","x","x","x","x","x","x","x","x","x","x"]
["x",null,"x","x","x","x","x","x","x","x","x","x","x","x","x","x","x","x","x","x","x","x","x","x","x","x","x","x"]
["x",null,"x","x","x","x","x","x","x","x","x","x","x","x","x","x","x","x","x","x","x","x","x","x","x","x","x","x"]
["x",null,"x","x","x","x","x","x","x","x","x","x","x","x","x","x","x","x","x","x","x","x","x","x","x","x","x","x"]
["x","x","x","x","x","x","x","x","x","x","x","x","x","x","x","x","x","x","x","x","x","x","x","x","x","x","x","x","x","x","x","x","x","x","x","x","x","x","x","x","x","x","x","x","x","x","x"]
["x",null,"x","x","x","x","x","x","x","x","x","x","x","x","x","x","x","x","x","x","x","x","x","x","x","x","x","x"]
["x",null,"x","x","x","x","x","x","x","x","x","x","x","x","x","x","x","x","x","x","x","x","x","x","x","x","x","x"]
["x","x","x","x","x","x","x","x","x","x","x","x","x","x","x","x","x","x","x","x","x","x","x","x","x","x","x","x","x","x","x","x","x","x","x","x","x","x","x","x","x","x","x","x","x","x","x"]
["x",null,"x","x","x","x","x",null,"x","x","x","x","x","x","x","x","x","x","x","x","x","x","x","x","x","x","x","x"]
["x",null,"x","x","x","x","x",null,"x","x","x","x","x","x","x","x","x","x","x","x","x","x","x","x","x","x","x","x"]
["x","x","x","x","x","x","x","x","x","x","x","x","x","x","x","x","x","x","x","x","x","x","x","x","x","x","x","x","x","x","x","x","x","x","x","x","x","x","x","x","x","x","x","x","x","x","x"]
["x",null,"x","x","x","x","x","x","x",null,"x",null,"x","x","x","x","x","x","x","x","x","x","x","x","x","x","x","x"]
["x",null,"x","x","x","x","x","x","x",null,"x",null,"x","x","x","x","x","x","x","x","x","x","x","x","x","x","x","x"]
["x",null,"x","x","x","x","x","x","x",null,"x",null,"x","x","x","x","x","x","x","x","x","x","x","x","x","x","x","x"]
["x",null,"x","x","x","x","x","x","x",null,"x",null,"x","x","x","x","x","x","x","x","x","x","x","x","x","x","x","x"]
["x",null,"x","x","x","x","x","x","x",null,"x",null,"x","x","x","x","x","x","x","x","x","x","x","x","x","x","x","x"]
["x",null,"x","x","x","x","x","x","x",null,"x",null,"x","x","x","x","x","x","x","x","x","x","x","x","x","x","x","x"]
["x",null,"x","x","x","x","x","x","x",null,"x",null,"x","x","x","x","x","x","x","x","x","x","x","x","x","x","x","x"]
["x",null,"x","x","x","x","x","x","x",null,"x",null,"x","x","x","x","x","x","x","x","x","x","x","x","x","x","x","x"]
["x",null,"x","x","x","x","x","x","x",null,"x",null,"x","x","x","x","x","x","x","x","x","x","x","x","x","x","x","x"]
["x",null,"x","x","x","x","x","x","x",null,"x",null,"x","x","x","x","x","x","x","x","x","x","x","x","x","x","x","x"]
["x",null,"x","x","x","x","x","x","x",null,"x",null,"x","x","x","x","x","x","x","x","x","x","x","x","x","x","x","x"]
["x",null,"x","x","x","x","x","x","x",null,"x",null,"x","x","x","x","x","x","x","x","x","x","x","x","x","x","x","x"]
["x",null,"x","x","x","x","x","x","x",null,"x",null,"x","x","x","x","x","x","x","x","x","x","x","x","x","x","x","x"]
["x",null,"x","x","x","x","x","x","x",null,"x",null,"x","x","x","x","x","x","x","x","x","x","x","x","x","x","x","x"]
["x",null,"x","x","x","x","x","x","x",null,"x",null,"x","x","x","x","x","x","x","x","x","x","x","x","x","x","x","x"]
["x",null,"x","x","x","x","x","x","x",null,"x",null,"x","x","x","x","x","x","x","x","x","x","x","x","x","x","x","x"]
["x",null,"x","x","x","x","x","x","x",null,"x",null,"x","x","x","x","x","x","x","x","x","x","x","x","x","x","x","x"]
["x","x","x","x","x","x","x","x","x","x","x","x","x","x","x","x","x","x","x","x","x","x","x","x","x","x","x","x","x","x","x","x","x","x","x","x","x","x","x","x","x","x","x","x","x","x","x"]
["x",null,"x","x","x","x","x","x","x",null,null,"x","x","x","x","x","x","x","x","x","x","x","x","x","x","x","x","x"]
["x",null,"x","x","x","x","x","x","x",null,null,"x","x","x","x","x","x","x","x","x","x","x","x","x","x","x","x","x"]
["x",null,"x","x","x","x","x","x","x",null,null,"x","x","x","x","x","x","x","x","x","x","x","x","x","x","x","x","x"]
["x",null,"x","x","x","x","x","x","x",null,null,"x","x","x","x","x","x","x","x","x","x","x","x","x","x","x","x","x"]
["x",null,"x","x","x","x","x","x","x",null,null,"x","x","x","x","x","x","x","x","x","x","x","x","x","x","x","x","x"]
["x",null,"x","x","x","x","x","x","x",null,null,"x","x","x","x","x","x","x","x","x","x","x","x","x","x","x","x","x"]
["x",null,"x","x","x","x","x","x","x",null,null,"x","x","x","x","x","x","x","x","x","x","x","x","x","x","x","x","x"]
["x",null,null,"x","x","x","x","x","x",null,null,"x","x","x","x","x","x","x","x","x","x","x","x","x","x","x","x","x",null,"x"]
["x",null,null,"x","x","x","x","x","x",null,null,"x","x","x","x","x","x","x","x","x","x","x","x","x","x","x","x","x",null,"x"]
["x",null,null,"x","x","x","x","x","x",null,null,"x","x","x","x","x","x","x","x","x","x","x","x","x","x","x","x","x",null,"x"]
["x",null,null,"x","x","x","x","x","x",null,null,"x","x","x","x","x","x","x","x","x","x","x","x","x","x","x","x","x",null,"x"]
["x",null,null,"x","x","x","x","x","x",null,null,"x","x","x","x","x","x","x","x","x","x","x","x","x","x","x","x","x",null,"x"]
["x",null,null,"x","x","x","x","x","x",null,null,"x","x","x","x","x","x","x","x","x","x","x","x","x","x","x","x","x",null,"x"]
["x",null,null,"x","x","x","x","x","x",null,null,"x","x","x","x","x","x","x","x","x","x","x","x","x","x","x","x","x",null,"x"]
["x",null,null,"x","x","x","x","x","x",null,null,"x","x","x","x","x","x","x","x","x","x","x","x","x","x","x","x","x",null,"x"]
["x",null,null,"x","x","x","x","x","x",null,null,"x","x","x","x","x","x","x","x","x","x","x","x","x","x","x","x","x",null,"x"]
["x",null,null,"x","x","x","x","x","x",null,null,"x","x","x","x","x","x","x","x","x","x","x","x","x","x","x","x","x",null,"x"]
["x",null,"x","x","x","x","x","x","x",null,null,"x","x","x","x","x","x","x","x","x","x","x","x","x","x","x","x","x"]
["x",null,"x","x","x","x","x","x","x",null,null,"x","x","x","x","x","x","x","x","x","x","x","x","x","x","x","x","x"]
["x",null,"x","x","x","x","x","x","x",null,null,"x","x","x","x","x","x","x","x","x","x","x","x","x","x","x","x","x"]
["x",null,"x","x","x","x","x","x","x",null,null,"x","x","x","x","x","x","x","x","x","x","x","x","x","x","x","x","x"]
["x",null,"x","x","x","x","x","x","x",null,null,"x","x","x","x","x","x","x","x","x","x","x","x","x","x","x","x","x"]
["x",null,"x","x","x","x","x","x","x",null,null,"x","x","x","x","x","x","x","x","x","x","x","x","x","x","x","x","x"]
["x",null,"x","x","x","x","x","x","x",null,null,"x","x","x","x","x","x","x","x","x","x","x","x","x","x","x","x","x"]
["x",null,"x","x","x","x","x","x","x",null,null,"x","x","x","x","x","x","x","x","x","x","x","x","x","x","x","x","x"]
["x",null,"x","x","x","x","x","x","x",null,null,"x","x","x","x","x","x","x","x","x","x","x","x","x","x","x","x","x"]
["x",null,"x","x","x","x","x","x","x",null,null,"x","x","x","x","x","x","x","x","x","x","x","x","x","x","x","x","x"]
["x",null,"x","x","x","x","x","x","x",null,null,"x","x","x","x","x","x","x","x","x","x","x","x","x","x","x","x","x"]
["x",null,"x","x","x","x","x","x","x",null,null,"x","x","x","x","x","x","x","x","x","x","x","x","x","x","x","x","x"]
["x",null,"x","x","x","x","x","x","x",null,null,"x","x","x","x","x","x","x","x","x","x","x","x","x","x","x","x","x"]
["x",null,"x","x","x","x","x","x","x",null,null,"x","x","x","x","x","x","x","x","x","x","x","x","x","x","x","x","x"]
["x",null,"x","x","x","x","x","x","x",null,null,"x","x","x","x","x","x","x","x","x","x","x","x","x","x","x","x","x"]
["x",null,"x","x","x","x","x","x","x",null,null,"x","x","x","x","x","x","x","x","x","x","x","x","x","x","x","x","x"]
["x",null,"x","x","x","x","x","x","x",null,null,"x","x","x","x","x","x","x","x","x","x","x","x","x","x","x","x","x"]
["x",null,"x","x","x","x","x","x","x",null,null,"x","x","x","x","x","x","x","x","x","x","x","x","x","x","x","x","x"]
["x",null,"x","x","x","x","x","x","x",null,null,"x","x","x","x","x","x","x","x","x","x","x","x","x","x","x","x","x"]
["x","x","x","x","x","x","x","x","x","x","x","x","x","x","x","x","x","x","x","x","x","x","x","x","x","x","x","x","x","x","x","x","x","x","x","x","x","x","x","x","x","x","x","x","x","x","x"]
["x",null,"x","x","x","x","x","x",null,"x","x","x","x","x","x","x","x","x","x","x","x","x","x","x","x","x","x","x"]
["x",null,"x","x","x","x","x","x",null,"x","x","x","x","x","x","x","x","x","x","x","x","x","x","x","x","x","x","x"]
["x",null,"x","x","x","x","x","x",null,"x","x","x","x","x","x","x","x","x","x","x","x","x","x","x","x","x","x","x"]
["x",null,"x","x","x","x","x","x",null,"x","x","x","x","x","x","x","x","x","x","x","x","x","x","x","x","x","x","x"]
["x",null,"x","x","x","x","x","x",null,"x","x","x","x","x","x","x","x","x","x","x","x","x","x","x","x","x","x","x"]
["x",null,"x","x","x","x","x","x",null,"x","x","x","x","x","x","x","x","x","x","x","x","x","x","x","x","x","x","x"]
["x",null,"x","x","x","x","x","x",null,"x","x","x","x","x","x","x","x","x","x","x","x","x","x","x","x","x","x","x"]
["x",null,"x","x","x","x","x","x",null,"x","x","x","x","x","x","x","x","x","x","x","x","x","x","x","x","x","x","x"]
["x",null,"x","x","x","x","x","x",null,"x","x","x","x","x","x","x","x","x","x","x","x","x","x","x","x","x","x","x"]
["x",null,"x","x","x","x","x","x",null,"x","x","x","x","x","x","x","x","x","x","x","x","x","x","x","x","x","x","x"]
["x",null,"x","x","x","x","x","x",null,"x","x","x","x","x","x","x","x","x","x","x","x","x","x","x","x","x","x","x"]
["x",null,"x","x","x","x","x","x",null,"x","x","x","x","x","x","x","x","x","x","x","x","x","x","x","x","x","x","x"]
["x",null,"x","x","x","x","x","x",null,"x","x","x","x","x","x","x","x","x","x","x","x","x","x","x","x","x","x","x"]
["x",null,"x","x","x","x","x","x",null,"x","x","x","x","x","x","x","x","x","x","x","x","x","x","x","x","x","x","x"]
["x",null,"x","x","x","x","x","x",null,"x","x","x","x","x","x","x","x","x","x","x","x","x","x","x","x","x","x","x"]
["x",null,"x","x","x","x","x","x",null,"x","x","x","x","x","x","x","x","x","x","x","x","x","x","x","x","x","x","x"]
["x",null,"x","x","x","x","x","x",null,"x","x","x","x","x","x","x","x","x","x","x","x","x","x","x","x","x","x","x"]
["x",null,"x","x","x","x","x","x",null,"x","x","x","x","x","x","x","x","x","x","x","x","x","x","x","x","x","x","x"]
["x",null,"x","x","x","x","x","x",null,"x","x","x","x","x","x","x","x","x","x","x","x","x","x","x","x","x","x","x"]
["x",null,"x","x","x","x","x","x",null,"x","x","x","x","x","x","x","x","x","x","x","x","x","x","x","x","x","x","x"]
["x",null,"x","x","x","x","x","x",null,"x","x","x","x","x","x","x","x","x","x","x","x","x","x","x","x","x","x","x"]
["x",null,"x","x","x","x","x","x",null,"x","x","x","x","x","x","x","x","x","x","x","x","x","x","x","x","x","x","x"]
["x","x","x","x","x","x","x","x",null,"x","x","x","x","x","x","x","x","x","x","x","x","x","x","x","x","x","x","x","x","x","x","x","x","x","x","x","x","x","x","x","x","x","x","x","x","x","x"]
["x",null,"x","x","x","x","x","x",null,"x","x","x","x","x","x","x","x","x","x","x","x","x","x","x","x","x","x","x"]
["x",null,"x","x","x","x","x","x",null,"x","x","x","x","x","x","x","x","x","x","x","x","x","x","x","x","x","x","x"]
["x",null,"x","x","x","x","x","x",null,"x","x","x","x","x","x","x","x","x","x","x","x","x","x","x","x","x","x","x"]
["x","x",null,"x","x","x","x","x","x","x","x","x","x","x","x","x","x","x","x","x","x","x","x","x","x","x","x","x","x","x","x","x","x","x","x","x","x","x","x","x","x","x","x","x","x","x","x"]
["x",null,null,"x","x","x","x","x","x","x","x","x","x","x","x","x","x","x","x","x","x","x","x","x","x","x","x","x",null,"x"]
["x",null,null,"x","x","x","x","x","x","x","x","x","x","x","x","x","x","x","x","x","x","x","x","x","x","x","x","x",null,"x"]
["x",null,null,"x","x","x","x","x","x","x","x","x","x","x","x","x","x","x","x","x","x","x","x","x","x","x","x","x",null,"x"]
["x",null,null,"x","x","x","x","x","x","x","x","x","x","x","x","x","x","x","x","x","x","x","x","x","x","x","x","x",null,"x"]
["x",null,null,"x","x","x","x","x","x","x","x","x","x","x","x","x","x","x","x","x","x","x","x","x","x","x","x","x",null,"x"]
["x",null,null,"x","x","x","x","x","x","x","x","x","x","x","x","x","x","x","x","x","x","x","x","x","x","x","x","x",null,"x"]
["x","x","x","x","x","x","x","x","x","x","x","x","x","x","x","x","x","x","x","x","x","x","x","x","x","x","x","x","x","x","x","x","x","x","x","x","x","x","x","x","x","x","x","x","x","x","x"]
["x",null,"x","x","x","x","x","x","x","x","x","x","x","x","x","x","x","x","x","x","x","x","x","x","x","x","x","x"]
["x","x","x","x","x","x","x","x","x","x","x","x","x","x","x","x","x","x","x","x","x","x","x","x","x","x","x","x","x","x","x","x","x","x","x","x","x","x","x","x","x","x","x","x","x","x","x"]
["x",null,"x","x","x","x","x","x","x","x","x","x","x","x","x","x","x","x","x","x","x","x","x","x","x","x","x","x"]
["x",null,"x","x","x","x","x","x","x","x","x","x","x","x","x","x","x","x","x","x","x","x","x","x","x","x","x","x"]
["x",null,"x","x","x","x","x","x","x","x","x","x","x","x","x","x","x","x","x","x","x","x","x","x","x","x","x","x"]
["x",null,"x","x","x","x","x","x","x","x","x","x","x","x","x","x","x","x","x","x","x","x","x","x","x","x","x","x"]
["x",null,"x","x","x","x","x","x","x","x","x","x","x","x","x","x","x","x","x","x","x","x","x","x","x","x","x","x"]
["x",null,"x","x","x","x","x","x","x","x","x","x","x","x","x","x","x","x","x","x","x","x","x","x","x","x","x","x"]
["x",null,"x","x","x","x","x","x","x","x","x","x","x","x","x","x","x","x","x","x","x","x","x","x","x","x","x","x"]
["x",null,"x","x","x","x","x","x","x","x","x","x","x","x","x","x","x","x","x","x","x","x","x","x","x","x","x","x"]
["x",null,"x","x","x","x","x","x","x","x","x","x","x","x","x","x","x","x","x","x","x","x","x","x","x","x","x","x"]
["x",null,"x","x","x","x","x","x","x","x","x","x","x","x","x","x","x","x","x","x","x","x","x","x","x","x","x","x"]
["x",null,"x","x","x","x","x","x","x","x","x","x","x","x","x","x","x","x","x","x","x","x","x","x","x","x","x","x"]
["x","x","x","x","x","x","x","x","x","x","x","x","x","x","x","x","x","x","x","x","x","x","x","x","x","x","x","x","x","x","x","x","x","x","x","x","x","x","x","x","x","x","x","x","x","x","x"]
["x",null,"x","x","x","x","x","x","x","x","x","x","x","x","x","x","x","x","x",null,"x","x","x","x","x","x","x","x",null,null,null,null,null,null,null,null,null,null,"x"]
["x",null,"x","x","x","x","x","x","x","x","x","x","x","x","x","x","x","x","x",null,"x","x","x","x","x","x","x","x",null,null,null,null,null,null,null,null,null,null,"x"]
["x",null,"x","x","x","x","x","x","x","x","x","x","x","x","x","x","x","x","x",null,"x","x","x","x","x","x","x","x",null,null,null,null,null,null,null,null,null,null,"x"]
["x",null,"x","x","x","x","x","x","x","x","x","x","x","x","x","x","x","x","x",null,"x","x","x","x","x","x","x","x",null,null,null,null,null,null,null,null,null,null,"x"]
["x",null,"x","x","x","x","x","x","x","x","x","x","x","x","x","x","x","x","x",null,"x","x","x","x","x","x","x","x",null,null,null,null,null,null,null,null,null,null,"x"]
["x","x","x","x","x","x","x","x","x","x","x","x","x","x","x","x","x","x","x","x","x","x","x","x","x","x","x","x","x","x","x","x","x","x","x","x","x","x","x","x","x","x","x","x","x","x","x"]
["x",null,"x","x","x","x","x","x","x","x","x","x","x","x","x","x","x","x","x","x",null,"x","x","x","x","x","x","x",null,null,null,null,null,null,null,null,null,null,null,"x"]
["x",null,"x","x","x","x","x","x","x","x","x","x","x","x","x","x","x","x","x","x",null,"x","x","x","x","x","x","x",null,null,null,null,null,null,null,null,null,null,null,"x"]
["x",null,"x","x","x","x","x","x","x","x","x","x","x","x","x","x","x","x","x","x",null,"x","x","x","x","x","x","x",null,null,null,null,null,null,null,null,null,null,null,"x"]
["x",null,"x","x","x","x","x","x","x","x","x","x","x","x","x","x","x","x","x","x",null,"x","x","x","x","x","x","x",null,null,null,null,null,null,null,null,null,null,null,"x"]
["x",null,"x","x","x","x","x","x","x","x","x","x","x","x","x","x","x","x","x","x",null,"x","x","x","x","x","x","x",null,null,null,null,null,null,null,null,null,null,null,"x"]
["x","x","x","x","x","x","x","x","x","x","x","x","x","x","x","x","x","x","x","x","x","x","x","x","x","x","x","x","x","x","x","x","x","x","x","x","x","x","x","x","x","x","x","x","x","x","x"]
["x",null,"x","x","x","x","x","x","x","x","x","x","x","x","x","x","x","x","x","x","x",null,"x","x","x","x","x","x",null,null,null,null,null,null,null,null,null,null,null,null,"x"]
["x",null,"x","x","x","x","x","x","x","x","x","x","x","x","x","x","x","x","x","x","x",null,"x","x","x","x","x","x",null,null,null,null,null,null,null,null,null,null,null,null,"x"]
["x",null,"x","x","x","x","x","x","x","x","x","x","x","x","x","x","x","x","x","x","x",null,"x","x","x","x","x","x",null,null,null,null,null,null,null,null,null,null,null,null,"x"]
["x",null,"x","x","x","x","x","x","x","x","x","x","x","x","x","x","x","x","x","x","x",null,"x","x","x","x","x","x",null,null,null,null,null,null,null,null,null,null,null,null,"x"]
["x",null,"x","x","x","x","x","x","x","x","x","x","x","x","x","x","x","x","x","x","x",null,"x","x","x","x","x","x",null,null,null,null,null,null,null,null,null,null,null,null,"x"]
["x",null,"x","x","x","x","x","x","x","x","x","x","x","x","x","x","x","x","x","x","x",null,"x","x","x","x","x","x",null,null,null,null,null,null,null,null,null,null,null,null,"x"]
["x",null,"x","x","x","x","x","x","x","x","x","x","x","x","x","x","x","x","x","x","x",null,"x","x","x","x","x","x",null,null,null,null,null,null,null,null,null,null,null,null,"x"]
["x",null,"x","x","x","x","x","x","x","x","x","x","x","x","x","x","x","x","x","x","x",null,"x","x","x","x","x","x",null,null,null,null,null,null,null,null,null,null,null,null,"x"]
["x",null,"x","x","x","x","x","x","x","x","x","x","x","x","x","x","x","x","x","x","x",null,"x","x","x","x","x","x",null,null,null,null,null,null,null,null,null,null,null,null,"x"]
["x",null,"x","x","x","x","x","x","x","x","x","x","x","x","x","x","x","x","x","x","x",null,"x","x","x","x","x","x",null,null,null,null,null,null,null,null,null,null,null,null,"x"]
["x",null,"x","x","x","x","x","x","x","x","x","x","x","x","x","x","x","x","x","x","x",null,"x","x","x","x","x","x",null,null,null,null,null,null,null,null,null,null,null,null,"x"]
["x",null,"x","x","x","x","x","x","x","x","x","x","x","x","x","x","x","x","x","x","x",null,"x","x","x","x","x","x",null,null,null,null,null,null,null,null,null,null,null,null,"x"]
["x",null,"x","x","x","x","x","x","x","x","x","x","x","x","x","x","x","x","x","x","x",null,"x","x","x","x","x","x",null,null,null,null,null,null,null,null,null,null,null,null,"x"]
["x",null,"x","x","x","x","x","x","x","x","x","x","x","x","x","x","x","x","x","x","x",null,"x","x","x","x","x","x",null,null,null,null,null,null,null,null,null,null,null,null,"x"]
["x","x","x","x","x","x","x","x","x","x","x","x","x","x","x","x","x","x","x","x","x","x","x","x","x","x","x","x","x","x","x","x","x","x","x","x","x","x","x","x","x","x","x","x","x","x","x"]
["x",null,"x","x","x","x","x","x","x","x","x","x","x","x","x","x","x","x","x","x","x","x","x","x",null,"x","x","x",null,null,null,null,null,null,null,null,null,null,null,null,null,null,null,"x"]
["x",null,"x","x","x","x","x","x","x","x","x","x","x","x","x","x","x","x","x","x","x","x","x","x",null,"x","x","x",null,null,null,null,null,null,null,null,null,null,null,null,null,null,null,"x"]
["x",null,"x","x","x","x","x","x","x","x","x","x","x","x","x","x","x","x","x","x","x","x","x","x",null,"x","x","x",null,null,null,null,null,null,null,null,null,null,null,null,null,null,null,"x"]
["x","x","x","x","x","x","x","x","x","x","x","x","x","x","x","x","x","x","x","x","x","x","x","x","x","x","x","x","x","x","x","x","x","x","x","x","x","x","x","x","x","x","x","x","x","x","x"]
["x",null,"x","x","x","x","x","x","x","x","x","x","x","x","x","x","x","x","x","x","x","x","x","x","x",null,"x","x",null,null,null,null,null,null,null,null,null,null,null,null,null,null,null,null,"x"]
["x",null,"x","x","x","x","x","x","x","x","x","x","x","x","x","x","x","x","x","x","x","x","x","x","x",null,"x","x",null,null,null,null,null,null,null,null,null,null,null,null,null,null,null,null,"x"]
["x",null,"x","x","x","x","x","x","x","x","x","x","x","x","x","x","x","x","x","x","x","x","x","x","x",null,"x","x",null,null,null,null,null,null,null,null,null,null,null,null,null,null,null,null,"x"]
["x",null,"x","x","x","x","x","x","x","x","x","x","x","x","x","x","x","x","x","x","x","x","x","x","x",null,"x","x",null,null,null,null,null,null,null,null,null,null,null,null,null,null,null,null,"x"]
["x","x","x","x","x","x","x","x","x","x","x","x","x","x","x","x","x","x","x","x","x","x","x","x","x","x","x","x","x","x","x","x","x","x","x","x","x","x","x","x","x","x","x","x","x","x","x"]
["x",null,"x","x","x","x","x","x","x","x","x","x","x","x","x","x","x","x","x","x","x","x","x","x","x","x",null,"x",null,null,null,null,null,null,null,null,null,null,null,null,null,null,null,null,null,"x"]
["x",null,"x","x","x","x","x","x","x","x","x","x","x","x","x","x","x","x","x","x","x","x","x","x","x","x",null,"x",null,null,null,null,null,null,null,null,null,null,null,null,null,null,null,null,null,"x"]
["x",null,"x","x","x","x","x","x","x","x","x","x","x","x","x","x","x","x","x","x","x","x","x","x","x","x",null,"x",null,null,null,null,null,null,null,null,null,null,null,null,null,null,null,null,null,"x"]
["x",null,"x","x","x","x","x","x","x","x","x","x","x","x","x","x","x","x","x","x","x","x","x","x","x","x",null,"x",null,null,null,null,null,null,null,null,null,null,null,null,null,null,null,null,null,"x"]
["x",null,"x","x","x","x","x","x","x","x","x","x","x","x","x","x","x","x","x","x","x","x","x","x","x","x",null,"x",null,null,null,null,null,null,null,null,null,null,null,null,null,null,null,null,null,"x"]
["x",null,"x","x","x","x","x","x","x","x","x","x","x","x","x","x","x","x","x","x","x","x","x","x","x","x",null,"x",null,null,null,null,null,null,null,null,null,null,null,null,null,null,null,null,null,"x"]
["x",null,"x","x","x","x","x","x","x","x","x","x","x","x","x","x","x","x","x","x","x","x","x","x","x","x",null,"x",null,null,null,null,null,null,null,null,null,null,null,null,null,null,null,null,null,"x"]
["x",null,"x","x","x","x","x","x","x","x","x","x","x","x","x","x","x","x","x","x","x","x","x","x","x","x",null,"x",null,null,null,null,null,null,null,null,null,null,null,null,null,null,null,null,null,"x"]
["x",null,"x","x","x","x","x","x","x","x","x","x","x","x","x","x","x","x","x","x","x","x","x","x","x","x",null,"x",null,null,null,null,null,null,null,null,null,null,null,null,null,null,null,null,null,"x"]
["x",null,"x","x","x","x","x","x","x","x","x","x","x","x","x","x","x","x","x","x","x","x","x","x","x","x",null,"x",null,null,null,null,null,null,null,null,null,null,null,null,null,null,null,null,null,"x"]
["x",null,"x","x","x","x","x","x","x","x","x","x","x","x","x","x","x","x","x","x","x","x","x","x","x","x",null,"x",null,null,null,null,null,null,null,null,null,null,null,null,null,null,null,null,null,"x"]
["x",null,"x","x","x","x","x","x","x","x","x","x","x","x","x","x","x","x","x","x","x","x","x","x","x","x",null,"x",null,null,null,null,null,null,null,null,null,null,null,null,null,null,null,null,null,"x"]
["x",null,"x","x","x","x","x","x","x","x","x","x","x","x","x","x","x","x","x","x","x","x","x","x","x","x",null,"x",null,null,null,null,null,null,null,null,null,null,null,null,null,null,null,null,null,"x"]
["x",null,"x","x","x","x","x","x","x","x","x","x","x","x","x","x","x","x","x","x","x","x","x","x","x","x",null,"x",null,null,null,null,null,null,null,null,null,null,null,null,null,null,null,null,null,"x"]
["x",null,"x","x","x","x","x","x","x","x","x","x","x","x","x","x","x","x","x","x","x","x","x","x","x","x",null,"x",null,null,null,null,null,null,null,null,null,null,null,null,null,null,null,null,null,"x"]
["x",null,"x","x","x","x","x","x","x","x","x","x","x","x","x","x","x","x","x","x","x","x","x","x","x","x",null,"x",null,null,null,null,null,null,null,null,null,null,null,null,null,null,null,null,null,"x"]
["x",null,"x","x","x","x","x","x","x","x","x","x","x","x","x","x","x","x","x","x","x","x","x","x","x","x",null,"x",null,null,null,null,null,null,null,null,null,null,null,null,null,null,null,null,null,"x"]
["x",null,"x","x","x","x","x","x","x","x","x","x","x","x","x","x","x","x","x","x","x","x","x","x","x","x",null,"x",null,null,null,null,null,null,null,null,null,null,null,null,null,null,null,null,null,"x"]
["x",null,"x","x","x","x","x","x","x","x","x","x","x","x","x","x","x","x","x","x","x","x","x","x","x","x",null,"x",null,null,null,null,null,null,null,null,null,null,null,null,null,null,null,null,null,"x"]
["x",null,"x","x","x","x","x","x","x","x","x","x","x","x","x","x","x","x","x","x","x","x","x","x","x","x",null,"x",null,null,null,null,null,null,null,null,null,null,null,null,null,null,null,null,null,"x"]
["x",null,"x","x","x","x","x","x","x","x","x","x","x","x","x","x","x","x","x","x","x","x","x","x","x","x",null,"x",null,null,null,null,null,null,null,null,null,null,null,null,null,null,null,null,null,"x"]
["x",null,"x","x","x","x","x","x","x","x","x","x","x","x","x","x","x","x","x","x","x","x","x","x","x","x",null,"x",null,null,null,null,null,null,null,null,null,null,null,null,null,null,null,null,null,"x"]
["x",null,"x","x","x","x","x","x","x","x","x","x","x","x","x","x","x","x","x","x","x","x","x","x","x","x",null,"x",null,null,null,null,null,null,null,null,null,null,null,null,null,null,null,null,null,"x"]
["x",null,"x","x","x","x","x","x","x","x","x","x","x","x","x","x","x","x","x","x","x","x","x","x","x","x",null,"x",null,null,null,null,null,null,null,null,null,null,null,null,null,null,null,null,null,"x"]
["x",null,"x","x","x","x","x","x","x","x","x","x","x","x","x","x","x","x","x","x","x","x","x","x","x","x",null,"x",null,null,null,null,null,null,null,null,null,null,null,null,null,null,null,null,null,"x"]
["x",null,"x","x","x","x","x","x","x","x","x","x","x","x","x","x","x","x","x","x","x","x","x","x","x","x",null,"x",null,null,null,null,null,null,null,null,null,null,null,null,null,null,null,null,null,"x"]
["x",null,"x","x","x","x","x","x","x","x","x","x","x","x","x","x","x","x","x","x","x","x","x","x","x","x",null,"x",null,null,null,null,null,null,null,null,null,null,null,null,null,null,null,null,null,"x"]
["x",null,"x","x","x","x","x","x","x","x","x","x","x","x","x","x","x","x","x","x","x","x","x","x","x","x",null,"x",null,null,null,null,null,null,null,null,null,null,null,null,null,null,null,null,null,"x"]
["x",null,"x","x","x","x","x","x","x","x","x","x","x","x","x","x","x","x","x","x","x","x","x","x","x","x",null,"x",null,null,null,null,null,null,null,null,null,null,null,null,null,null,null,null,null,"x"]
["x",null,"x","x","x","x","x","x","x","x","x","x","x","x","x","x","x","x","x","x","x","x","x","x","x","x",null,"x",null,null,null,null,null,null,null,null,null,null,null,null,null,null,null,null,null,"x"]
["x",null,"x","x","x","x","x","x","x","x","x","x","x","x","x","x","x","x","x","x","x","x","x","x","x","x",null,"x",null,null,null,null,null,null,null,null,null,null,null,null,null,null,null,null,null,"x"]
["x",null,"x","x","x","x","x","x","x","x","x","x","x","x","x","x","x","x","x","x","x","x","x","x","x","x",null,"x",null,null,null,null,null,null,null,null,null,null,null,null,null,null,null,null,null,"x"]
["x",null,"x","x","x","x","x","x","x","x","x","x","x","x","x","x","x","x","x","x","x","x","x","x","x","x",null,"x",null,null,null,null,null,null,null,null,null,null,null,null,null,null,null,null,null,"x"]
["x",null,"x","x","x","x","x","x","x","x","x","x","x","x","x","x","x","x","x","x","x","x","x","x","x","x",null,"x",null,null,null,null,null,null,null,null,null,null,null,null,null,null,null,null,null,"x"]
["x",null,"x","x","x","x","x","x","x","x","x","x","x","x","x","x","x","x","x","x","x","x","x","x","x","x",null,"x",null,null,null,null,null,null,null,null,null,null,null,null,null,null,null,null,null,"x"]
["x",null,"x","x","x","x","x","x","x","x","x","x","x","x","x","x","x","x","x","x","x","x","x","x","x","x",null,"x",null,null,null,null,null,null,null,null,null,null,null,null,null,null,null,null,null,"x"]
["x",null,"x","x","x","x","x","x","x","x","x","x","x","x","x","x","x","x","x","x","x","x","x","x","x","x",null,"x",null,null,null,null,null,null,null,null,null,null,null,null,null,null,null,null,null,"x"]
["x",null,"x","x","x","x","x","x","x","x","x","x","x","x","x","x","x","x","x","x","x","x","x","x","x","x",null,"x",null,null,null,null,null,null,null,null,null,null,null,null,null,null,null,null,null,"x"]
["x",null,"x","x","x","x","x","x","x","x","x","x","x","x","x","x","x","x","x","x","x","x","x","x","x","x",null,"x",null,null,null,null,null,null,null,null,null,null,null,null,null,null,null,null,null,"x"]
["x",null,"x","x","x","x","x","x","x","x","x","x","x","x","x","x","x","x","x","x","x","x","x","x","x","x",null,"x",null,null,null,null,null,null,null,null,null,null,null,null,null,null,null,null,null,"x"]
["x",null,"x","x","x","x","x","x","x","x","x","x","x","x","x","x","x","x","x","x","x","x","x","x","x","x",null,"x",null,null,null,null,null,null,null,null,null,null,null,null,null,null,null,null,null,"x"]
["x",null,"x","x","x","x","x","x","x","x","x","x","x","x","x","x","x","x","x","x","x","x","x","x","x","x",null,"x",null,null,null,null,null,null,null,null,null,null,null,null,null,null,null,null,null,"x"]
["x",null,"x","x","x","x","x","x","x","x","x","x","x","x","x","x","x","x","x","x","x","x","x","x","x","x",null,"x",null,null,null,null,null,null,null,null,null,null,null,null,null,null,null,null,null,"x"]
["x",null,"x","x","x","x","x","x","x","x","x","x","x","x","x","x","x","x","x","x","x","x","x","x","x","x",null,"x",null,null,null,null,null,null,null,null,null,null,null,null,null,null,null,null,null,"x"]
["x",null,"x","x","x","x","x","x","x","x","x","x","x","x","x","x","x","x","x","x","x","x","x","x","x","x",null,"x",null,null,null,null,null,null,null,null,null,null,null,null,null,null,null,null,null,"x"]
["x",null,"x","x","x","x","x","x","x","x","x","x","x","x","x","x","x","x","x","x","x","x","x","x","x","x",null,"x",null,null,null,null,null,null,null,null,null,null,null,null,null,null,null,null,null,"x"]
["x",null,"x","x","x","x","x","x","x","x","x","x","x","x","x","x","x","x","x","x","x","x","x","x","x","x",null,"x",null,null,null,null,null,null,null,null,null,null,null,null,null,null,null,null,null,"x"]
["x",null,"x","x","x","x","x","x","x","x","x","x","x","x","x","x","x","x","x","x","x","x","x","x","x","x",null,"x",null,null,null,null,null,null,null,null,null,null,null,null,null,null,null,null,null,"x"]
["x","x","x","x","x","x","x","x","x","x","x","x","x","x","x","x","x","x","x","x","x","x","x","x","x","x","x","x","x","x","x","x","x","x","x","x","x","x","x","x","x","x","x","x","x","x","x"]
["x",null,"x","x","x","x","x","x","x","x","x","x","x","x","x","x","x","x","x","x","x","x","x","x","x","x","x",null,null,null,null,null,null,null,null,null,null,null,null,null,null,null,null,null,null,null,"x"]
["x",null,"x","x","x","x","x","x","x","x","x","x","x","x","x","x","x","x","x","x","x","x","x","x","x","x","x",null,null,null,null,null,null,null,null,null,null,null,null,null,null,null,null,null,null,null,"x"]
["x",null,"x","x","x","x","x","x","x","x","x","x","x","x","x","x","x","x","x","x","x","x","x","x","x","x","x",null,null,null,null,null,null,null,null,null,null,null,null,null,null,null,null,null,null,null,"x"]
["x",null,"x","x","x","x","x","x","x","x","x","x","x","x","x","x","x","x","x","x","x","x","x","x","x","x","x",null,null,null,null,null,null,null,null,null,null,null,null,null,null,null,null,null,null,null,"x"]
["x",null,"x","x","x","x","x","x","x","x","x","x","x","x","x","x","x","x","x","x","x","x","x","x","x","x","x",null,null,null,null,null,null,null,null,null,null,null,null,null,null,null,null,null,null,null,"x"]
["x",null,"x","x","x","x","x","x","x","x","x","x","x","x","x","x","x","x","x","x","x","x","x","x","x","x","x",null,null,null,null,null,null,null,null,null,null,null,null,null,null,null,null,null,null,null,"x"]
["x",null,"x","x","x","x","x","x","x","x","x","x","x","x","x","x","x","x","x","x","x","x","x","x","x","x","x",null,null,null,null,null,null,null,null,null,null,null,null,null,null,null,null,null,null,null,"x"]
["x",null,"x","x","x","x","x","x","x","x","x","x","x","x","x","x","x","x","x","x","x","x","x","x","x","x","x",null,null,null,null,null,null,null,null,null,null,null,null,null,null,null,null,null,null,null,"x"]
["x",null,"x","x","x","x","x","x","x","x","x","x","x","x","x","x","x","x","x","x","x","x","x","x","x","x","x",null,null,null,null,null,null,null,null,null,null,null,null,null,null,null,null,null,null,null,"x"]
["x",null,"x","x","x","x","x","x","x","x","x","x","x","x","x","x","x","x","x","x","x","x","x","x","x","x","x",null,null,null,null,null,null,null,null,null,null,null,null,null,null,null,null,null,null,null,"x"]
["x",null,"x","x","x","x","x","x","x","x","x","x","x","x","x","x","x","x","x","x","x","x","x","x","x","x","x",null,null,null,null,null,null,null,null,null,null,null,null,null,null,null,null,null,null,null,"x"]
["x",null,"x","x","x","x","x","x","x","x","x","x","x","x","x","x","x","x","x","x","x","x","x","x","x","x","x",null,null,null,null,null,null,null,null,null,null,null,null,null,null,null,null,null,null,null,"x"]
["x",null,"x","x","x","x","x","x","x","x","x","x","x","x","x","x","x","x","x","x","x","x","x","x","x","x","x",null,null,null,null,null,null,null,null,null,null,null,null,null,null,null,null,null,null,null,"x"]
["x",null,"x","x","x","x","x","x","x","x","x","x","x","x","x","x","x","x","x","x","x","x","x","x","x","x","x",null,null,null,null,null,null,null,null,null,null,null,null,null,null,null,null,null,null,null,"x"]
["x",null,"x","x","x","x","x","x","x","x","x","x","x","x","x","x","x","x","x","x","x","x","x","x","x","x","x",null,null,null,null,null,null,null,null,null,null,null,null,null,null,null,null,null,null,null,"x"]
["x",null,"x","x","x","x","x","x","x","x","x","x","x","x","x","x","x","x","x","x","x","x","x","x","x","x","x",null,null,null,null,null,null,null,null,null,null,null,null,null,null,null,null,null,null,null,"x"]

{"sheet":"sjekkliste_formelle_matrix","index":2,"n_rows":110,"n_cols":47,"rows_kept":110,"cut":false,"hidden":true,"merged":[]}
["F0","E0",{"$f":"\"F\"&COLUMN(A1)","v":"F1"},{"$f":"\"F\"&COLUMN(B1)","v":"F2"},"F3","F4","F5","F6","F7","F8","F9","F10","F9F10","F11","F12","F13","F14","F15","F16","F17","F18","F19","F20","F21","F22","F23","F24","F25","E1","E2","E3","E4","E5","E6","E7","E8","E9","E10","E11","E12","E13","E14","E15","E16","E17","E18","E19"]
["x","x","x","x","x","x","x","x","x","x","x","x","x","x","x","x","x","x","x","x","x","x","x","x","x","x","x","x","x","x","x","x","x","x","x","x","x","x","x","x","x","x","x","x","x","x","x"]
["x","x","x","x","x","x","x","x","x","x","x","x","x","x","x","x","x","x","x","x","x","x","x","x","x","x","x","x","x","x","x","x","x","x","x","x","x","x","x","x","x","x","x","x","x","x","x"]
["x","x","x","x","x","x","x","x","x","x","x","x","x","x","x","x","x","x","x","x","x","x","x","x","x","x","x","x","x","x","x","x","x","x","x","x","x","x","x","x","x","x","x","x","x","x","x"]
["x","x","x","x","x","x","x","x","x","x","x","x","x","x","x","x","x","x","x","x","x","x","x","x","x","x","x","x","x","x","x","x","x","x","x","x","x","x","x","x","x","x","x","x","x","x","x"]
["x","x","x","x","x","x","x","x","x","x","x","x","x","x","x","x","x","x","x","x","x","x","x","x","x","x","x","x","x","x","x","x","x","x","x","x","x","x","x","x","x","x","x","x","x","x","x"]
["x","x","x","x","x","x","x","x","x","x","x","x","x","x","x","x","x","x","x","x","x","x","x","x","x","x","x","x","x","x","x","x","x","x","x","x","x","x","x","x","x","x","x","x","x","x","x"]
["x",null,"x","x","x","x","x","x","x","x","x","x","x","x","x","x","x","x","x","x","x","x","x","x","x","x","x","x"]
["x",null,"x","x","x","x","x","x","x","x","x","x","x","x","x","x","x","x","x","x","x","x","x","x","x","x","x","x"]
["x",null,"x","x","x","x","x","x","x","x","x","x","x","x","x","x","x","x","x","x","x","x","x","x","x","x","x","x"]
["x",null,"x","x","x","x","x","x","x","x","x","x","x","x","x","x","x","x","x","x","x","x","x","x","x","x","x","x"]
["x",null,"x","x","x","x","x","x","x","x","x","x","x","x","x","x","x","x","x","x","x","x","x","x","x","x","x","x"]
["x",null,"x","x","x","x","x","x","x","x","x","x","x","x","x","x","x","x","x","x","x","x","x","x","x","x","x","x"]
["x",null,"x","x","x","x","x","x","x","x","x","x","x","x","x","x","x","x","x","x","x","x","x","x","x","x","x","x"]
["x",null,"x","x","x","x","x","x","x","x","x","x","x","x","x","x","x","x","x","x","x","x","x","x","x","x","x","x"]
["x",null,"x","x","x","x","x","x","x","x","x","x","x","x","x","x","x","x","x","x","x","x","x","x","x","x","x","x"]
["x",null,"x","x","x","x","x","x","x","x","x","x","x","x","x","x","x","x","x","x","x","x","x","x","x","x","x","x"]
["x",null,null,"x","x","x","x","x","x","x","x","x","x","x","x","x","x","x","x","x","x","x","x","x","x","x","x","x"]
["x",null,null,"x","x","x","x","x","x","x","x","x","x","x","x","x","x","x","x","x","x","x","x","x","x","x","x","x"]
["x","x","x","x","x","x","x","x","x","x","x","x","x","x","x","x","x","x","x","x","x","x","x","x","x","x","x","x","x","x","x","x","x","x","x","x","x","x","x","x","x","x","x","x","x","x","x"]
["x",null,"x","x","x","x","x","x","x","x","x","x","x","x","x","x","x","x","x","x","x","x","x","x","x","x","x","x"]
["x",null,"x","x","x","x","x","x","x","x","x","x","x","x","x","x","x","x","x","x","x","x","x","x","x","x","x","x"]
["x",null,"x","x","x","x","x","x","x","x","x","x","x","x","x","x","x","x","x","x","x","x","x","x","x","x","x","x"]
["x","x","x","x","x","x","x","x","x","x","x","x","x","x","x","x","x","x","x","x","x","x","x","x","x","x","x","x","x","x","x","x","x","x","x","x","x","x","x","x","x","x","x","x","x","x","x"]
["x",null,"x","x","x","x","x","x","x","x","x","x","x","x","x","x","x","x","x","x","x","x","x","x","x","x","x","x"]
["x",null,"x","x","x","x","x","x","x","x","x","x","x","x","x","x","x","x","x","x","x","x","x","x","x","x","x","x"]
["x",null,"x","x","x","x","x","x","x","x","x","x","x","x","x","x","x","x","x","x","x","x","x","x","x","x","x","x"]
["x",null,"x","x","x","x","x","x","x","x","x","x","x","x","x","x","x","x","x","x","x","x","x","x","x","x","x","x"]
["x",null,"x","x","x","x","x","x","x","x","x","x","x","x","x","x","x","x","x","x","x","x","x","x","x","x","x","x"]
["x","x","x","x","x","x","x","x","x","x","x","x","x","x","x","x","x","x","x","x","x","x","x","x","x","x","x","x","x","x","x","x","x","x","x","x","x","x","x","x","x","x","x","x","x","x","x"]
["x",null,"x","x","x","x","x","x","x","x","x","x","x","x","x","x","x","x","x","x","x","x","x","x","x","x","x","x"]
["x",null,"x","x","x","x","x","x","x","x","x","x","x","x","x","x","x","x","x","x","x","x","x","x","x","x","x","x"]
["x",null,"x","x","x","x","x","x","x","x","x","x","x","x","x","x","x","x","x","x","x","x","x","x","x","x","x","x"]
["x",null,"x","x","x","x","x","x","x","x","x","x","x","x","x","x","x","x","x","x","x","x","x","x","x","x","x","x"]
["x",null,"x","x","x","x","x","x","x","x","x","x","x","x","x","x","x","x","x","x","x","x","x","x","x","x","x","x"]
["x",null,"x","x","x","x","x","x","x","x","x","x","x","x","x","x","x","x","x","x","x","x","x","x","x","x","x","x"]
["x",null,"x","x","x","x","x","x","x","x","x","x","x","x","x","x","x","x","x","x","x","x","x","x","x","x","x","x"]
["x",null,"x","x","x","x","x","x","x","x","x","x","x","x","x","x","x","x","x","x","x","x","x","x","x","x","x","x"]
["x","x","x","x","x","x","x","x","x","x","x","x","x","x","x","x","x","x","x","x","x","x","x","x","x","x","x","x","x","x","x","x","x","x","x","x","x","x","x","x","x","x","x","x","x","x","x"]
["x",null,"x","x","x","x","x","x","x","x","x","x","x","x","x","x","x","x","x","x","x","x","x","x","x","x","x","x"]
["x",null,"x","x","x","x","x","x","x","x","x","x","x","x","x","x","x","x","x","x","x","x","x","x","x","x","x","x"]
["x",null,"x","x","x","x","x","x","x","x","x","x","x","x","x","x","x","x","x","x","x","x","x","x","x","x","x","x"]
["x","x","x","x","x","x","x","x","x","x","x","x","x","x","x","x","x","x","x","x","x","x","x","x","x","x","x","x","x","x","x","x","x","x","x","x","x","x","x","x","x","x","x","x","x","x","x"]
["x",null,"x","x","x","x","x","x","x","x","x","x","x","x","x","x","x","x","x","x","x","x","x","x","x","x","x","x"]
["x",null,"x","x","x","x","x","x","x","x","x","x","x","x","x","x","x","x","x","x","x","x","x","x","x","x","x","x"]
["x",null,"x","x","x","x","x","x","x","x","x","x","x","x","x","x","x","x","x","x","x","x","x","x","x","x","x","x"]
["x",null,"x","x","x","x","x","x","x","x","x","x","x","x","x","x","x","x","x","x","x","x","x","x","x","x","x","x"]
["x","x","x","x","x","x","x","x","x","x","x","x","x","x","x","x","x","x","x","x","x","x","x","x","x","x","x","x","x","x","x","x","x","x","x","x","x","x","x","x","x","x","x","x","x","x","x"]
["x",null,"x","x","x","x","x","x","x","x","x","x","x","x","x","x","x","x","x","x","x","x","x","x","x","x","x","x"]
["x",null,"x","x","x","x","x","x","x","x","x","x","x","x","x","x","x","x","x","x","x","x","x","x","x","x","x","x"]
["x",null,"x","x","x","x","x","x","x","x","x","x","x","x","x","x","x","x","x","x","x","x","x","x","x","x","x","x"]
["x",null,"x","x","x","x","x","x","x","x","x","x","x","x","x","x","x","x","x","x","x","x","x","x","x","x","x","x"]
["x",null,"x","x","x","x","x","x","x","x","x","x","x","x","x","x","x","x","x","x","x","x","x","x","x","x","x","x"]
["x","x","x","x","x","x","x","x","x","x","x","x","x","x","x","x","x","x","x","x","x","x","x","x","x","x","x","x","x","x","x","x","x","x","x","x","x","x","x","x","x","x","x","x","x","x","x"]
["x",null,"x","x","x","x","x","x","x","x","x","x","x","x","x","x","x","x","x","x","x","x","x","x","x","x","x","x"]
["x",null,"x","x","x","x","x","x","x","x","x","x","x","x","x","x","x","x","x","x","x","x","x","x","x","x","x","x"]
["x",null,"x","x","x","x","x","x","x","x","x","x","x","x","x","x","x","x","x","x","x","x","x","x","x","x","x","x"]
["x",null,"x","x","x","x","x","x","x","x","x","x","x","x","x","x","x","x","x","x","x","x","x","x","x","x","x","x"]
["x",null,"x","x","x","x","x","x","x","x","x","x","x","x","x","x","x","x","x","x","x","x","x","x","x","x","x","x"]
["x","x","x","x","x","x","x","x","x","x","x","x","x","x","x","x","x","x","x","x","x","x","x","x","x","x","x","x","x","x","x","x","x","x","x","x","x","x","x","x","x","x","x","x","x","x","x"]
["x",null,"x","x","x","x","x","x",null,"x","x","x","x","x","x","x","x","x","x","x","x","x","x","x","x","x","x","x"]
["x",null,"x","x","x","x","x","x",null,"x","x","x","x","x","x","x","x","x","x","x","x","x","x","x","x","x","x","x"]
["x",null,"x","x","x","x","x","x",null,"x","x","x","x","x","x","x","x","x","x","x","x","x","x","x","x","x","x","x"]
["x",null,"x","x","x","x","x","x",null,"x","x","x","x","x","x","x","x","x","x","x","x","x","x","x","x","x","x","x"]
["x",null,"x","x","x","x","x","x",null,"x","x","x","x","x","x","x","x","x","x","x","x","x","x","x","x","x","x","x"]
["x",null,"x","x","x","x","x","x",null,"x","x","x","x","x","x","x","x","x","x","x","x","x","x","x","x","x","x","x"]
["x",null,"x","x","x","x","x","x",null,"x","x","x","x","x","x","x","x","x","x","x","x","x","x","x","x","x","x","x"]
["x",null,"x","x","x","x","x","x",null,"x","x","x","x","x","x","x","x","x","x","x","x","x","x","x","x","x","x","x"]
["x",null,"x","x","x","x","x","x",null,"x","x","x","x","x","x","x","x","x","x","x","x","x","x","x","x","x","x","x"]
["x",null,"x","x","x","x","x","x",null,"x","x","x","x","x","x","x","x","x","x","x","x","x","x","x","x","x","x","x"]
["x",null,"x","x","x","x","x","x",null,"x","x","x","x","x","x","x","x","x","x","x","x","x","x","x","x","x","x","x"]
["x",null,"x","x","x","x","x","x",null,"x","x","x","x","x","x","x","x","x","x","x","x","x","x","x","x","x","x","x"]
["x",null,"x","x","x","x","x","x",null,"x","x","x","x","x","x","x","x","x","x","x","x","x","x","x","x","x","x","x"]
["x",null,"x","x","x","x","x","x",null,"x","x","x","x","x","x","x","x","x","x","x","x","x","x","x","x","x","x","x"]
["x",null,"x","x","x","x","x","x",null,"x","x","x","x","x","x","x","x","x","x","x","x","x","x","x","x","x","x","x"]
["x",null,"x","x","x","x","x","x",null,"x","x","x","x","x","x","x","x","x","x","x","x","x","x","x","x","x","x","x"]
["x","x","x","x","x","x","x","x","x","x","x","x","x","x","x","x","x","x","x","x","x","x","x","x","x","x","x","x","x","x","x","x","x","x","x","x","x","x","x","x","x","x","x","x","x","x","x"]
["x",null,"x","x","x","x","x","x","x","x","x","x","x","x","x","x","x","x","x","x","x",null,"x","x","x","x","x","x",null,null,null,null,null,null,null,null,null,null,null,null,"x"]
["x",null,"x","x","x","x","x","x","x","x","x","x","x","x","x","x","x","x","x","x","x",null,"x","x","x","x","x","x",null,null,null,null,null,null,null,null,null,null,null,null,"x"]
["x","x","x","x","x","x","x","x","x","x","x","x","x","x","x","x","x","x","x","x","x","x","x","x","x","x","x","x","x","x","x","x","x","x","x","x","x","x","x","x","x","x","x","x","x","x","x"]
["x",null,"x","x","x","x","x","x","x","x","x","x","x","x","x","x","x","x","x","x","x","x",null,"x","x","x","x","x",null,null,null,null,null,null,null,null,null,null,null,null,null,"x"]
["x","x","x","x","x","x","x","x","x","x","x","x","x","x","x","x","x","x","x","x","x","x","x","x","x","x","x","x","x","x","x","x","x","x","x","x","x","x","x","x","x","x","x","x","x","x","x"]
["x",null,"x","x","x","x","x","x","x","x","x","x","x","x","x","x","x","x","x","x","x","x","x",null,"x","x","x","x",null,null,null,null,null,null,null,null,null,null,null,null,null,null,"x"]
["x","x","x","x","x","x","x","x","x","x","x","x","x","x","x","x","x","x","x","x","x","x","x","x","x","x","x","x","x","x","x","x","x","x","x","x","x","x","x","x","x","x","x","x","x","x","x"]
["x",null,"x","x","x","x","x","x","x","x","x","x","x","x","x","x","x","x","x","x","x","x","x","x",null,"x","x","x",null,null,null,null,null,null,null,null,null,null,null,null,null,null,null,"x"]
["x","x","x","x","x","x","x","x","x","x","x","x","x","x","x","x","x","x","x","x","x","x","x","x","x","x","x","x","x","x","x","x","x","x","x","x","x","x","x","x","x","x","x","x","x","x","x"]
["x",null,"x","x","x","x","x","x","x","x","x","x","x","x","x","x","x","x","x","x","x","x","x","x","x",null,"x","x",null,null,null,null,null,null,null,null,null,null,null,null,null,null,null,null,"x"]
["x",null,"x","x","x","x","x","x","x","x","x","x","x","x","x","x","x","x","x","x","x","x","x","x","x",null,"x","x",null,null,null,null,null,null,null,null,null,null,null,null,null,null,null,null,"x"]
["x",null,"x","x","x","x","x","x","x","x","x","x","x","x","x","x","x","x","x","x","x","x","x","x","x",null,"x","x",null,null,null,null,null,null,null,null,null,null,null,null,null,null,null,null,"x"]
["x",null,"x","x","x","x","x","x","x","x","x","x","x","x","x","x","x","x","x","x","x","x","x","x","x",null,"x","x",null,null,null,null,null,null,null,null,null,null,null,null,null,null,null,null,"x"]
["x",null,"x","x","x","x","x","x","x","x","x","x","x","x","x","x","x","x","x","x","x","x","x","x","x",null,"x","x",null,null,null,null,null,null,null,null,null,null,null,null,null,null,null,null,"x"]
["x","x","x","x","x","x","x","x","x","x","x","x","x","x","x","x","x","x","x","x","x","x","x","x","x","x","x","x","x","x","x","x","x","x","x","x","x","x","x","x","x","x","x","x","x","x","x"]
["x",null,"x","x","x","x","x","x","x","x","x","x","x","x","x","x","x","x","x","x","x","x","x","x","x","x",null,"x",null,null,null,null,null,null,null,null,null,null,null,null,null,null,null,null,null,"x"]
["x",null,"x","x","x","x","x","x","x","x","x","x","x","x","x","x","x","x","x","x","x","x","x","x","x","x",null,"x",null,null,null,null,null,null,null,null,null,null,null,null,null,null,null,null,null,"x"]
["x",null,"x","x","x","x","x","x","x","x","x","x","x","x","x","x","x","x","x","x","x","x","x","x","x","x",null,"x",null,null,null,null,null,null,null,null,null,null,null,null,null,null,null,null,null,"x"]
["x",null,"x","x","x","x","x","x","x","x","x","x","x","x","x","x","x","x","x","x","x","x","x","x","x","x",null,"x",null,null,null,null,null,null,null,null,null,null,null,null,null,null,null,null,null,"x"]
["x",null,"x","x","x","x","x","x","x","x","x","x","x","x","x","x","x","x","x","x","x","x","x","x","x","x",null,"x",null,null,null,null,null,null,null,null,null,null,null,null,null,null,null,null,null,"x"]
["x",null,"x","x","x","x","x","x","x","x","x","x","x","x","x","x","x","x","x","x","x","x","x","x","x","x",null,"x",null,null,null,null,null,null,null,null,null,null,null,null,null,null,null,null,null,"x"]
["x",null,"x","x","x","x","x","x","x","x","x","x","x","x","x","x","x","x","x","x","x","x","x","x","x","x",null,"x",null,null,null,null,null,null,null,null,null,null,null,null,null,null,null,null,null,"x"]
["x",null,"x","x","x","x","x","x","x","x","x","x","x","x","x","x","x","x","x","x","x","x","x","x","x","x",null,"x",null,null,null,null,null,null,null,null,null,null,null,null,null,null,null,null,null,"x"]
["x",null,"x","x","x","x","x","x","x","x","x","x","x","x","x","x","x","x","x","x","x","x","x","x","x","x",null,"x",null,null,null,null,null,null,null,null,null,null,null,null,null,null,null,null,null,"x"]
["x","x","x","x","x","x","x","x","x","x","x","x","x","x","x","x","x","x","x","x","x","x","x","x","x","x","x","x","x","x","x","x","x","x","x","x","x","x","x","x","x","x","x","x","x","x","x"]
["x",null,"x","x","x","x","x","x","x","x","x","x","x","x","x","x","x","x","x","x","x","x","x","x","x","x","x",null,null,null,null,null,null,null,null,null,null,null,null,null,null,null,null,null,null,null,"x"]
["x",null,"x","x","x","x","x","x","x","x","x","x","x","x","x","x","x","x","x","x","x","x","x","x","x","x","x",null,null,null,null,null,null,null,null,null,null,null,null,null,null,null,null,null,null,null,"x"]
["x",null,"x","x","x","x","x","x","x","x","x","x","x","x","x","x","x","x","x","x","x","x","x","x","x","x","x",null,null,null,null,null,null,null,null,null,null,null,null,null,null,null,null,null,null,null,"x"]
["x",null,"x","x","x","x","x","x","x","x","x","x","x","x","x","x","x","x","x","x","x","x","x","x","x","x","x",null,null,null,null,null,null,null,null,null,null,null,null,null,null,null,null,null,null,null,"x"]
["x",null,"x","x","x","x","x","x","x","x","x","x","x","x","x","x","x","x","x","x","x","x","x","x","x","x","x",null,null,null,null,null,null,null,null,null,null,null,null,null,null,null,null,null,null,null,"x"]
["x",null,"x","x","x","x","x","x","x","x","x","x","x","x","x","x","x","x","x","x","x","x","x","x","x","x","x",null,null,null,null,null,null,null,null,null,null,null,null,null,null,null,null,null,null,null,"x"]
["x",null,"x","x","x","x","x","x","x","x","x","x","x","x","x","x","x","x","x","x","x","x","x","x","x","x","x",null,null,null,null,null,null,null,null,null,null,null,null,null,null,null,null,null,null,null,"x"]
["x",null,"x","x","x","x","x","x","x","x","x","x","x","x","x","x","x","x","x","x","x","x","x","x","x","x","x",null,null,null,null,null,null,null,null,null,null,null,null,null,null,null,null,null,null,null,"x"]

{"sheet":"meta_data","index":3,"n_rows":48,"n_cols":5,"rows_kept":48,"cut":false,"hidden":true,"merged":[]}
["Key","Beskrivelse","trigger_code","Indicates wether the algo shall loop through the matrix on releated column"]
["F0","Full",false,null,"trigger code har jeg ikke kontroll på her, på key får jeg heller ikke til koden, så har bare lagt det inn manuelt"]
["E0","Endring",true]
["F1","stort foretak",true]
["F2","Har selskapet ansatte",true]
["F3","ytelsespensjon",false]
["F4","FOU",false]
["F5","langs. Tilvirkningskontrakter",false]
["F6","Datterselskap",false]
["F7","Konsernregnskap",false]
["F8","Restrukturering nei",false]
["F9","Fusjon",true]
["F10","Fisjon",true]
["F9F10","Fusjon og fisjon",true]
["F11","Samvirkeforetak",false]
["F12","Goodwill",false]
["F13","Datter",false]
["F14","TS",false]
["F15","FKV",false]
["F16","Andre aksjer",false]
["F17","Utvinner",false]
["F18","Rederi",false]
["F19","Borettslag",false]
["F20","Betalingsforetak",false]
["F21","E-pengeforetak",false]
["F22","Eiendomsmegler",false]
["F23","Inkassovirksomhet",false]
["F24","Verdipapirforetak",false]
["F25","Verdipapirfond",false]
["E1","Policy",true]
["E2","stort foretak",false]
["E3","Driftsmidler",false]
["E4","Datter",false]
["E5","TS",false]
["E6","FKV",false]
["E7","Fordring mm",false]
["E8","Pensjon",false]
["E9","Ytelser",false]
["E10","Regnskaprinsipper",false]
["E11","Utvinner",false]
["E12","Rederi",false]
["E13","Borettslag",false]
["E14","Betalingsforetak",false]
["E15","E-pengeforetak",false]
["E16","Eiendomsmegler",false]
["E17","Inkassovirksomhet",false]
["E18","Verdipapirforetak",false]
["E19","Verdipapirfond",false]

{"sheet":"Sjekkliste noter","index":4,"n_rows":645,"n_cols":14,"rows_kept":645,"cut":false,"hidden":false,"merged":[[325,4,325,7],[342,4,342,7],[347,4,347,7],[98,6,99,6],[98,7,99,7],[159,3,160,3],[159,4,160,4],[159,5,160,5],[159,7,160,7],[110,5,111,5],[305,1,306,1],[305,0,306,0],[305,3,306,3],[159,1,160,1],[159,0,160,0],[159,6,160,6],[136,7,137,7],[143,1,144,1],[136,1,137,1],[143,0,144,0],[143,3,144,3],[143,4,144,4],[143,6,144,6],[143,7,144,7],[143,5,144,5],[136,0,137,0],[136,3,137,3],[136,4,137,4],[136,5,137,5],[136,6,137,6],[499,6,500,6],[499,7,500,7],[485,1,486,1],[485,0,486,0],[485,3,486,3],[485,7,486,7],[485,6,486,6],[485,5,486,5],[485,4,486,4],[499,1,500,1],[499,0,500,0],[499,3,500,3],[499,4,500,4],[499,5,500,5],[134,1,135,1],[134,0,135,0],[123,0,124,0],[114,0,115,0],[134,7,135,7],[134,6,135,6],[134,5,135,5],[134,4,135,4],[114,7,115,7],[114,4,115,4],[114,5,115,5],[114,6,115,6],[123,1,124,1],[123,4,124,4],[123,5,124,5],[123,6,124,6],[114,1,115,1],[114,3,115,3],[123,7,124,7],[71,7,72,7],[83,1,84,1],[112,7,113,7],[117,0,118,0],[117,1,118,1],[117,4,118,4],[117,5,118,5],[117,6,118,6],[117,7,118,7],[101,6,102,6],[101,7,102,7],[110,7,111,7],[117,3,118,3],[108,1,109,1],[108,0,109,0],[108,4,109,4],[108,5,109,5],[108,6,109,6],[108,7,109,7],[112,6,113,6],[110,6,111,6],[98,1,99,1],[98,0,99,0],[101,1,102,1],[71,1,72,1],[71,0,72,0],[71,4,72,4],[71,5,72,5],[91,1,92,1],[91,0,92,0],[91,4,92,4],[91,5,92,5],[91,6,92,6],[87,1,88,1],[87,0,88,0],[87,4,88,4],[87,6,88,6],[87,5,88,5],[74,0,75,0],[74,1,75,1],[71,6,72,6],[7,1,8,1],[10,1,11,1],[34,1,36,1],[34,0,36,0],[34,4,36,4],[25,0,26,0],[25,1,26,1],[0,4,0,7],[1,4,1,7],[3,0,4,7],[25,4,26,4],[25,5,26,5],[25,6,26,6],[25,7,26,7],[50,0,51,0],[50,1,51,1],[61,1,63,1],[61,0,63,0],[34,5,36,5],[34,6,36,6],[34,7,36,7],[61,6,63,6],[61,7,63,7],[61,4,63,4],[61,5,63,5],[474,0,475,0],[474,1,475,1],[474,3,475,3],[83,0,84,0],[83,4,84,4],[83,5,84,5],[83,6,84,6],[83,7,84,7],[91,7,92,7],[87,7,88,7],[101,0,102,0],[101,4,102,4],[101,5,102,5],[98,4,99,4],[98,5,99,5],[112,1,113,1],[112,0,113,0],[112,3,113,3],[112,4,113,4],[112,5,113,5],[110,1,111,1],[110,0,111,0],[110,3,111,3],[110,4,111,4]]}
["Noteopplysninger - store og øvrige foretak",null,null,"Utfylt:"]
["Klient:",null,null,"Review:",null,null,null,null,null,"Ikke besvart:",{"$f":"+Forside!B9","v":1}]
["År:",{"$f":"+Forside!B3","v":2021},null,null,null,null,null,null,null,"Ja-svar:",{"$f":"+Forside!C9","v":0}]
["Enkelte selskaper har tilleggskrav ihht regnskapsloven eller forskrifter til regnskapsloven, disse fremgår nederst i denne sjekklisten. \nVær oppmerksom på at denne sjekklisten ikke skal brukes på pensjonsforetak, bank og forsikring, det er utarbeidet separate sjekklister for disse bransjene. ",null,null,null,null,null,null,null,null,"Nei-svar:",{"$f":"+Forside!D9","v":0}]
[null,null,null,null,null,null,null,null,null,"IA-svar:",{"$f":"+Forside!E9","v":432}]
[null,"Spørsmål","Ref. ","Ekskludering:","Ja","Nei","I/A","Kommentar",null,"Sum:",{"$f":"SUM(K2:K5)","v":433}]
["Generell innledning"]
[null,"Noteopplysningene nedenfor skal som utgangspunkt alltid tas med, men kan utelates dersom de ikke er av betydning for å bedømme selskapets stilling og resultat. Disse kan tas bort fra sjekklisten ved å bruke ”hide/show” funksjonen. Enkelte notekrav er imidlertid pliktige, og kan aldri utelates.\n","rskl § 7-1, 1. ledd\n"]
[null,null,"rskl § 7-1, 3. ledd"]
[null,"Det kan også være aktuelt å gi andre/ytterligere opplysninger enn de som dekkes av kravene ovenfor. Ytterligere opplysninger må gis dersom de er nødvendige for å bedømme selskapets stilling og resultat. \n","rskl § 7-1, 2. ledd"]
[null,"Det skal gis tilleggsopplysninger hvis anvendelsen av bestemmelsene i regnskapsloven ikke er tiltrekkelig for å gi et rettvisende bilde av den regnskapspliktiges eiendeler, gjeld, finansielle stilling og resultat. \n\n","rskl § 7-1, 4. ledd\n\n\n\n"]
[null,null,"rskl § 3-2a "]
[null,"Dersom foretaket er engasjert i aktiviteter med vesentlig risiko eller vesentlige fordeler som ikke er innregnet i balansen, skal tilleggsopplysningene etter fjerde ledd omfatte en beskrivelse av aktivitetenes finansielle virkning og formålet med dem.","rskl § 7-1, 5. ledd"]
[null,"Iflg rskl § 3-2a, 2. ledd skal bestemmelsene i rskl kap. 4 til 7 i særlige unntakstilfeller fravikes, dersom dette er nødvendig for å gi et rettvisende bilde av den regnskapspliktiges eiendeler og gjeld, finansielle stilling og resultat. Ethvert slikt fravik skal angis og begrunnes konkret og fullstendig med opplysningen om betydningen fraviket har for den regnskapspliktiges og konsernets eiendeler og gjeld, finansielle stilling og resultat. ","rskl § 7-1, 6. ledd"]
["Regnskapsprinsipper"]
["Regnskapsprinsipper","Det skal gis opplysninger om anvendte regnskapsprinsipper. Se også notemal.","rskl § 7-2"]
[1,"Er det gitt opplysninger om anvendte regnskapsprinsipper, herunder prinsipper for inntektsføring?","rskl § 7-2 ",null,null,null,null,null,null,{"$f":"IF(F17<>\"\",\"Du har satt X for at forholdet ikke er avklart. Gi en nærmere foklaring i kommentarfeltet.\",\"\")","v":""}]
[null,"Valuta"]
[{"$f":"+A17+1","v":2},"Er det gitt opplysninger om prinsipper for omregning av utenlandsk valuta?","rskl § 7-2",null,null,null,null,null,null,{"$f":"IF(F19<>\"\",\"Du har satt X for at forholdet ikke er avklart. Gi en nærmere foklaring i kommentarfeltet.\",\"\")","v":""}]
[{"$f":"+A19+1","v":3},"Dersom årsregnskapet presenteres i en annen valuta enn regnskapsvalutaen, er regnskapsvalutaen og omregningskurser opplyst?","rskl § 7-2a",null,null,null,null,null,null,{"$f":"IF(F20<>\"\",\"Du har satt X for at forholdet ikke er avklart. Gi en nærmere foklaring i kommentarfeltet.\",\"\")","v":""}]
[4,"Er det opplyst hvordan transaksjoner og balanseposter i utenlandsk valuta er målt?","NRS 20 Transaksjoner og regnskap i utenlandsk valuta"]
[5,"Er det opplyst om eventuelle praktiske tilnærmingsmetoder for anvendelse av valutakurs ihht NRS 20 Transaksjoner og regnskap i utenlandsk valuta pkt 14 og 20?"]
[6,"Er det opplyst om hvordan valutakursdifferanser og omregningsdifferanser er presentert i finansregnskapet?"]
[7,"Dersom valutakursdifferanser presenteres som annet enn finansinntekt eller -kostnad, er dette begrunnet?"]
["Regnskapsprinsipper","Annet"]
[{"$f":"+A24+1","v":8},"Er det gitt opplysninger om og begrunnelse for eventuell sikringsvurdering?","rskl § 7-2",null,null,null,null,null,null,""]
[null,null,"jf. rskl § 4-1 nr. 5"]
[{"$f":"+A26+1","v":9},"Er det gitt opplysninger om og begrunnelse for eventuell porteføljevurdering?","rskl § 7-2",null,null,null,null,null,null,""]
[10,"Er evt. kontinuitet ved regnskapsføring av fusjon opplyst og begrunnet?","rskl § 7-2",null,null,null,null,null,null,""]
[11,"Er det opplyst om anvendte prinsipper for vurdering / regnskapsføring av varelager, herunder metode for tilordning av anskaffelseskost?","NRS 1 Varer",null,null,null,null,null,null,""]
[12,"Er det opplyst om hovedprinsippene for beregning av fullføringsgraden for anleggskontrakter?","NRS 2 Anleggs-kontrakter",null,null,null,null,null,null,""]
[13,"Er det opplyst om avskrivningsmetode for alle poster under anleggsmidler?","rskl § 7-13",null,null,null,null,null,null,""]
[14,"Er det opplyst om prinsipper for regnskapsføring av leasingkontrakter, både finansielle og operasjonelle?","NRS 14 Leieavtaler",null,null,null,null,null,null,""]
[15,"Er det opplyst om de regnskapsprinsipper som er anvendt for utgifter til egen forskning og utvikling?","NRS 19 Immaterielle eiendeler",null,null,null,null,null,null,""]
[16,"Er det opplyst om metode (prinsipp) for regnskapsføring av investeringer i DS/TS/FKV, andre aksjer og andeler?","rskl § 7-2\n\n",null,null,null,null,null,null,""]
[null,null,"jf. rskl § 4-1 nr. 5"]
[null,null,"NRS (F) Investering i TS og deltagelse i FKV punkt 3.10"]
[{"$f":"+A35+1","v":17},"Er det opplyst om metode og prinsipper for regnskapsføring av pensjonsforpliktelse, herunder vurdering av pensjonsmidler og aktuartekniske beregninger?","NRS 6 Pensjons-kostnader",null,null,null,null,null,null,""]
[18,"Er det opplyst om prinsipper for beregning av skatt, utsatt skattefordel og -forpliktelse, herunder begrunnelse for skattesatsen ved beregning av utsatt skatt ved oppkjøp?","NRS (F) Resultatskatt",null,null,null,null,null,null,""]
[{"$f":"+A39+1","v":19},"Er det opplyst om prinsippene for behandling av fjerningskostnader og periodisk vedlikehold? ","NRS 13 Usikre forpliktelser og betingede eiendeler",null,null,null,null,null,null,""]
[20,"Er det opplyst om prinsippene for klassifisering av kontanter og kontantekvivalenter?","NRS (F) Kontantstrøm-oppstilling",null,null,null,null,null,null,""]
[21,"Er det opplyst om anvendte regnskapsprinsipper for andre vesentlige regnskapsposter?","rskl § 7-1",null,null,null,null,null,null,""]
[22,"Er alle de regnskapsprinsipper som er omtalt i notene aktuelle for selskapet?","rskl § 7-1",null,null,null,null,null,null,""]
["Konsolideringsprinsipper",null,null,null,null,null,null,null,null,""]
[{"$f":"+A43+1","v":23},"Er det i note til konsernregnskapet opplyst om konsolideringsprinsipper, herunder\n- mer- og mindreverdier\n- goodwill og negativ goodwill med plan for avskrivning eller inntektsføring\n- transaksjoner mellom konsernselskaper\n- minoritetsinteresser\n- utgang datterselskap\n- trinnvis oppkjøp","NRS 17 Virksomhetskjøp og konsernregnskap",null,null,null,null,null,null,""]
[{"$f":"+A45+1","v":24},"Er det opplyst og begrunnet dersom det er forskjellig prinsippanvendelse i selskapsregnskapet og konsernregnskapet? ","NRS 17 Virksomhetskjøp og konsernregnskap",null,null,null,null,null,null,""]
["Endringer i regnskapsprinsipper mm.",null,null,null,null,null,null,null,null,""]
[{"$f":"+A46+1","v":25},"Er det opplyst om virkningen av endring av regnskapsprinsipp? ","rskl § 7-3",null,null,null,null,null,null,""]
[{"$f":"+A48+1","v":26},"Er endring av regnskapsprinsipp begrunnet? ","rskl § 7-3",null,null,null,null,null,null,""]
["Omarbeiding av sammenligningstall",null,null,null,null,null,null,null,null,""]
[null,"Sammenligningstallene skal være sammenlignbare, med mindre annet følger av god regnskapsskikk. Sammenligningstallene og omarbeiding av disse skal forklares. ","rskl § 6-6",null,null,null,null,null,null,""]
[null,null,"rskl § 7-3"]
[{"$f":"+A49+1","v":27},"Er sammenligningstall og omarbeiding av disse forklart?","rskl § 7-3",null,null,null,null,null,null,""]
["Andre opplysninger",null,null,null,null,null,null,null,null,""]
[{"$f":"+A53+1","v":28},"Dersom årsregnskapet presenteres i en annen valuta enn regnskapsvalutaen, er tilsvarende omregningskurser til NOK opplyst?","rskl § 7-2a",null,null,null,null,null,null,{"$f":"IF(F55<>\"\",\"Du har satt X for at forholdet ikke er avklart. Gi en nærmere foklaring i kommentarfeltet.\",\"\")","v":""}]
[{"$f":"+A55+1","v":29},"Er det opplyst om store enkelttransaksjoner?","rskl § 7-6",null,null,null,null,null,null,""]
[{"$f":"+A56+1","v":30},"Er det opplyst om omklassifiseringer?","rskl § 7-3",null,null,null,null,null,null,{"$f":"IF(F57<>\"\",\"Du har satt X for at forholdet ikke er avklart. Gi en nærmere foklaring i kommentarfeltet.\",\"\")","v":""}]
[{"$f":"+A57+1","v":31},"Er poster som er sammenslått iht. § 6-3 spesifisert?","rskl § 7-7",null,null,null,null,null,null,""]
[{"$f":"+A58+1","v":32},"Er sammenligningstall som er sammenslått iht. § 6-3 tilsvarende spesifisert?","rskl § 7-7",null,null,null,null,null,null,""]
["Immaterielle eiendeler",null,null,null,null,null,null,null,null,""]
[null,"Immaterielle eiendeler omfatter:\n• Egen FoU\n• Konsesjoner/patenter/lisenser, varemerke mm\n• Goodwill","rskl § 6-2",null,null,null,null,null,null,""]
[null,"For hver post, er det opplyst om: ","rskl § 7-12\n\n\n",null,null,null,null,null,null,""]
[null,null,"rskl § 7-14"]
[null,null,"NRS 19 Immaterielle eiendeler"]
[{"$f":"+A59+1","v":33},"• anskaffelseskost med spesifikasjon av eventuelt balanseførte lånekostnader knyttet til egentilvirkede immaterielle eiendeler?\n\n\n",null,null,null,null,null,null,null,""]
[{"$f":"+A65+1","v":34},"• tilgang og avgang i løpet av regnskapsåret?",null,null,null,null,null,null,null,""]
[35,"• samlede avskrivninger, nedskrivninger og reversering av nedskrivninger?",null,null,null,null,null,null,null,""]
[36,"• årets avskrivninger, nedskrivninger og reversering av nedskrivninger?",null,null,null,null,null,null,null,""]
[37,"• økonomisk levetid og valg av avskrivningsplan?",null,null,null,null,null,null,null,""]
[38,"• endringer i avskrivningsplan/metode og økonomisk levetid?",null,null,null,null,null,null,null,""]
[39,"Er det gitt opplysninger om hvilke forutsetninger som er lagt til grunn for nedskrivning og reversering av nedskrivning, herunder hvorledes vurderingsenhet og gjennvinnbart beløp er fastsatt?","NRS (F) Nedskrivning av anleggsmidler",null,null,null,null,null,null,{"$f":"IF(F71<>\"\",\"Du har satt X for at forholdet ikke er avklart. Gi en nærmere foklaring i kommentarfeltet.\",\"\")","v":""}]
[40,"Er det opplyst om størrelsen på nedskrivning i perioden fordelt på ulike klasser av anleggsmidler, dersom dette ikke fremkommer av resultatregnskapet?","rskl § 7-13\n",null,null,null,null,null,null,{"$f":"IF(F72<>\"\",\"Du har satt X for at forholdet ikke er avklart. Gi en nærmere foklaring i kommentarfeltet.\",\"\")","v":""}]
[null,null,"NRS (F) Nedskrivning av anleggsmidler"]
[{"$f":"+A72+1","v":41},"Er det opplyst om størrelsen på reversering i perioden fordelt på ulike klasser av anleggsmidler?","NRS (F) Nedskrivning av anleggsmidler",null,null,null,null,null,null,{"$f":"IF(F74<>\"\",\"Du har satt X for at forholdet ikke er avklart. Gi en nærmere foklaring i kommentarfeltet.\",\"\")","v":""}]
[null,"Er det gitt følgende tilleggsopplysninger om Forskning og Utvikling (FoU)? ","rskl § 7-14",null,null,null,null,null,null,""]
[null,null,"NRS 19 Immaterielle eiendeler"]
[{"$f":"+A74+1","v":42},"• arten av forskning og utvikling som drives?",null,null,null,null,null,null,null,""]
[{"$f":"+A77+1","v":43},"• samlede utgifter medgått til FoU i løpet av regnskapsåret?",null,null,null,null,null,null,null,""]
[{"$f":"+A78+1","v":44},"• Er det opplyst om forventet samlet inntjening av pågående FoU motsvarer medgåtte samlede utgifter? ",null,null,null,null,null,null,null,""]
[null," Med ”medgåtte samlede utgifter” menes akkumulerte utgifter knyttet til prosjekter som er igangværende ved regnskapsårets utgang. Notekravet gjelder utgifter til FoU som kunne vært balanseført.",null,null,null,null,null,null,null,{"$f":"IF(F80<>\"\",\"Du har satt X for at forholdet ikke er avklart. Gi en nærmere foklaring i kommentarfeltet.\",\"\")","v":""}]
[{"$f":"+A79+1","v":45},"Dersom det er vesentlig for forståelsen av regnskapet, er det opplyst om de regnskapsprinsipper som er anvendt for utgifter til egen forskning og utvikling?  ","NRS 19 Immaterielle eiendeler",null,null,null,null,null,null,""]
[{"$f":"+A81+1","v":46},"Er vesentlige pågående FoU-aktiviteter beskrevet i note til årsregnskapet?","NRS 19 Immaterielle eiendeler",null,null,null,null,null,null,""]
["Tilleggsopplysninger om goodwill",null,"Rskl § 7-14",null,null,null,null,{"$f":"IF(F83<>\"\",\"Du har satt X for at forholdet ikke er avklart. Gi en nærmere foklaring i kommentarfeltet.\",\"\")","v":""},null,""]
[{"$f":"+A82+1","v":47},"Er avskrivningsplan lenger enn 5 år begrunnet?","rskl § 7-14",null,null,null,null,null,null,""]
[null,null,"NRS 17 Virksomhetskjøp og konsernregnskap"]
[{"$f":"+A84+1","v":48},"Er goodwill spesifisert for hvert enkelt virksomhetskjøp?","rskl § 7-14",null,null,null,null,null,null,""]
[{"$f":"+A86+1","v":49},"Er det gitt opplysninger om hvilke forutsetninger som er lagt til grunn for nedskrivning, herunder hvorledes vurderingsenhet og gjenvinnbart beløp er fastsatt?","NRS (F) Nedskrivning av anleggsmidler",null,null,null,null,null,null,{"$f":"IF(F87<>\"\",\"Du har satt X for at forholdet ikke er avklart. Gi en nærmere foklaring i kommentarfeltet.\",\"\")","v":""}]
[{"$f":"+A87+1","v":50},"Er det opplyst om størrelsen på nedskrivning i perioden fordelt på ulike klasser av anleggsmidler, dersom dette ikke fremkommer av resultatregnskapet?","rskl § 7-13\n",null,null,null,null,null,null,""]
[null,null,"NRS (F) Nedskrivning av anleggsmidler"]
["Varige driftsmidler",null,null,null,null,null,null,null,null,""]
[null,"Inndelingen i regnskapsloven\n• Tomter, bygninger og annen fast eiendom\n• Maskiner og anlegg\n• Skip, rigger, fly o.l.\n• Driftsløsøre, inventar, verktøy, kontormaskiner og lignende",null,null,null,null,null,null,null,""]
[null,"Er det for hver post opplyst om: ","rskl § 7-12",null,null,null,null,null,null,""]
[null,null,"rskl § 7-13\n"]
[{"$f":"+A88+1","v":51},"• Anskaffelseskost med spesifikasjon av eventuelle balanseførte lånekostnader knyttet til egentilvirkede anleggsmidler?","rskl § 7-12",null,null,null,null,null,null,""]
[{"$f":"+A94+1","v":52},"• Tilgang og avgang i løpet av regnskapsåret?","rskl § 7-12",null,null,null,null,null,null,""]
[{"$f":"+A95+1","v":53},"• Årets tilgang av egentilvirkede driftsmidler?","rskl § 7-12",null,null,null,null,null,null,""]
[54,"• Samlede avskrivninger, nedskrivninger og reversering av nedskrivninger","rskl § 7-12",null,null,null,null,null,null,""]
[55,"• Året avskrivninger, nedskrivninger og reversering av nedskrivninger i regnskapsåret?","rskl § 7-12",null,null,null,null,null,null,""]
[56,"• Hvilke forutsetninger som er lagt til grunn for nedskrivning og reversering av nedskrivning, herunder hvorledes vurderingsenhet og gjennvinnbart beløp er fastsatt?","rskl § 7-13\n",null,null,null,null,null,null,""]
[null,null,"NRS (F) Nedskrivning av anleggsmidler"]
[{"$f":"+A99+1","v":57},"• Størrelsen på reversering i perioden fordelt på ulike klasser av anleggsmidler?","NRS (F) Nedskrivning av anleggsmidler",null,null,null,null,null,null,""]
[58,"• Størrelsen på nedskrivning i perioden fordelt på ulike klasser av anleggsmidler, dersom dette ikke fremkommer av resultatregnskapet?","rskl § 7-13\n",null,null,null,null,null,null,""]
[null,null,"NRS (F) Nedskrivning av anleggsmidler"]
[{"$f":"+A102+1","v":59},"• Økonomisk levetid og valg av avskrivningsplan?","rskl § 7-13\n",null,null,null,null,null,null,""]
[60,"• Endringer i avskrivningsplan?","rskl § 7-12",null,null,null,null,null,null,""]
["Leasing/Leieavtaler",null,null,null,null,null,null,null,null,""]
[{"$f":"+A105+1","v":61},"Er det for alle vesentlige leieavtaler, både finansielle og operasjonelle, opplyst om årlig leie samt leieavtalens varighet?","NRS 14 Leieavtaler",null,null,null,null,null,null,""]
["Balanseførte leieavtaler",null,null,null,null,null,null,null,null,""]
[{"$f":"+A107+1","v":62},"Er det for hver post opplyst om balanseført verdi av leieavtaler? ","rskl § 7-13\n",null,null,null,null,null,null,""]
[null,null,"NRS 14 Leieavtaler"]
[{"$f":"+A109+1","v":63},"Er det for vesentlige balanseførte leieavtaler opplyst om hvordan eventuell variabel leie er fastsatt?","rskl § 7-13\n",{"$f":"IF(E111<>\"\",1,0)","v":0},null,null,null,null,null,""]
[null,null,"NRS 14 Leieavtaler"]
[{"$f":"+A111+1","v":64}," Er det for vesentlige balanseførte leieavtaler opplyst om variabel leie som er kostnadsført i perioden?","rskl § 7-13\n",{"$f":"IF(E113<>\"\",1,0)","v":0},null,null,null,null,null,""]
[null,null,"NRS 14 Leieavtaler"]
[{"$f":"+A113+1","v":65},"Er det for vesentlige balanseførte leieavtaler opplyst om hvorvidt det eksisterer rett til forlenget leie eller kjøp av eiendelen samt andre utvidelsesklausuler og betingelsene til avtalene?","rskl § 7-13\n",{"$f":"IF(E115<>\"\",1,0)","v":0},null,null,null,null,null,""]
[null,null,"NRS 14 Leieavtaler"]
[null,"Dersom balanseførte leieavtaler er vesentlige bør også årets avskrivning opplyses. Leasede eiendeler kan presenteres på samme linje som egne eiendeler, men det bør da opplyses i note hvor stor andel som er leaset.","NRS 14 Leieavtaler",null,null,null,null,null,null,""]
[{"$f":"+A115+1","v":66},"Er forpliktelsen knyttet til leieavtalen opplyst i note?","NRS 14 Leieavtaler",{"$f":"IF(E118<>\"\",1,0)","v":0},null,null,null,null,null,""]
[null,null,"jf rskl § 7-21"]
[{"$f":"+A118+1","v":67},"Er det opplyst om sum resterende estimerte leieinnbetalinger og nåverdien av disse?","NRS 14 Leieavtaler",null,null,null,null,null,null,""]
[{"$f":"+A120+1","v":68},"Er estimert leiebetaling som forfaller henholdsvis i løpet av ett år, to til fem år og mer enn fem år fram i tid spesifisert både med nominelt beløp og nåverdi?","NRS 14 Leieavtaler",null,null,null,null,null,null,""]
[{"$f":"+A121+1","v":69},"Er det opplyst om vesentlige leieavtaler som medfører restriksjoner knyttet til utbytteutdeling, gjeldsopptak og ytterligere inngåelse av leieavtaler?","NRS 14 Leieavtaler",null,null,null,null,null,null,""]
["Ikke balanseførte leieavtaler",null,null,null,null,null,null,null,null,""]
[{"$f":"+A122+1","v":70},"Ved leie av varig driftsmiddel som ikke er balanseført, er det opplyst om årlig leie og leieavtalens varighet med tilsvarende spesifikasjon som i oppstillingsplanen for balansen? ","rskl § 7-13\n",null,null,null,null,null,null,""]
[null,null,"NRS 14 Leieavtaler"]
["Finansielle anleggsmidler",null,null,null,null,null,null,null,null,""]
[null,"Finansielle anleggsmidler omfatter:\n• Investeringer i datterselskap (DS), tilknyttet selskap (TS), felles kontrollert virksomhet (FKV) og andre foretak i samme konsern.\n• Lån til foretak i samme konsern, TS og FKV\n• Investeringer i andre aksjer og andeler \n• Langsiktige obligasjoner og andre langsiktige fordringer (se obligasjon og fordringer, eget pkt. i sjekklisten)",null,null,null,null,null,null,null,""]
["Investering i datterselskap",null,null,null,null,null,null,null,null,""]
[{"$f":"+A124+1","v":71},"Er det opplyst om;\n• Foretaksnavn\n• Forretningskontor\n• Eierandel og stemmeandel","rskl § 7-15",null,null,null,null,null,null,""]
[{"$f":"+A129+1","v":72},"Dersom datterselskapet er utelatt fra konsolidering etter rskl § 3-8, er dette opplyst og begrunnet?","rskl § 7-15",null,null,null,null,null,null,""]
[{"$f":"+A130+1","v":73},"For datterselskap som regnskapsføres etter kostmetoden og som ikke konsolideres, er det gitt opplysning om egenkapital og resultat ifølge siste årsregnskap?","rskl § 7-15",null,null,null,null,null,null,""]
[{"$f":"+A131+1","v":74},"Er det i konsernregnskapet opplyst om navnet på foretak der den regnskapspliktige selv eller gjennom datterselskaper eier så mange aksjer eller andeler at de representerer flertallet av stemmene i foretaket, men som ikke er datterselskap fordi det klart kan påvises at slikt eierskap likevel ikke gir bestemmernde innflytelse jr rskl § 1-3, 2. ledd nr. 1?","rskl § 7-15",null,null,null,null,null,null,""]
[{"$f":"+A132+1","v":75},"Er det opplyst om evt. nedskrivning av investeringer i datterselskap?","NRS (F) Nedskrivning av anleggsmidler",null,null,null,null,null,null,""]
["Investering i tilknyttet selskap (TS) og deltakelse i felles kontrollert virksomhet (FKV)",null,null,null,null,null,null,null,null,""]
[{"$f":"+A133+1","v":76},"For hver enkelt investering, er det opplyst om\n• Navn \n• Forretningskontor\n• Eierandel og stemmeandel","rskl § 7-15",null,null,null,null,null,null,""]
[null,null,"NRS (F) Investering i TS/FKV"]
[{"$f":"+A135+1","v":77},"Er det for hver enkelt investering opplyst om egenkapital og resultat ifølge siste årsregnskap (gjelder ikke TS som er regnskapsført etter egenkapitalmetoden)","rskl § 7-15",{"$f":"IF(E137<>\"\",1,0)","v":0},null,null,null,null,null,""]
[null,null,"NRS (F) Investering i TS/FKV"]
[{"$f":"+A137+1","v":78},"Er det opplyst om evt. nedskrivning av investeringer i tilknyttet selskap eller felleskontrollert virksomhet?","NRS (F) Nedskrivning av anleggsmidler",null,null,null,null,null,null,""]
["Tilleggsopplysninger for deltakelse i FKV (kun dersom deltakelsen er vesentlig for deltaker):",null,null,null,null,null,null,null,null,""]
[{"$f":"+A139+1","v":79},"Er det opplyst om innbetalt kapital, skyldig innskudd, andel av resultat dersom resultatandelen avviker vesentlig fra eierandel og spesifikasjonsmåte i deltakers regnskap?","NRS (F) Investering i TS/FKV",null,null,null,null,null,null,{"$f":"IF(F141<>\"\",\"Du har satt X for at forholdet ikke er avklart. Gi en nærmere foklaring i kommentarfeltet.\",\"\")","v":""}]
[{"$f":"+A141+1","v":80},"Dersom deltaker innarbeider sin andel linje for linje, er samlet andel i FKV spesifisert for hver hovedgruppe i regnskapet?","NRS (F) Investering i TS/FKV",null,null,null,null,null,null,{"$f":"IF(F142<>\"\",\"Du har satt X for at forholdet ikke er avklart. Gi en nærmere foklaring i kommentarfeltet.\",\"\")","v":""}]
["Investering som føres etter egenkapitalmetoden",null,null,null,null,null,null,null,null,{"$f":"IF(F143<>\"\",\"Du har satt X for at forholdet ikke er avklart. Gi en nærmere foklaring i kommentarfeltet.\",\"\")","v":""}]
[{"$f":"+A142+1","v":81},"Er det for hver vesentlig investering og samlet opplyst om:\n• anskaffelseskost\n• balanseført egenkapital på anskaffelsestidspunktet\n• inngående balanse\n• inntektsført resultat\n• andre endringer i løpet av året\n• utgående balanse\n• merverdier og goodwill inkl avskrivninger på disse\n• aggregerte midlertidige forskjeller på de selskap det ikke er regnskapsført utsatt skatt på","rskl § 7-16",{"$f":"IF(E144<>\"\",1,0)","v":0},null,null,null,null,null,""]
[null,null,"NRS (F) Investering i TS/FKV"]
[{"$f":"+A144+1","v":82},"Er det opplyst om eventuelle avvikende regnskapsår? ","NRS (F) Investering i TS/FKV",null,null,null,null,null,null,""]
[{"$f":"+A146+1","v":83},"Er det opplyst om eventuell forskjellig prinsippanvendelse?","NRS (F) Investering i TS/FKV",null,null,null,null,null,null,""]
["Aksjer og andeler",null,null,null,null,null,null,null,null,{"$f":"IF(F148<>\"\",\"Du har satt X for at forholdet ikke er avklart. Gi en nærmere foklaring i kommentarfeltet.\",\"\")","v":""}]
[{"$f":"+A147+1","v":84},"Er investeringer i aksjer/andeler hvor foretaket eier mer enn 10 % eller hvor investeringen utgjør mer enn 50 % av den regnskapspliktiges egenkapital, spesifisert etter selskap? \nDette kravet gjelder ikke investeringer som  omfattes av rskl §§ 7-15 eller 7-16 (DS, TS, FKV og investeringer bokført etter egenkapitalmetoden)","rskl § 7-18 ",null,null,null,null,null,null,{"$f":"IF(F149<>\"\",\"Du har satt X for at forholdet ikke er avklart. Gi en nærmere foklaring i kommentarfeltet.\",\"\")","v":""}]
[{"$f":"+A149+1","v":85},"Er det for hvert selskap opplyst om;\no Balanseført verdi\no Eventuell markedsverdi\no Eierandel","rskl § 7-18 ",null,null,null,null,null,null,{"$f":"IF(F150<>\"\",\"Du har satt X for at forholdet ikke er avklart. Gi en nærmere foklaring i kommentarfeltet.\",\"\")","v":""}]
["Virkelig verdi av finansielle anleggsmidler",null,null,null,null,null,null,null,null,""]
[{"$f":"+A150+1","v":86},"For finansielle anleggsmidler som vurderes etter § 5-3 der balanseført verdi er større enn virkelig verdi, er det opplyst om balanseført verdi og virkelig verdi av den enkelt eiendel eller en hensiktsmessig gruppering av dem?","rskl § 7-17",null,null,null,null,null,null,""]
[{"$f":"+A152+1","v":87},"Er det gitt en begrunnelse for hvorfor nedskrivning ikke er foretatt, og inkluderer denne holdepunkter for at verdifallet ikke er forbigående?","rskl § 7-17",null,null,null,null,null,null,""]
["LANGSIKTIGE TILVIRKNINGSKONTRAKTER/ ANLEGGSKONTRAKTER",null,null,null,null,null,null,null,null,""]
[{"$f":"+A153+1","v":88},"Er det opplyst om igangværende langsiktige tilvirkningskontrakter.","rskl § 7-9",null,null,null,null,null,null,""]
[{"$f":"+A155+1","v":89},"Er det opplyst følgende om igangværende langsiktige tilvirkningskontrakter;\n• Hovedprinsippene for beregning av fullføringsgraden (eksempelvis påløpte kostnader/estimerte totalkostnader)\n• Omfang av igangværende kontrakter (total utført produksjon, påløpte kostnader og estimert fortjeneste)\n• Gjenværende produksjon på tapsprosjekter. ","NRS 2 Anleggs-kontrakter",null,null,null,null,null,null,""]
[null,"Foretak som kun er involvert i et fåtall anleggskontrakter kan unnlate å opplyse om omfanget av igangværende kontrakter samt gjenværende produksjon av tapsprosjekter, dersom dette åpenbart er berettiget ut fra konkurransemessige hensyn.","NRS 2 Anleggs-kontrakter",null,null,null,null,null,null,""]
[{"$f":"+A156+1","v":90},"Dersom det ikke er foretatt spesifikasjon i balansen, er følgende tilleggsopplysninger gitt i noter:\n• Andel av utestående fordringer holdt tilbake av kunde iht. kontrakt\n• Opptjente, ikke fakturerte inntekter som er inkludert i kundefordringene\n• Forskuddsfakturert produksjon","NRS 2 Anleggs-kontrakter",null,null,null,null,null,null,""]
["Varer",null,null,null,null,null,null,null,null,{"$f":"IF(F159<>\"\",\"Du har satt X for at forholdet ikke er avklart. Gi en nærmere foklaring i kommentarfeltet.\",\"\")","v":""}]
[{"$f":"+A158+1","v":91},"Er det opplyst om balanseført verdi av varelager fordelt på råvarer, varer under tilvirkning, egenutviklede ferdigvarer og handelsvarer sammen med tilsvarende tall for foregående år?","rskl § 7-10\n",{"$f":"IF(E160<>\"\",1,0)","v":0},null,null,null,null,null,""]
[null,null,"NRS 1 Varer"]
[{"$f":"+A160+1","v":92},"Er det vist tilsvarende sammenligningstall?","rskl § 7-10\n",null,null,null,null,null,null,""]
[null,"NRS 1 Varer gjelder også produksjonsmateriell og reservedeler. Dersom dette tas inn i varebeholdingen bør fordelingen ihht rskl § 7-10 utvides slik at disse kategoriene også spesifiseres. ","NRS 1 Varer",null,null,null,null,null,null,{"$f":"IF(F163<>\"\",\"Du har satt X for at forholdet ikke er avklart. Gi en nærmere foklaring i kommentarfeltet.\",\"\")","v":""}]
[{"$f":"+A162+1","v":93},"Er det opplyst om balanseført verdi av samlet varelager fordelt på den delen som er vurdert til anskaffelseskost og den delen som er vurdert til virkelig verdi?","NRS 1 Varer",null,null,null,null,null,null,""]
[null,"Det er altså ikke påkrevd å opplyse om nedskrivningsbeløpet, men dette bør vurderes ut fra informasjonskvaliteten i noteopplysningene.",null,null,null,null,null,null,null,""]
[{"$f":"+A164+1","v":94},"Er det opplyst om periodens resultatførte reverseringer av tidligere perioders nedskrivning og begrunnelse for slik reversering?","NRS 1 Varer",null,null,null,null,null,null,""]
[{"$f":"+A166+1","v":95},"Er det opplyst om balanseført verdi av varelager som er stillet til sikkerhet for forpliktelser?","NRS 1 Varer",null,null,null,null,null,null,""]
["Finansielle instrumenter og derivater",null,null,null,null,null,null,null,null,""]
[null,"Derivater",null,null,null,null,null,null,null,""]
[{"$f":"+A167+1","v":96},"Dersom derivater er vurdert til virkelig verdi basert på § 5-8, er det for hver kategori gitt opplysning om anskaffelseskost, virkelig verdi og periodens resultatførte verdiendring?","rskl § 7-17",null,null,null,null,null,null,""]
[{"$f":"+A170+1","v":97},"Er det også opplyst om vesentlige forutsetninger som ligger til grunn for vurderingen?","rskl § 7-17",null,null,null,null,null,null,""]
[{"$f":"+A171+1","v":98},"For derivater som ikke er vurdert etter virkelig verdi, er det opplyst om virkelig verdi såfremt denne kan fastsettes etter merkedsverdi eller med rimelig tilnærming til denne?","rskl § 7-17",null,null,null,null,null,null,""]
[{"$f":"+A172+1","v":99},"Er opplysningene gitt separat for hver klasse av finansielle derivater?","rskl § 7-17",null,null,null,null,null,null,""]
[{"$f":"+A173+1","v":100},"Er det opplyst om vesentlige betingelser og forhold som kan påvirke beløpsstørrelse, tidfesting og usikkerhet ved fremtidige kontantstrømmer, fordelt på klasser av derivater?","rskl § 7-5",null,null,null,null,null,null,""]
[{"$f":"+A174+1","v":101},"Store foretak: Er det gitt opplysninger om finansiell markedsrisiko fordelt på arter av risiko?","rskl § 7-5",null,null,null,null,null,null,""]
[null,"Sikring",null,null,null,null,null,null,null,""]
[null,"Ved regnskapsmessig sikring, har foretaket i note minst gitt informasjon om følgende: ","NRS 18 Finansielle eiendeler og forpliktelser",null,null,null,null,null,null,""]
[{"$f":"+A175+1","v":102},"• Hvilken eller hvilke typer sikring foretaket benytter",null,null,null,null,null,null,null,""]
[{"$f":"+A178+1","v":103},"• Hvordan regnskapsmessig sikring er reflektert i regnskapet",null,null,null,null,null,null,null,""]
[{"$f":"+A179+1","v":104},"• Hvilke finansielle instrumenter eller varederivater som inngår i sikringsrelasjonene og instrumentenes balanseførte verdier",null,null,null,null,null,null,null,""]
[105,"• Hvordan periodens resultat er påvirket av regnskapsmessig sikring og hvilke resultatlinjer som er påvirket",null,null,null,null,null,null,null,""]
[106,"• Beløp som er ført mot egenkapitalen i perioden, og akkumulert beløp som ikke er reversert fra egenkapitalen",null,null,null,null,null,null,null,""]
[107,"• Varigheten av foretakets sikringer",null,null,null,null,null,null,null,""]
[108,"• Hvordan virkelig verdi er fastsatt for sikringsinstrumenter og sikringsobjekter som er balanseført til virkelig verdi",null,null,null,null,null,null,null,""]
[109,"• Dersom sikring reflekteres i samsvar med NRS 18 paragraf A15, er det opplyst om periodens og akkumulerte gevinster og tap som ikke er resultatført?\nA15 sier at sikring skal reflekteres som følger:\nKontantstrømsikring: realiserte og urealiserte gevinster og tap på sikringsinstrumentet skal ikke resultatføres før det underliggende sikringsobjektet påvirker resultatregnskapet.\nVerdisikring - to alternativer:\nI - Sikringsinstrumentet vurderes til virkelig verdi, og verdiendring knyttet til sikret risiko justerer balanseført verdi av sikringsobjektet. Verdiendringene skal resultatføres løpende.\nII - Verdiendring på sikringsinstrumentet regnskapsføres ikke før sikringsinstrumentet realiseres og sikringsobjektet balanseføres til den verdi som reflekterer effekten av sikringen.",null,null,null,null,null,null,null,""]
[110,"• For sikringsrelasjoner som er ført som sikring i samsvar med IAS 39 etter NRS 18 paragraf 20, 2. ledd, er det i tillegg gitt noteopplysninger om sikring som kreves av IFRS 7?",null,null,null,null,null,null,null,""]
["Finansielle eiendeler og forpliktelser"]
[{"$f":"+A186+1","v":111},"Når finansielle eiendeler og forpliktelser er balanseført til virkelig verdi, herunder eiendeler som er nedskrevet til virkelig verdi, er det opplyst om hvordan virkelig verdi er fastsatt?","NRS 18 Finansielle eiendeler og forpliktelser"]
[{"$f":"+A188+1","v":112},"Dersom foretaket ikke har nedskrevet en finansiell eiendel til virkelig verdi fordi verdifallet forventes å være forbigående, er det begrunnet hvorfor verdifallet anses forbigående?","NRS 18 Finansielle eiendeler og forpliktelser"]
["Fordringer",null,null,null,null,null,null,null,null,""]
[{"$f":"+A189+1","v":113},"Er det for hver post under eiendeler opplyst om fordringer som forfaller senere enn ett år etter regnskapsårets slutt?","rskl § 7-19",null,null,null,null,null,null,""]
[{"$f":"+A191+1","v":114},"Er det vist tilsvarende sammenligningstall? ","rskl § 7-19",null,null,null,null,null,null,""]
["Gjeld",null,null,null,null,null,null,null,null,""]
[{"$f":"+A192+1","v":115},"For hver post innledet med arabertall under gjeld, er den delen av gjeld som forfaller til betaling mer enn fem år etter regnskapsårets slutt spesifisert?","rskl § 7-21",null,null,null,null,null,null,""]
[{"$f":"+A194+1","v":116},"Er det vist tilsvarende sammenligningstall? ","rskl § 7-21",null,null,null,null,null,null,""]
[{"$f":"+A195+1","v":117},"Er det opplyst om gjeld sikret ved pant og lignende og balanseført verdi av pantsatte eiendeler?","rskl § 7-21",null,null,null,null,null,null,""]
[{"$f":"+A196+1","v":118},"Dersom det er tatt utlegg i noen av selskapets eiendeler, er dette angitt særskilt?","rskl § 7-21",null,null,null,null,null,null,{"$f":"IF(F197<>\"\",\"Du har satt X for at forholdet ikke er avklart. Gi en nærmere foklaring i kommentarfeltet.\",\"\")","v":""}]
[{"$f":"+A197+1","v":119},"Er det opplyst om hvilke forpliktelser som er dekket av andre avsetninger som nevnt i rskl § 6-2 D I nr.3?","rskl § 7-21",null,null,null,null,null,null,""]
[{"$f":"+A198+1","v":120},"Store foretak: Er det for obligasjonslån, konvertible lån og langsiktig gjeld til kredittinstitusjoner opplyst om;\n              -  avdragsstruktur\n              -  gjennomsnittlig rente\n              -  særlige vilkår (\"covenants\" ol)","rskl § 7-21 "]
["Mellomværende med konsernselskap, tilknyttede selskaper og felleskontrollerte virksomheter",null,null,null,null,null,null,null,null,""]
[null,"De ordinære kravene til opplysninger om gjeld og fordringer gjelder også for mellomværende med foretak i samme konsern, tilknyttet selskap og felleskontrollert virksomhet. I konsernforhold er det ofte ikke avtalt noen avdragsplan, det kan derfor være vanskelig å opplyse om fordringer som forfaller senere enn et år og gjeld som forfaller senere enn 5 år. I slike tilfeller bør det opplyses at avdragsplan ikke er avtalt. ","rskl § 7-22",null,null,null,null,null,null,""]
[null,"I tillegg til de ordinære kravene vedrørende fordringer og gjeld, er det ytterligere opplysningskrav vedrørende mellomværende med foretak i samme konsern, tilknyttede selskap og felleskontrollert virksomhet.","rskl § 7-22",null,null,null,null,null,null,""]
[{"$f":"+A199+1","v":121},"Er det for hver regnskapspost det er aktuelt opplyst om fordringer på og gjeld til henholdsvis konsernselskaper, tilknyttede selskaper og felles kontrollert virksomhet?","rskl § 7-22",null,null,null,null,null,null,""]
[{"$f":"+A203+1","v":122},"Er det opplyst om tilsvarende sammenligningstall fra foregående årsregnskap?","rskl § 7-19",null,null,null,null,null,null,""]
[{"$f":"+A204+1","v":123},"Er det opplyst om samlet forpliktelse i form av pantstillelse, annen sikkerhetsstillelse og garantier til fordel for foretak i samme konsern?","rskl § 7-22",null,null,null,null,null,null,""]
[{"$f":"+A205+1","v":124},"Er nedskrivning av konsernmellomværende opplyst?","rskl § 7-22",null,null,null,null,null,null,""]
["Obligasjoner",null,null,null,null,null,null,null,null,""]
[{"$f":"+A206+1","v":125},"Er obligasjoner spesifisert etter debitorkategori og pålydende valuta?","rskl § 7-20",null,null,null,null,null,null,""]
[{"$f":"+A208+1","v":126},"Er det opplyst om balanseført verdi og markedsverdi?","rskl § 7-20",null,null,null,null,null,null,""]
[{"$f":"+A209+1","v":127},"Store foretak: Har foretaket gitt en oversikt over rentereguleringstidspunkter og gjennomsnittlig rente?","rskl § 7-20"]
["Markedsverdiprinsippet",null,null,null,null,null,null,null,null,""]
[{"$f":"+A210+1","v":128},"Er det for hver kategori av finansielle instrumenter og varederivater som er vurdert etter RL § 5-8 (markedsverdi) opplyst om:\n• anskaffelseskost\n• virkelig verdi\n• periodens resultatførte verdiendringer","rskl § 7-17",null,null,null,null,null,null,""]
[{"$f":"+A212+1","v":129},"Er det opplyst om vesentlige forutsetninger som ligger til grunn for vurderingen?","rskl § 7-17",null,null,null,null,null,null,""]
[{"$f":"+A213+1","v":130},"Er det for finansielle derivater som ikke er vurdert til virkelig verdi etter Rskl § 5-8 opplyst om virkelig verdi, såfremt verdien kan fastsettes etter en markedsverdi eller en rimelig tilnærming til markedsverdien?","rskl § 7-17",null,null,null,null,null,null,""]
["Kontanter og kontantekvivalenter",null,null,null,null,null,null,null,null,""]
[]
[{"$f":"+A214+1","v":131},"• Er det opplyst om ubenyttet del av kassekreditt eller andre trekkrettigheter, og restriksjoner på bruken av disse?","NRS (F) Kontantstrøm-oppstilling",null,null,null,null,null,null,""]
[{"$f":"+A217+1","v":132},"• Er det opplyst om bundne bankinnskudd, herunder skattetrekk?","NRS (F) Kontantstrøm-oppstilling",null,null,null,null,null,null,""]
["Egenkapital",null,null,null,null,null,null,null,null,""]
[{"$f":"+A218+1","v":133},"Er opptjent egenkapital spesifisert?","rskl § 7-25",null,null,null,null,null,null,""]
[{"$f":"+A220+1","v":134},"Er det opplyst om endringer i løpet av året, med spesifikasjon av innholdet i hver enkelt transaksjon, herunder utbytte, avgitt konsernbidrag, ekstraordinært utbytte, emisjon, kapitalnedsettelse o.a?","rskl § 7-25",null,null,null,null,null,null,""]
[null,"Opplysningene i punktet over kan i stedet gis i en egen oppstilling over endringer i egenkapitalen.","rskl § 7-25",null,null,null,null,null,null,""]
["Feil i tidligere årsregnskap",null,null,null,null,null,null,null,null,{"$f":"IF(F223<>\"\",\"Du har satt X for at forholdet ikke er avklart. Gi en nærmere foklaring i kommentarfeltet.\",\"\")","v":""}]
[{"$f":"+A221+1","v":135},"Er det opplyst om virkning av feil i tidligere årsregnskap og korrigering av slike feil?","rskl § 7-3",null,null,null,null,null,null,{"$f":"IF(F224<>\"\",\"Du har satt X for at forholdet ikke er avklart. Gi en nærmere foklaring i kommentarfeltet.\",\"\")","v":""}]
[{"$f":"+A224+1","v":136},"Er det opplyst om vesentlige feil i tidligere årsregnskap som er ført direkte mot egenkapitalen?","NRS 5 pkt 6",null,null,null,null,null,null,{"$f":"IF(F225<>\"\",\"Du har satt X for at forholdet ikke er avklart. Gi en nærmere foklaring i kommentarfeltet.\",\"\")","v":""}]
["Aksjekapital, aksjonærer mm (pliktig)",null,null,null,null,null,null,null,null,""]
[{"$f":"+A225+1","v":137},"Er det opplyst om:\n• Aksjekapitalens størrelse\n• Aksjenes pålydende (fordelt på hver aksjeklasse hvis det er flere aksjeklasser)\n• Vedtektsbestemmelser om stemmerett hvis ikke alle aksjene har samme rett\n• Alle rettigheter som kan medføre at det blir utstedt nye aksjer med angivelse av hovedtrekkene i vilkår som gjelder for retten\n• Selskapets 20 største aksjeeiere og deres eierandeler (kan utelate aksjeeiere som eier mindre enn 1 %)","rskl § 7-26",null,null,null,null,null,null,""]
[{"$f":"+A227+1","v":138},"Er det opplyst om aksjer/andeler og rettigheter til aksjer/andeler som eies av:\n• daglig leder\n• medlemmer av styret\n• medlemmer av bedriftsforsamling","rskl § 7-26",null,null,null,null,null,null,""]
[null,"Tilleggskrav for store foretak:","rskl § 7-26, 4. ledd"]
[{"$f":"+A228+1","v":139},"Er det opplyst om aksjer/andeler og rettigheter til aksjer/andeler som eies av hver enkelt ledende ansatte og deres personlig nærstående samt hvert enkelt medlem av styret og deres personlig nærstående?","rskl § 7-26, 4. ledd"]
[null,"Som personlig nærstående regnes:\n-  ektefelle og samboer\n-  mindreårige barn/samboers mindreårige barn\n-  foretak hvor vedkommende (eller mindreårige) har bestemmende innflytelse etter rskl § 1-3","rskl § 7-26, 4. ledd"]
[{"$f":"+A230+1","v":140},"For regnskapspliktige som er utstedere med Norge som hjemstat etter vphl § 5-4, er det opplyst om vesentlige indirekte aksjebesittelser i selskapet?","rskl § 7-26, 5. ledd"]
[null,"Aksjebesittelser som representerer minst 10% av stemmerettene i selskapet, regnes som vesentlige etter denne bestemmelsen. \nIndirekte aksjebesittelser omfatter blant annet vertikale strukturer og krysseierskap, og skal generelt fortolkes på grunnlag av artikkel 85 i direktiv 2001/34/EF.","rskl § 7-26, 5. ledd"]
["Egne aksjer (pliktig)",null,null,null,null,null,null,null,null,""]
[{"$f":"+A232+1","v":141},"Dersom egne aksjer ikke vises på egen linje under selskapskapitalen i balansen eller i oppstilling av endringer i egenkapitalen, er spesifikasjon gitt i note? ","rskl § 7-27",null,null,null,null,null,null,""]
[{"$f":"+A235+1","v":142},"Dersom selskapet har en beholdning av egne aksjer etter aksjeloven kapittel 9, er det opplyst om antallet, aksjenes pålydende verdi og den andel aksjene utgjør av aksjekapitalen?","rskl § 7-27",null,null,null,null,null,null,""]
[{"$f":"+A236+1","v":143},"Dersom det har vært endringer i beholdning av egne aksjer og datterselskapenes beholdning av aksjer i morselskapet i løpet av regnskapsåret, er det minst opplyst om følgende:\n• bakgrunn for erverv som har funnet sted\n• antall aksjer som er ervervet, vederlag for disse og den andel de utgjør av aksjekapitalen\n• antall aksjer som er avhendet, vederlaget for disse og den andel de utgjør av aksjekapitalen?","rskl § 7-27",null,null,null,null,null,null,""]
["Samvirkeforetak som har medlemskapitalkonti",null,null,null,null,null,null,null,null,""]
[{"$f":"+A237+1","v":144},"Har samvirkeforetak som har medlemskapitalkonti i samsvar med lov om samvirkeforetak § 29, gitt opplysninger om årets utbetaling og avsetning?","rskl § 7-25",null,null,null,null,null,null,{"$f":"IF(F239<>\"\",\"Du har satt X for at forholdet ikke er avklart. Gi en nærmere foklaring i kommentarfeltet.\",\"\")","v":""}]
[{"$f":"+A239+1","v":145},"Er det opplyst om eventuelle vedtektsbestemmelser og årsmøtevedtak eller forslag til vedtak knyttet til medlemskapitalkonti?","rskl § 7-25",null,null,null,null,null,null,""]
["Pensjonsforpliktelser",null,null,null,null,null,null,null,null,""]
[{"$f":"+A240+1","v":146},"Er det opplyst om beregning av pensjonskostnader og pensjonsforpliktelser?","rskl § 7-11",null,null,null,null,null,null,""]
[{"$f":"+A242+1","v":147},"Er det gitt opplysninger om foretakets pensjonsordninger?","NRS 6 Pensjonskostnader",null,null,null,null,null,null,""]
[{"$f":"+A243+1","v":148},"Er det gitt opplysninger om antall personer som er omfattet?","NRS 6 Pensjonskostnader",null,null,null,null,null,null,""]
[null,"Ytelsesbaserte ordninger","NRS 6 Pensjonskostnader",null,null,null,null,null,null,""]
[{"$f":"+A244+1","v":149},"Er det opplyst om regnskapsprinsipper, herunder metode for vurdering av pensjonsmidlene og aktuartekniske beregninger?",null,null,null,null,null,null,null,""]
[{"$f":"+A246+1","v":150},"Er det opplyst om viktige økonomiske og aktuarmessige forutsetninger?",null,null,null,null,null,null,null,""]
[151,"Er sammensetningen av netto pensjonskostnad vist, herunder eventuelle effekter av oppgjør eller avkorting av pensjonsplan?\nKostnadsført arbeidsgiveravift kan presenteres som separat element i spesifikasjonen av sammensetningen av pensjonskostnaden.",null,null,null,null,null,null,null,""]
[152,"Er det opplyst om faktisk avkastning på og sammensetningen av pensjonsmidler?",null,null,null,null,null,null,null,""]
[153,"Er det satt opp en avstemming mellom faktisk netto pensjonsforpliktelse og balanseført netto pensjonsforpliktelse som viser;\n- størrelse av utsatt resultatføring av virkning av estimatendringer\n- avvik mellom faktisk og forventet avkastning på pensjonsmidler\n- virkning av endringer i pensjonsplaner\n- overgangsbeløp som ennå ikke er resultatført\nPeriodisert arbeidsgiveravgift kan presenteres som separat element i spesifikasjonen av sammensetningen av pensjonsforpliktelsen",null,null,null,null,null,null,null,""]
[154,"Er det opplyst om metode for regnskapsføring av arbeidsgiveravgift?",null,null,null,null,null,null,null,""]
[155,"For foretak som anvender prinsipp om innregning av aktuarielle gevinster og tap i perioden de oppstår, er det gitt opplysning om det akkumulerte beløpet av aktuarielle gevinster og tap som er innregnet direkte i annen egenkapital samt årets beløp innregnet direkte i annen egenkapital?",null,null,null,null,null,null,null,""]
[null,"Innskuddsbaserte ordninger                                                                               ","NRS 6 Pensjonskostnader",null,null,null,null,null,null,""]
[{"$f":"+A252+1","v":156},"Er det opplyst om årets beløp som er innregnet i resultatregnskapet?",null,null,null,null,null,null,null,""]
[{"$f":"+A254+1","v":157},"For flerforetaksplan som er ytelsesplan, men som regnskapsføres som innskuddsbasert pensjonsplan, er det gitt følgende opplysninger\n• at planen er en ytelsesbasert pensjonsplan\n• grunnen til at det ikke finnes tilstrekkelig informasjon til å gjøre foretaket i stand til å regnskapsføre planen som en ytelsesbasert pensjonsplan",null,null,null,null,null,null,null,""]
[{"$f":"+A255+1","v":158},"Hvis overskudd/underskudd i flerforetaksplanen kan påvirke størrelsen på framtidige innskudd, er det i tillegg opplyst om\n• eventuell tilgjengelig informasjon om overskudd/underskudd\n• grunnlaget for å fastsette overskudd/underskudd\n• eventuelle konsekvenser for foretaket",null,null,null,null,null,null,null,""]
["Skatt",null,null,null,null,null,null,null,null,""]
[{"$f":"+A256+1","v":159},"Er det opplyst om beregningen av skattekostnad og utsatt skatt/skattefordel?","rskl § 7-23",null,null,null,null,null,null,""]
[{"$f":"+A258+1","v":160},"Er det opplyst om skatteeffekten av midlertidige forskjeller og underskudd til fremføring som har gitt opphav til utsatt skatt og utsatte fordeler spesifisert på typer av midlertidige forskjeller?","NRS (F) Resultatskatt",null,null,null,null,null,null,""]
[{"$f":"+A259+1","v":161},"Er det opplyst om balanseført utsatt skattefordel som er sannsynliggjort gjennom fremtidig inntjening?","NRS (F) Resultatskatt",null,null,null,null,null,null,""]
[162,"Er det opplyst om utsatt skattefordel som ikke er balanseført?","NRS (F) Resultatskatt",null,null,null,null,null,null,""]
[163,"Er det opplyst om aggregerte midlertidige forskjeller knyttet til investering i tilknyttet selskap og datterselskap og felles kontrollert virksomhet som det ikke er regnskapsført utsatt skatt på?","NRS (F) Resultatskatt",null,null,null,null,null,null,""]
[164,"Er det opplyst om størrelsen på betalbar og utsatt skatt knyttet til poster som er ført direkte mot egenkapitalen?","NRS (F) Resultatskatt",null,null,null,null,null,null,""]
[165,"Er det satt opp en avstemming som viser sammenhengen mellom skattekostnaden og skatt beregnet som gjennomsnittlig nominell skattesats på resultat før skatt?\nOppstillingen kan utarbeides med utgangspunkt i prosentsammenligning eller kronesammenligning.","NRS (F) Resultatskatt",null,null,null,null,null,null,""]
[{"$f":"+A264+1","v":166},"Er skattekostnad fordelt på norsk og utenlandsk del?","NRS (F) Resultatskatt",null,null,null,null,null,null,""]
[167,"Er det opplyst om virkningen av endring i skatteregler og skattestatus på periodens skattekostnad?","NRS (F) Resultatskatt",null,null,null,null,null,null,""]
["Garantiforpliktelser",null,null,null,null,null,null,null,null,""]
[{"$f":"+A266+1","v":168},"Er det opplyst om summen av garantiforpliktelser som ikke er regnskapsført?","rskl § 7-28",null,null,null,null,null,null,""]
[{"$f":"+A268+1","v":169},"Er det opplyst særskilt dersom slike garantiforpliktelser er sikret ved pant?","rskl § 7-28",null,null,null,null,null,null,""]
["Andre forpliktelser",null,null,null,null,null,null,null,null,""]
[{"$f":"+A269+1","v":170},"Er det opplyst om andre forpliktelser enn garantiforpliktelser som ikke er regnskapsført?  ","rskl § 7-29",null,null,null,null,null,null,""]
[{"$f":"+A271+1","v":171},"Er det opplyst særskilt dersom slike forpliktelser er sikret ved pant?","rskl § 7-29",null,null,null,null,null,null,""]
["USIKRE FORPLIKTELSER ",null,null,null,null,null,null,null,null,""]
[null,"Usikre forpliktelser som regnskapsføres - foretak som ikke er store",null,null,null,null,null,null,null,""]
[{"$f":"+A272+1","v":172},"Er avsetninger for usikre forpliktelser delt inn i klasser som gir meningsfylt informasjon mht type avsetning? ","NRS 13 Usikre forpliktelser og betingede eiendeler",null,null,null,null,null,null,""]
[{"$f":"+A275+1","v":173},"Er det for hver klasse av avsetninger gitt informasjon om inngående og utgående balanse?","NRS 13 Usikre forpliktelser og betingede eiendeler",null,null,null,null,null,null,""]
[null,"Usikre forpliktelser som skal regnskapsføres  - store foretak","NRS 13 Usikre forpliktelser og betingede eiendeler"]
[{"$f":"+A276+1","v":174},"Er avsetninger for usikre forpliktelser delt inn i klasser som gir meningsfylt informasjon mht type avsetning. "]
[null,"Er det for hver klasse av avsetninger gitt følgende spesifikasjoner: "]
[{"$f":"+A278+1","v":175},"Inngående og utgående balanse."]
[{"$f":"+A280+1","v":176},"Periodens tillegg i avsetning og ny avsetning"]
[{"$f":"+A281+1","v":177},"Oppgjør som er motregnet mot avsetning i perioden."]
[178,"Reversering i perioden (annet enn motregning av oppgjør som avsetningen skal dekke)"]
[179,"Økning i avsetning i perioden som skyldes renteeffekten av neddiskontering."]
[180,"En kort beskrivelse av forpliktelsens art og antatt oppgjørstidspunkt."]
[{"$f":"+A285+1","v":181},"En karakteristikk av usikkerhet med hensyn til oppgjørstidspunkt og størrelse.  Når beregningene er særlig knyttet til forutsetninger om fremtidige hendelser, skal forutsetningene fremgå.  Dersom det er tatt hensyn til forventet gevinst på salg av eiendel ved beregning av oppgjørsverdi, skal dette særskilt opplyses."]
[182,"Mulig regressrett, med særskilt angivelse av hvor mye av slik regressrett som er tatt hensyn til i regnskapsføringen."]
[null,"Dersom offentliggjøring av opplysninger som nevnt ovenfor kan forventes å skade foretakets stilling i en tvist med andre, kan noteopplysningen begrenses til en beskrivelse av tvisten og en begrunnelse for hvorfor noteopplysningen er blitt gjort begrenset."]
[null,"Usikre forpliktelser som ikke regnskapsføres - foretak som ikke er store",null,null,null,null,null,null,null,""]
[{"$f":"+A287+1","v":183},"Er det opplyst om usikre forpliktelser som ikke er regnskapsført?","rskl § 7-29",null,null,null,null,null,null,""]
[{"$f":"+A290+1","v":184},"Er det opplyst særskilt dersom slike forpliktelser er sikret ved pant?","rskl § 7-29",null,null,null,null,null,null,""]
[null,"Usikre forpliktelser som ikke skal regnskapsføres - store foretak","NRS 13 Usikre forpliktelser og betingede eiendeler"]
[null,"Dersom det er svært lite sannsynlig (<10%) at det inntreffer en hendelse som medfører plikt til å avgi økonomiske ressurser, kan noteopplysninger utelates. "]
[null,"Er følgende opplysninger ellers gitt om usikre forpliktelser som ikke regnskapsføres?: "]
[{"$f":"+A291+1","v":185},"En kort beskrivelse av hver klasse av usikre forpliktelser på balansedagen."]
[{"$f":"+A295+1","v":186},"Et anslag på virkning i resultatregnskap og balanse av at forpliktelsen var blitt regnskapsført og oppgjørsverdien var blitt målt ved beste estimat på balansedagen. Dersom det ikke regnes som praktisk mulig å gi et slikt anslag, skal grunnene til det oppgis."]
[{"$f":"+A296+1","v":187},"En indikasjon på usikkerheten i tidspunkt og beløp for oppgjøret."]
[{"$f":"+A297+1","v":188},"Muligheten for regress."]
[null,"Dersom offentliggjøring av opplysninger som nevnt ovenfor kan forventes å skade foretakets stilling i en tvist med andre, kan noteopplysningen begrenses til en beskrivelse av tvisten og en begrunnelse for hvorfor noteopplysningen er blitt gjort begrenset."]
["Betingede eiendeler",null,"NRS 13\nUsikre forpliktelser og betingede eiendeler"]
[{"$f":"+A298+1","v":189},"Hvis det er mer enn 50% sannsynlighet for at selskapet vil motta et oppgjør knyttet til betingede eiendeler, er det gitt noteopplysning om disse?"]
[{"$f":"+A301+1","v":190},"Er det gitt en kort beskrivelse av den betingende eiendelen på balansedagen?"]
[{"$f":"+A302+1","v":191},"Er det, når den betingede eiendelen ikke er regnskapsført, gitt et anslag på effekt på resultat og balanse dersom den betingede eiendelen hadde blitt regnskapsført? "]
[{"$f":"+A303+1","v":192},"Dersom det ikke er praktisk mulig å gi et anslag, er dette begrunnet?"]
["BETINGEDE UTFALL",null,null,null,null,null,null,null,null,""]
[null,"Er det gitt opplysninger om forhold ved regnskapsårets slutt med betingede utfall (ikke krav hvis sensitiv informasjon); ","rskl § 7-33\n",{"$f":"IF(E306<>\"\",1,0)","v":0},null,null,null,null,null,""]
[null,null,"NRS 3 Hendelser etter balansedagen"]
[{"$f":"+A304+1","v":193},"• (ikke kostnadsførte) betingede tap som er mindre sannsynlig ",null,null,null,null,null,null,null,""]
[{"$f":"+A308+1","v":194},"• (ikke kostnadsførte) betingede tap som er sannsynlige, men ikke kvantifiserbare ",null,null,null,null,null,null,null,""]
[{"$f":"+A309+1","v":195},"• (ikke kostnadsførte) lite sannsynlige betingede tap som kan få store konsekvenser ",null,null,null,null,null,null,null,""]
[{"$f":"+A310+1","v":196},"• Forhold og beregninger som ligger til grunn for avsetning til betingede tap eller informasjon om betingede tap ",null,null,null,null,null,null,null,""]
["SALGSINNTEKTER",null,null,null,null,null,null,null,null,""]
[{"$f":"+A311+1","v":197},"Er salgsinntekter spesifisert på virksomhetsområde og geografisk marked?","rskl § 7-8",null,null,null,null,null,null,""]
["DRIFTSKOSTNADER",null,null,null,null,null,null,null,null,""]
[{"$f":"+A313+1","v":198},"Hvis resultatregnskapet er presentert etter funksjon, er det i note vist en oppstilling over driftskostnadene etter art?","rskl § 7-8b",null,null,null,null,null,null,""]
[{"$f":"+A315+1","v":199},"Er det vist tilsvarende sammenligningstall? ","rskl § 7-8b",null,null,null,null,null,null,""]
["LØNN MV",null,null,null,null,null,null,null,null,""]
[null,"Spesifikasjon av lønnskostnaden",null,null,null,null,null,null,null,""]
[{"$f":"+A316+1","v":200},"Er lønnskostnader spesifisert på\n• Lønninger\n• Arbeidsgiveravgift\n• Pensjonskostnader\n• Andre ytelser","rskl § 7-11",null,null,null,null,null,null,""]
[{"$f":"+A319+1","v":201},"Er det vist tilsvarende sammenligningstall? ","rskl § 7-11",null,null,null,null,null,null,{"$f":"IF(F320<>\"\",\"Du har satt X for at forholdet ikke er avklart. Gi en nærmere foklaring i kommentarfeltet.\",\"\")","v":""}]
["Aksjeverdibasert betaling",null,"rskl § 7-11 a",null,null,null,null,null,null,""]
[{"$f":"+A320+1","v":202},"Er det gitt en redegjørelse for bruken av aksjeverdibasert betaling?",null,null,null,null,null,null,null,""]
[{"$f":"+A322+1","v":203},"Er det opplyst om kostnadsført aksjeverdibasert betaling minst spesifisert på de aktuelle postene i resultatregnskapet?",null,null,null,null,null,null,null,""]
[{"$f":"+A323+1","v":204},"Er det opplyst om hvordan kostnadene er beregnet, herunder de forutsetninger som er lagt til grunn for beregningene?",null,null,null,null,null,null,null,""]
[{"$f":"+A324+1","v":205},"Har foretaket gitt opplysninger som setter brukere av foretakets finansregnskap i stand til å forstå arten og omfanget av aksjebaserte betalingsordninger som forelå i løpet av perioden?","NRS 15A pkt 1 jf\nIFRS 2 pkt. 44"]
[null,"Er det minst gitt opplysninger om følgende:","IFRS 2 pkt. 45"]
[{"$f":"+A325+1","v":206},"a ) En beskrivelse av hver type aksjebasert betalingsordning som forelå på ethvert tidspunkt i løpet av perioden, herunder de generelle vilkårene og betingelsene for hver enkelt ordning, som for eksempel innvinningskrav og maksimal løpetid for tildelte opsjoner, samt oppgjørsmetode (for eksempel i kontanter eller egenkapital). Et foretak med i det vesentligste tilsvarende typer av aksjebaserte betalingsordninger kan samle denne informasjonen, med mindre separate opplysninger for hver ordning er nødvendig for å oppfylle prinsippet i IFRS 2 nr. 44."]
[{"$f":"+A327+1","v":207},"b) Antall av og veide gjennomsnittlige utøvelseskurser for aksjeopsjoner for hver av følgende grupper av opsjoner:\n\ni) utestående opsjoner ved begynnelsen av perioden,\nii) opsjoner som er tildelt i løpet av perioden,\niii) opsjoner som er gått tapt i løpet av perioden,\niv) opsjoner som er utøvd i løpet av perioden,\nv) opsjoner som er utløpt i løpet av perioden,\nvi) utestående opsjoner ved slutten av perioden, og\nvii) opsjoner som kan utøves ved slutten av perioden."]
[{"$f":"+A328+1","v":208},"c) For aksjeopsjoner som er utøvd i løpet av perioden, den veide gjennomsnittlige aksjekursen på utøvelsestidspunktet. Dersom opsjoner ble utøvd på regelmessig grunnlag gjennom hele perioden, kan foretaket isteden opplyse om den veid e gjennomsnittlige aksjekursen i løpet av perioden."]
[209,"d) For aksjeopsjoner som er utestående ved utløpet av perioden, området for utøvelseskurser og veid gjennomsnittlig gjenværende avtalt levetid. Dersom området for utøvelseskurser er stort, skal de utestående opsjonene deles opp i områder som er meningsfylte for en vurdering av antallet av og tidsplanen for tilleggsaksjer som kan bli utstedt, samt kontantene som kan bli mottatt ved utøvelse av disse opsjonene."]
[210,"Har foretaket gitt opplysninger som setter brukere av finansregnskapet i stand til å forstå hvordan den virkelige verdien av de mottatte varene eller tjenestene, eller den virkelige verdien av tildelte egenkapitalinstrumentene, ble fastsatt i løpet av perioden?","IFRS 2 pkt. 46"]
[null,"Dersom foretaket har målt den virkelige verdien av varer eller tjenester mottatt som vederlag for foretakets egenkapitalinstrumenter indirekte, med henvisning til de tildelte egenkapitalinstrumentenes virkelige verdi, har foretaket for å anvende prinsippet i nr. 46 minst opplyse om følgende:","IFRS 2 pkt. 47"]
[{"$f":"+A331+1","v":211},"a) For aksjeopsjoner tildelt i løpet av perioden, den veide gjennomsnittlige virkelige verdien av disse opsjonene på måletidspunktet, samt informasjon om hvordan denne virkelige verdien ble målt, herunder\n\ni) den benyttede opsjonsprissettingsmodellen og data for denne modellen, herunder veid gjennomsnittlig aksjekurs, utøvelseskurs, forventet volatilitet, opsjonens levetid, forventet utbytte, risikofri rente og eventuelle andre data for modellen, herunder hvilken metode som ble benyttet til og forutsetningene for å innarbeide virkningene av forventet tidlig utøvelse,\n\nii) hvordan forventet volatilitet ble fastsatt, herunder en forklaring på i hvilken utstrekning forventet volatilitet var basert på historisk volatilitet, og\n\niii) om og hvordan eventuelle andre sider av opsjonstildelingen ble innarbeidet i målingen av virkelig verdi, for eksempel en markedsbetingelse."]
[212,"b) For andre egenkapitalinstrumenter tildelt i løpet av perioden (bortsett fra aksjeopsjoner), antallet av og den veide gjennomsnittlige virkelige verdien av disse egenkapitalinstrumentene på måletidspunktet, samt informasjon om hvordan denne virkelige verdien ble målt, herunder\n\ni) hvordan virkelig verdi ble fastsatt, dersom den ikke ble målt på grunnlag av en observerbar markedskurs,\n\nii) om og hvordan forventet utbytte ble innarbeidet i målingen av virkelig verdi, og\n\niii) om og hvordan eventuelle andre sider av de tildelte egenkapitalinstrumentene ble innarbeidet i målingen av virkelig verdi."]
[213,"c) For aksjebaserte betalingsordninger som ble endret i løpet av perioden:\n\ni) en forklaring på disse endringene,\n\nii) den direkte tilknyttede, tildelte virkelige verdien (som et resultat av disse endringene), og\n\niii) informasjon om hvordan den direkte tilknyttede, tildelte virkelige verdien ble målt, i overensstemmelse med kravene under bokstav a) og b) ovenfor, der dette er relevant."]
[214,"Dersom foretaket har målt den virkelige verdien av mottatte varer eller tjenester direkte i løpet av perioden, har foretaket opplyst om hvordan denne virkelige verdien ble fastsatt, for eksempel om virkelig verdi ble målt til en markedskurs for de nevnte varene eller tjenestene?","IFRS 2 pkt. 48"]
[215,"Dersom foretaket har tilbakevist antakelsen i IFRS 2 nr. 13, har foretaket opplyst om dette og gitt en forklaring på hvorfor antakelsen ble tilbakevist?","IFRS 2 pkt. 49"]
[216,"Har foretaket gitt opplysninger som setter brukere av foretakets finansregnskap i stand til å forstå virkningen av aksjebaserte betalingstransaksjoner på foretakets resultat i perioden, samt på foretakets finansielle stilling?","IFRS 2 pkt. 50"]
[null,"Ved anvendelse av prinsippet i nr. 50, har foretaket minst gitt følgende opplysninger:","IFRS 2 pkt. 51"]
[{"$f":"+A338+1","v":217},"a) Den samlede kostnaden som ble innregnet for perioden, og som oppstår av aksjebaserte betalingstransaksjoner der de mottatte varene eller tjenestene ikke oppfylte vilkårene for innregning som eiendeler og dermed ble innregnet umiddelbart som kostnad, herunder separate opplysninger om denne delen av den samlede kostnaden som oppstår av transaksjoner regnskapsført som aksjebaserte betalingstransaksjoner som gjøres opp i egenkapital."]
[{"$f":"+A340+1","v":218},"b) For forpliktelser som oppstår av aksjebaserte betalingstransaksjoner:\n\ni) samlet balanseført verdi ved periodens slutt, og\n\nii) samlet egenverdi ved slutten av perioden for forpliktelser der motpartens rett til kontanter eller andre eiendeler var innvunnet ved utløpet av perioden (for eksempel aksjeoppskrivingsretter som er innvunnet)."]
[219,"Dersom opplysningene som kreves av denne standard, ikke tilfredsstiller prinsippene i nr. 44, 46 og 50, skal foretaket gi tilleggsinformasjon slik at prinsippene oppfylles. Dersom et foretak for eksempel har klassifisert aksjebaserte betalingstransaksjoner som gjort opp i egenkapital i samsvar med nr. 33F, skal foretaket gi et anslag over det beløpet som det forventer å overføre til skattemyndighetene for å gjøre opp den ansattes skattemessige forpliktelse, når det er nødvendig å informere brukerne om virkningen av den framtidige kontantstrømmen forbundet med den aksjebaserte betalingsordningen.","IFRS 2 pkt. 52"]
["Ytelser til ledende ansatte i foretak som ikke er store (pliktig)",null,null,null,null,null,null,null,null,""]
[{"$f":"+A342+1","v":220},"Er det opplyst om samlede utgifter til lønn, pensjonsforpliktelser og annen godtgjørelse til:\n• daglig leder\n• styremedlemmer \n• medlemmer i bedriftsforsamlingen ","rskl § 7-31, 1. ledd",null,null,null,null,null,null,""]
[{"$f":"+A344+1","v":221},"Er det opplyst følgende om ytelser til daglig leder og leder av styret;\n• Arten og omfanget av forpliktelser til å gi særskilt vederlag ved opphør eller endring av ansettelsesforhold / verv\n• Avtaler om bonuser, overskuddsdeling og lignende fordeler","rskl § 7-31, 2. ledd",null,null,null,null,null,null,""]
[{"$f":"+A345+1","v":222},"Dersom selskapet ikke har hatt slike utgifter eller forpliktelser som beskrevet i de to foregående punkt, er det opplyst særskilt om det?","rskl § 7-31, 3. ledd",null,null,null,null,null,null,""]
[{"$f":"+A346+1","v":223},"Er det opplyst om forpliktelser knyttet til aksjeverdibaserte godtgjørelser til fordel for ansatte og tillitsvalgte?","rskl § 7-31, 4. ledd 1. punktum",null,null,null,null,null,null,""]
[null,"Følgende krav gjelder ikke heleide datterselskaper i konsern:"]
[{"$f":"+A347+1","v":224},"Er det opplyst om arten og omfanget av de enkelte avtaler om aksjeverdibaserte godtgjørelser til fordel for:\n• de enkelte ledende ansatte\n• de enkelte medlemmer av styre\n• de enkelte medlemmer av kontrollkomite\n• de enkelte medlemmer av andre valgte selskapsorganer med unntak av bedriftsforsamlingen","rskl § 7-31, 4. ledd 2. punktum"]
[null,"Opplysningskrav for aksjeverdibaserte godtgjørelser som utelukkende gjelder utdeling av aksjer, egenkapitalbevis eller opsjoner:","rskl § 7-31, 5. ledd "]
[null,"Omfatter opplysningene i spørsmålet over følgende:"]
[{"$f":"+A349+1","v":225},"• antall opsjoner som er tildelt, samt aksjer eller egenkapitalbevis som er gitt av foretaket i løpet av regnskapsåret, og vilkårene for disse,"]
[{"$f":"+A352+1","v":226},"• antall opsjoner som er innløst i løpet av regnskapsåret, og for hver av disse antall aksjer eller egenkapitalbevis som eventuelt er utdelt, innløsningskursen og eventuelle utbetalinger fra selskapet knyttet til innløsningen"]
[{"$f":"+A353+1","v":227},"• antall opsjoner som ikke er innløst ved regnskapsårets slutt, innløsningskursen, forfallstidspunktet og hovedbetingelsene for å utøve rettighetene"]
[{"$f":"+A354+1","v":228},"• endringer i vilkår knyttet til eksisterende aksjeverdibaserte godtgjørelser i løpet av regnskapsåret."]
[null,"Opplysningskrav for alle andre aksjeverdibaserte godtgjørelser:","rskl § 7-31, 4. ledd 3. og 4. punktum"]
[{"$f":"+A355+1","v":229},"Omfatter opplysningene i spørsmål 194 minst en beskrivelse av på hvilken måte utviklingen av verdien til aksjene eller egenkapitalbevisene i selskapet eller i andre selskaper i samme konsern, har påvirket beregningen av den godtgjørelsen som er utbetalt i regnskapsåret?"]
[{"$f":"+A357+1","v":230},"For avtaler om aksjeverdibaserte godtgjøelser som ikke er avsluttet ved regnskapsårets slutt, er det opplyst om\n• avtalens løpetid, og \n• en beskrivelse av på hvilken måte det er avtalt at utviklingen i aksjenes verdi vil påvirke beregningen av fremtidige utbetalinger?"]
["Ytelser til ledende personer mv. i store foretak",null,"rskl § 7-31b"]
[null,"Opplysningene om ytelser til ledende personer mv. kan i stedet gis i en rapport om godtgjørelse til ledende personer, som i så tilfelle formelt blir en del av årsberetningen.","rskl § 7-31b 11. ledd"]
["For allmennaksjeselskaper med aksjer tatt opp til handel på regulert marked, kan opplysninger etter denne paragrafen og eventuelt § 7-32 første ledd i stedet for i noter til årsregnskapet, gis i rapport etter allmennaksjeloven § 6-16 b.","For allmennaksjeselskaper med aksjer tatt opp til handel på regulert marked, kan opplysninger etter denne paragrafen og eventuelt § 7-32 første ledd i stedet for i noter til årsregnskapet, gis i rapport etter allmennaksjeloven § 6-16 b.","rskl § 7-31b 13. ledd"]
[{"$f":"+A358+1","v":231},"Har foretaket opplyst om samlet godtgjørelse og andre fordeler som er gitt til de enkelte ledende ansatte og de enkelte medlemmene av henholdsvis styret, kontrollkomiteen og andre valgte selskapsorganer med unntak av bedriftsforsamlingen?","rskl § 7-31b 1. ledd"]
[{"$f":"+A362+1","v":232},"Er det opplyst om forpliktelser knyttet til aksjeverdibaserte godtgjørelser til fordel for ansatte og tillitsvalgte?","rskl § 7-31b 2. ledd"]
[{"$f":"+A363+1","v":233},"Er det for hver person omfattet av første ledd, som har hatt ansettelsesforhold eller verv for selskapet i løpet av regnskapsåret, gitt opplysninger spesifisert i amsvar med fjerde til niende ledd?:","rskl § 7-31b 3. ledd"]
[null,"Omfatter opplysningene om godtgjørelse eller honorarer minst følgende:","rskl § 7-31b 4. ledd"]
[{"$f":"+A364+1","v":234},"den totale lønn vedkommende har mottatt eller opptjent for tjenester ytt i løpet av regnskapsåret, herunder eventuelle møtehonorarer vedtatt av generalforsamlingen, "]
[{"$f":"+A366+1","v":235},"godtgjørelse og fordeler vedkommende har mottatt fra foretak i samme konsern, "]
[{"$f":"+A367+1","v":236},"godtgjørelse i form av overskuddsdeling eller bonusutbetalinger og grunnen til at slike ytelser er gitt, "]
[{"$f":"+A368+1","v":237},"betydelig eller vesentlig tilleggsgodtgjørelse for spesielle tjenester utenfor de normale funksjoner for en leder, "]
[{"$f":"+A369+1","v":238},"betalt eller skyldig vederlag til hver tidligere administrerende direktør og styreleder i regnskapsåret i forbindelse med avslutning av vedkommendes ansettelsesforhold eller verv, og "]
[{"$f":"+A370+1","v":239},"beregnet verdi av totale fordeler i annet enn kontanter som anses som godtgjørelse."]
[null,"Aksjeverdibasert avlønning"]
[null,"Opplysningskrav for aksjeverdibaserte godtgjørelser som utelukkende gjelder utdeling av aksjer, egenkapitalbevis eller opsjoner, se spørsmål 10 til 13:","rskl § 7-31 5. ledd "]
[null,"Omfatter opplysningene om aksjeverdibaserte godtgjørelser:","rskl § 7-31b 6. ledd"]
[{"$f":"+A371+1","v":240},"antall opsjoner som er tildelt samt aksjer eller egenkapitalbevis som er gitt av foretaket i løpet av regnskapsåret, og vilkårene for å benytte disse, "]
[{"$f":"+A375+1","v":241},"antall opsjoner som er innløst i løpet av regnskapsåret. For hver av disse skal det opplyses om antall aksjer eller egenkapitalbevis som eventuelt er utdelt, innløsningskursen og eventuelle utbetalinger fra selskapet knyttet til innløsningen"]
[{"$f":"+A376+1","v":242},"antall opsjoner som ikke er innløst ved regnskapsårets slutt, innløsningskursen, forfallstidspunktet og hovedbetingelsene for å utøve rettighetene, "]
[{"$f":"+A377+1","v":243},"endring i vilkår knyttet til eksisterende aksjeverdibaserte godtgjørelser i løpet av regnskapsåret."]
[null,"Opplysningskrav for alle andre aksjeverdibaserte godtgjørelser, se spørsmål 14 til 16:"]
[{"$f":"+A378+1","v":244},"Omfatter opplysningene om aksjeverdibaserte godtgjørelser minst en beskrivelse av på hvilken måte utviklingen av verdien til aksjene eller egenkapitalbevisene i selskapet eller i andre selskaper i samme konsern, har påvirket beregningen av den godtgjørelsen som er utbetalt i regnskapsåret?","rskl § 7-31b 5. ledd"]
[{"$f":"+A380+1","v":245},"For avtaler om aksjeverdibaserte godtgjørelser som ikke er avsluttet ved regnskapsårets slutt, er det opplyst om avtalens løpetid?","rskl § 7-31b 5. ledd"]
[{"$f":"+A381+1","v":246},"Er det i tillegg gitt en beskrivelse av på hvilken måte det er avtalt at utviklingen i aksjenes verdi vil påvirke beregningen av fremtidige utbetalinger?"]
[null,"Andre forhold vedrørende ytelser til ledende personer"]
[{"$f":"+A382+1","v":247},"Er det for ytelsesbaserte pensjonsordninger minst opplyst om endringer i den enkeltes opptjente rettigheter etter ordningen i løpet av regnskapsåret?","rskl § 7-31b 7. ledd"]
[{"$f":"+A384+1","v":248},"Er det for innskuddsbaserte pensjonsordninger minst gitt opplysninger om innskudd i ordningen som foretaket i løpet av regnskapsåret har betalt eller er blitt skyldig for hver person som er omfattet av første ledd?","rskl § 7-31b 7. ledd"]
[{"$f":"+A385+1","v":249},"Er det opplyst om arten og omfanget av forpliktelser til å gi særskilt vederlag ved fratredelse, opphør eller endringer av ansettelsesforholdet eller vervet?","rskl § 7-31b 8. ledd"]
[{"$f":"+A386+1","v":250},"Er det opplyst om lån, forskuddsbetalinger og sikkerhetsstillelser selskapet eller andre selskap i konsernet har gitt til personer som omfattet av første ledd, herunder hvilke vilkår som gjelder, avdragsplan, utestående beløp og rentesatsen?","rskl § 7-31b 9. ledd"]
[{"$f":"+A387+1","v":251},"Når en eller flere opplysninger som nevnt i 9. ledd ikke gis fordi den regnskapspliktige ikke har hatt slike forpliktelser, er det opplyst særskilt om det?","rskl § 7-31b 12. ledd"]
[{"$f":"+A388+1","v":252},"Tilleggskrav for ASA som skal utarbeide retningslinjer om fastsettelse av lønn og annen godtgjørelse til ledende personer etter allmennaksjeloven § 6-16 a: Er det opplyst om innholdet i retningslinjene?","rskl § 7-31b 10. ledd"]
["Antall årsverk (pliktig)",null,null,null,null,null,null,null,null,""]
[{"$f":"+A389+1","v":253},"Er det opplyst om antall sysselsatte årsverk i regnskapsåret?","rskl § 7-30",null,null,null,null,null,null,""]
[{"$f":"+A391+1","v":254},"Dersom selskapet ikke har noen ansatte, er dette opplyst?","rskl § 7-30",null,null,null,null,null,null,""]
["Obligatorisk tjenestepensjon (pliktig)",null,null,null,null,null,null,null,null,""]
[{"$f":"+A392+1","v":255},"Er det opplyst om \n• foretaket er pliktig til å ha tjenestepensjonsordning etter lov om obligatorisk tjenestepensjon, og om \n• foretaket har pensjonsordning som oppfyller kravene etter loven. ","rskl § 7-30a",null,null,null,null,null,null,""]
["Godtgjørelse til revisor (pliktig)",null,null,null,null,null,null,null,null,""]
[{"$f":"+A394+1","v":256},"Er det opplyst om godtgjørelse til revisor og hvordan denne er fordelt på hhv \n• lovpålagt revisjon\n• andre attestasjonstjenester\n• skatterådgivning\n• andre tjenester utenfor revisjonen (spesifisert for vesentlig forskjellige tjenester)","rskl § 7-31a",null,null,null,null,null,null,""]
[{"$f":"+A396+1","v":257},"Omfatter også opplysningene godtgjørelse til foretak som revisor har et særskilt samarbeid med?",null,null,null,null,null,null,null,""]
[{"$f":"+A397+1","v":258},"Er det opplyst om eventuelt honorar ført direkte mot egenkapitalen i forbindelse med egenkapitaltransaksjoner?",null,null,null,null,null,null,null,""]
[{"$f":"+A398+1","v":259},"Omfatter også opplysningene godtgjørelse til foretak som revisor har et særskilt samarbeid med?",null,null,null,null,null,null,null,""]
["TRANSAKSJONER MED NÆRSTÅENDE PARTER (Pliktig)",null,"rskl § 7-30b"]
[null,"Transaksjoner mellom konsoliderte foretak kan unnlates opplyst i konsernregnskapet.\n"]
[null,"Nærstående etter denne bestemmelsen er definert i forskrift til regnskapsloven. ","Forskrift til regnskapsloven § 7-30b-1"]
[null,"Kravene til noteopplysninger gjelder ikke transaksjoner med offentlige nærstående."]
[null,"Transaksjoner mellom heleide konsoliderte foretak kan unnlates opplyst i selskapsregnskapet dersom selskapet er unntatt fra dokumentasjonsplikten etter skatteforvaltningsloven § 8-11, 2. ledd. Ved en feil henviser rskl § 7-30b her til skatteforvaltningsloven § 8-9. Departementet er klar over denne feilen, men har ikke hatt kapasitet til å rette det opp. \n","Skatteforvaltningsloven § 8-11, 2. ledd."]
[null,"Er det opplyst om vesentlige transaksjoner med nærstående parter, herunder\n"]
[{"$f":"+A399+1","v":260},"• transaksjonenes beløp"]
[{"$f":"+A406+1","v":261},"• en beskrivelse av hva slags forhold det er mellom selskapet og den nærstående part "]
[{"$f":"+A407+1","v":262},"• andre opplysninger om transaksjonene som er nødvendige for å fortå den regnskapspliktiges og konsernets stilling"]
[null,"For foretak som benytter seg av unntaksregelen om opplysninger om transaksjoner med offentlige nærstående, er det istedenfor kravene i spørsmålene over gitt følgende opplysninger:","Forskrift til regnskapsloven § 7-30b-2"]
[{"$f":"+A408+1","v":263},"• Navnet på den offentlige myndigheten og forholdet til det rapporterende foretaket (kontroll, felles kontroll eller betydelig innflytelse),"]
[{"$f":"+A410+1","v":264},"• arten og omfanget av betydelige transaksjoner, og"]
[{"$f":"+A411+1","v":265},"• for transaksjoner som samlet, men ikke hver for seg, er betydelige, er det gitt en kvalitativ eller kvantitativ indikasjon å deres omfang?"]
["LÅN OG SIKKERHETSSTILLELSE TIL LEDENDE PERSONER, AKSJEEIERE M.V. (Pliktig)",null,"rskl § 7-32",null,null,null,null,null,null,""]
[{"$f":"+A412+1","v":266},"Er lån til eller sikkerhetsstillelse til fordel for daglig leder og leder for styret spesifisert?",null,null,null,null,null,null,null,""]
[{"$f":"+A414+1","v":267},"Er det for hvert lån opplyst om hvilke vilkår som gjelder, herunder rentesatsen og avdragsplanen?",null,null,null,null,null,null,null,""]
[{"$f":"+A415+1","v":268},"Er det opplyst om samlede lån til og samlet sikkerhetsstillelse til fordel for nedennevnte og deres nærstående:\n• ansatte (unntak for nærstående)\n• aksjeeiere (kun i AS/ASA)\n• styremedlemmer (kun i AS/ASA)\n• medlemmer av bedriftsforsamlingen (kun i AS/ASA)",null,null,null,null,null,null,null,""]
[null,"Som nærstående etter denne bestemmelsen regnes:\n• ektefelle og en person som vedkommende bor sammen med i ekteskapslignende forhold\n• slektninger i rett oppstigende eller nedstigende linje og søsken\n• slektninger i rett oppstigelde eller nedstigende linje og søsken til en person som nevnt i nr. 1\n4. ektefelle til, og en person som bor sammen i ekteskapslignende forhold med, noen som er nevnt i nr. 2\n5. foretak der vedkommende selv eller noen som er nevnt i nr. 1 til 4, har slik bestemmende innflytelse som nevnt i rskl § 1-3 annet ledd"]
[{"$f":"+A416+1","v":269},"Er det opplyst om hvilke vilkår som gjelder for slike lån eller sikkerhetsstillelser?",null,null,null,null,null,null,null,""]
[{"$f":"+A418+1","v":270},"Er lån eller sikkerhetsstillelser som utgjør mer enn 5 prosent av egenkapitalen spesifisert?",null,null,null,null,null,null,null,""]
["OFFENTLIGE TILSKUDD",null,null,null,null,null,null,null,null,""]
[null,"Er det i noter til regnskapet gitt følgende tilleggsopplysninger:","NRS 4 Offentlige tilskudd",null,null,null,null,null,null,""]
[{"$f":"+A419+1","v":271},"Type tilskudd, varighet og betingelser knytte til tilskuddet",null,null,null,null,null,null,null,""]
[{"$f":"+A422+1","v":272},"Regnskapsmessig behandling (brutto/nettoføring); behandlingen må vurderes ut fra NRS 4",null,null,null,null,null,null,null,""]
[{"$f":"+A423+1","v":273},"Tilskuddsbeløpets størrelse - hvis ikke kvantifiserbart, omtale om arten og omfanget",null,null,null,null,null,null,null,""]
[{"$f":"+A424+1","v":274},"Opplysninger om tilskudd som ikke direkte fremgår av regnskapet",null,null,null,null,null,null,null,""]
[{"$f":"+A425+1","v":275},"Endring fra brutto- til nettoføring og omvendt (endring av regnskapsprinsipp)",null,null,null,null,null,null,null,""]
["VALUTA",null,null,null,null,null,null,null,null,""]
[{"$f":"+A426+1","v":276},"Er valg av regnskaps- og presentasjonsvaluta begrunnet dersom \n- regnskapsvaluta i selskapsregnskapet er annet enn norske kroner  \n- konsernregnskapet presenteres i annen valuta enn norske kroner \n- selskapsregnskapet presenteres i annen valuta enn regnskapsvalutaen ","NRS 20 Transaksjoner og regnskap i utenlandsk valuta",null,null,null,null,null,null,{"$f":"IF(F428<>\"\",\"Du har satt X for at forholdet ikke er avklart. Gi en nærmere foklaring i kommentarfeltet.\",\"\")","v":""}]
[{"$f":"+A428+1","v":277},"Dersom foretaket endrer regnskapsvaluta, er dette begrunnet, og er det redegjort for vesentlige virkninger av endringen?",null,null,null,null,null,null,null,""]
[278,"Ved omregning til presentasjonsvaluta, er det opplyst om regnskapsvaluta og hvilke omregningskurser som er anvendt for de omregnede enhetenes balanseposter når disse enhetene er vesentlige?",null,null,null,null,null,null,null,""]
[279,"Dersom selskapsregnskapet presenteres i annen valuta enn norske kroner, er det opplyst om omregningskurser til norske kroner?\nDet må minst opplyses om balansedagens kurs og gjennomsnittskurs.",null,null,null,null,null,null,null,""]
[280,"Når det er resultatført vesentlige valutagevinster og/eller -tap, og dette ikke er presentert på egne linjer i resultatregnskapet, er det i note opplyst om hvilke linjer i resultatregnskapet dette gjelder, og med hvilke beløp?",null,null,null,null,null,null,null,""]
[281,"For omregningsdifferanse som er ført mot egenkapitalen, er det opplyst om periodens og akkumulert omregningsdifferanse?\nDette kan opplyses i egenkapitalnoten eller i oppstilling av endringer i egenkapitalen. ",null,null,null,null,null,null,null,""]
[282,"Når vesentlige omregningsdifferanser resultatføres ved avhendelse av enhet, er dette opplyst, og er det opplyst om beløp og hvilken resultatlinje som er påvirket?",null,null,null,null,null,null,null,""]
["SÆRLIGE POSTER",null,null,null,null,null,null,null,null,""]
[null,"Poster som bærer karakter av å være uvanlige og/eller uregelmessige kan klassifiseres som særlige poster og skal spesifiseres på egen linje. ","NRS 5 nr 3",null,null,null,null,null,null,""]
[{"$f":"+A434+1","v":283},"Er grunnlaget for presentasjon på egen linje opplyst? ","NRS 5 nr 3",null,null,null,null,null,null,""]
["KONSERNTILKNYTNING",null,null,null,null,null,null,null,null,""]
[{"$f":"+A437+1","v":284},"Har regnskapspliktig som er datterselskap opplyst om firma og forretningskontor for morselskap som utarbeider konsernregnskap der den regnskapspliktige inngår i konsolideringen?  ","rskl § 7-15",null,null,null,null,null,null,""]
[{"$f":"+A439+1","v":285},"Er det opplyst om hvor en kan få utlevert konsernregnskapene?","rskl § 7-15",null,null,null,null,null,null,""]
["FUSJON",null,null,null,null,null,null,null,null,""]
[null,"Fusjoner regnskapsført som transaksjon (oppkjøpsmetoden):",null,null,null,null,null,null,null,""]
[null,"Er følgende opplysninger gitt i den regnskapsperiode hvor fusjonen finner sted: ","NRS 9 Fusjon",null,null,null,null,null,null,""]
[{"$f":"+A440+1","v":286},"• Navnet på og beskrivelse av det eller de overdragende selskaper.",null,null,null,null,null,null,null,""]
[{"$f":"+A444+1","v":287},"• Oppkjøpstidspunktet",null,null,null,null,null,null,null,""]
[{"$f":"+A445+1","v":288},"• Opplysning om at fusjonen er regnskapsført etter oppkjøpsmetoden.",null,null,null,null,null,null,null,""]
[289,"• Anskaffelseskost, beskrivelse av vederlaget, herunder betinget vederlag. \nI note som spesifiserer egenkapitalendringer skal vederlaget fremgå brutto.",null,null,null,null,null,null,null,""]
[290,"• Goodwill og negativ goodwill.  For goodwill omfatter dette opplysninger om avskrivningsplan.  Dersom goodwill avskrives over mer enn 5 år, skal grunnlaget for økonomisk levetid beskrives.  Det skal dessuten gis begrunnelse for avskrivning etter andre prinsipper enn lineær avskrivning.  For negativ goodwill skal det gis opplysninger om resultatføring.",null,null,null,null,null,null,null,""]
[291,"• Vurdering av utsatt skatt",null,null,null,null,null,null,null,""]
[292,"Dersom fastsettelsen av verdier ved førstegangsinnregning bare er foreløpig, er det opplyst om dette?",null,null,null,null,null,null,null,""]
[293,"Ved etterfølgende justering av tilordningen av anskaffelseskost og/eller anskaffelseskost, er justeringene opplyst om og forklart?",null,null,null,null,null,null,null,""]
[null,"Fusjoner regnskapsført som kontinuitet:",null,null,null,null,null,null,null,""]
[null,"Er følgende opplysninger gitt i den regnskapsperiode hvor fusjonen finner sted: ","NRS 9 Fusjon",null,null,null,null,null,null,""]
[{"$f":"+A451+1","v":294},"• Navnet på og beskrivelse av de selskapene som er innfusjonert",null,null,null,null,null,null,null,{"$f":"IF(F454<>\"\",\"Du har satt X for at forholdet ikke er avklart. Gi en nærmere foklaring i kommentarfeltet.\",\"\")","v":""}]
[{"$f":"+A454+1","v":295},"• Opplysning om og begrunnelse for regnskapsføring etter kontinuitetsmetoden, jf rskl § 7-2 og om det er brukt selskaps- eller konsernkontinuitet.",null,null,null,null,null,null,null,""]
[{"$f":"+A455+1","v":296},"• Beskrivelse av vederlaget.\nDet skal opplyses om hvor stor andel aksjevederlaget utgjør av stemmeberettiget kapital.",null,null,null,null,null,null,null,""]
[null,"Sammenligningstall\nHovedregel er at fusjon ikke i seg selv innebærer omarbeidelse av sammenligningstall. Disse skal derfor være det regnskapsmessig overtakende selskaps regnsakp for foregående år.\nVed fusjon regnskapsført etter kontinuitetsmetoden, er det adgang til å omarbeide sammenligningstallene, forutsatt at de fusjonerende selskapene har vært under samme kontroll i perioden det avlegges sammenligningstall for.  Dersom fusjonen medfører behov for prinsippharmonering, må sammenligningstallene omarbeides tilsvarende.",null,null,null,null,null,null,null,""]
[null,"Proformainformasjon\nVed fusjoner regnskapsført etter oppkjøpsmetoden skal det gis opplysninger som muliggjør sammenligning med tidligere årsregnskap. Dette innebærer som et minimum at det må opplyses om proforma salgsinntekter for hele inneværende år og fjoråret som om fusjonen hadde skjedd fra begynnelsen av sammenligningsperioden.",null,null,null,null,null,null,null,""]
["FISJON",null,null,null,null,null,null,null,null,""]
[null,"Er følgende opplysninger gitt i alle fisjonerte selskaper i den regnskapsperiode hvor fisjonen finner sted:","NRS (F) \nFisjon",null,null,null,null,null,null,""]
[{"$f":"+A456+1","v":297},"• Navnet på alle fisjonerte selskaper.",null,null,null,null,null,null,null,""]
[{"$f":"+A461+1","v":298},"• I overdragende selskap som videreføres: Opplysning om eventuell kapitalnedsettelse og, i tilfelle skjevdeling, om eventuelle innløsningsaksjer.",null,null,null,null,null,null,null,""]
[{"$f":"+A462+1","v":299},"• Delingstidspunkt, eller eventuelt avtaletidspunkt og gjennomføringstidspunkt, som er lagt til grunn i regnskapet.",null,null,null,null,null,null,null,""]
[{"$f":"+A463+1","v":300},"• Fisjonens juridiske struktur.",null,null,null,null,null,null,null,""]
[{"$f":"+A464+1","v":301},"• Anvendelse av regnskapsprinsipp og begrunnelse for dette.",null,null,null,null,null,null,null,""]
[{"$f":"+A465+1","v":302},"• Ved skjevdeling, er det gitt tilleggsinformasjon i samsvar med notekravene for store foretak?",null,null,null,null,null,null,null,""]
[null,"I tillegg til opplysningene som kreves for øvrige foretak, er det for store foretak gitt følgende tilleggsopplysninger i den regnskapsperiode hvor fisjonen finner sted: ","NRS (F) \nFisjon"]
[{"$f":"+A466+1","v":303},"• En nærmere beskrivelse av overdragende selskap, samt overtakende selskap i en fisjonsfusjon."]
[{"$f":"+A468+1","v":304},"• Beskrivelse av alle vederlag."]
[{"$f":"+A469+1","v":305},"• Eventuelle vilkår om etterfølgende justering av delingen."]
[null,"Er det ved fisjon regnskapsført som transaksjon i tillegg gitt følgende opplysninger: "]
[{"$f":"+A470+1","v":306},"• Verdi av tingsuttak og verdi og fordeling av tingsinnskudd"]
[{"$f":"+A472+1","v":307},"• Vurdering av utsatt skatt"]
[{"$f":"+A473+1","v":308},"• I overtakende selskap skal det gis opplysning goodwill og negativ goodwill som for fusjon, Se NRS Fusjon pkt 5."]
[{"$f":"+A474+1","v":309},"• Er solidaransvar som nevnt aksjelovene § 14-11 opplyst, og eventuelt regnskapsført, i samsvar med retningslinjene i NRS 13 Usikre forpliktelser og betingede eiendeler?",null,{"$f":"IF(E475<>\"\",1,0)","v":0}]
[]
[null,"Ekstra notekrav ved skjevdeling",null,null,null,null,null,null,null,""]
[null,"For fusjoner med skjevdeling, er det i tillegg til opplysningene ovenfor gitt følgende tilleggsopplysninger: ",null,null,null,null,null,null,null,""]
[{"$f":"+A475+1","v":310},"• En nærmere beskrivelse av overdragende selskap, samt overtakende selskap i en fisjonsfusjon.",null,null,null,null,null,null,null,""]
[{"$f":"+A479+1","v":311},"• Beskrivelse av alle vederlag.",null,null,null,null,null,null,null,""]
[{"$f":"+A480+1","v":312},"• Eventuelle vilkår om etterfølgende justering av delingen.",null,null,null,null,null,null,null,""]
[null,"Er det ved fisjon regnskapsført som transaksjon i tillegg gitt følgende opplysninger: ",null,null,null,null,null,null,null,""]
[{"$f":"+A481+1","v":313},"• Verdi av tingsuttak og verdi og fordeling av tingsinnskudd",null,null,null,null,null,null,null,""]
[{"$f":"+A483+1","v":314},"• Vurdering av utsatt skatt",null,null,null,null,null,null,null,""]
[{"$f":"+A484+1","v":315},"• I overtakende selskap skal det gis opplysning goodwill og negativ goodwill som for fusjon, Se NRS Fusjon pkt 5.",null,null,null,null,null,null,null,""]
[{"$f":"+A485+1","v":316},"• Er solidaransvar som nevnt aksjelovene § 14-11 opplyst, og eventuelt regnskapsført, i samsvar med retningslinjene i NRS 13 Usikre forpliktelser og betingede eiendeler?",null,{"$f":"IF(E486<>\"\",1,0)","v":0},null,null,null,null,null,""]
[]
[null,"Proformainformasjon",null,null,null,null,null,null,null,""]
[null,"Proformainformasjon pliktes bare gitt i de tilfeller hvor slik informasjon er av svært stor betydning for å kunne bedømme stilling og resultat. \nPrinsipper for utarbeidelse av proformainformasjon følger reglene for konsernselskap. Følgende regler gjelder:",null,null,null,null,null,null,null,""]
[{"$f":"+A486+1","v":317},"• Krav om proforma sammenlignbare tall gjelder normalt bare konsernregnskap, men det skal gis tilsvarende informasjon i selskapsregnskapet dersom et fisjonert selskap ikke er del av et konsern.",null,null,null,null,null,null,null,""]
[{"$f":"+A490+1","v":318},"• Det skal gis proformainformasjon ved skjevdeling av store selskaper",null,null,null,null,null,null,null,""]
[{"$f":"+A491+1","v":319},"• Ved annen skjevdeling skal det gis proformainformasjon, unntatt når ett fisjonert selskap overtar 60 prosent eller mer av overdragende selskaps egenkapital.",null,null,null,null,null,null,null,""]
[{"$f":"+A492+1","v":320},"• Når både overdragende og overtakende selskap i fisjonsfusjon er store selskaper, skal det gis proformainformasjon.",null,null,null,null,null,null,null,""]
[null,"Sammenligningstall",null,null,null,null,null,null,null,""]
[null,"Ved fisjonsfusjon regnskapsført som kontinuitetsunntak skal sammenligningstallene være sammenslåtte regnskapstall fra begge (alle) de fusjonerte selskapene.\nVed øvrige fisjoner skal sammenligningstall ikke omarbeides.",null,null,null,null,null,null,null,""]
["KONSERN",null,null,null,null,null,null,null,null,""]
[{"$f":"+A493+1","v":321},"Ved endring av konsernsammensetning, er det gitt opplysninger som muliggjør sammenligning med tidligere årsregnskap?","rskl § 7-4",null,null,null,null,null,null,""]
[{"$f":"+A497+1","v":322},"Dersom datterselskap er utelatt fra konsolidering etter rskl § 3-8, er dette opplyst og begrunnet?","rskl § 7-15",null,null,null,null,null,null,""]
[null,"Er det gitt noteopplysninger om ",null,null,null,null,null,null,null,""]
[{"$f":"+A498+1","v":323},"• Anvendte konsolideringsprinsipper ved utarbeidelse av konsernregnskap jf rskl § 7-2, herunder prinsipper for behandling av mer- og mindreverdier, goodwill og negativ goodwill med prinsipp for avskrivning eller inntektsføring, interne transaksjoner, minoritetsinteresser, utgang DS, trinnvise kjøp?","NRS 17 Virsomhetskjøp og konsernregnskap kap 9\n\n",{"$f":"IF(E500<>\"\",1,0)","v":0},null,null,null,null,null,""]
[null,null,"rskl § 7-2"]
[{"$f":"+A500+1","v":324},"• Ulike regnskapsprinsipper i morselskap og konsern, og begrunnelse for dette?",null,null,null,null,null,null,null,""]
[{"$f":"+A502+1","v":325},"• Foretaksnavn, forretningskontor, eierandel og stemmeandel for alle datterselskaper? (for utenlandske døtre bør i tillegg landet de er hjemmehørende i oppgis)",null,null,null,null,null,null,null,""]
[{"$f":"+A503+1","v":326},"Dersom datterselskap konsolideres på grunn av at det foreligger kontroll uten at det foreligger et stemmeflertall grunnet eierskap, er dette forklart?",null,null,null,null,null,null,null,""]
[327,"Er det opplyst om navn på selskaper som ikke konsolideres, hvor morselskapet, ved direkte eller indirekte eie har flertallet av stemmene, men likevel ikke har kontroll?",null,null,null,null,null,null,null,""]
[328,"Er det i tillegg opplyst om de forhold som påviser at stemmeflertall likevel ikke gir kontroll?",null,null,null,null,null,null,null,""]
[329,"Ved justering av tilordningen av anskaffelseskost og/eller anskaffelseskost, er justeringene opplyst om og forklart?",null,null,null,null,null,null,null,""]
[330,"Er det opplyst om vesentlige endringer i, og eventuelt oppgjør av, betinget vederlag?",null,null,null,null,null,null,null,""]
[331,"Er negative minoritetsinteresser angitt for hvert selskap med balanseført beløp?",null,null,null,null,null,null,null,""]
[332,"Dersom det er viktig for å bedømme konsernets stilling og resultat, er det opplyst om konserndannelse som skjer etter balansedagen, me før offisielt regnskap avlegges av styret?",null,null,null,null,null,null,null,""]
[null,"Er det gitt følgende opplysninger i den regnskapsperioden hvor oppkjøpet fant sted:",null,null,null,null,null,null,null,""]
[{"$f":"+A510+1","v":333},"• Navnet på selskapet som er oppkjøpt, eller beskrivelse av virksomheten (innmaten) som er kjøpt?","NRS 17 Virsomhetskjøp og konsernregnskap kap 9\n\n",null,null,null,null,null,null,""]
[{"$f":"+A512+1","v":334},"• Tidspunktet for oppnåelse av kontroll (oppkjøpstidspunktet)?",null,null,null,null,null,null,null,""]
[335,"• Eventuelle deler av den sammenslåtte virksomhet som er besluttet solgt eller nedlagt som følge av oppkjøpet?",null,null,null,null,null,null,null,""]
[336,"• Andel av stemmeberettiget kapital som er kjøpt?",null,null,null,null,null,null,null,""]
[337,"• Anskaffelseskost, og beskrivelse av vederlaget, herunder betinget vederlag?",null,null,null,null,null,null,null,""]
[338,"• Behandlingen av utsatt skatt?",null,null,null,null,null,null,null,""]
[339,"Dersom fastsettelsen av verdier ved førstegangsinnregning bare er foreløpig, er det opplyst om dette?",null,null,null,null,null,null,null,""]
[null,"Opplysninger om honorarer, lån etc. i konsern",null,null,null,null,null,null,null,{"$f":"IF(F519<>\"\",\"Du har satt X for at forholdet ikke er avklart. Gi en nærmere foklaring i kommentarfeltet.\",\"\")","v":""}]
[{"$f":"+A518+1","v":340},"• Opplysning om samlet honorar (med vanlig spesifikasjon) til revisor i morselskapet (konsernrevisor) og samlet honorar (spes på bistand og revisjon) for andre revisorer.",null,null,null,null,null,null,null,""]
[{"$f":"+A520+1","v":341},"• Opplysning om samlet lån og sikkerhetsstillelse til konsernledelsen (uavhengig av hvilket selskap i konsernet som har ytt lånet). Dersom dette er samme beløp som i morselskapet kan en henvise til dette.",null,null,null,null,null,null,null,""]
[{"$f":"+A521+1","v":342},"• Samlet lønn og honorarer til konsernsjef (typisk adm. dir. i morselskapet) og \"konsernstyret\" (styret i morselskapet) fra alle konsernselskaper. Dersom dette er samme beløp som i morselskapet kan en henvise til dette.",null,null,null,null,null,null,null,""]
["Kontantstrømoppstillingen"]
["Ekstra notekrav for børsnoterte foretak og foretak av stor allmenn interesse",null,"NRS (F)\nKontantstrøm-oppstilling"]
[null,"Er det gitt opplysninger om: "]
[{"$f":"+A522+1","v":343},"Hvert virksomhetsområdes driftskostnader, annet enn avskrivninger, som ikke har kontantstrømsvirkning, dersom det ikke gis informasjon om kontantstrømmer fra virksomhetsområdene."]
[{"$f":"+A526+1","v":344},"Investeringer som ikke har kontantstrømsvirkning i perioden"]
[{"$f":"+A527+1","v":345},"Ved kjøp og salg (hver for seg) av andre foretak/ virksomheter;\n             - vederlag fordelt på kontanter og ikke kontanter\n             - omløpsmidler, eksklusive kontanter og\n                kontantekvivalenter,\n             - anleggsmidler\n             - gjeld\n             - kontanter og kontantekvivalenter"]
[{"$f":"+A528+1","v":346},"Er det ved bruk av den indirekte modellen opplyst om vesentlige avstemmingsposter under operasjonelle aktiviteter som ikke fremgår av endring i balanseverdier eller i øvrige noter til regnskapet?"]
["FORTSATT DRIFT"]
[{"$f":"+A529+1","v":347},"Dersom det er usikkerhet om fortsatt drift, er dette positivt opplyst i note?","NRS 8 kap. 8"]
["AVVIKLING OG AVHENDELSE AV VIRKSOMHET:",null,"NRS 12 Avvikling og avhendelse",null,null,null,null,null,null,""]
[null,"Foretaksdel under avhendelse",null,null,null,null,null,null,null,""]
[null,"Er det i den periode en foretaksdel anses som under avhendelse, og i senere perioder til og med den perioden foretaksdelen er avhendet, gitt følgende tilleggsopplysninger (uavhengig av om foretaksdelen er presentert separat eller sammen med øvrig virksomhet)? ",null,null,null,null,null,null,null,""]
[{"$f":"+A531+1","v":348},"• en beskrivelse av foretaksdelen",null,null,null,null,null,null,null,""]
[{"$f":"+A535+1","v":349},"• en beskrivelse av forholdene som medfører at foretaksdelen anses som under avhendelse",null,null,null,null,null,null,null,""]
[{"$f":"+A536+1","v":350},"• driftsinntekter og driftskostnader knyttet til virksomheten i foretaksdelen, finansinntekter og finanskostnader knyttet til finansielle eiendeler eller forpliktelser som forventes avhendet som en del av foretaksdelen, og tilhørende skattekostnad, som samlet utgjør nettoresultat av foretaksdelen",null,null,null,null,null,null,null,""]
[{"$f":"+A537+1","v":351},"• Gevinst eller tap ved avhendelsen og eventuell skatt på resultatet",null,null,null,null,null,null,null,""]
[{"$f":"+A538+1","v":352},"• Balanseført verdi av foretaksdel under avhendelse fordelt på anleggsmidler, omløpsmidler, langsiktig gjeld og kortsiktig gjeld",null,null,null,null,null,null,null,""]
[null,"Ved separat presentasjon av foretaksdels under avvikling er det ikke krav om at øvrige noter som spesifiserer poster i resultat og balanse omfatter informasjon om foretaksdel under avhendelse. Det må likevel gis informasjon som er nødvendig for å forstå resultat og økonomisk stilling for foretaket, inkludert foretaksedel under avhendelse. Som et minimum skal det gis informasjon om forpliktelser og betingede forpliktelser knyttet til foretaksdel under avhendelse.",null,null,null,null,null,null,null,""]
[null,"Anleggsmidler under avhendelse",null,null,null,null,null,null,null,""]
[]
[null,"Det kreves ikke spesifikke tilleggsopplysninger for anleggsmidler eller grupper av anleggsmidler som er under avhendelse etter NRS 12 Avvikling og avhendelse. I den grad slike opplysninger er nødvendige for å forstå resultat eller økonomisk stilling skal nødvendige opplysninger etter regnskapslovens generelle bestemmelser gis. ",null,null,null,null,null,null,null,""]
["Tilleggskrav for utvinnere av petroleum, kraftprodusenter og gruvedrift"]
[null,"Følgede tilleggskrav gjelder for skattepliktige etter petroleumsskatteloven:","NRS (F) Resultatskatt"]
[{"$f":"+A539+1","v":353},"Er det opplyst om virkningen av friinntekten på særskatten for foretak som er skattepliktig etter petroleumsskatteloven?","NRS (F) Resultatskatt",null,null,null,null,null,null,{"$f":"IF(F546<>\"\",\"Du har satt X for at forholdet ikke er avklart. Gi en nærmere foklaring i kommentarfeltet.\",\"\")","v":""},null,null,null,"Utvinnere"]
[null,"Følgede tilleggskrav gjelder for regnskapspliktige som har betydelig virksomhet innen utvinning av petroleum, kraftproduksjon eller gruvedrift:","rskl § 7-34"]
[{"$f":"+A546+1","v":354},"Er det gitt opplysninger om antatte reserver og gjenværende utvinnings- eller utnyttelsesperiode, konsesjonsperiode og andre økonomiske betingelser?",null,null,null,null,null,null,null,null,null,null,null,"Utvinnere"]
[{"$f":"+A548+1","v":355},"Er det opplyst særskilt om framtidige utgifter til disponering og opprydding?",null,null,null,null,null,null,null,null,null,null,null,"Utvinnere"]
["Tilleggskrav for rederiselskaper",null,"NRS (F) Resultatskatt",null,null,null,null,null,null,{"$f":"IF(F550<>\"\",\"Du har satt X for at forholdet ikke er avklart. Gi en nærmere foklaring i kommentarfeltet.\",\"\")","v":""}]
[{"$f":"+A549+1","v":356},"Er det gitt en redegjørelse for den praktiske tilnærmingsmetoden som er valgt for å ta hensyn til nåverdieffekten av utsatt beskatningstidspunkt?",null,null,null,null,null,null,null,"",null,null,null,"Rederi"]
[{"$f":"+A551+1","v":357},"Er det vist en oversikt over utvikling i beskattet og ubeskattet egenkapital?",null,null,null,null,null,null,null,"",null,null,null,"Rederi"]
[{"$f":"+A552+1","v":358},"Er det vist en oversikt over utvikling i ubeskattet egenkapital ?",null,null,null,null,null,null,null,"",null,null,null,"Rederi"]
[{"$f":"+A553+1","v":359},"Er virkning på skattekostnaden av inntreden i eller uttreden av ordningen opplyst?",null,null,null,null,null,null,null,"",null,null,null,"Rederi"]
[{"$f":"+A554+1","v":360},"Er beregning av utsatt skatt opplyst?",null,null,null,null,null,null,null,"",null,null,null,"Rederi"]
["Tilleggskrav for borettslag"]
[null,"Tilleggssjekklisten gjelder for borettslag som er pålagt å følge forskrift om årsregnskap og årsberetning for borettslag (årsregnf 2003-06-30 nr.745).  Tilleggsopplysninger i noter til årsregnskapet skal gis i samsvar med regnskapsloven kapittel 7 og minimum inneholde punktene som er listet opp nedenfor. Opplysningene kan utelates når de ikke er av betydning for å bedømme den regnskapspliktiges stilling og resultat. ","F 30.06.2005 nr 745 Forskrift om årsregnskap og årsberetning for borettslag § 5"]
[{"$f":"+A555+1","v":361},"Er det opplyst om disponible midler i samsvar med § 2 dersom opplysningene ikke er gitt i en egen regnskapsoppstilling?",null,null,null,null,null,null,null,null,null,null,null,"Borettslag"]
[{"$f":"+A558+1","v":362},"Er det opplyst om honorar til forretningsfører, dersom dette ikke er spesifisert på egen linje i resultatregnskapet? ",null,null,null,null,null,null,null,null,null,null,null,"Borettslag"]
[{"$f":"+A559+1","v":363},"Er det opplyst om aksjer og andeler i selskaper hvor borettslagets eierandel er over 10 prosent eller investeringen utgjør mer enn 50 prosent av borettslagets egenkapital med slik spesifikasjon?\n• For aksjer: Angivelse av selskapets navn og aksjekapital, antall aksjer, pålydende og balanseført verdi. \n• For andeler og andre investeringer: Opplysninger om selskapets navn og andelens størrelse samt om hvordan dets resultat og stilling kommer til uttrykk i borettslagets årsregnskap. ",null,null,null,null,null,null,null,null,null,null,null,"Borettslag"]
[{"$f":"+A560+1","v":364},"Er det opplyst om eventuelle øremerkede bankinnskudd, som ikke er opplyst gjennom spesifikasjon i balansen? ",null,null,null,null,null,null,null,null,null,null,null,"Borettslag"]
[365,"Er det opplyst om leie av anleggsmidler der leieavtalen er av vesentlig betydning for borettslagets drift? \nDet skal gis opplysninger om hvilke anleggsmidler avtalen omfatter, avtalens varighet, om eventuell rett for virksomheten til å overta anleggsmidlene, samt om den årlige leie.",null,null,null,null,null,null,null,null,null,null,null,"Borettslag"]
[366,"Er det opplyst om spesifikasjon av poster som gjelder vedlikehold og påkostning? \nEventuell vedlikeholdsavsetning skal spesifiseres særskilt, herunder regnskapsmessig behandling av avsetningen. ",null,null,null,null,null,null,null,null,null,null,null,"Borettslag"]
[367,"Er det opplyst om anskaffelseskostnad og anskaffelsesår, basert på ferdigstillelsesdato, for hver post i balansen som gjelder varige driftsmidler? ",null,null,null,null,null,null,null,null,null,null,null,"Borettslag"]
[368,"Er opplysninger om anleggsmidler etter regnskapsloven § 7-12 og § 7-39 første og annet ledd, spesifisert for hvert enkelt anleggsmiddel eller gruppe av anleggsmidler?",null,null,null,null,null,null,null,null,null,null,null,"Borettslag"]
[369,"Er det for hver post under langsiktig gjeld opplyst om rente- og avdragsbetingelser, løpetid og eventuelle andre betingelser av vesentlig betydning for regnskapsbrukerne? \n",null,null,null,null,null,null,null,null,null,null,null,"Borettslag"]
[{"$f":"+A566+1","v":370},"Dersom det er foretatt individuell nedbetaling av gjeld, er det opplyst om dette?",null,null,null,null,null,null,null,null,null,null,null,"Borettslag"]
[{"$f":"+A567+1","v":371},"For borettslag som har ulik prosentvis fordeling av fellesgjeld, er det også gitt en oversikt over hvordan fellesgjelden er fordelt på de ulike borettslagsandelene?",null,null,null,null,null,null,null,null,null,null,null,"Borettslag"]
[{"$f":"+A568+1","v":372},"Dersom avdragene på fellesgjelden i henhold til nedbetalingsplan er beregnet å øke i fremtiden, er det opplyst om hvilket beløp felleskostnadene vil øke med for hver borettslagsandel, basert på gjeldende nedbetalingsplan?",null,null,null,null,null,null,null,null,null,null,null,"Borettslag"]
[{"$f":"+A569+1","v":373},"Dersom eiendelenes balanseførte verdi er lavere enn balanseført verdi av gjelden, er det nærmere opplysninger med angivelse av om virkelig verdi av eiendelene antas å være høyere enn balanseført verdi av gjelden? ",null,null,null,null,null,null,null,null,null,null,null,"Borettslag"]
["Tilleggskrav for eiendomsmeglere"]
[null,"Tilleggssjekklisten gjelder for eiendomsmeglere og andre som er pålagt å følge forskrift om årsregnskap m.m. for eiendomsmeglere (årsregnf.1999-10-14 nr.1084).  ","F 14.10.1999 nr 1084 § 3"]
[{"$f":"+A570+1","v":374},"Er det opplyst om hvor mye foretaket oppbevarer av midler som tilhører klientene (klientmidler), samt om størrelsen på foretakets klientansvar (klientgjeld)? ",null,null,null,null,null,null,null,null,null,null,null,"Eiendomsmegler"]
[{"$f":"+A573+1","v":375},"Dersom klientmidler ikke fullt ut dekker klientansvaret, er underdekningen forklart? \nTilsvarende gjelder dersom innestående på konto for klientmidler overstiger klientansvaret.",null,null,null,null,null,null,null,null,null,null,null,"Eiendomsmegler"]
["Tilleggskrav for inkassovirksomhet"]
[null,"Tilleggssjekklisten gjelder for inkassovirksomhet som er pålagt å følge forskrift om årsregnskap m.m. for inkassovirksomhet (årsregnf. 1999-05-28 nr.655).  ","F 28.05.1999 nr 655 kap 4"]
[{"$f":"+A574+1","v":376},"Opplyses det under regnskapssprinsipper om hovedprinsipper for inntektsføring av inkassosaker, herunder prinsippene for beregning av opptjent fortjeneste, fullføringsgraden og grunnlaget for gruppevurdering?","§ 4-1",null,null,null,null,null,null,null,null,null,null,"Inkassovirksomhet"]
[{"$f":"+A577+1","v":377},"Er det opplyst om avsetninger til tap fordelt på de enkelte poster i balansen?","§ 4-2",null,null,null,null,null,null,null,null,null,null,"Inkassovirksomhet"]
[{"$f":"+A578+1","v":378},"Har de opplyst om hvor mye foretaket oppbevarer av midler som tilhører klientene (klientmidler), samt om størrelsen på foretakets klientansvar (klientgjeld)? \nDersom klientmidlene ikke fullt ut dekker klientansvaret skal underdekningen forklares. Tilsvarende gjelder dersom midler innestående på konto for klientmidler overstiger klientansvaret","§ 4-3",null,null,null,null,null,null,null,null,null,null,"Inkassovirksomhet"]
["Tilleggskrav for verdipapirforetak, forvaltningsselskap og AIF-forvaltere med tillatelse"]
[null,"Tilleggssjekklisten gjelder for verdipapirforetak og andre som er pålagt å følge forskrift om årsregnskap m.m. for verdipapirforetak (årsregnf. 1999-08-23 nr.957).  Regnskapsloven kapittel 7 om noteopplysninger gjelder med de unntak og tillegg som følger av bestemmelsene i dette kapittel. Opplysninger i dette kapittel kan utelates når de ikke er av betydning for å bedømme foretakets eller konsernets stilling og resultat. ","F 23.08.1999 nr 957 kap 5"]
[null,"Selskaper som utarbeider regnskap etter IFRS skal følge § 5-9 femte ledd, § 5-13 og § 5-16."]
[null,"Er det under anvendte regnskapsprinsipper etter regnskapsloven § 7-2 minst opplyst om følgende:","§ 5-2"]
[{"$f":"+A579+1","v":379},"• Prinsippene for beregning av virkelig verdi, herunder om beregningen bygger på observerbare markedsverdier eller om virkelig verdi er beregnet på en annen måte. Det skal opplyses om usikkerheter i beregningene. ",null,null,null,null,null,null,null,null,null,null,null,"Verdipapirforetak"]
[{"$f":"+A584+1","v":380},"• Prinsippene for regnskapsmessig behandling av sikringsvurdering og eventuell porteføljevurdering og kriteriene som er lagt til grunn for slik vurdering. Bruk av sikringsvurdering og porteføljevurdering skal begrunnes. ",null,null,null,null,null,null,null,null,null,null,null,"Verdipapirforetak"]
[{"$f":"+A585+1","v":381},"• Prinsippene for regnskapsmessig behandling av finansielle derivater, herunder kriteriene for klassifikasjon. ",null,null,null,null,null,null,null,null,null,null,null,"Verdipapirforetak"]
[{"$f":"+A586+1","v":382},"• Prinsippene for klassifikasjon av finansielle instrumenter som markedsbaserte finansielle omløpsmidler jf. § 3-1, herunder kriteriene for klassifikasjon av finansielle instrumenter i handelsportefølje. ",null,null,null,null,null,null,null,null,null,null,null,"Verdipapirforetak"]
[{"$f":"+A587+1","v":383},"• Prinsippene for regnskapsmessig behandling av gjeld",null,null,null,null,null,null,null,null,null,null,null,"Verdipapirforetak"]
[{"$f":"+A588+1","v":384},"• Prinsippene for omregning av utenlandsk valuta. ",null,null,null,null,null,null,null,null,null,null,null,"Verdipapirforetak"]
[null,"Regnskapsloven § 7-25 om egenkapital gjelder ikke. ","§ 5-3",null,null,null,null,null,null,null,null,null,null,"Verdipapirforetak"]
[{"$f":"+A589+1","v":385},"Er det opplyst om endringer i egenkapital i løpet av regnskapsåret? \nDet skal gis opplysning om innholdet i hver enkelt endring. Opplysningene kan i stedet gis i oppstillingen av endringer i egenkapitalen. ","§ 5-3",null,null,null,null,null,null,null,null,null,null,"Verdipapirforetak"]
[{"$f":"+A591+1","v":386},"Er det opplyst om finansiell markedsrisiko som nevnt i regnskapsloven § 7-5 annet ledd?: ","§ 5-4",null,null,null,null,null,null,null,null,null,null,"Verdipapirforetak"]
[{"$f":"+A592+1","v":387},"• Opplysninger om hvordan virkelig verdi av finansielle instrumenter som er rentebærende eller har annen rentetilknytning påvirkes av endringer i rentenivået. \nSom et minimum skal det gis opplysninger om tidsrommet fram til avtalt tidspunkt for endring av rentebetingelser. Renteendringstidspunktene skal inndeles etter følgende intervaller: inntil 1 måned, fra 1 måned til 3 måneder, fra 3 måneder til 1 år, fra 1 år til 5 år, over 5 år, poster uten løpetid og totalt for alle intervaller inklusive poster uten løpetid.",null,null,null,null,null,null,null,null,null,null,null,"Verdipapirforetak"]
[{"$f":"+A593+1","v":388},"• Opplysninger om hvordan virkelig verdi av finansielle instrumenter påvirkes av valutakursendringer. \nSom minimum skal det gis opplysninger om valutaposisjoner for de viktigste valutaene. Nettoposisjonen per valuta omregnet til norske kroner skal spesifiseres på hovedgrupper av finansielle eiendeler, gjeld og ikke balanseførte derivater. ",null,null,null,null,null,null,null,null,null,null,null,"Verdipapirforetak"]
[389,"• En redegjørelse for risikoprofilen i aksjeporteføljen. ",null,null,null,null,null,null,null,null,null,null,null,"Verdipapirforetak"]
[390,"Dersom risikoprofilen på balansedagen avviker vesentlig fra situasjonen gjennom året eller etter regnskapsårets utgang, er det gitt ytterligere opplysning om dette?",null,null,null,null,null,null,null,null,null,null,null,"Verdipapirforetak"]
[391,"Likviditetsrisiko  \nI tillegg til opplysninger som nevnt i regnskapsloven §§ 7-19 og 7-21 første ledd, er det opplyst om avtalt restløpetid fordelt på hovedgrupper av finansielle eiendeler, gjeld og ikke balanseførte derivater? \nRestløpetiden skal inndeles etter følgende intervaller: inntil 1 måned, fra 1 måned til 3 måneder, fra 3 måneder til 1 år, fra 1 år til 5 år, over 5 år og totalt for alle intervaller. Hvis enkelte av eiendels- eller gjeldspostene skal tilbakebetales i rater, skal restløpetiden være tiden fra balansedagen til det mest sannsynlige forfallstidspunkt for hvert enkelt avdrag. ","§ 5-5",null,null,null,null,null,null,null,null,null,null,"Verdipapirforetak"]
[392,"Finansielle derivater  \nEr det gitt opplysninger om formålet med foretakets bruk av finansielle derivater?","§ 5-6",null,null,null,null,null,null,null,null,null,null,"Verdipapirforetak"]
[393,"Er det gitt opplysninger om egenskaper ved, samt nominelt beløp og virkelig verdi per årsslutt for henholdsvis renterelaterte derivater, valutarelaterte derivater, egenkapitalrelaterte derivater samt andre finansielle derivater, herunder råvarederivater? \nOpplysningene skal omfatte vesentlige betingelser og forhold som kan påvirke beløpsstørrelse, tidfesting og usikkerhet ved fremtidige kontantstrømmer. Dersom nominelt beløp ikke er representativt for aktiviteten gjennom året skal gjennomsnittlig nominelt beløp for året oppgis. Opplysningene skal gis fordelt på finansielle derivater klassifisert som omløpsmidler i handelsporteføljen og andre finansielle derivater. Virkningen av motregning, jf. verdipapirhandelloven kapittel 14, skal fremkomme. Det skal redegjøres for definisjon av nominelt beløp. Regnskapsloven § 7-5 første ledd og § 7-17 annet ledd gjelder ikke.",null,null,null,null,null,null,null,null,null,null,null,"Verdipapirforetak"]
[394,"Er det under spesifikasjon av salgsinntekter på virksomhetsområder som nevnt i regnskapsloven § 7-8, minst opplysninger om hver type investeringstjeneste som nevnt i verdipapirhandelloven § 2-1 første ledd, samt samlet for tilknyttede tjenester som nevnt i verdipapirhandelloven?","§ 5-7",null,null,null,null,null,null,null,null,null,null,"Verdipapirforetak"]
[395,"Land-for-land-rapportering:\nEr virksomhetsnavn, virksomhetsområde, geografisk marked, inntekter, antall årsverk, resultat før skattekostnad, skattekostnad og mottatte offentlige subsidier spesifisert på land på konsolidert grunnlag?","§ 5-7"]
[null,"Egne aksjer - Regnskapsloven § 7-27 første ledd gjelder ikke. ","§ 5-8",null,null,null,null,null,null,null,null,null,null,"Verdipapirforetak"]
[null,"Aksjer og andeler i andre selskaper - Regnskapsloven § 7-18 gjelder ikke. ","§ 5-9",null,null,null,null,null,null,null,null,null,null,"Verdipapirforetak"]
[{"$f":"+A601+1","v":396},"For investeringer i aksjer og andeler ført under eiendels post A III nr. 6 som er vurdert etter regnskapsloven § 5-8, er det opplysninger som nevnt i regnskapsloven § 7-17 første ledd?",null,null,null,null,null,null,null,null,null,null,null,"Verdipapirforetak"]
[{"$f":"+A604+1","v":397},"Er det i tillegg opplyst om andel av balanseført verdi som er børsnoterte verdipapirer?",null,null,null,null,null,null,null,null,null,null,null,"Verdipapirforetak"]
[{"$f":"+A605+1","v":398},"For øvrige investeringer i aksjer og andeler ført under eiendelspost A III nr. 6, er det opplyst om anskaffelseskost, virkelig verdi dersom slik verdi kan fastsettes, samt andel av balanseført verdi som er børsnoterte verdipapirer? ",null,null,null,null,null,null,null,null,null,null,null,"Verdipapirforetak"]
[399,"For markedsbaserte aksjer ført under eiendelspost B III nr. 2 er det opplysninger som nevnt i regnskapsloven § 7-17 første ledd? ",null,null,null,null,null,null,null,null,null,null,null,"Verdipapirforetak"]
[400,"Er det i tillegg opplyst om andel av balanseført verdi som er børsnoterte verdipapirer?",null,null,null,null,null,null,null,null,null,null,null,"Verdipapirforetak"]
[401,"For investeringer i aksjer og andeler ført under eiendelspost B III nr. 5 som er vurdert etter regnskapsloven § 5-8, er det gitt opplysninger som nevnt i regnskapsloven § 7-17 første ledd?",null,null,null,null,null,null,null,null,null,null,null,"Verdipapirforetak"]
[402,"Er det i tillegg opplyst om andel av balanseført verdi som er børsnoterte verdipapirer?",null,null,null,null,null,null,null,null,null,null,null,"Verdipapirforetak"]
[403," For øvrige investeringer i aksjer og andeler ført under eiendelspost B III nr. 5, er det opplyst om anskaffelseskost, virkelig verdi dersom slik verdi kan fastsettes, samt andel av balanseført verdi som er børsnoterte verdipapirer?",null,null,null,null,null,null,null,null,null,null,null,"Verdipapirforetak"]
[404,"Investeringer i aksjer og andeler oppført i balansen under post A III nr. 6 og post B III nr. 2 og nr. 5 er det spesifisert etter selskap? \nSpesifikasjonen skal omfatte de største investeringene og minst utgjøre 90% av samlet balanseført verdi av investeringene. For hvert selskap skal det opplyses om balanseført verdi, virkelig verdi der slik verdi kan fastsettes, eierandel og antall aksjer. ",null,null,null,null,null,null,null,null,null,null,null,"Verdipapirforetak"]
[405,"Er opplysninger om obligasjoner som nevnt i regnskapsloven § 7-20, gitt fordelt på obligasjoner klassifisert som anleggsmidler, markedsbaserte obligasjoner og øvrige obligasjoner? \nopplysning om gjennomsnittlig rente skal oppgis som gjennomsnittlig effektiv rente. Det skal opplyses om hvordan gjennomsnittlig effektiv rente er beregnet. ","§ 5-10",null,null,null,null,null,null,null,null,null,null,"Verdipapirforetak"]
[406,"Fordringer  \nEr det opplyst om totalt volum av fordringer som foretaket har identifisert som tapsutsatt som følge av svikt i kundens betalingsevne eller betalingsvilje? \nOpplysningen skal uansett omfatte fordringer som ikke er betalt innen 30 dager etter forfall. ","§ 5-11",null,null,null,null,null,null,null,null,null,null,"Verdipapirforetak"]
[{"$f":"+A614+1","v":407},"Er det for fordringer opplyst om størrelsen på tapsavsetninger som er ført til fradrag? ",null,null,null,null,null,null,null,null,null,null,null,"Verdipapirforetak"]
[408,"Er det for hver av postene dessuten opplyst om periodens endringer i spesifiserte tapsavsetninger etter følgende oppsett: \nSpesifisert tapsavsetning 1. januar \n - Periodens konstaterte tap, hvor det tidligere er foretatt spesifisert tapsavsetning \n+ Økte spesifiserte tapsavsetninger i perioden\n + Nye spesifiserte tapsavsetninger \n - Tilbakeføring av spesifiserte tapsavsetninger i perioden \n = Spesifisert tapsavsetning 31. desember ",null,null,null,null,null,null,null,null,null,null,null,"Verdipapirforetak"]
[409,"Ansvarlig lånekapital i andre foretak (eiendel)  \nEr det for hver post under finansielle anleggsmidler opplysninger om foretakets ansvarlige lånekapital i andre foretak?","§ 5-12",null,null,null,null,null,null,null,null,null,null,"Verdipapirforetak"]
[410,"Kapitaldekning  \nEr det opplyst om foretakets kapitaldekning, herunder risikovektet beregningsgrunnlag, netto ansvarlig kapital og kapitaldekningsprosenten? \nRegnskapsloven § 6-6 om sammenligningstall gjelder tilsvarende. ","§ 5-13",null,null,null,null,null,null,null,null,null,null,"Verdipapirforetak"]
[411,"Er ansvarlig kapital spesifisert på ren kjernekapital, kjernekapital og  hver enkelt undergruppe av tilleggskapital, samt på fradrag?",null,null,null,null,null,null,null,null,null,null,null,"Verdipapirforetak"]
[412,"Er forskjellen mellom ren kjernekapital og balanseført egenkapital spesifisert og forklart?",null,null,null,null,null,null,null,null,null,null,null,"Verdipapirforetak"]
[413,"Er beregningsgrunnlaget spesifisert på eiendeler som ikke inngår i handelsporteføljen, poster utenom balansen som ikke inngår i handelsporteføljen, poster som inngår i handelsporteføljen, samt beregningsgrunnlag fra valutarisiko?",null,null,null,null,null,null,null,null,null,null,null,"Verdipapirforetak"]
[{"$f":"+A621+1","v":414},"For foretak som er omfattet av krav til ansvarlig kapital basert på faste kostnader, er beregningen av faste kostnader som utgjør grunnlaget for det påfølgende års kapitalkrav spesifisert?",null,null,null,null,null,null,null,null,null,null,null,"Verdipapirforetak"]
[{"$f":"+A622+1","v":415},"For verdipapirforetak som benytter basismetoden ved beregning av beregningsgrunnlaget for operasjonell risiko, er beregningen spesifisert fordelt på årstall, driftsinntekter, finansinntekter og eventuelle kostnader?",null,null,null,null,null,null,null,null,null,null,null,"Verdipapirforetak"]
[{"$f":"+A623+1","v":416},"Gjeld  \nEr opplysninger om gjennomsnittlig rente på gjeld som nevnt i regnskapsloven § 7-21, 4. ledd også gitt for gjeld ført under post D II nr. 4 øvrig langsiktig gjeld? \nOpplysning om gjennomsnittlig rente skal oppgis som gjennomsnittlig effektiv rente. Det skal i tillegg opplyses om hvordan gjennomsnittlig effektiv rente er beregnet. ","§ 5-14",null,null,null,null,null,null,null,null,null,null,"Verdipapirforetak"]
[417,"Ansvarlig lånekapital (gjeld)  \nEr det gitt en oversikt over betingelsene knyttet til ansvarlig lånekapital, herunder opplysning om avdragsstruktur, sikkerheter og rente?","§ 5-15",null,null,null,null,null,null,null,null,null,null,"Verdipapirforetak"]
[418,"Klientmidler   \nEr det opplyst om størrelsen av finansielle instrumenter og midler som tilhører investorene (klientmidler) som foretaket oppbevarer, samt om størrelsen på foretakets klientansvar (klientgjeld)? ","§ 5-16",null,null,null,null,null,null,null,null,null,null,"Verdipapirforetak"]
[419,"Dersom klientmidlene ikke fullt ut dekker klientansvaret, er underdekningen forklart? \nTilsvarende gjelder dersom midler innestående på konto for klientmidler overstiger klientansvaret. Opplysningene skal gis henholdsvis for aktiv forvaltning av investorers portefølje og andre investeringstjenester. ",null,null,null,null,null,null,null,null,null,null,null,"Verdipapirforetak"]
[{"$f":"+A627+1","v":420},"Nøkkeltall\nEr det opplyst om resultat etter skatt som prosent av forvaltningskapitalen?",null,null,null,null,null,null,null,null,null,null,null,"Verdipapirforetak"]
["Tilleggskrav for verdipapirfond"]
[null,"Tilleggssjekklisten gjelder for verdipapirfond som er pålagt å følge forskrift om årsregnskap m.m. for verdipapirfond (årsregnf 1999-05-28 nr.654). Regnskapsloven kapittel 7 om noteopplysninger gjelder med de unntak og tillegg som følger av bestemmelsene i dette kapittel. Opplysninger som nevnt i dette kapittel kan utelates når de ikke er av betydning for å bedømme verdipapirfondets stilling og resultat. Det skal likevel alltid gis opplysninger som nevnt i §§ 5-3 og 5-9. ","F 28.05.1999 nr 654 kap 5"]
[{"$f":"+A628+1","v":421},"Er det opplysninger om anvendte regnskapsprinsipper for;  \n• regnskapsmessig behandling av finansielle instrumenter, herunder spesielt regnskapsmessig behandling av finansielle derivater; \n• fastsettelse av virkelig verdi, herunder om beregning av virkelig verdi bygger på observerbare markedsverdier eller om den er beregnet på en annen måte? ","§ 5-2",null,null,null,null,null,null,null,null,null,null,"Verdipapirfond"]
[{"$f":"+A631+1","v":422},"Er det opplyst om usikkerheter i beregningene; regnskapsmessig behandling av transaksjonskostnader og regnskapsmessig behandling av utdelinger til andelseierne?","§ 5-2",null,null,null,null,null,null,null,null,null,null,"Verdipapirfond"]
[{"$f":"+A632+1","v":423},"Er det etter regnskapsloven § 7-3 opplysninger om konsekvensen for andelseierne av feil i tidligere årsregnskap og korrigering av slike feil?","§ 5-3",null,null,null,null,null,null,null,null,null,null,"Verdipapirfond"]
[null,"Regnskapsloven §§ 7-17, 7-18 og 7-20 gjelder ikke. ","§ 5-5",null,null,null,null,null,null,null,null,null,null,"Verdipapirfond"]
[{"$f":"+A633+1","v":424},"Er aksjer, andeler og rentebærende verdipapirer spesifiseret fordelt på de børser eller markeder verdipapiret omsettes på? \nSpesifikasjonen skal vise; selskap/utsteder, pålydende/antall aksjer, valuta, anskaffelseskost, virkelig verdi, urealisert gevinst/tap, tegningsrettigheter, verdipapirets prosentvise andel av verdipapirfondets totale forvaltningskapital, for aksjer og andeler: næring og eierandel i selskapet, for rentebærende papirer: risikoklasse. For rentebærende verdipapirer skal det opplyses om rentereguleringstidspunkter og gjennomsnittlig effektiv rente, samt hvordan denne er beregnet. ","§ 5-5",null,null,null,null,null,null,null,null,null,null,"Verdipapirfond"]
[{"$f":"+A635+1","v":425},"Er det gitt en beskrivelse av de finansielle derivatene som er benyttet gjennom året? \nDet skal redegjøres for spesielle risikofaktorer som er knyttet til de enkelte typer av finansielle derivater.","§ 5-6",null,null,null,null,null,null,null,null,null,null,"Verdipapirfond"]
[{"$f":"+A636+1","v":426},"Gis det opplysninger om nominelt beløp og virkelig verdi per årsslutt for henholdsvis renterelaterte derivater, valutarelaterte derivater, egenkapitalrelaterte derivater samt andre finansielle derivater? \nDersom nominelt beløp ikke er representativt for aktiviteten gjennom året skal gjennomsnittlig nominelt beløp for året oppgis. Virkningen av motregning, jf. verdipapirhandelloven kapittel 14, skal fremkomme. Det skal redegjøres for definisjon av nominelt beløp. ","§ 5-6",null,null,null,null,null,null,null,null,null,null,"Verdipapirfond"]
[{"$f":"+A637+1","v":427},"Er omløpshastigheten på fondets verdipapirportefølje oppgitt med beskrivelse av beregningsmetode? \nÅrets transaksjonskostnader i forbindelse med kjøp og salg av finansielle instrumenter skal spesifiseres. ","§ 5-7",null,null,null,null,null,null,null,null,null,null,"Verdipapirfond"]
[null,"Regnskapsloven § 7-25 annet punktum gjelder ikke. ","§ 5-8",null,null,null,null,null,null,null,null,null,null,"Verdipapirfond"]
[{"$f":"+A638+1","v":428},"Er det opplysninger om endringer i egenkapitalen i løpet av regnskapsåret, med angivelse av årsresultat, utdelinger til andelseierne, økning i egenkapital ved utstedelse av andeler og reduksjon i egenkapital ved innløsning av andeler?","§ 5-8",null,null,null,null,null,null,null,null,null,null,"Verdipapirfond"]
[{"$f":"+A640+1","v":429},"Er det opplyst om antall utstedte andeler i verdipapirfondet? \nDet skal opplyses om størrelsen på innløsningskursen per andel med fradrag av innløsningskostnader ved regnskapsårets slutt og hvordan innløsningskursen er beregnet. Det skal gis tilsvarende opplysninger for de to siste regnskapsår. Det skal gis opplysninger om eventuelle særskilte avtaler som er inngått med større andelseiere med hensyn til begrensing i verdipapirfondets plikt til innløsning. ","§ 5-9",null,null,null,null,null,null,null,null,null,null,"Verdipapirfond"]
[{"$f":"+A641+1","v":430},"Er det opplyst om grunnlaget for beregning av provisjonsinntekter fra salg og innløsning av andeler i verdipapirfondet og hvilken prosentsats som benyttes, samt hvilken andel av salgs- og innløsningsprovisjonen som tilfaller verdipapirfondet? ","§ 5-10",null,null,null,null,null,null,null,null,null,null,"Verdipapirfond"]
[{"$f":"+A642+1","v":431},"Er det opplyst om grunnlaget for beregning av den godtgjørelse som depotmottaker har belastet verdipapirfondet med og hvilken prosentsats som benyttes for kostnader ved salg og innløsning av andeler?","§ 5-11",null,null,null,null,null,null,null,null,null,null,"Verdipapirfond"]
[{"$f":"+A643+1","v":432},"Er det opplyst om grunnlaget for beregning av den godtgjørelse som forvaltningsselskapet har belastet verdipapirfondet med og hvilken prosentsats som benyttes? \nI tillegg skal det opplyses om hvilke prosentsatser som har blitt belastet henholdsvis fondet og de enkelte verdipapirfondene som fondet eventuelt har plassert sine midler i. ","§ 5-12",null,null,null,null,null,null,null,null,null,null,"Verdipapirfond"]
[{"$f":"+A644+1","v":433},"Opplyses det om innholdet i postene andre porteføljeinntekter, andre inntekter og andre kostnader? ","§ 5-13",null,null,null,null,null,null,null,null,null,null,"Verdipapirfond"]

{"sheet":"N_Ubesv.","index":5,"n_rows":434,"n_cols":4,"rows_kept":434,"cut":false,"hidden":true,"merged":[]}
["Ubesvart",{"$f":"+Forside!B2","v":0},{"$f":"+Forside!B3","v":2021},"Kommentarer"]
[1,"Er det gitt opplysninger om anvendte regnskapsprinsipper, herunder prinsipper for inntektsføring?"]
[2,"Er det gitt opplysninger om prinsipper for omregning av utenlandsk valuta?"]
[3,"Dersom årsregnskapet presenteres i en annen valuta enn regnskapsvalutaen, er regnskapsvalutaen og omregningskurser opplyst?"]
[4,"Er det opplyst hvordan transaksjoner og balanseposter i utenlandsk valuta er målt?"]
[5,"Er det opplyst om eventuelle praktiske tilnærmingsmetoder for anvendelse av valutakurs ihht NRS 20 Transaksjoner og regnskap i utenlandsk valuta pkt 14 og 20?"]
[6,"Er det opplyst om hvordan valutakursdifferanser og omregningsdifferanser er presentert i finansregnskapet?"]
[7,"Dersom valutakursdifferanser presenteres som annet enn finansinntekt eller -kostnad, er dette begrunnet?"]
[8,"Er det gitt opplysninger om og begrunnelse for eventuell sikringsvurdering?"]
[9,"Er det gitt opplysninger om og begrunnelse for eventuell porteføljevurdering?"]
[10,"Er evt. kontinuitet ved regnskapsføring av fusjon opplyst og begrunnet?"]
[11,"Er det opplyst om anvendte prinsipper for vurdering / regnskapsføring av varelager, herunder metode for tilordning av anskaffelseskost?"]
[12,"Er det opplyst om hovedprinsippene for beregning av fullføringsgraden for anleggskontrakter?"]
[13,"Er det opplyst om avskrivningsmetode for alle poster under anleggsmidler?"]
[14,"Er det opplyst om prinsipper for regnskapsføring av leasingkontrakter, både finansielle og operasjonelle?"]
[15,"Er det opplyst om de regnskapsprinsipper som er anvendt for utgifter til egen forskning og utvikling?"]
[16,"Er det opplyst om metode (prinsipp) for regnskapsføring av investeringer i DS/TS/FKV, andre aksjer og andeler?"]
[17,"Er det opplyst om metode og prinsipper for regnskapsføring av pensjonsforpliktelse, herunder vurdering av pensjonsmidler og aktuartekniske beregninger?"]
[18,"Er det opplyst om prinsipper for beregning av skatt, utsatt skattefordel og -forpliktelse, herunder begrunnelse for skattesatsen ved beregning av utsatt skatt ved oppkjøp?"]
[19,"Er det opplyst om prinsippene for behandling av fjerningskostnader og periodisk vedlikehold? "]
[20,"Er det opplyst om prinsippene for klassifisering av kontanter og kontantekvivalenter?"]
[21,"Er det opplyst om anvendte regnskapsprinsipper for andre vesentlige regnskapsposter?"]
[22,"Er alle de regnskapsprinsipper som er omtalt i notene aktuelle for selskapet?"]
[23,"Er det i note til konsernregnskapet opplyst om konsolideringsprinsipper, herunder\n- mer- og mindreverdier\n- goodwill og negativ goodwill med plan for avskrivning eller inntektsføring\n- transaksjoner mellom konsernselskaper\n- minoritetsinteresser\n- utgang datterselskap\n- trinnvis oppkjøp"]
[24,"Er det opplyst og begrunnet dersom det er forskjellig prinsippanvendelse i selskapsregnskapet og konsernregnskapet? "]
[25,"Er det opplyst om virkningen av endring av regnskapsprinsipp? "]
[26,"Er endring av regnskapsprinsipp begrunnet? "]
[27,"Er sammenligningstall og omarbeiding av disse forklart?"]
[28,"Dersom årsregnskapet presenteres i en annen valuta enn regnskapsvalutaen, er tilsvarende omregningskurser til NOK opplyst?"]
[29,"Er det opplyst om store enkelttransaksjoner?"]
[30,"Er det opplyst om omklassifiseringer?"]
[31,"Er poster som er sammenslått iht. § 6-3 spesifisert?"]
[32,"Er sammenligningstall som er sammenslått iht. § 6-3 tilsvarende spesifisert?"]
[33,"• anskaffelseskost med spesifikasjon av eventuelt balanseførte lånekostnader knyttet til egentilvirkede immaterielle eiendeler?\n\n\n"]
[34,"• tilgang og avgang i løpet av regnskapsåret?"]
[35,"• samlede avskrivninger, nedskrivninger og reversering av nedskrivninger?"]
[36,"• årets avskrivninger, nedskrivninger og reversering av nedskrivninger?"]
[37,"• økonomisk levetid og valg av avskrivningsplan?"]
[38,"• endringer i avskrivningsplan/metode og økonomisk levetid?"]
[39,"Er det gitt opplysninger om hvilke forutsetninger som er lagt til grunn for nedskrivning og reversering av nedskrivning, herunder hvorledes vurderingsenhet og gjennvinnbart beløp er fastsatt?"]
[40,"Er det opplyst om størrelsen på nedskrivning i perioden fordelt på ulike klasser av anleggsmidler, dersom dette ikke fremkommer av resultatregnskapet?"]
[41,"Er det opplyst om størrelsen på reversering i perioden fordelt på ulike klasser av anleggsmidler?"]
[42,"• arten av forskning og utvikling som drives?"]
[43,"• samlede utgifter medgått til FoU i løpet av regnskapsåret?"]
[44,"• Er det opplyst om forventet samlet inntjening av pågående FoU motsvarer medgåtte samlede utgifter? "]
[45,"Dersom det er vesentlig for forståelsen av regnskapet, er det opplyst om de regnskapsprinsipper som er anvendt for utgifter til egen forskning og utvikling?  "]
[46,"Er vesentlige pågående FoU-aktiviteter beskrevet i note til årsregnskapet?"]
[47,"Er avskrivningsplan lenger enn 5 år begrunnet?"]
[48,"Er goodwill spesifisert for hvert enkelt virksomhetskjøp?"]
[49,"Er det gitt opplysninger om hvilke forutsetninger som er lagt til grunn for nedskrivning, herunder hvorledes vurderingsenhet og gjenvinnbart beløp er fastsatt?"]
[50,"Er det opplyst om størrelsen på nedskrivning i perioden fordelt på ulike klasser av anleggsmidler, dersom dette ikke fremkommer av resultatregnskapet?"]
[51,"• Anskaffelseskost med spesifikasjon av eventuelle balanseførte lånekostnader knyttet til egentilvirkede anleggsmidler?"]
[52,"• Tilgang og avgang i løpet av regnskapsåret?"]
[53,"• Årets tilgang av egentilvirkede driftsmidler?"]
[54,"• Samlede avskrivninger, nedskrivninger og reversering av nedskrivninger"]
[55,"• Året avskrivninger, nedskrivninger og reversering av nedskrivninger i regnskapsåret?"]
[56,"• Hvilke forutsetninger som er lagt til grunn for nedskrivning og reversering av nedskrivning, herunder hvorledes vurderingsenhet og gjennvinnbart beløp er fastsatt?"]
[57,"• Størrelsen på reversering i perioden fordelt på ulike klasser av anleggsmidler?"]
[58,"• Størrelsen på nedskrivning i perioden fordelt på ulike klasser av anleggsmidler, dersom dette ikke fremkommer av resultatregnskapet?"]
[59,"• Økonomisk levetid og valg av avskrivningsplan?"]
[60,"• Endringer i avskrivningsplan?"]
[61,"Er det for alle vesentlige leieavtaler, både finansielle og operasjonelle, opplyst om årlig leie samt leieavtalens varighet?"]
[62,"Er det for hver post opplyst om balanseført verdi av leieavtaler? "]
[63,"Er det for vesentlige balanseførte leieavtaler opplyst om hvordan eventuell variabel leie er fastsatt?"]
[64," Er det for vesentlige balanseførte leieavtaler opplyst om variabel leie som er kostnadsført i perioden?"]
[65,"Er det for vesentlige balanseførte leieavtaler opplyst om hvorvidt det eksisterer rett til forlenget leie eller kjøp av eiendelen samt andre utvidelsesklausuler og betingelsene til avtalene?"]
[66,"Er forpliktelsen knyttet til leieavtalen opplyst i note?"]
[67,"Er det opplyst om sum resterende estimerte leieinnbetalinger og nåverdien av disse?"]
[68,"Er estimert leiebetaling som forfaller henholdsvis i løpet av ett år, to til fem år og mer enn fem år fram i tid spesifisert både med nominelt beløp og nåverdi?"]
[69,"Er det opplyst om vesentlige leieavtaler som medfører restriksjoner knyttet til utbytteutdeling, gjeldsopptak og ytterligere inngåelse av leieavtaler?"]
[70,"Ved leie av varig driftsmiddel som ikke er balanseført, er det opplyst om årlig leie og leieavtalens varighet med tilsvarende spesifikasjon som i oppstillingsplanen for balansen? "]
[71,"Er det opplyst om;\n• Foretaksnavn\n• Forretningskontor\n• Eierandel og stemmeandel"]
[72,"Dersom datterselskapet er utelatt fra konsolidering etter rskl § 3-8, er dette opplyst og begrunnet?"]
[73,"For datterselskap som regnskapsføres etter kostmetoden og som ikke konsolideres, er det gitt opplysning om egenkapital og resultat ifølge siste årsregnskap?"]
[74,"Er det i konsernregnskapet opplyst om navnet på foretak der den regnskapspliktige selv eller gjennom datterselskaper eier så mange aksjer eller andeler at de representerer flertallet av stemmene i foretaket, men som ikke er datterselskap fordi det klart kan påvises at slikt eierskap likevel ikke gir bestemmernde innflytelse jr rskl § 1-3, 2. ledd nr. 1?"]
[75,"Er det opplyst om evt. nedskrivning av investeringer i datterselskap?"]
[76,"For hver enkelt investering, er det opplyst om\n• Navn \n• Forretningskontor\n• Eierandel og stemmeandel"]
[77,"Er det for hver enkelt investering opplyst om egenkapital og resultat ifølge siste årsregnskap (gjelder ikke TS som er regnskapsført etter egenkapitalmetoden)"]
[78,"Er det opplyst om evt. nedskrivning av investeringer i tilknyttet selskap eller felleskontrollert virksomhet?"]
[79,"Er det opplyst om innbetalt kapital, skyldig innskudd, andel av resultat dersom resultatandelen avviker vesentlig fra eierandel og spesifikasjonsmåte i deltakers regnskap?"]
[80,"Dersom deltaker innarbeider sin andel linje for linje, er samlet andel i FKV spesifisert for hver hovedgruppe i regnskapet?"]
[81,"Er det for hver vesentlig investering og samlet opplyst om:\n• anskaffelseskost\n• balanseført egenkapital på anskaffelsestidspunktet\n• inngående balanse\n• inntektsført resultat\n• andre endringer i løpet av året\n• utgående balanse\n• merverdier og goodwill inkl avskrivninger på disse\n• aggregerte midlertidige forskjeller på de selskap det ikke er regnskapsført utsatt skatt på"]
[82,"Er det opplyst om eventuelle avvikende regnskapsår? "]
[83,"Er det opplyst om eventuell forskjellig prinsippanvendelse?"]
[84,"Er investeringer i aksjer/andeler hvor foretaket eier mer enn 10 % eller hvor investeringen utgjør mer enn 50 % av den regnskapspliktiges egenkapital, spesifisert etter selskap? \nDette kravet gjelder ikke investeringer som  omfattes av rskl §§ 7-15 eller 7-16 (DS, TS, FKV og investeringer bokført etter egenkapitalmetoden)"]
[85,"Er det for hvert selskap opplyst om;\no Balanseført verdi\no Eventuell markedsverdi\no Eierandel"]
[86,"For finansielle anleggsmidler som vurderes etter § 5-3 der balanseført verdi er større enn virkelig verdi, er det opplyst om balanseført verdi og virkelig verdi av den enkelt eiendel eller en hensiktsmessig gruppering av dem?"]
[87,"Er det gitt en begrunnelse for hvorfor nedskrivning ikke er foretatt, og inkluderer denne holdepunkter for at verdifallet ikke er forbigående?"]
[88,"Er det opplyst om igangværende langsiktige tilvirkningskontrakter."]
[89,"Er det opplyst følgende om igangværende langsiktige tilvirkningskontrakter;\n• Hovedprinsippene for beregning av fullføringsgraden (eksempelvis påløpte kostnader/estimerte totalkostnader)\n• Omfang av igangværende kontrakter (total utført produksjon, påløpte kostnader og estimert fortjeneste)\n• Gjenværende produksjon på tapsprosjekter. "]
[90,"Dersom det ikke er foretatt spesifikasjon i balansen, er følgende tilleggsopplysninger gitt i noter:\n• Andel av utestående fordringer holdt tilbake av kunde iht. kontrakt\n• Opptjente, ikke fakturerte inntekter som er inkludert i kundefordringene\n• Forskuddsfakturert produksjon"]
[91,"Er det opplyst om balanseført verdi av varelager fordelt på råvarer, varer under tilvirkning, egenutviklede ferdigvarer og handelsvarer sammen med tilsvarende tall for foregående år?"]
[92,"Er det vist tilsvarende sammenligningstall?"]
[93,"Er det opplyst om balanseført verdi av samlet varelager fordelt på den delen som er vurdert til anskaffelseskost og den delen som er vurdert til virkelig verdi?"]
[94,"Er det opplyst om periodens resultatførte reverseringer av tidligere perioders nedskrivning og begrunnelse for slik reversering?"]
[95,"Er det opplyst om balanseført verdi av varelager som er stillet til sikkerhet for forpliktelser?"]
[96,"Dersom derivater er vurdert til virkelig verdi basert på § 5-8, er det for hver kategori gitt opplysning om anskaffelseskost, virkelig verdi og periodens resultatførte verdiendring?"]
[97,"Er det også opplyst om vesentlige forutsetninger som ligger til grunn for vurderingen?"]
[98,"For derivater som ikke er vurdert etter virkelig verdi, er det opplyst om virkelig verdi såfremt denne kan fastsettes etter merkedsverdi eller med rimelig tilnærming til denne?"]
[99,"Er opplysningene gitt separat for hver klasse av finansielle derivater?"]
[100,"Er det opplyst om vesentlige betingelser og forhold som kan påvirke beløpsstørrelse, tidfesting og usikkerhet ved fremtidige kontantstrømmer, fordelt på klasser av derivater?"]
[101,"Store foretak: Er det gitt opplysninger om finansiell markedsrisiko fordelt på arter av risiko?"]
[102,"• Hvilken eller hvilke typer sikring foretaket benytter"]
[103,"• Hvordan regnskapsmessig sikring er reflektert i regnskapet"]
[104,"• Hvilke finansielle instrumenter eller varederivater som inngår i sikringsrelasjonene og instrumentenes balanseførte verdier"]
[105,"• Hvordan periodens resultat er påvirket av regnskapsmessig sikring og hvilke resultatlinjer som er påvirket"]
[106,"• Beløp som er ført mot egenkapitalen i perioden, og akkumulert beløp som ikke er reversert fra egenkapitalen"]
[107,"• Varigheten av foretakets sikringer"]
[108,"• Hvordan virkelig verdi er fastsatt for sikringsinstrumenter og sikringsobjekter som er balanseført til virkelig verdi"]
[109,"• Dersom sikring reflekteres i samsvar med NRS 18 paragraf A15, er det opplyst om periodens og akkumulerte gevinster og tap som ikke er resultatført?\nA15 sier at sikring skal reflekteres som følger:\nKontantstrømsikring: realiserte og urealiserte gevinster og tap på sikringsinstrumentet skal ikke resultatføres før det underliggende sikringsobjektet påvirker resultatregnskapet.\nVerdisikring - to alternativer:\nI - Sikringsinstrumentet vurderes til virkelig verdi, og verdiendring knyttet til sikret risiko justerer balanseført verdi av sikringsobjektet. Verdiendringene skal resultatføres løpende.\nII - Verdiendring på sikringsinstrumentet regnskapsføres ikke før sikringsinstrumentet realiseres og sikringsobjektet balanseføres til den verdi som reflekterer effekten av sikringen."]
[110,"• For sikringsrelasjoner som er ført som sikring i samsvar med IAS 39 etter NRS 18 paragraf 20, 2. ledd, er det i tillegg gitt noteopplysninger om sikring som kreves av IFRS 7?"]
[111,"Når finansielle eiendeler og forpliktelser er balanseført til virkelig verdi, herunder eiendeler som er nedskrevet til virkelig verdi, er det opplyst om hvordan virkelig verdi er fastsatt?"]
[112,"Dersom foretaket ikke har nedskrevet en finansiell eiendel til virkelig verdi fordi verdifallet forventes å være forbigående, er det begrunnet hvorfor verdifallet anses forbigående?"]
[113,"Er det for hver post under eiendeler opplyst om fordringer som forfaller senere enn ett år etter regnskapsårets slutt?"]
[114,"Er det vist tilsvarende sammenligningstall? "]
[115,"For hver post innledet med arabertall under gjeld, er den delen av gjeld som forfaller til betaling mer enn fem år etter regnskapsårets slutt spesifisert?"]
[116,"Er det vist tilsvarende sammenligningstall? "]
[117,"Er det opplyst om gjeld sikret ved pant og lignende og balanseført verdi av pantsatte eiendeler?"]
[118,"Dersom det er tatt utlegg i noen av selskapets eiendeler, er dette angitt særskilt?"]
[119,"Er det opplyst om hvilke forpliktelser som er dekket av andre avsetninger som nevnt i rskl § 6-2 D I nr.3?"]
[120,"Store foretak: Er det for obligasjonslån, konvertible lån og langsiktig gjeld til kredittinstitusjoner opplyst om;\n              -  avdragsstruktur\n              -  gjennomsnittlig rente\n              -  særlige vilkår (\"covenants\" ol)"]
[121,"Er det for hver regnskapspost det er aktuelt opplyst om fordringer på og gjeld til henholdsvis konsernselskaper, tilknyttede selskaper og felles kontrollert virksomhet?"]
[122,"Er det opplyst om tilsvarende sammenligningstall fra foregående årsregnskap?"]
[123,"Er det opplyst om samlet forpliktelse i form av pantstillelse, annen sikkerhetsstillelse og garantier til fordel for foretak i samme konsern?"]
[124,"Er nedskrivning av konsernmellomværende opplyst?"]
[125,"Er obligasjoner spesifisert etter debitorkategori og pålydende valuta?"]
[126,"Er det opplyst om balanseført verdi og markedsverdi?"]
[127,"Store foretak: Har foretaket gitt en oversikt over rentereguleringstidspunkter og gjennomsnittlig rente?"]
[128,"Er det for hver kategori av finansielle instrumenter og varederivater som er vurdert etter RL § 5-8 (markedsverdi) opplyst om:\n• anskaffelseskost\n• virkelig verdi\n• periodens resultatførte verdiendringer"]
[129,"Er det opplyst om vesentlige forutsetninger som ligger til grunn for vurderingen?"]
[130,"Er det for finansielle derivater som ikke er vurdert til virkelig verdi etter Rskl § 5-8 opplyst om virkelig verdi, såfremt verdien kan fastsettes etter en markedsverdi eller en rimelig tilnærming til markedsverdien?"]
[131,"• Er det opplyst om ubenyttet del av kassekreditt eller andre trekkrettigheter, og restriksjoner på bruken av disse?"]
[132,"• Er det opplyst om bundne bankinnskudd, herunder skattetrekk?"]
[133,"Er opptjent egenkapital spesifisert?"]
[134,"Er det opplyst om endringer i løpet av året, med spesifikasjon av innholdet i hver enkelt transaksjon, herunder utbytte, avgitt konsernbidrag, ekstraordinært utbytte, emisjon, kapitalnedsettelse o.a?"]
[135,"Er det opplyst om virkning av feil i tidligere årsregnskap og korrigering av slike feil?"]
[136,"Er det opplyst om vesentlige feil i tidligere årsregnskap som er ført direkte mot egenkapitalen?"]
[137,"Er det opplyst om:\n• Aksjekapitalens størrelse\n• Aksjenes pålydende (fordelt på hver aksjeklasse hvis det er flere aksjeklasser)\n• Vedtektsbestemmelser om stemmerett hvis ikke alle aksjene har samme rett\n• Alle rettigheter som kan medføre at det blir utstedt nye aksjer med angivelse av hovedtrekkene i vilkår som gjelder for retten\n• Selskapets 20 største aksjeeiere og deres eierandeler (kan utelate aksjeeiere som eier mindre enn 1 %)"]
[138,"Er det opplyst om aksjer/andeler og rettigheter til aksjer/andeler som eies av:\n• daglig leder\n• medlemmer av styret\n• medlemmer av bedriftsforsamling"]
[139,"Er det opplyst om aksjer/andeler og rettigheter til aksjer/andeler som eies av hver enkelt ledende ansatte og deres personlig nærstående samt hvert enkelt medlem av styret og deres personlig nærstående?"]
[140,"For regnskapspliktige som er utstedere med Norge som hjemstat etter vphl § 5-4, er det opplyst om vesentlige indirekte aksjebesittelser i selskapet?"]
[141,"Dersom egne aksjer ikke vises på egen linje under selskapskapitalen i balansen eller i oppstilling av endringer i egenkapitalen, er spesifikasjon gitt i note? "]
[142,"Dersom selskapet har en beholdning av egne aksjer etter aksjeloven kapittel 9, er det opplyst om antallet, aksjenes pålydende verdi og den andel aksjene utgjør av aksjekapitalen?"]
[143,"Dersom det har vært endringer i beholdning av egne aksjer og datterselskapenes beholdning av aksjer i morselskapet i løpet av regnskapsåret, er det minst opplyst om følgende:\n• bakgrunn for erverv som har funnet sted\n• antall aksjer som er ervervet, vederlag for disse og den andel de utgjør av aksjekapitalen\n• antall aksjer som er avhendet, vederlaget for disse og den andel de utgjør av aksjekapitalen?"]
[144,"Har samvirkeforetak som har medlemskapitalkonti i samsvar med lov om samvirkeforetak § 29, gitt opplysninger om årets utbetaling og avsetning?"]
[145,"Er det opplyst om eventuelle vedtektsbestemmelser og årsmøtevedtak eller forslag til vedtak knyttet til medlemskapitalkonti?"]
[146,"Er det opplyst om beregning av pensjonskostnader og pensjonsforpliktelser?"]
[147,"Er det gitt opplysninger om foretakets pensjonsordninger?"]
[148,"Er det gitt opplysninger om antall personer som er omfattet?"]
[149,"Er det opplyst om regnskapsprinsipper, herunder metode for vurdering av pensjonsmidlene og aktuartekniske beregninger?"]
[150,"Er det opplyst om viktige økonomiske og aktuarmessige forutsetninger?"]
[151,"Er sammensetningen av netto pensjonskostnad vist, herunder eventuelle effekter av oppgjør eller avkorting av pensjonsplan?\nKostnadsført arbeidsgiveravift kan presenteres som separat element i spesifikasjonen av sammensetningen av pensjonskostnaden."]
[152,"Er det opplyst om faktisk avkastning på og sammensetningen av pensjonsmidler?"]
[153,"Er det satt opp en avstemming mellom faktisk netto pensjonsforpliktelse og balanseført netto pensjonsforpliktelse som viser;\n- størrelse av utsatt resultatføring av virkning av estimatendringer\n- avvik mellom faktisk og forventet avkastning på pensjonsmidler\n- virkning av endringer i pensjonsplaner\n- overgangsbeløp som ennå ikke er resultatført\nPeriodisert arbeidsgiveravgift kan presenteres som separat element i spesifikasjonen av sammensetningen av pensjonsforpliktelsen"]
[154,"Er det opplyst om metode for regnskapsføring av arbeidsgiveravgift?"]
[155,"For foretak som anvender prinsipp om innregning av aktuarielle gevinster og tap i perioden de oppstår, er det gitt opplysning om det akkumulerte beløpet av aktuarielle gevinster og tap som er innregnet direkte i annen egenkapital samt årets beløp innregnet direkte i annen egenkapital?"]
[156,"Er det opplyst om årets beløp som er innregnet i resultatregnskapet?"]
[157,"For flerforetaksplan som er ytelsesplan, men som regnskapsføres som innskuddsbasert pensjonsplan, er det gitt følgende opplysninger\n• at planen er en ytelsesbasert pensjonsplan\n• grunnen til at det ikke finnes tilstrekkelig informasjon til å gjøre foretaket i stand til å regnskapsføre planen som en ytelsesbasert pensjonsplan"]
[158,"Hvis overskudd/underskudd i flerforetaksplanen kan påvirke størrelsen på framtidige innskudd, er det i tillegg opplyst om\n• eventuell tilgjengelig informasjon om overskudd/underskudd\n• grunnlaget for å fastsette overskudd/underskudd\n• eventuelle konsekvenser for foretaket"]
[159,"Er det opplyst om beregningen av skattekostnad og utsatt skatt/skattefordel?"]
[160,"Er det opplyst om skatteeffekten av midlertidige forskjeller og underskudd til fremføring som har gitt opphav til utsatt skatt og utsatte fordeler spesifisert på typer av midlertidige forskjeller?"]
[161,"Er det opplyst om balanseført utsatt skattefordel som er sannsynliggjort gjennom fremtidig inntjening?"]
[162,"Er det opplyst om utsatt skattefordel som ikke er balanseført?"]
[163,"Er det opplyst om aggregerte midlertidige forskjeller knyttet til investering i tilknyttet selskap og datterselskap og felles kontrollert virksomhet som det ikke er regnskapsført utsatt skatt på?"]
[164,"Er det opplyst om størrelsen på betalbar og utsatt skatt knyttet til poster som er ført direkte mot egenkapitalen?"]
[165,"Er det satt opp en avstemming som viser sammenhengen mellom skattekostnaden og skatt beregnet som gjennomsnittlig nominell skattesats på resultat før skatt?\nOppstillingen kan utarbeides med utgangspunkt i prosentsammenligning eller kronesammenligning."]
[166,"Er skattekostnad fordelt på norsk og utenlandsk del?"]
[167,"Er det opplyst om virkningen av endring i skatteregler og skattestatus på periodens skattekostnad?"]
[168,"Er det opplyst om summen av garantiforpliktelser som ikke er regnskapsført?"]
[169,"Er det opplyst særskilt dersom slike garantiforpliktelser er sikret ved pant?"]
[170,"Er det opplyst om andre forpliktelser enn garantiforpliktelser som ikke er regnskapsført?  "]
[171,"Er det opplyst særskilt dersom slike forpliktelser er sikret ved pant?"]
[172,"Er avsetninger for usikre forpliktelser delt inn i klasser som gir meningsfylt informasjon mht type avsetning? "]
[173,"Er det for hver klasse av avsetninger gitt informasjon om inngående og utgående balanse?"]
[174,"Er avsetninger for usikre forpliktelser delt inn i klasser som gir meningsfylt informasjon mht type avsetning. "]
[175,"Inngående og utgående balanse."]
[176,"Periodens tillegg i avsetning og ny avsetning"]
[177,"Oppgjør som er motregnet mot avsetning i perioden."]
[178,"Reversering i perioden (annet enn motregning av oppgjør som avsetningen skal dekke)"]
[179,"Økning i avsetning i perioden som skyldes renteeffekten av neddiskontering."]
[180,"En kort beskrivelse av forpliktelsens art og antatt oppgjørstidspunkt."]
[181,"En karakteristikk av usikkerhet med hensyn til oppgjørstidspunkt og størrelse.  Når beregningene er særlig knyttet til forutsetninger om fremtidige hendelser, skal forutsetningene fremgå.  Dersom det er tatt hensyn til forventet gevinst på salg av eiendel ved beregning av oppgjørsverdi, skal dette særskilt opplyses."]
[182,"Mulig regressrett, med særskilt angivelse av hvor mye av slik regressrett som er tatt hensyn til i regnskapsføringen."]
[183,"Er det opplyst om usikre forpliktelser som ikke er regnskapsført?"]
[184,"Er det opplyst særskilt dersom slike forpliktelser er sikret ved pant?"]
[185,"En kort beskrivelse av hver klasse av usikre forpliktelser på balansedagen."]
[186,"Et anslag på virkning i resultatregnskap og balanse av at forpliktelsen var blitt regnskapsført og oppgjørsverdien var blitt målt ved beste estimat på balansedagen. Dersom det ikke regnes som praktisk mulig å gi et slikt anslag, skal grunnene til det oppgis."]
[187,"En indikasjon på usikkerheten i tidspunkt og beløp for oppgjøret."]
[188,"Muligheten for regress."]
[189,"Hvis det er mer enn 50% sannsynlighet for at selskapet vil motta et oppgjør knyttet til betingede eiendeler, er det gitt noteopplysning om disse?"]
[190,"Er det gitt en kort beskrivelse av den betingende eiendelen på balansedagen?"]
[191,"Er det, når den betingede eiendelen ikke er regnskapsført, gitt et anslag på effekt på resultat og balanse dersom den betingede eiendelen hadde blitt regnskapsført? "]
[192,"Dersom det ikke er praktisk mulig å gi et anslag, er dette begrunnet?"]
[193,"• (ikke kostnadsførte) betingede tap som er mindre sannsynlig "]
[194,"• (ikke kostnadsførte) betingede tap som er sannsynlige, men ikke kvantifiserbare "]
[195,"• (ikke kostnadsførte) lite sannsynlige betingede tap som kan få store konsekvenser "]
[196,"• Forhold og beregninger som ligger til grunn for avsetning til betingede tap eller informasjon om betingede tap "]
[197,"Er salgsinntekter spesifisert på virksomhetsområde og geografisk marked?"]
[198,"Hvis resultatregnskapet er presentert etter funksjon, er det i note vist en oppstilling over driftskostnadene etter art?"]
[199,"Er det vist tilsvarende sammenligningstall? "]
[200,"Er lønnskostnader spesifisert på\n• Lønninger\n• Arbeidsgiveravgift\n• Pensjonskostnader\n• Andre ytelser"]
[201,"Er det vist tilsvarende sammenligningstall? "]
[202,"Er det gitt en redegjørelse for bruken av aksjeverdibasert betaling?"]
[203,"Er det opplyst om kostnadsført aksjeverdibasert betaling minst spesifisert på de aktuelle postene i resultatregnskapet?"]
[204,"Er det opplyst om hvordan kostnadene er beregnet, herunder de forutsetninger som er lagt til grunn for beregningene?"]
[205,"Har foretaket gitt opplysninger som setter brukere av foretakets finansregnskap i stand til å forstå arten og omfanget av aksjebaserte betalingsordninger som forelå i løpet av perioden?"]
[206,"a ) En beskrivelse av hver type aksjebasert betalingsordning som forelå på ethvert tidspunkt i løpet av perioden, herunder de generelle vilkårene og betingelsene for hver enkelt ordning, som for eksempel innvinningskrav og maksimal løpetid for tildelte opsjoner, samt oppgjørsmetode (for eksempel i kontanter eller egenkapital). Et foretak med i det vesentligste tilsvarende typer av aksjebaserte betalingsordninger kan samle denne informasjonen, med mindre separate opplysninger for hver ordning er nødvendig for å oppfylle prinsippet i IFRS 2 nr. 44."]
[207,"b) Antall av og veide gjennomsnittlige utøvelseskurser for aksjeopsjoner for hver av følgende grupper av opsjoner:\n\ni) utestående opsjoner ved begynnelsen av perioden,\nii) opsjoner som er tildelt i løpet av perioden,\niii) opsjoner som er gått tapt i løpet av perioden,\niv) opsjoner som er utøvd i løpet av perioden,\nv) opsjoner som er utløpt i løpet av perioden,\nvi) utestående opsjoner ved slutten av perioden, og\nvii) opsjoner som kan utøves ved slutten av perioden."]
[208,"c) For aksjeopsjoner som er utøvd i løpet av perioden, den veide gjennomsnittlige aksjekursen på utøvelsestidspunktet. Dersom opsjoner ble utøvd på regelmessig grunnlag gjennom hele perioden, kan foretaket isteden opplyse om den veid e gjennomsnittlige aksjekursen i løpet av perioden."]
[209,"d) For aksjeopsjoner som er utestående ved utløpet av perioden, området for utøvelseskurser og veid gjennomsnittlig gjenværende avtalt levetid. Dersom området for utøvelseskurser er stort, skal de utestående opsjonene deles opp i områder som er meningsfylte for en vurdering av antallet av og tidsplanen for tilleggsaksjer som kan bli utstedt, samt kontantene som kan bli mottatt ved utøvelse av disse opsjonene."]
[210,"Har foretaket gitt opplysninger som setter brukere av finansregnskapet i stand til å forstå hvordan den virkelige verdien av de mottatte varene eller tjenestene, eller den virkelige verdien av tildelte egenkapitalinstrumentene, ble fastsatt i løpet av perioden?"]
[211,"a) For aksjeopsjoner tildelt i løpet av perioden, den veide gjennomsnittlige virkelige verdien av disse opsjonene på måletidspunktet, samt informasjon om hvordan denne virkelige verdien ble målt, herunder\n\ni) den benyttede opsjonsprissettingsmodellen og data for denne modellen, herunder veid gjennomsnittlig aksjekurs, utøvelseskurs, forventet volatilitet, opsjonens levetid, forventet utbytte, risikofri rente og eventuelle andre data for modellen, herunder hvilken metode som ble benyttet til og forutsetningene for å innarbeide virkningene av forventet tidlig utøvelse,\n\nii) hvordan forventet volatilitet ble fastsatt, herunder en forklaring på i hvilken utstrekning forventet volatilitet var basert på historisk volatilitet, og\n\niii) om og hvordan eventuelle andre sider av opsjonstildelingen ble innarbeidet i målingen av virkelig verdi, for eksempel en markedsbetingelse."]
[212,"b) For andre egenkapitalinstrumenter tildelt i løpet av perioden (bortsett fra aksjeopsjoner), antallet av og den veide gjennomsnittlige virkelige verdien av disse egenkapitalinstrumentene på måletidspunktet, samt informasjon om hvordan denne virkelige verdien ble målt, herunder\n\ni) hvordan virkelig verdi ble fastsatt, dersom den ikke ble målt på grunnlag av en observerbar markedskurs,\n\nii) om og hvordan forventet utbytte ble innarbeidet i målingen av virkelig verdi, og\n\niii) om og hvordan eventuelle andre sider av de tildelte egenkapitalinstrumentene ble innarbeidet i målingen av virkelig verdi."]
[213,"c) For aksjebaserte betalingsordninger som ble endret i løpet av perioden:\n\ni) en forklaring på disse endringene,\n\nii) den direkte tilknyttede, tildelte virkelige verdien (som et resultat av disse endringene), og\n\niii) informasjon om hvordan den direkte tilknyttede, tildelte virkelige verdien ble målt, i overensstemmelse med kravene under bokstav a) og b) ovenfor, der dette er relevant."]
[214,"Dersom foretaket har målt den virkelige verdien av mottatte varer eller tjenester direkte i løpet av perioden, har foretaket opplyst om hvordan denne virkelige verdien ble fastsatt, for eksempel om virkelig verdi ble målt til en markedskurs for de nevnte varene eller tjenestene?"]
[215,"Dersom foretaket har tilbakevist antakelsen i IFRS 2 nr. 13, har foretaket opplyst om dette og gitt en forklaring på hvorfor antakelsen ble tilbakevist?"]
[216,"Har foretaket gitt opplysninger som setter brukere av foretakets finansregnskap i stand til å forstå virkningen av aksjebaserte betalingstransaksjoner på foretakets resultat i perioden, samt på foretakets finansielle stilling?"]
[217,"a) Den samlede kostnaden som ble innregnet for perioden, og som oppstår av aksjebaserte betalingstransaksjoner der de mottatte varene eller tjenestene ikke oppfylte vilkårene for innregning som eiendeler og dermed ble innregnet umiddelbart som kostnad, herunder separate opplysninger om denne delen av den samlede kostnaden som oppstår av transaksjoner regnskapsført som aksjebaserte betalingstransaksjoner som gjøres opp i egenkapital."]
[218,"b) For forpliktelser som oppstår av aksjebaserte betalingstransaksjoner:\n\ni) samlet balanseført verdi ved periodens slutt, og\n\nii) samlet egenverdi ved slutten av perioden for forpliktelser der motpartens rett til kontanter eller andre eiendeler var innvunnet ved utløpet av perioden (for eksempel aksjeoppskrivingsretter som er innvunnet)."]
[219,"Dersom opplysningene som kreves av denne standard, ikke tilfredsstiller prinsippene i nr. 44, 46 og 50, skal foretaket gi tilleggsinformasjon slik at prinsippene oppfylles. Dersom et foretak for eksempel har klassifisert aksjebaserte betalingstransaksjoner som gjort opp i egenkapital i samsvar med nr. 33F, skal foretaket gi et anslag over det beløpet som det forventer å overføre til skattemyndighetene for å gjøre opp den ansattes skattemessige forpliktelse, når det er nødvendig å informere brukerne om virkningen av den framtidige kontantstrømmen forbundet med den aksjebaserte betalingsordningen."]
[220,"Er det opplyst om samlede utgifter til lønn, pensjonsforpliktelser og annen godtgjørelse til:\n• daglig leder\n• styremedlemmer \n• medlemmer i bedriftsforsamlingen "]
[221,"Er det opplyst følgende om ytelser til daglig leder og leder av styret;\n• Arten og omfanget av forpliktelser til å gi særskilt vederlag ved opphør eller endring av ansettelsesforhold / verv\n• Avtaler om bonuser, overskuddsdeling og lignende fordeler"]
[222,"Dersom selskapet ikke har hatt slike utgifter eller forpliktelser som beskrevet i de to foregående punkt, er det opplyst særskilt om det?"]
[223,"Er det opplyst om forpliktelser knyttet til aksjeverdibaserte godtgjørelser til fordel for ansatte og tillitsvalgte?"]
[224,"Er det opplyst om arten og omfanget av de enkelte avtaler om aksjeverdibaserte godtgjørelser til fordel for:\n• de enkelte ledende ansatte\n• de enkelte medlemmer av styre\n• de enkelte medlemmer av kontrollkomite\n• de enkelte medlemmer av andre valgte selskapsorganer med unntak av bedriftsforsamlingen"]
[225,"• antall opsjoner som er tildelt, samt aksjer eller egenkapitalbevis som er gitt av foretaket i løpet av regnskapsåret, og vilkårene for disse,"]
[226,"• antall opsjoner som er innløst i løpet av regnskapsåret, og for hver av disse antall aksjer eller egenkapitalbevis som eventuelt er utdelt, innløsningskursen og eventuelle utbetalinger fra selskapet knyttet til innløsningen"]
[227,"• antall opsjoner som ikke er innløst ved regnskapsårets slutt, innløsningskursen, forfallstidspunktet og hovedbetingelsene for å utøve rettighetene"]
[228,"• endringer i vilkår knyttet til eksisterende aksjeverdibaserte godtgjørelser i løpet av regnskapsåret."]
[229,"Omfatter opplysningene i spørsmål 194 minst en beskrivelse av på hvilken måte utviklingen av verdien til aksjene eller egenkapitalbevisene i selskapet eller i andre selskaper i samme konsern, har påvirket beregningen av den godtgjørelsen som er utbetalt i regnskapsåret?"]
[230,"For avtaler om aksjeverdibaserte godtgjøelser som ikke er avsluttet ved regnskapsårets slutt, er det opplyst om\n• avtalens løpetid, og \n• en beskrivelse av på hvilken måte det er avtalt at utviklingen i aksjenes verdi vil påvirke beregningen av fremtidige utbetalinger?"]
[231,"Har foretaket opplyst om samlet godtgjørelse og andre fordeler som er gitt til de enkelte ledende ansatte og de enkelte medlemmene av henholdsvis styret, kontrollkomiteen og andre valgte selskapsorganer med unntak av bedriftsforsamlingen?"]
[232,"Er det opplyst om forpliktelser knyttet til aksjeverdibaserte godtgjørelser til fordel for ansatte og tillitsvalgte?"]
[233,"Er det for hver person omfattet av første ledd, som har hatt ansettelsesforhold eller verv for selskapet i løpet av regnskapsåret, gitt opplysninger spesifisert i amsvar med fjerde til niende ledd?:"]
[234,"den totale lønn vedkommende har mottatt eller opptjent for tjenester ytt i løpet av regnskapsåret, herunder eventuelle møtehonorarer vedtatt av generalforsamlingen, "]
[235,"godtgjørelse og fordeler vedkommende har mottatt fra foretak i samme konsern, "]
[236,"godtgjørelse i form av overskuddsdeling eller bonusutbetalinger og grunnen til at slike ytelser er gitt, "]
[237,"betydelig eller vesentlig tilleggsgodtgjørelse for spesielle tjenester utenfor de normale funksjoner for en leder, "]
[238,"betalt eller skyldig vederlag til hver tidligere administrerende direktør og styreleder i regnskapsåret i forbindelse med avslutning av vedkommendes ansettelsesforhold eller verv, og "]
[239,"beregnet verdi av totale fordeler i annet enn kontanter som anses som godtgjørelse."]
[240,"antall opsjoner som er tildelt samt aksjer eller egenkapitalbevis som er gitt av foretaket i løpet av regnskapsåret, og vilkårene for å benytte disse, "]
[241,"antall opsjoner som er innløst i løpet av regnskapsåret. For hver av disse skal det opplyses om antall aksjer eller egenkapitalbevis som eventuelt er utdelt, innløsningskursen og eventuelle utbetalinger fra selskapet knyttet til innløsningen"]
[242,"antall opsjoner som ikke er innløst ved regnskapsårets slutt, innløsningskursen, forfallstidspunktet og hovedbetingelsene for å utøve rettighetene, "]
[243,"endring i vilkår knyttet til eksisterende aksjeverdibaserte godtgjørelser i løpet av regnskapsåret."]
[244,"Omfatter opplysningene om aksjeverdibaserte godtgjørelser minst en beskrivelse av på hvilken måte utviklingen av verdien til aksjene eller egenkapitalbevisene i selskapet eller i andre selskaper i samme konsern, har påvirket beregningen av den godtgjørelsen som er utbetalt i regnskapsåret?"]
[245,"For avtaler om aksjeverdibaserte godtgjørelser som ikke er avsluttet ved regnskapsårets slutt, er det opplyst om avtalens løpetid?"]
[246,"Er det i tillegg gitt en beskrivelse av på hvilken måte det er avtalt at utviklingen i aksjenes verdi vil påvirke beregningen av fremtidige utbetalinger?"]
[247,"Er det for ytelsesbaserte pensjonsordninger minst opplyst om endringer i den enkeltes opptjente rettigheter etter ordningen i løpet av regnskapsåret?"]
[248,"Er det for innskuddsbaserte pensjonsordninger minst gitt opplysninger om innskudd i ordningen som foretaket i løpet av regnskapsåret har betalt eller er blitt skyldig for hver person som er omfattet av første ledd?"]
[249,"Er det opplyst om arten og omfanget av forpliktelser til å gi særskilt vederlag ved fratredelse, opphør eller endringer av ansettelsesforholdet eller vervet?"]
[250,"Er det opplyst om lån, forskuddsbetalinger og sikkerhetsstillelser selskapet eller andre selskap i konsernet har gitt til personer som omfattet av første ledd, herunder hvilke vilkår som gjelder, avdragsplan, utestående beløp og rentesatsen?"]
[251,"Når en eller flere opplysninger som nevnt i 9. ledd ikke gis fordi den regnskapspliktige ikke har hatt slike forpliktelser, er det opplyst særskilt om det?"]
[252,"Tilleggskrav for ASA: Er det opplyst om innholdet i erklæringen om fastsettelse av lønn og annen godtgjørelse til ledende ansatte, jf asal § 6-16 a?"]
[253,"Er det opplyst om antall sysselsatte årsverk i regnskapsåret?"]
[254,"Dersom selskapet ikke har noen ansatte, er dette opplyst?"]
[255,"Er det opplyst om \n• foretaket er pliktig til å ha tjenestepensjonsordning etter lov om obligatorisk tjenestepensjon, og om \n• foretaket har pensjonsordning som oppfyller kravene etter loven. "]
[256,"Er det opplyst om godtgjørelse til revisor og hvordan denne er fordelt på hhv \n• lovpålagt revisjon\n• andre attestasjonstjenester\n• skatterådgivning\n• andre tjenester utenfor revisjonen (spesifisert for vesentlig forskjellige tjenester)"]
[257,"Omfatter også opplysningene godtgjørelse til foretak som revisor har et særskilt samarbeid med?"]
[258,"Er det opplyst om eventuelt honorar ført direkte mot egenkapitalen i forbindelse med egenkapitaltransaksjoner?"]
[259,"Omfatter også opplysningene godtgjørelse til foretak som revisor har et særskilt samarbeid med?"]
[260,"• transaksjonenes beløp"]
[261,"• en beskrivelse av hva slags forhold det er mellom selskapet og den nærstående part "]
[262,"• andre opplysninger om transaksjonene som er nødvendige for å fortå den regnskapspliktiges og konsernets stilling"]
[263,"• Navnet på den offentlige myndigheten og forholdet til det rapporterende foretaket (kontroll, felles kontroll eller betydelig innflytelse),"]
[264,"• arten og omfanget av betydelige transaksjoner, og"]
[265,"• for transaksjoner som samlet, men ikke hver for seg, er betydelige, er det gitt en kvalitativ eller kvantitativ indikasjon å deres omfang?"]
[266,"Er lån til eller sikkerhetsstillelse til fordel for daglig leder og leder for styret spesifisert?"]
[267,"Er det for hvert lån opplyst om hvilke vilkår som gjelder, herunder rentesatsen og avdragsplanen?"]
[268,"Er det opplyst om samlede lån til og samlet sikkerhetsstillelse til fordel for nedennevnte og deres nærstående:\n• ansatte (unntak for nærstående)\n• aksjeeiere (kun i AS/ASA)\n• styremedlemmer (kun i AS/ASA)\n• medlemmer av bedriftsforsamlingen (kun i AS/ASA)"]
[269,"Er det opplyst om hvilke vilkår som gjelder for slike lån eller sikkerhetsstillelser?"]
[270,"Er lån eller sikkerhetsstillelser som utgjør mer enn 5 prosent av egenkapitalen spesifisert?"]
[271,"Type tilskudd, varighet og betingelser knytte til tilskuddet"]
[272,"Regnskapsmessig behandling (brutto/nettoføring); behandlingen må vurderes ut fra NRS 4"]
[273,"Tilskuddsbeløpets størrelse - hvis ikke kvantifiserbart, omtale om arten og omfanget"]
[274,"Opplysninger om tilskudd som ikke direkte fremgår av regnskapet"]
[275,"Endring fra brutto- til nettoføring og omvendt (endring av regnskapsprinsipp)"]
[276,"Er valg av regnskaps- og presentasjonsvaluta begrunnet dersom \n- regnskapsvaluta i selskapsregnskapet er annet enn norske kroner  \n- konsernregnskapet presenteres i annen valuta enn norske kroner \n- selskapsregnskapet presenteres i annen valuta enn regnskapsvalutaen "]
[277,"Dersom foretaket endrer regnskapsvaluta, er dette begrunnet, og er det redegjort for vesentlige virkninger av endringen?"]
[278,"Ved omregning til presentasjonsvaluta, er det opplyst om regnskapsvaluta og hvilke omregningskurser som er anvendt for de omregnede enhetenes balanseposter når disse enhetene er vesentlige?"]
[279,"Dersom selskapsregnskapet presenteres i annen valuta enn norske kroner, er det opplyst om omregningskurser til norske kroner?\nDet må minst opplyses om balansedagens kurs og gjennomsnittskurs."]
[280,"Når det er resultatført vesentlige valutagevinster og/eller -tap, og dette ikke er presentert på egne linjer i resultatregnskapet, er det i note opplyst om hvilke linjer i resultatregnskapet dette gjelder, og med hvilke beløp?"]
[281,"For omregningsdifferanse som er ført mot egenkapitalen, er det opplyst om periodens og akkumulert omregningsdifferanse?\nDette kan opplyses i egenkapitalnoten eller i oppstilling av endringer i egenkapitalen. "]
[282,"Når vesentlige omregningsdifferanser resultatføres ved avhendelse av enhet, er dette opplyst, og er det opplyst om beløp og hvilken resultatlinje som er påvirket?"]
[283,"Er grunnlaget for presentasjon på egen linje opplyst? "]
[284,"Har regnskapspliktig som er datterselskap opplyst om firma og forretningskontor for morselskap som utarbeider konsernregnskap der den regnskapspliktige inngår i konsolideringen?  "]
[285,"Er det opplyst om hvor en kan få utlevert konsernregnskapene?"]
[286,"• Navnet på og beskrivelse av det eller de overdragende selskaper."]
[287,"• Oppkjøpstidspunktet"]
[288,"• Opplysning om at fusjonen er regnskapsført etter oppkjøpsmetoden."]
[289,"• Anskaffelseskost, beskrivelse av vederlaget, herunder betinget vederlag. \nI note som spesifiserer egenkapitalendringer skal vederlaget fremgå brutto."]
[290,"• Goodwill og negativ goodwill.  For goodwill omfatter dette opplysninger om avskrivningsplan.  Dersom goodwill avskrives over mer enn 5 år, skal grunnlaget for økonomisk levetid beskrives.  Det skal dessuten gis begrunnelse for avskrivning etter andre prinsipper enn lineær avskrivning.  For negativ goodwill skal det gis opplysninger om resultatføring."]
[291,"• Vurdering av utsatt skatt"]
[292,"Dersom fastsettelsen av verdier ved førstegangsinnregning bare er foreløpig, er det opplyst om dette?"]
[293,"Ved etterfølgende justering av tilordningen av anskaffelseskost og/eller anskaffelseskost, er justeringene opplyst om og forklart?"]
[294,"• Navnet på og beskrivelse av de selskapene som er innfusjonert"]
[295,"• Opplysning om og begrunnelse for regnskapsføring etter kontinuitetsmetoden, jf rskl § 7-2 og om det er brukt selskaps- eller konsernkontinuitet."]
[296,"• Beskrivelse av vederlaget.\nDet skal opplyses om hvor stor andel aksjevederlaget utgjør av stemmeberettiget kapital."]
[297,"• Navnet på alle fisjonerte selskaper."]
[298,"• I overdragende selskap som videreføres: Opplysning om eventuell kapitalnedsettelse og, i tilfelle skjevdeling, om eventuelle innløsningsaksjer."]
[299,"• Delingstidspunkt, eller eventuelt avtaletidspunkt og gjennomføringstidspunkt, som er lagt til grunn i regnskapet."]
[300,"• Fisjonens juridiske struktur."]
[301,"• Anvendelse av regnskapsprinsipp og begrunnelse for dette."]
[302,"• Ved skjevdeling, er det gitt tilleggsinformasjon i samsvar med notekravene for store foretak?"]
[303,"• En nærmere beskrivelse av overdragende selskap, samt overtakende selskap i en fisjonsfusjon."]
[304,"• Beskrivelse av alle vederlag."]
[305,"• Eventuelle vilkår om etterfølgende justering av delingen."]
[306,"• Verdi av tingsuttak og verdi og fordeling av tingsinnskudd"]
[307,"• Vurdering av utsatt skatt"]
[308,"• I overtakende selskap skal det gis opplysning goodwill og negativ goodwill som for fusjon, Se NRS Fusjon pkt 5."]
[309,"• Er solidaransvar som nevnt aksjelovene § 14-11 opplyst, og eventuelt regnskapsført, i samsvar med retningslinjene i NRS 13 Usikre forpliktelser og betingede eiendeler?"]
[310,"• En nærmere beskrivelse av overdragende selskap, samt overtakende selskap i en fisjonsfusjon."]
[311,"• Beskrivelse av alle vederlag."]
[312,"• Eventuelle vilkår om etterfølgende justering av delingen."]
[313,"• Verdi av tingsuttak og verdi og fordeling av tingsinnskudd"]
[314,"• Vurdering av utsatt skatt"]
[315,"• I overtakende selskap skal det gis opplysning goodwill og negativ goodwill som for fusjon, Se NRS Fusjon pkt 5."]
[316,"• Er solidaransvar som nevnt aksjelovene § 14-11 opplyst, og eventuelt regnskapsført, i samsvar med retningslinjene i NRS 13 Usikre forpliktelser og betingede eiendeler?"]
[317,"• Krav om proforma sammenlignbare tall gjelder normalt bare konsernregnskap, men det skal gis tilsvarende informasjon i selskapsregnskapet dersom et fisjonert selskap ikke er del av et konsern."]
[318,"• Det skal gis proformainformasjon ved skjevdeling av store selskaper"]
[319,"• Ved annen skjevdeling skal det gis proformainformasjon, unntatt når ett fisjonert selskap overtar 60 prosent eller mer av overdragende selskaps egenkapital."]
[320,"• Når både overdragende og overtakende selskap i fisjonsfusjon er store selskaper, skal det gis proformainformasjon."]
[321,"Ved endring av konsernsammensetning, er det gitt opplysninger som muliggjør sammenligning med tidligere årsregnskap?"]
[322,"Dersom datterselskap er utelatt fra konsolidering etter rskl § 3-8, er dette opplyst og begrunnet?"]
[323,"• Anvendte konsolideringsprinsipper ved utarbeidelse av konsernregnskap jf rskl § 7-2, herunder prinsipper for behandling av mer- og mindreverdier, goodwill og negativ goodwill med prinsipp for avskrivning eller inntektsføring, interne transaksjoner, minoritetsinteresser, utgang DS, trinnvise kjøp?"]
[324,"• Ulike regnskapsprinsipper i morselskap og konsern, og begrunnelse for dette?"]
[325,"• Foretaksnavn, forretningskontor, eierandel og stemmeandel for alle datterselskaper? (for utenlandske døtre bør i tillegg landet de er hjemmehørende i oppgis)"]
[326,"Dersom datterselskap konsolideres på grunn av at det foreligger kontroll uten at det foreligger et stemmeflertall grunnet eierskap, er dette forklart?"]
[327,"Er det opplyst om navn på selskaper som ikke konsolideres, hvor morselskapet, ved direkte eller indirekte eie har flertallet av stemmene, men likevel ikke har kontroll?"]
[328,"Er det i tillegg opplyst om de forhold som påviser at stemmeflertall likevel ikke gir kontroll?"]
[329,"Ved justering av tilordningen av anskaffelseskost og/eller anskaffelseskost, er justeringene opplyst om og forklart?"]
[330,"Er det opplyst om vesentlige endringer i, og eventuelt oppgjør av, betinget vederlag?"]
[331,"Er negative minoritetsinteresser angitt for hvert selskap med balanseført beløp?"]
[332,"Dersom det er viktig for å bedømme konsernets stilling og resultat, er det opplyst om konserndannelse som skjer etter balansedagen, me før offisielt regnskap avlegges av styret?"]
[333,"• Navnet på selskapet som er oppkjøpt, eller beskrivelse av virksomheten (innmaten) som er kjøpt?"]
[334,"• Tidspunktet for oppnåelse av kontroll (oppkjøpstidspunktet)?"]
[335,"• Eventuelle deler av den sammenslåtte virksomhet som er besluttet solgt eller nedlagt som følge av oppkjøpet?"]
[336,"• Andel av stemmeberettiget kapital som er kjøpt?"]
[337,"• Anskaffelseskost, og beskrivelse av vederlaget, herunder betinget vederlag?"]
[338,"• Behandlingen av utsatt skatt?"]
[339,"Dersom fastsettelsen av verdier ved førstegangsinnregning bare er foreløpig, er det opplyst om dette?"]
[340,"• Opplysning om samlet honorar (med vanlig spesifikasjon) til revisor i morselskapet (konsernrevisor) og samlet honorar (spes på bistand og revisjon) for andre revisorer."]
[341,"• Opplysning om samlet lån og sikkerhetsstillelse til konsernledelsen (uavhengig av hvilket selskap i konsernet som har ytt lånet). Dersom dette er samme beløp som i morselskapet kan en henvise til dette."]
[342,"• Samlet lønn og honorarer til konsernsjef (typisk adm. dir. i morselskapet) og \"konsernstyret\" (styret i morselskapet) fra alle konsernselskaper. Dersom dette er samme beløp som i morselskapet kan en henvise til dette."]
[343,"Hvert virksomhetsområdes driftskostnader, annet enn avskrivninger, som ikke har kontantstrømsvirkning, dersom det ikke gis informasjon om kontantstrømmer fra virksomhetsområdene."]
[344,"Investeringer som ikke har kontantstrømsvirkning i perioden"]
[345,"Ved kjøp og salg (hver for seg) av andre foretak/ virksomheter;\n             - vederlag fordelt på kontanter og ikke kontanter\n             - omløpsmidler, eksklusive kontanter og\n                kontantekvivalenter,\n             - anleggsmidler\n             - gjeld\n             - kontanter og kontantekvivalenter"]
[346,"Er det ved bruk av den indirekte modellen opplyst om vesentlige avstemmingsposter under operasjonelle aktiviteter som ikke fremgår av endring i balanseverdier eller i øvrige noter til regnskapet?"]
[347,"Dersom det er usikkerhet om fortsatt drift, er dette positivt opplyst i note?"]
[348,"• en beskrivelse av foretaksdelen"]
[349,"• en beskrivelse av forholdene som medfører at foretaksdelen anses som under avhendelse"]
[350,"• driftsinntekter og driftskostnader knyttet til virksomheten i foretaksdelen, finansinntekter og finanskostnader knyttet til finansielle eiendeler eller forpliktelser som forventes avhendet som en del av foretaksdelen, og tilhørende skattekostnad, som samlet utgjør nettoresultat av foretaksdelen"]
[351,"• Gevinst eller tap ved avhendelsen og eventuell skatt på resultatet"]
[352,"• Balanseført verdi av foretaksdel under avhendelse fordelt på anleggsmidler, omløpsmidler, langsiktig gjeld og kortsiktig gjeld"]
[353,"Er det opplyst om virkningen av friinntekten på særskatten for foretak som er skattepliktig etter petroleumsskatteloven?"]
[354,"Er det gitt opplysninger om antatte reserver og gjenværende utvinnings- eller utnyttelsesperiode, konsesjonsperiode og andre økonomiske betingelser?"]
[355,"Er det opplyst særskilt om framtidige utgifter til disponering og opprydding?"]
[356,"Er det gitt en redegjørelse for den praktiske tilnærmingsmetoden som er valgt for å ta hensyn til nåverdieffekten av utsatt beskatningstidspunkt?"]
[357,"Er det vist en oversikt over utvikling i beskattet og ubeskattet egenkapital?"]
[358,"Er det vist en oversikt over utvikling i ubeskattet egenkapital ?"]
[359,"Er virkning på skattekostnaden av inntreden i eller uttreden av ordningen opplyst?"]
[360,"Er beregning av utsatt skatt opplyst?"]
[361,"Er det opplyst om disponible midler i samsvar med § 2 dersom opplysningene ikke er gitt i en egen regnskapsoppstilling?"]
[362,"Er det opplyst om honorar til forretningsfører, dersom dette ikke er spesifisert på egen linje i resultatregnskapet? "]
[363,"Er det opplyst om aksjer og andeler i selskaper hvor borettslagets eierandel er over 10 prosent eller investeringen utgjør mer enn 50 prosent av borettslagets egenkapital med slik spesifikasjon?\n• For aksjer: Angivelse av selskapets navn og aksjekapital, antall aksjer, pålydende og balanseført verdi. \n• For andeler og andre investeringer: Opplysninger om selskapets navn og andelens størrelse samt om hvordan dets resultat og stilling kommer til uttrykk i borettslagets årsregnskap. "]
[364,"Er det opplyst om eventuelle øremerkede bankinnskudd, som ikke er opplyst gjennom spesifikasjon i balansen? "]
[365,"Er det opplyst om leie av anleggsmidler der leieavtalen er av vesentlig betydning for borettslagets drift? \nDet skal gis opplysninger om hvilke anleggsmidler avtalen omfatter, avtalens varighet, om eventuell rett for virksomheten til å overta anleggsmidlene, samt om den årlige leie."]
[366,"Er det opplyst om spesifikasjon av poster som gjelder vedlikehold og påkostning? \nEventuell vedlikeholdsavsetning skal spesifiseres særskilt, herunder regnskapsmessig behandling av avsetningen. "]
[367,"Er det opplyst om anskaffelseskostnad og anskaffelsesår, basert på ferdigstillelsesdato, for hver post i balansen som gjelder varige driftsmidler? "]
[368,"Er opplysninger om anleggsmidler etter regnskapsloven § 7-12 og § 7-39 første og annet ledd, spesifisert for hvert enkelt anleggsmiddel eller gruppe av anleggsmidler?"]
[369,"Er det for hver post under langsiktig gjeld opplyst om rente- og avdragsbetingelser, løpetid og eventuelle andre betingelser av vesentlig betydning for regnskapsbrukerne? \n"]
[370,"Dersom det er foretatt individuell nedbetaling av gjeld, er det opplyst om dette?"]
[371,"For borettslag som har ulik prosentvis fordeling av fellesgjeld, er det også gitt en oversikt over hvordan fellesgjelden er fordelt på de ulike borettslagsandelene?"]
[372,"Dersom avdragene på fellesgjelden i henhold til nedbetalingsplan er beregnet å øke i fremtiden, er det opplyst om hvilket beløp felleskostnadene vil øke med for hver borettslagsandel, basert på gjeldende nedbetalingsplan?"]
[373,"Dersom eiendelenes balanseførte verdi er lavere enn balanseført verdi av gjelden, er det nærmere opplysninger med angivelse av om virkelig verdi av eiendelene antas å være høyere enn balanseført verdi av gjelden? "]
[374,"Er det opplyst om hvor mye foretaket oppbevarer av midler som tilhører klientene (klientmidler), samt om størrelsen på foretakets klientansvar (klientgjeld)? "]
[375,"Dersom klientmidler ikke fullt ut dekker klientansvaret, er underdekningen forklart? \nTilsvarende gjelder dersom innestående på konto for klientmidler overstiger klientansvaret."]
[376,"Opplyses det under regnskapssprinsipper om hovedprinsipper for inntektsføring av inkassosaker, herunder prinsippene for beregning av opptjent fortjeneste, fullføringsgraden og grunnlaget for gruppevurdering?"]
[377,"Er det opplyst om avsetninger til tap fordelt på de enkelte poster i balansen?"]
[378,"Har de opplyst om hvor mye foretaket oppbevarer av midler som tilhører klientene (klientmidler), samt om størrelsen på foretakets klientansvar (klientgjeld)? \nDersom klientmidlene ikke fullt ut dekker klientansvaret skal underdekningen forklares. Tilsvarende gjelder dersom midler innestående på konto for klientmidler overstiger klientansvaret"]
[379,"• Prinsippene for beregning av virkelig verdi, herunder om beregningen bygger på observerbare markedsverdier eller om virkelig verdi er beregnet på en annen måte. Det skal opplyses om usikkerheter i beregningene. "]
[380,"• Prinsippene for regnskapsmessig behandling av sikringsvurdering og eventuell porteføljevurdering og kriteriene som er lagt til grunn for slik vurdering. Bruk av sikringsvurdering og porteføljevurdering skal begrunnes. "]
[381,"• Prinsippene for regnskapsmessig behandling av finansielle derivater, herunder kriteriene for klassifikasjon. "]
[382,"• Prinsippene for klassifikasjon av finansielle instrumenter som markedsbaserte finansielle omløpsmidler jf. § 3-1, herunder kriteriene for klassifikasjon av finansielle instrumenter i handelsportefølje. "]
[383,"• Prinsippene for regnskapsmessig behandling av gjeld"]
[384,"• Prinsippene for omregning av utenlandsk valuta. "]
[385,"Er det opplyst om endringer i egenkapital i løpet av regnskapsåret? \nDet skal gis opplysning om innholdet i hver enkelt endring. Opplysningene kan i stedet gis i oppstillingen av endringer i egenkapitalen. "]
[386,"Er det opplyst om finansiell markedsrisiko som nevnt i regnskapsloven § 7-5 annet ledd?: "]
[387,"• Opplysninger om hvordan virkelig verdi av finansielle instrumenter som er rentebærende eller har annen rentetilknytning påvirkes av endringer i rentenivået. \nSom et minimum skal det gis opplysninger om tidsrommet fram til avtalt tidspunkt for endring av rentebetingelser. Renteendringstidspunktene skal inndeles etter følgende intervaller: inntil 1 måned, fra 1 måned til 3 måneder, fra 3 måneder til 1 år, fra 1 år til 5 år, over 5 år, poster uten løpetid og totalt for alle intervaller inklusive poster uten løpetid."]
[388,"• Opplysninger om hvordan virkelig verdi av finansielle instrumenter påvirkes av valutakursendringer. \nSom minimum skal det gis opplysninger om valutaposisjoner for de viktigste valutaene. Nettoposisjonen per valuta omregnet til norske kroner skal spesifiseres på hovedgrupper av finansielle eiendeler, gjeld og ikke balanseførte derivater. "]
[389,"• En redegjørelse for risikoprofilen i aksjeporteføljen. "]
[390,"Dersom risikoprofilen på balansedagen avviker vesentlig fra situasjonen gjennom året eller etter regnskapsårets utgang, er det gitt ytterligere opplysning om dette?"]
[391,"Likviditetsrisiko  \nI tillegg til opplysninger som nevnt i regnskapsloven §§ 7-19 og 7-21 første ledd, er det opplyst om avtalt restløpetid fordelt på hovedgrupper av finansielle eiendeler, gjeld og ikke balanseførte derivater? \nRestløpetiden skal inndeles etter følgende intervaller: inntil 1 måned, fra 1 måned til 3 måneder, fra 3 måneder til 1 år, fra 1 år til 5 år, over 5 år og totalt for alle intervaller. Hvis enkelte av eiendels- eller gjeldspostene skal tilbakebetales i rater, skal restløpetiden være tiden fra balansedagen til det mest sannsynlige forfallstidspunkt for hvert enkelt avdrag. "]
[392,"Finansielle derivater  \nEr det gitt opplysninger om formålet med foretakets bruk av finansielle derivater?"]
[393,"Er det gitt opplysninger om egenskaper ved, samt nominelt beløp og virkelig verdi per årsslutt for henholdsvis renterelaterte derivater, valutarelaterte derivater, egenkapitalrelaterte derivater samt andre finansielle derivater, herunder råvarederivater? \nOpplysningene skal omfatte vesentlige betingelser og forhold som kan påvirke beløpsstørrelse, tidfesting og usikkerhet ved fremtidige kontantstrømmer. Dersom nominelt beløp ikke er representativt for aktiviteten gjennom året skal gjennomsnittlig nominelt beløp for året oppgis. Opplysningene skal gis fordelt på finansielle derivater klassifisert som omløpsmidler i handelsporteføljen og andre finansielle derivater. Virkningen av motregning, jf. verdipapirhandelloven kapittel 14, skal fremkomme. Det skal redegjøres for definisjon av nominelt beløp. Regnskapsloven § 7-5 første ledd og § 7-17 annet ledd gjelder ikke."]
[394,"Er det under spesifikasjon av salgsinntekter på virksomhetsområder som nevnt i regnskapsloven § 7-8, minst opplysninger om hver type investeringstjeneste som nevnt i verdipapirhandelloven § 2-1 første ledd, samt samlet for tilknyttede tjenester som nevnt i verdipapirhandelloven?"]
[395,"Land-for-land-rapportering:\nEr virksomhetsnavn, virksomhetsområde, geografisk marked, inntekter, antall årsverk, resultat før skattekostnad, skattekostnad og mottatte offentlige subsidier spesifisert på land på konsolidert grunnlag?"]
[396,"For investeringer i aksjer og andeler ført under eiendels post A III nr. 6 som er vurdert etter regnskapsloven § 5-8, er det opplysninger som nevnt i regnskapsloven § 7-17 første ledd?"]
[397,"Er det i tillegg opplyst om andel av balanseført verdi som er børsnoterte verdipapirer?"]
[398,"For øvrige investeringer i aksjer og andeler ført under eiendelspost A III nr. 6, er det opplyst om anskaffelseskost, virkelig verdi dersom slik verdi kan fastsettes, samt andel av balanseført verdi som er børsnoterte verdipapirer? "]
[399,"For markedsbaserte aksjer ført under eiendelspost B III nr. 2 er det opplysninger som nevnt i regnskapsloven § 7-17 første ledd? "]
[400,"Er det i tillegg opplyst om andel av balanseført verdi som er børsnoterte verdipapirer?"]
[401,"For investeringer i aksjer og andeler ført under eiendelspost B III nr. 5 som er vurdert etter regnskapsloven § 5-8, er det gitt opplysninger som nevnt i regnskapsloven § 7-17 første ledd?"]
[402,"Er det i tillegg opplyst om andel av balanseført verdi som er børsnoterte verdipapirer?"]
[403," For øvrige investeringer i aksjer og andeler ført under eiendelspost B III nr. 5, er det opplyst om anskaffelseskost, virkelig verdi dersom slik verdi kan fastsettes, samt andel av balanseført verdi som er børsnoterte verdipapirer?"]
[404,"Investeringer i aksjer og andeler oppført i balansen under post A III nr. 6 og post B III nr. 2 og nr. 5 er det spesifisert etter selskap? \nSpesifikasjonen skal omfatte de største investeringene og minst utgjøre 90% av samlet balanseført verdi av investeringene. For hvert selskap skal det opplyses om balanseført verdi, virkelig verdi der slik verdi kan fastsettes, eierandel og antall aksjer. "]
[405,"Er opplysninger om obligasjoner som nevnt i regnskapsloven § 7-20, gitt fordelt på obligasjoner klassifisert som anleggsmidler, markedsbaserte obligasjoner og øvrige obligasjoner? \nopplysning om gjennomsnittlig rente skal oppgis som gjennomsnittlig effektiv rente. Det skal opplyses om hvordan gjennomsnittlig effektiv rente er beregnet. "]
[406,"Fordringer  \nEr det opplyst om totalt volum av fordringer som foretaket har identifisert som tapsutsatt som følge av svikt i kundens betalingsevne eller betalingsvilje? \nOpplysningen skal uansett omfatte fordringer som ikke er betalt innen 30 dager etter forfall. "]
[407,"Er det for fordringer opplyst om størrelsen på tapsavsetninger som er ført til fradrag? "]
[408,"Er det for hver av postene dessuten opplyst om periodens endringer i spesifiserte tapsavsetninger etter følgende oppsett: \nSpesifisert tapsavsetning 1. januar \n - Periodens konstaterte tap, hvor det tidligere er foretatt spesifisert tapsavsetning \n+ Økte spesifiserte tapsavsetninger i perioden\n + Nye spesifiserte tapsavsetninger \n - Tilbakeføring av spesifiserte tapsavsetninger i perioden \n = Spesifisert tapsavsetning 31. desember "]
[409,"Ansvarlig lånekapital i andre foretak (eiendel)  \nEr det for hver post under finansielle anleggsmidler opplysninger om foretakets ansvarlige lånekapital i andre foretak?"]
[410,"Kapitaldekning  \nEr det opplyst om foretakets kapitaldekning, herunder risikovektet beregningsgrunnlag, netto ansvarlig kapital og kapitaldekningsprosenten? \nRegnskapsloven § 6-6 om sammenligningstall gjelder tilsvarende. "]
[411,"Er ansvarlig kapital spesifisert på ren kjernekapital, kjernekapital og  hver enkelt undergruppe av tilleggskapital, samt på fradrag?"]
[412,"Er forskjellen mellom ren kjernekapital og balanseført egenkapital spesifisert og forklart?"]
[413,"Er beregningsgrunnlaget spesifisert på eiendeler som ikke inngår i handelsporteføljen, poster utenom balansen som ikke inngår i handelsporteføljen, poster som inngår i handelsporteføljen, samt beregningsgrunnlag fra valutarisiko?"]
[414,"For foretak som er omfattet av krav til ansvarlig kapital basert på faste kostnader, er beregningen av faste kostnader som utgjør grunnlaget for det påfølgende års kapitalkrav spesifisert?"]
[415,"For verdipapirforetak som benytter basismetoden ved beregning av beregningsgrunnlaget for operasjonell risiko, er beregningen spesifisert fordelt på årstall, driftsinntekter, finansinntekter og eventuelle kostnader?"]
[416,"Gjeld  \nEr opplysninger om gjennomsnittlig rente på gjeld som nevnt i regnskapsloven § 7-21, 4. ledd også gitt for gjeld ført under post D II nr. 4 øvrig langsiktig gjeld? \nOpplysning om gjennomsnittlig rente skal oppgis som gjennomsnittlig effektiv rente. Det skal i tillegg opplyses om hvordan gjennomsnittlig effektiv rente er beregnet. "]
[417,"Ansvarlig lånekapital (gjeld)  \nEr det gitt en oversikt over betingelsene knyttet til ansvarlig lånekapital, herunder opplysning om avdragsstruktur, sikkerheter og rente?"]
[418,"Klientmidler   \nEr det opplyst om størrelsen av finansielle instrumenter og midler som tilhører investorene (klientmidler) som foretaket oppbevarer, samt om størrelsen på foretakets klientansvar (klientgjeld)? "]
[419,"Dersom klientmidlene ikke fullt ut dekker klientansvaret, er underdekningen forklart? \nTilsvarende gjelder dersom midler innestående på konto for klientmidler overstiger klientansvaret. Opplysningene skal gis henholdsvis for aktiv forvaltning av investorers portefølje og andre investeringstjenester. "]
[420,"Nøkkeltall\nEr det opplyst om resultat etter skatt som prosent av forvaltningskapitalen?"]
[421,"Er det opplysninger om anvendte regnskapsprinsipper for;  \n• regnskapsmessig behandling av finansielle instrumenter, herunder spesielt regnskapsmessig behandling av finansielle derivater; \n• fastsettelse av virkelig verdi, herunder om beregning av virkelig verdi bygger på observerbare markedsverdier eller om den er beregnet på en annen måte? "]
[422,"Er det opplyst om usikkerheter i beregningene; regnskapsmessig behandling av transaksjonskostnader og regnskapsmessig behandling av utdelinger til andelseierne?"]
[423,"Er det etter regnskapsloven § 7-3 opplysninger om konsekvensen for andelseierne av feil i tidligere årsregnskap og korrigering av slike feil?"]
[424,"Er aksjer, andeler og rentebærende verdipapirer spesifiseret fordelt på de børser eller markeder verdipapiret omsettes på? \nSpesifikasjonen skal vise; selskap/utsteder, pålydende/antall aksjer, valuta, anskaffelseskost, virkelig verdi, urealisert gevinst/tap, tegningsrettigheter, verdipapirets prosentvise andel av verdipapirfondets totale forvaltningskapital, for aksjer og andeler: næring og eierandel i selskapet, for rentebærende papirer: risikoklasse. For rentebærende verdipapirer skal det opplyses om rentereguleringstidspunkter og gjennomsnittlig effektiv rente, samt hvordan denne er beregnet. "]
[425,"Er det gitt en beskrivelse av de finansielle derivatene som er benyttet gjennom året? \nDet skal redegjøres for spesielle risikofaktorer som er knyttet til de enkelte typer av finansielle derivater."]
[426,"Gis det opplysninger om nominelt beløp og virkelig verdi per årsslutt for henholdsvis renterelaterte derivater, valutarelaterte derivater, egenkapitalrelaterte derivater samt andre finansielle derivater? \nDersom nominelt beløp ikke er representativt for aktiviteten gjennom året skal gjennomsnittlig nominelt beløp for året oppgis. Virkningen av motregning, jf. verdipapirhandelloven kapittel 14, skal fremkomme. Det skal redegjøres for definisjon av nominelt beløp. "]
[427,"Er omløpshastigheten på fondets verdipapirportefølje oppgitt med beskrivelse av beregningsmetode? \nÅrets transaksjonskostnader i forbindelse med kjøp og salg av finansielle instrumenter skal spesifiseres. "]
[428,"Er det opplysninger om endringer i egenkapitalen i løpet av regnskapsåret, med angivelse av årsresultat, utdelinger til andelseierne, økning i egenkapital ved utstedelse av andeler og reduksjon i egenkapital ved innløsning av andeler?"]
[429,"Er det opplyst om antall utstedte andeler i verdipapirfondet? \nDet skal opplyses om størrelsen på innløsningskursen per andel med fradrag av innløsningskostnader ved regnskapsårets slutt og hvordan innløsningskursen er beregnet. Det skal gis tilsvarende opplysninger for de to siste regnskapsår. Det skal gis opplysninger om eventuelle særskilte avtaler som er inngått med større andelseiere med hensyn til begrensing i verdipapirfondets plikt til innløsning. "]
[430,"Er det opplyst om grunnlaget for beregning av provisjonsinntekter fra salg og innløsning av andeler i verdipapirfondet og hvilken prosentsats som benyttes, samt hvilken andel av salgs- og innløsningsprovisjonen som tilfaller verdipapirfondet? "]
[431,"Er det opplyst om grunnlaget for beregning av den godtgjørelse som depotmottaker har belastet verdipapirfondet med og hvilken prosentsats som benyttes for kostnader ved salg og innløsning av andeler?"]
[432,"Er det opplyst om grunnlaget for beregning av den godtgjørelse som forvaltningsselskapet har belastet verdipapirfondet med og hvilken prosentsats som benyttes? \nI tillegg skal det opplyses om hvilke prosentsatser som har blitt belastet henholdsvis fondet og de enkelte verdipapirfondene som fondet eventuelt har plassert sine midler i. "]
[433,"Opplyses det om innholdet i postene andre porteføljeinntekter, andre inntekter og andre kostnader? "]

{"sheet":"N_Ja","index":6,"n_rows":433,"n_cols":7,"rows_kept":433,"cut":false,"hidden":true,"merged":[]}
[null,null,{"$f":"COUNTIF(C2:C43,\"=1\")","v":0},"Ja-svar",{"$f":"+Forside!B2","v":0},{"$f":"+Forside!B3","v":2021},"Kommentarer"]
[{"$f":"'Sjekkliste noter'!A17","v":1},{"$f":"IF('Sjekkliste noter'!E17<>\"\",1,0)","v":0},{"$f":"SUM(B2:B2)","v":0},{"$f":"IF($C2=1,'Sjekkliste noter'!A17,\"\")","v":""},{"$f":"IF($C2=1,'Sjekkliste noter'!B17,\"\")","v":""},null,{"$f":"IF($C2=1,'Sjekkliste noter'!H17,\"\")","v":""}]
[{"$f":"'Sjekkliste noter'!A19","v":2},{"$f":"IF('Sjekkliste noter'!E19<>\"\",1,0)","v":0},0,{"$f":"IF($C3=1,'Sjekkliste noter'!A19,\"\")","v":""},{"$f":"IF($C3=1,'Sjekkliste noter'!B19,\"\")","v":""},null,{"$f":"IF($C3=1,'Sjekkliste noter'!H19,\"\")","v":""}]
[{"$f":"'Sjekkliste noter'!A20","v":3},{"$f":"IF('Sjekkliste noter'!E20<>\"\",1,0)","v":0},0,{"$f":"IF($C4=1,'Sjekkliste noter'!A20,\"\")","v":""},{"$f":"IF($C4=1,'Sjekkliste noter'!B20,\"\")","v":""},null,{"$f":"IF($C4=1,'Sjekkliste noter'!H20,\"\")","v":""}]
[{"$f":"'Sjekkliste noter'!A21","v":4},{"$f":"IF('Sjekkliste noter'!E21<>\"\",1,0)","v":0},0,{"$f":"IF($C5=1,'Sjekkliste noter'!A21,\"\")","v":""},{"$f":"IF($C5=1,'Sjekkliste noter'!B21,\"\")","v":""},null,{"$f":"IF($C5=1,'Sjekkliste noter'!H21,\"\")","v":""}]
[{"$f":"'Sjekkliste noter'!A22","v":5},{"$f":"IF('Sjekkliste noter'!E22<>\"\",1,0)","v":0},0,{"$f":"IF($C6=1,'Sjekkliste noter'!A22,\"\")","v":""},{"$f":"IF($C6=1,'Sjekkliste noter'!B22,\"\")","v":""},null,{"$f":"IF($C6=1,'Sjekkliste noter'!H22,\"\")","v":""}]
[{"$f":"'Sjekkliste noter'!A23","v":6},{"$f":"IF('Sjekkliste noter'!E23<>\"\",1,0)","v":0},0,{"$f":"IF($C7=1,'Sjekkliste noter'!A23,\"\")","v":""},{"$f":"IF($C7=1,'Sjekkliste noter'!B23,\"\")","v":""},null,{"$f":"IF($C7=1,'Sjekkliste noter'!H23,\"\")","v":""}]
[{"$f":"'Sjekkliste noter'!A24","v":7},{"$f":"IF('Sjekkliste noter'!E24<>\"\",1,0)","v":0},0,{"$f":"IF($C8=1,'Sjekkliste noter'!A24,\"\")","v":""},{"$f":"IF($C8=1,'Sjekkliste noter'!B24,\"\")","v":""},null,{"$f":"IF($C8=1,'Sjekkliste noter'!H24,\"\")","v":""}]
[{"$f":"'Sjekkliste noter'!A26","v":8},{"$f":"IF('Sjekkliste noter'!E26<>\"\",1,0)","v":0},0,{"$f":"IF($C9=1,'Sjekkliste noter'!A26,\"\")","v":""},{"$f":"IF($C9=1,'Sjekkliste noter'!B26,\"\")","v":""},null,{"$f":"IF($C9=1,'Sjekkliste noter'!H26,\"\")","v":""}]
[{"$f":"'Sjekkliste noter'!A28","v":9},{"$f":"IF('Sjekkliste noter'!E28<>\"\",1,0)","v":0},0,{"$f":"IF($C10=1,'Sjekkliste noter'!A28,\"\")","v":""},{"$f":"IF($C10=1,'Sjekkliste noter'!B28,\"\")","v":""},null,{"$f":"IF($C10=1,'Sjekkliste noter'!H28,\"\")","v":""}]
[{"$f":"'Sjekkliste noter'!A29","v":10},{"$f":"IF('Sjekkliste noter'!E29<>\"\",1,0)","v":0},0,{"$f":"IF($C11=1,'Sjekkliste noter'!A29,\"\")","v":""},{"$f":"IF($C11=1,'Sjekkliste noter'!B29,\"\")","v":""},null,{"$f":"IF($C11=1,'Sjekkliste noter'!H29,\"\")","v":""}]
[{"$f":"'Sjekkliste noter'!A30","v":11},{"$f":"IF('Sjekkliste noter'!E30<>\"\",1,0)","v":0},0,{"$f":"IF($C12=1,'Sjekkliste noter'!A30,\"\")","v":""},{"$f":"IF($C12=1,'Sjekkliste noter'!B30,\"\")","v":""},null,{"$f":"IF($C12=1,'Sjekkliste noter'!H30,\"\")","v":""}]
[{"$f":"'Sjekkliste noter'!A31","v":12},{"$f":"IF('Sjekkliste noter'!E31<>\"\",1,0)","v":0},0,{"$f":"IF($C13=1,'Sjekkliste noter'!A31,\"\")","v":""},{"$f":"IF($C13=1,'Sjekkliste noter'!B31,\"\")","v":""},null,{"$f":"IF($C13=1,'Sjekkliste noter'!H31,\"\")","v":""}]
[{"$f":"'Sjekkliste noter'!A32","v":13},{"$f":"IF('Sjekkliste noter'!E32<>\"\",1,0)","v":0},0,{"$f":"IF($C14=1,'Sjekkliste noter'!A32,\"\")","v":""},{"$f":"IF($C14=1,'Sjekkliste noter'!B32,\"\")","v":""},null,{"$f":"IF($C14=1,'Sjekkliste noter'!H32,\"\")","v":""}]
[{"$f":"'Sjekkliste noter'!A33","v":14},{"$f":"IF('Sjekkliste noter'!E33<>\"\",1,0)","v":0},0,{"$f":"IF($C15=1,'Sjekkliste noter'!A33,\"\")","v":""},{"$f":"IF($C15=1,'Sjekkliste noter'!B33,\"\")","v":""},null,{"$f":"IF($C15=1,'Sjekkliste noter'!H33,\"\")","v":""}]
[{"$f":"'Sjekkliste noter'!A34","v":15},{"$f":"IF('Sjekkliste noter'!E34<>\"\",1,0)","v":0},0,{"$f":"IF($C16=1,'Sjekkliste noter'!A34,\"\")","v":""},{"$f":"IF($C16=1,'Sjekkliste noter'!B34,\"\")","v":""},null,{"$f":"IF($C16=1,'Sjekkliste noter'!H34,\"\")","v":""}]
[{"$f":"'Sjekkliste noter'!A35","v":16},{"$f":"IF('Sjekkliste noter'!E35<>\"\",1,0)","v":0},0,{"$f":"IF($C17=1,'Sjekkliste noter'!A35,\"\")","v":""},{"$f":"IF($C17=1,'Sjekkliste noter'!B35,\"\")","v":""},null,{"$f":"IF($C17=1,'Sjekkliste noter'!H35,\"\")","v":""}]
[{"$f":"'Sjekkliste noter'!A38","v":17},{"$f":"IF('Sjekkliste noter'!E38<>\"\",1,0)","v":0},0,{"$f":"IF($C18=1,'Sjekkliste noter'!A38,\"\")","v":""},{"$f":"IF($C18=1,'Sjekkliste noter'!B38,\"\")","v":""},null,{"$f":"IF($C18=1,'Sjekkliste noter'!H38,\"\")","v":""}]
[{"$f":"'Sjekkliste noter'!A39","v":18},{"$f":"IF('Sjekkliste noter'!E39<>\"\",1,0)","v":0},0,{"$f":"IF($C19=1,'Sjekkliste noter'!A39,\"\")","v":""},{"$f":"IF($C19=1,'Sjekkliste noter'!B39,\"\")","v":""},null,{"$f":"IF($C19=1,'Sjekkliste noter'!H39,\"\")","v":""}]
[{"$f":"'Sjekkliste noter'!A40","v":19},{"$f":"IF('Sjekkliste noter'!E40<>\"\",1,0)","v":0},0,{"$f":"IF($C20=1,'Sjekkliste noter'!A40,\"\")","v":""},{"$f":"IF($C20=1,'Sjekkliste noter'!B40,\"\")","v":""},null,{"$f":"IF($C20=1,'Sjekkliste noter'!H40,\"\")","v":""}]
[{"$f":"'Sjekkliste noter'!A41","v":20},{"$f":"IF('Sjekkliste noter'!E41<>\"\",1,0)","v":0},0,{"$f":"IF($C21=1,'Sjekkliste noter'!A41,\"\")","v":""},{"$f":"IF($C21=1,'Sjekkliste noter'!B41,\"\")","v":""},null,{"$f":"IF($C21=1,'Sjekkliste noter'!H41,\"\")","v":""}]
[{"$f":"'Sjekkliste noter'!A42","v":21},{"$f":"IF('Sjekkliste noter'!E42<>\"\",1,0)","v":0},0,{"$f":"IF($C22=1,'Sjekkliste noter'!A42,\"\")","v":""},{"$f":"IF($C22=1,'Sjekkliste noter'!B42,\"\")","v":""},null,{"$f":"IF($C22=1,'Sjekkliste noter'!H42,\"\")","v":""}]
[{"$f":"'Sjekkliste noter'!A43","v":22},{"$f":"IF('Sjekkliste noter'!E43<>\"\",1,0)","v":0},0,{"$f":"IF($C23=1,'Sjekkliste noter'!A43,\"\")","v":""},{"$f":"IF($C23=1,'Sjekkliste noter'!B43,\"\")","v":""},null,{"$f":"IF($C23=1,'Sjekkliste noter'!H43,\"\")","v":""}]
[{"$f":"'Sjekkliste noter'!A45","v":23},{"$f":"IF('Sjekkliste noter'!E45<>\"\",1,0)","v":0},0,{"$f":"IF($C24=1,'Sjekkliste noter'!A45,\"\")","v":""},{"$f":"IF($C24=1,'Sjekkliste noter'!B45,\"\")","v":""},null,{"$f":"IF($C24=1,'Sjekkliste noter'!H45,\"\")","v":""}]
[{"$f":"'Sjekkliste noter'!A46","v":24},{"$f":"IF('Sjekkliste noter'!E46<>\"\",1,0)","v":0},0,{"$f":"IF($C25=1,'Sjekkliste noter'!A46,\"\")","v":""},{"$f":"IF($C25=1,'Sjekkliste noter'!B46,\"\")","v":""},null,{"$f":"IF($C25=1,'Sjekkliste noter'!H46,\"\")","v":""}]
[{"$f":"'Sjekkliste noter'!A48","v":25},{"$f":"IF('Sjekkliste noter'!E48<>\"\",1,0)","v":0},0,{"$f":"IF($C26=1,'Sjekkliste noter'!A48,\"\")","v":""},{"$f":"IF($C26=1,'Sjekkliste noter'!B48,\"\")","v":""},null,{"$f":"IF($C26=1,'Sjekkliste noter'!H48,\"\")","v":""}]
[{"$f":"'Sjekkliste noter'!A49","v":26},{"$f":"IF('Sjekkliste noter'!E49<>\"\",1,0)","v":0},0,{"$f":"IF($C27=1,'Sjekkliste noter'!A49,\"\")","v":""},{"$f":"IF($C27=1,'Sjekkliste noter'!B49,\"\")","v":""},null,{"$f":"IF($C27=1,'Sjekkliste noter'!H49,\"\")","v":""}]
[{"$f":"'Sjekkliste noter'!A53","v":27},{"$f":"IF('Sjekkliste noter'!E53<>\"\",1,0)","v":0},0,{"$f":"IF($C28=1,'Sjekkliste noter'!A53,\"\")","v":""},{"$f":"IF($C28=1,'Sjekkliste noter'!B53,\"\")","v":""},null,{"$f":"IF($C28=1,'Sjekkliste noter'!H53,\"\")","v":""}]
[{"$f":"'Sjekkliste noter'!A55","v":28},{"$f":"IF('Sjekkliste noter'!E55<>\"\",1,0)","v":0},0,{"$f":"IF($C29=1,'Sjekkliste noter'!A55,\"\")","v":""},{"$f":"IF($C29=1,'Sjekkliste noter'!B55,\"\")","v":""},null,{"$f":"IF($C29=1,'Sjekkliste noter'!H55,\"\")","v":""}]
[{"$f":"'Sjekkliste noter'!A56","v":29},{"$f":"IF('Sjekkliste noter'!E56<>\"\",1,0)","v":0},0,{"$f":"IF($C30=1,'Sjekkliste noter'!A56,\"\")","v":""},{"$f":"IF($C30=1,'Sjekkliste noter'!B56,\"\")","v":""},null,{"$f":"IF($C30=1,'Sjekkliste noter'!H56,\"\")","v":""}]
[{"$f":"'Sjekkliste noter'!A57","v":30},{"$f":"IF('Sjekkliste noter'!E57<>\"\",1,0)","v":0},0,{"$f":"IF($C31=1,'Sjekkliste noter'!A57,\"\")","v":""},{"$f":"IF($C31=1,'Sjekkliste noter'!B57,\"\")","v":""},null,{"$f":"IF($C31=1,'Sjekkliste noter'!H57,\"\")","v":""}]
[{"$f":"'Sjekkliste noter'!A58","v":31},{"$f":"IF('Sjekkliste noter'!E58<>\"\",1,0)","v":0},0,{"$f":"IF($C32=1,'Sjekkliste noter'!A58,\"\")","v":""},{"$f":"IF($C32=1,'Sjekkliste noter'!B58,\"\")","v":""},null,{"$f":"IF($C32=1,'Sjekkliste noter'!H58,\"\")","v":""}]
[{"$f":"'Sjekkliste noter'!A59","v":32},{"$f":"IF('Sjekkliste noter'!E59<>\"\",1,0)","v":0},0,{"$f":"IF($C33=1,'Sjekkliste noter'!A59,\"\")","v":""},{"$f":"IF($C33=1,'Sjekkliste noter'!B59,\"\")","v":""},null,{"$f":"IF($C33=1,'Sjekkliste noter'!H59,\"\")","v":""}]
[{"$f":"'Sjekkliste noter'!A65","v":33},{"$f":"IF('Sjekkliste noter'!E65<>\"\",1,0)","v":0},0,{"$f":"IF($C34=1,'Sjekkliste noter'!A65,\"\")","v":""},{"$f":"IF($C34=1,'Sjekkliste noter'!B65,\"\")","v":""},null,{"$f":"IF($C34=1,'Sjekkliste noter'!H65,\"\")","v":""}]
[{"$f":"'Sjekkliste noter'!A66","v":34},{"$f":"IF('Sjekkliste noter'!E66<>\"\",1,0)","v":0},0,{"$f":"IF($C35=1,'Sjekkliste noter'!A66,\"\")","v":""},{"$f":"IF($C35=1,'Sjekkliste noter'!B66,\"\")","v":""},null,{"$f":"IF($C35=1,'Sjekkliste noter'!H66,\"\")","v":""}]
[{"$f":"'Sjekkliste noter'!A67","v":35},{"$f":"IF('Sjekkliste noter'!E67<>\"\",1,0)","v":0},0,{"$f":"IF($C36=1,'Sjekkliste noter'!A67,\"\")","v":""},{"$f":"IF($C36=1,'Sjekkliste noter'!B67,\"\")","v":""},null,{"$f":"IF($C36=1,'Sjekkliste noter'!H67,\"\")","v":""}]
[{"$f":"'Sjekkliste noter'!A68","v":36},{"$f":"IF('Sjekkliste noter'!E68<>\"\",1,0)","v":0},0,{"$f":"IF($C37=1,'Sjekkliste noter'!A68,\"\")","v":""},{"$f":"IF($C37=1,'Sjekkliste noter'!B68,\"\")","v":""},null,{"$f":"IF($C37=1,'Sjekkliste noter'!H68,\"\")","v":""}]
[{"$f":"'Sjekkliste noter'!A69","v":37},{"$f":"IF('Sjekkliste noter'!E69<>\"\",1,0)","v":0},0,{"$f":"IF($C38=1,'Sjekkliste noter'!A69,\"\")","v":""},{"$f":"IF($C38=1,'Sjekkliste noter'!B69,\"\")","v":""},null,{"$f":"IF($C38=1,'Sjekkliste noter'!H69,\"\")","v":""}]
[{"$f":"'Sjekkliste noter'!A70","v":38},{"$f":"IF('Sjekkliste noter'!E70<>\"\",1,0)","v":0},0,{"$f":"IF($C39=1,'Sjekkliste noter'!A70,\"\")","v":""},{"$f":"IF($C39=1,'Sjekkliste noter'!B70,\"\")","v":""},null,{"$f":"IF($C39=1,'Sjekkliste noter'!H70,\"\")","v":""}]
[{"$f":"'Sjekkliste noter'!A71","v":39},{"$f":"IF('Sjekkliste noter'!E71<>\"\",1,0)","v":0},0,{"$f":"IF($C40=1,'Sjekkliste noter'!A71,\"\")","v":""},{"$f":"IF($C40=1,'Sjekkliste noter'!B71,\"\")","v":""},null,{"$f":"IF($C40=1,'Sjekkliste noter'!H71,\"\")","v":""}]
[{"$f":"'Sjekkliste noter'!A72","v":40},{"$f":"IF('Sjekkliste noter'!E72<>\"\",1,0)","v":0},0,{"$f":"IF($C41=1,'Sjekkliste noter'!A72,\"\")","v":""},{"$f":"IF($C41=1,'Sjekkliste noter'!B72,\"\")","v":""},null,{"$f":"IF($C41=1,'Sjekkliste noter'!H72,\"\")","v":""}]
[{"$f":"'Sjekkliste noter'!A74","v":41},{"$f":"IF('Sjekkliste noter'!E74<>\"\",1,0)","v":0},0,{"$f":"IF($C42=1,'Sjekkliste noter'!A74,\"\")","v":""},{"$f":"IF($C42=1,'Sjekkliste noter'!B74,\"\")","v":""},null,{"$f":"IF($C42=1,'Sjekkliste noter'!H74,\"\")","v":""}]
[{"$f":"'Sjekkliste noter'!A77","v":42},{"$f":"IF('Sjekkliste noter'!E77<>\"\",1,0)","v":0},0,{"$f":"IF($C43=1,'Sjekkliste noter'!A77,\"\")","v":""},{"$f":"IF($C43=1,'Sjekkliste noter'!B77,\"\")","v":""},null,{"$f":"IF($C43=1,'Sjekkliste noter'!H77,\"\")","v":""}]
[{"$f":"'Sjekkliste noter'!A78","v":43},{"$f":"IF('Sjekkliste noter'!E78<>\"\",1,0)","v":0},0,{"$f":"IF($C44=1,'Sjekkliste noter'!A78,\"\")","v":""},{"$f":"IF($C44=1,'Sjekkliste noter'!B78,\"\")","v":""},null,{"$f":"IF($C44=1,'Sjekkliste noter'!H78,\"\")","v":""}]
[{"$f":"'Sjekkliste noter'!A79","v":44},{"$f":"IF('Sjekkliste noter'!E79<>\"\",1,0)","v":0},0,{"$f":"IF($C45=1,'Sjekkliste noter'!A79,\"\")","v":""},{"$f":"IF($C45=1,'Sjekkliste noter'!B79,\"\")","v":""},null,{"$f":"IF($C45=1,'Sjekkliste noter'!H79,\"\")","v":""}]
[{"$f":"'Sjekkliste noter'!A81","v":45},{"$f":"IF('Sjekkliste noter'!E81<>\"\",1,0)","v":0},0,{"$f":"IF($C46=1,'Sjekkliste noter'!A81,\"\")","v":""},{"$f":"IF($C46=1,'Sjekkliste noter'!B81,\"\")","v":""},null,{"$f":"IF($C46=1,'Sjekkliste noter'!H81,\"\")","v":""}]
[{"$f":"'Sjekkliste noter'!A82","v":46},{"$f":"IF('Sjekkliste noter'!E82<>\"\",1,0)","v":0},0,{"$f":"IF($C47=1,'Sjekkliste noter'!A82,\"\")","v":""},{"$f":"IF($C47=1,'Sjekkliste noter'!B82,\"\")","v":""},null,{"$f":"IF($C47=1,'Sjekkliste noter'!H82,\"\")","v":""}]
[{"$f":"'Sjekkliste noter'!A84","v":47},{"$f":"IF('Sjekkliste noter'!E84<>\"\",1,0)","v":0},0,{"$f":"IF($C48=1,'Sjekkliste noter'!A84,\"\")","v":""},{"$f":"IF($C48=1,'Sjekkliste noter'!B84,\"\")","v":""},null,{"$f":"IF($C48=1,'Sjekkliste noter'!H84,\"\")","v":""}]
[{"$f":"'Sjekkliste noter'!A86","v":48},{"$f":"IF('Sjekkliste noter'!E86<>\"\",1,0)","v":0},0,{"$f":"IF($C49=1,'Sjekkliste noter'!A86,\"\")","v":""},{"$f":"IF($C49=1,'Sjekkliste noter'!B86,\"\")","v":""},null,{"$f":"IF($C49=1,'Sjekkliste noter'!H86,\"\")","v":""}]
[{"$f":"'Sjekkliste noter'!A87","v":49},{"$f":"IF('Sjekkliste noter'!E87<>\"\",1,0)","v":0},0,{"$f":"IF($C50=1,'Sjekkliste noter'!A87,\"\")","v":""},{"$f":"IF($C50=1,'Sjekkliste noter'!B87,\"\")","v":""},null,{"$f":"IF($C50=1,'Sjekkliste noter'!H87,\"\")","v":""}]
[{"$f":"'Sjekkliste noter'!A88","v":50},{"$f":"IF('Sjekkliste noter'!E88<>\"\",1,0)","v":0},0,{"$f":"IF($C51=1,'Sjekkliste noter'!A88,\"\")","v":""},{"$f":"IF($C51=1,'Sjekkliste noter'!B88,\"\")","v":""},null,{"$f":"IF($C51=1,'Sjekkliste noter'!H88,\"\")","v":""}]
[{"$f":"'Sjekkliste noter'!A94","v":51},{"$f":"IF('Sjekkliste noter'!E94<>\"\",1,0)","v":0},0,{"$f":"IF($C52=1,'Sjekkliste noter'!A94,\"\")","v":""},{"$f":"IF($C52=1,'Sjekkliste noter'!B94,\"\")","v":""},null,{"$f":"IF($C52=1,'Sjekkliste noter'!H94,\"\")","v":""}]
[{"$f":"'Sjekkliste noter'!A95","v":52},{"$f":"IF('Sjekkliste noter'!E95<>\"\",1,0)","v":0},0,{"$f":"IF($C53=1,'Sjekkliste noter'!A95,\"\")","v":""},{"$f":"IF($C53=1,'Sjekkliste noter'!B95,\"\")","v":""},null,{"$f":"IF($C53=1,'Sjekkliste noter'!H95,\"\")","v":""}]
[{"$f":"'Sjekkliste noter'!A96","v":53},{"$f":"IF('Sjekkliste noter'!E96<>\"\",1,0)","v":0},0,{"$f":"IF($C54=1,'Sjekkliste noter'!A96,\"\")","v":""},{"$f":"IF($C54=1,'Sjekkliste noter'!B96,\"\")","v":""},null,{"$f":"IF($C54=1,'Sjekkliste noter'!H96,\"\")","v":""}]
[{"$f":"'Sjekkliste noter'!A97","v":54},{"$f":"IF('Sjekkliste noter'!E97<>\"\",1,0)","v":0},0,{"$f":"IF($C55=1,'Sjekkliste noter'!A97,\"\")","v":""},{"$f":"IF($C55=1,'Sjekkliste noter'!B97,\"\")","v":""},null,{"$f":"IF($C55=1,'Sjekkliste noter'!H97,\"\")","v":""}]
[{"$f":"'Sjekkliste noter'!A98","v":55},{"$f":"IF('Sjekkliste noter'!E98<>\"\",1,0)","v":0},0,{"$f":"IF($C56=1,'Sjekkliste noter'!A98,\"\")","v":""},{"$f":"IF($C56=1,'Sjekkliste noter'!B98,\"\")","v":""},null,{"$f":"IF($C56=1,'Sjekkliste noter'!H98,\"\")","v":""}]
[{"$f":"'Sjekkliste noter'!A99","v":56},{"$f":"IF('Sjekkliste noter'!E99<>\"\",1,0)","v":0},0,{"$f":"IF($C57=1,'Sjekkliste noter'!A99,\"\")","v":""},{"$f":"IF($C57=1,'Sjekkliste noter'!B99,\"\")","v":""},null,{"$f":"IF($C57=1,'Sjekkliste noter'!H99,\"\")","v":""}]
[{"$f":"'Sjekkliste noter'!A101","v":57},{"$f":"IF('Sjekkliste noter'!E101<>\"\",1,0)","v":0},0,{"$f":"IF($C58=1,'Sjekkliste noter'!A101,\"\")","v":""},{"$f":"IF($C58=1,'Sjekkliste noter'!B101,\"\")","v":""},null,{"$f":"IF($C58=1,'Sjekkliste noter'!H101,\"\")","v":""}]
[{"$f":"'Sjekkliste noter'!A102","v":58},{"$f":"IF('Sjekkliste noter'!E102<>\"\",1,0)","v":0},0,{"$f":"IF($C59=1,'Sjekkliste noter'!A102,\"\")","v":""},{"$f":"IF($C59=1,'Sjekkliste noter'!B102,\"\")","v":""},null,{"$f":"IF($C59=1,'Sjekkliste noter'!H102,\"\")","v":""}]
[{"$f":"'Sjekkliste noter'!A104","v":59},{"$f":"IF('Sjekkliste noter'!E104<>\"\",1,0)","v":0},0,{"$f":"IF($C60=1,'Sjekkliste noter'!A104,\"\")","v":""},{"$f":"IF($C60=1,'Sjekkliste noter'!B104,\"\")","v":""},null,{"$f":"IF($C60=1,'Sjekkliste noter'!H104,\"\")","v":""}]
[{"$f":"'Sjekkliste noter'!A105","v":60},{"$f":"IF('Sjekkliste noter'!E105<>\"\",1,0)","v":0},0,{"$f":"IF($C61=1,'Sjekkliste noter'!A105,\"\")","v":""},{"$f":"IF($C61=1,'Sjekkliste noter'!B105,\"\")","v":""},null,{"$f":"IF($C61=1,'Sjekkliste noter'!H105,\"\")","v":""}]
[{"$f":"'Sjekkliste noter'!A107","v":61},{"$f":"IF('Sjekkliste noter'!E107<>\"\",1,0)","v":0},0,{"$f":"IF($C62=1,'Sjekkliste noter'!A107,\"\")","v":""},{"$f":"IF($C62=1,'Sjekkliste noter'!B107,\"\")","v":""},null,{"$f":"IF($C62=1,'Sjekkliste noter'!H107,\"\")","v":""}]
[{"$f":"'Sjekkliste noter'!A109","v":62},{"$f":"IF('Sjekkliste noter'!E109<>\"\",1,0)","v":0},0,{"$f":"IF($C63=1,'Sjekkliste noter'!A109,\"\")","v":""},{"$f":"IF($C63=1,'Sjekkliste noter'!B109,\"\")","v":""},null,{"$f":"IF($C63=1,'Sjekkliste noter'!H109,\"\")","v":""}]
[{"$f":"'Sjekkliste noter'!A111","v":63},{"$f":"IF('Sjekkliste noter'!E111<>\"\",1,0)","v":0},0,{"$f":"IF($C64=1,'Sjekkliste noter'!A111,\"\")","v":""},{"$f":"IF($C64=1,'Sjekkliste noter'!B111,\"\")","v":""},null,{"$f":"IF($C64=1,'Sjekkliste noter'!H111,\"\")","v":""}]
[{"$f":"'Sjekkliste noter'!A113","v":64},{"$f":"IF('Sjekkliste noter'!E113<>\"\",1,0)","v":0},0,{"$f":"IF($C65=1,'Sjekkliste noter'!A113,\"\")","v":""},{"$f":"IF($C65=1,'Sjekkliste noter'!B113,\"\")","v":""},null,{"$f":"IF($C65=1,'Sjekkliste noter'!H113,\"\")","v":""}]
[{"$f":"'Sjekkliste noter'!A115","v":65},{"$f":"IF('Sjekkliste noter'!E115<>\"\",1,0)","v":0},{"$f":"SUM(B66:B66)","v":0},{"$f":"IF($C66=1,'Sjekkliste noter'!A115,\"\")","v":""},{"$f":"IF($C66=1,'Sjekkliste noter'!B115,\"\")","v":""},null,{"$f":"IF($C66=1,'Sjekkliste noter'!H115,\"\")","v":""}]
[{"$f":"'Sjekkliste noter'!A118","v":66},{"$f":"IF('Sjekkliste noter'!E118<>\"\",1,0)","v":0},0,{"$f":"IF($C67=1,'Sjekkliste noter'!A118,\"\")","v":""},{"$f":"IF($C67=1,'Sjekkliste noter'!B118,\"\")","v":""},null,{"$f":"IF($C67=1,'Sjekkliste noter'!H118,\"\")","v":""}]
[{"$f":"'Sjekkliste noter'!A120","v":67},{"$f":"IF('Sjekkliste noter'!E120<>\"\",1,0)","v":0},0,{"$f":"IF($C68=1,'Sjekkliste noter'!A120,\"\")","v":""},{"$f":"IF($C68=1,'Sjekkliste noter'!B120,\"\")","v":""},null,{"$f":"IF($C68=1,'Sjekkliste noter'!H120,\"\")","v":""}]
[{"$f":"'Sjekkliste noter'!A121","v":68},{"$f":"IF('Sjekkliste noter'!E121<>\"\",1,0)","v":0},0,{"$f":"IF($C69=1,'Sjekkliste noter'!A121,\"\")","v":""},{"$f":"IF($C69=1,'Sjekkliste noter'!B121,\"\")","v":""},null,{"$f":"IF($C69=1,'Sjekkliste noter'!H121,\"\")","v":""}]
[{"$f":"'Sjekkliste noter'!A122","v":69},{"$f":"IF('Sjekkliste noter'!E122<>\"\",1,0)","v":0},0,{"$f":"IF($C70=1,'Sjekkliste noter'!A122,\"\")","v":""},{"$f":"IF($C70=1,'Sjekkliste noter'!B122,\"\")","v":""},null,{"$f":"IF($C70=1,'Sjekkliste noter'!H122,\"\")","v":""}]
[{"$f":"'Sjekkliste noter'!A124","v":70},{"$f":"IF('Sjekkliste noter'!E124<>\"\",1,0)","v":0},0,{"$f":"IF($C71=1,'Sjekkliste noter'!A124,\"\")","v":""},{"$f":"IF($C71=1,'Sjekkliste noter'!B124,\"\")","v":""},null,{"$f":"IF($C71=1,'Sjekkliste noter'!H124,\"\")","v":""}]
[{"$f":"'Sjekkliste noter'!A129","v":71},{"$f":"IF('Sjekkliste noter'!E129<>\"\",1,0)","v":0},0,{"$f":"IF($C72=1,'Sjekkliste noter'!A129,\"\")","v":""},{"$f":"IF($C72=1,'Sjekkliste noter'!B129,\"\")","v":""},null,{"$f":"IF($C72=1,'Sjekkliste noter'!H129,\"\")","v":""}]
[{"$f":"'Sjekkliste noter'!A130","v":72},{"$f":"IF('Sjekkliste noter'!E130<>\"\",1,0)","v":0},0,{"$f":"IF($C73=1,'Sjekkliste noter'!A130,\"\")","v":""},{"$f":"IF($C73=1,'Sjekkliste noter'!B130,\"\")","v":""},null,{"$f":"IF($C73=1,'Sjekkliste noter'!H130,\"\")","v":""}]
[{"$f":"'Sjekkliste noter'!A131","v":73},{"$f":"IF('Sjekkliste noter'!E131<>\"\",1,0)","v":0},0,{"$f":"IF($C74=1,'Sjekkliste noter'!A131,\"\")","v":""},{"$f":"IF($C74=1,'Sjekkliste noter'!B131,\"\")","v":""},null,{"$f":"IF($C74=1,'Sjekkliste noter'!H131,\"\")","v":""}]
[{"$f":"'Sjekkliste noter'!A132","v":74},{"$f":"IF('Sjekkliste noter'!E132<>\"\",1,0)","v":0},0,{"$f":"IF($C75=1,'Sjekkliste noter'!A132,\"\")","v":""},{"$f":"IF($C75=1,'Sjekkliste noter'!B132,\"\")","v":""},null,{"$f":"IF($C75=1,'Sjekkliste noter'!H132,\"\")","v":""}]
[{"$f":"'Sjekkliste noter'!A133","v":75},{"$f":"IF('Sjekkliste noter'!E133<>\"\",1,0)","v":0},0,{"$f":"IF($C76=1,'Sjekkliste noter'!A133,\"\")","v":""},{"$f":"IF($C76=1,'Sjekkliste noter'!B133,\"\")","v":""},null,{"$f":"IF($C76=1,'Sjekkliste noter'!H133,\"\")","v":""}]
[{"$f":"'Sjekkliste noter'!A135","v":76},{"$f":"IF('Sjekkliste noter'!E135<>\"\",1,0)","v":0},0,{"$f":"IF($C77=1,'Sjekkliste noter'!A135,\"\")","v":""},{"$f":"IF($C77=1,'Sjekkliste noter'!B135,\"\")","v":""},null,{"$f":"IF($C77=1,'Sjekkliste noter'!H135,\"\")","v":""}]
[{"$f":"'Sjekkliste noter'!A137","v":77},{"$f":"IF('Sjekkliste noter'!E137<>\"\",1,0)","v":0},0,{"$f":"IF($C78=1,'Sjekkliste noter'!A137,\"\")","v":""},{"$f":"IF($C78=1,'Sjekkliste noter'!B137,\"\")","v":""},null,{"$f":"IF($C78=1,'Sjekkliste noter'!H137,\"\")","v":""}]
[{"$f":"'Sjekkliste noter'!A139","v":78},{"$f":"IF('Sjekkliste noter'!E139<>\"\",1,0)","v":0},0,{"$f":"IF($C79=1,'Sjekkliste noter'!A139,\"\")","v":""},{"$f":"IF($C79=1,'Sjekkliste noter'!B139,\"\")","v":""},null,{"$f":"IF($C79=1,'Sjekkliste noter'!H139,\"\")","v":""}]
[{"$f":"'Sjekkliste noter'!A141","v":79},{"$f":"IF('Sjekkliste noter'!E141<>\"\",1,0)","v":0},0,{"$f":"IF($C80=1,'Sjekkliste noter'!A141,\"\")","v":""},{"$f":"IF($C80=1,'Sjekkliste noter'!B141,\"\")","v":""},null,{"$f":"IF($C80=1,'Sjekkliste noter'!H141,\"\")","v":""}]
[{"$f":"'Sjekkliste noter'!A142","v":80},{"$f":"IF('Sjekkliste noter'!E142<>\"\",1,0)","v":0},0,{"$f":"IF($C81=1,'Sjekkliste noter'!A142,\"\")","v":""},{"$f":"IF($C81=1,'Sjekkliste noter'!B142,\"\")","v":""},null,{"$f":"IF($C81=1,'Sjekkliste noter'!H142,\"\")","v":""}]
[{"$f":"'Sjekkliste noter'!A144","v":81},{"$f":"IF('Sjekkliste noter'!E144<>\"\",1,0)","v":0},0,{"$f":"IF($C82=1,'Sjekkliste noter'!A144,\"\")","v":""},{"$f":"IF($C82=1,'Sjekkliste noter'!B144,\"\")","v":""},null,{"$f":"IF($C82=1,'Sjekkliste noter'!H144,\"\")","v":""}]
[{"$f":"'Sjekkliste noter'!A146","v":82},{"$f":"IF('Sjekkliste noter'!E146<>\"\",1,0)","v":0},0,{"$f":"IF($C83=1,'Sjekkliste noter'!A146,\"\")","v":""},{"$f":"IF($C83=1,'Sjekkliste noter'!B146,\"\")","v":""},null,{"$f":"IF($C83=1,'Sjekkliste noter'!H146,\"\")","v":""}]
[{"$f":"'Sjekkliste noter'!A147","v":83},{"$f":"IF('Sjekkliste noter'!E147<>\"\",1,0)","v":0},0,{"$f":"IF($C84=1,'Sjekkliste noter'!A147,\"\")","v":""},{"$f":"IF($C84=1,'Sjekkliste noter'!B147,\"\")","v":""},null,{"$f":"IF($C84=1,'Sjekkliste noter'!H147,\"\")","v":""}]
[{"$f":"'Sjekkliste noter'!A149","v":84},{"$f":"IF('Sjekkliste noter'!E149<>\"\",1,0)","v":0},0,{"$f":"IF($C85=1,'Sjekkliste noter'!A149,\"\")","v":""},{"$f":"IF($C85=1,'Sjekkliste noter'!B149,\"\")","v":""},null,{"$f":"IF($C85=1,'Sjekkliste noter'!H149,\"\")","v":""}]
[{"$f":"'Sjekkliste noter'!A150","v":85},{"$f":"IF('Sjekkliste noter'!E150<>\"\",1,0)","v":0},0,{"$f":"IF($C86=1,'Sjekkliste noter'!A150,\"\")","v":""},{"$f":"IF($C86=1,'Sjekkliste noter'!B150,\"\")","v":""},null,{"$f":"IF($C86=1,'Sjekkliste noter'!H150,\"\")","v":""}]
[{"$f":"'Sjekkliste noter'!A152","v":86},{"$f":"IF('Sjekkliste noter'!E152<>\"\",1,0)","v":0},0,{"$f":"IF($C87=1,'Sjekkliste noter'!A152,\"\")","v":""},{"$f":"IF($C87=1,'Sjekkliste noter'!B152,\"\")","v":""},null,{"$f":"IF($C87=1,'Sjekkliste noter'!H152,\"\")","v":""}]
[{"$f":"'Sjekkliste noter'!A153","v":87},{"$f":"IF('Sjekkliste noter'!E153<>\"\",1,0)","v":0},0,{"$f":"IF($C88=1,'Sjekkliste noter'!A153,\"\")","v":""},{"$f":"IF($C88=1,'Sjekkliste noter'!B153,\"\")","v":""},null,{"$f":"IF($C88=1,'Sjekkliste noter'!H153,\"\")","v":""}]
[{"$f":"'Sjekkliste noter'!A155","v":88},{"$f":"IF('Sjekkliste noter'!E155<>\"\",1,0)","v":0},0,{"$f":"IF($C89=1,'Sjekkliste noter'!A155,\"\")","v":""},{"$f":"IF($C89=1,'Sjekkliste noter'!B155,\"\")","v":""},null,{"$f":"IF($C89=1,'Sjekkliste noter'!H155,\"\")","v":""}]
[{"$f":"'Sjekkliste noter'!A156","v":89},{"$f":"IF('Sjekkliste noter'!E156<>\"\",1,0)","v":0},0,{"$f":"IF($C90=1,'Sjekkliste noter'!A156,\"\")","v":""},{"$f":"IF($C90=1,'Sjekkliste noter'!B156,\"\")","v":""},null,{"$f":"IF($C90=1,'Sjekkliste noter'!H156,\"\")","v":""}]
[{"$f":"'Sjekkliste noter'!A158","v":90},{"$f":"IF('Sjekkliste noter'!E158<>\"\",1,0)","v":0},0,{"$f":"IF($C91=1,'Sjekkliste noter'!A158,\"\")","v":""},{"$f":"IF($C91=1,'Sjekkliste noter'!B158,\"\")","v":""},null,{"$f":"IF($C91=1,'Sjekkliste noter'!H158,\"\")","v":""}]
[{"$f":"'Sjekkliste noter'!A160","v":91},{"$f":"IF('Sjekkliste noter'!E160<>\"\",1,0)","v":0},0,{"$f":"IF($C92=1,'Sjekkliste noter'!A160,\"\")","v":""},{"$f":"IF($C92=1,'Sjekkliste noter'!B160,\"\")","v":""},null,{"$f":"IF($C92=1,'Sjekkliste noter'!H160,\"\")","v":""}]
[{"$f":"'Sjekkliste noter'!A162","v":92},{"$f":"IF('Sjekkliste noter'!E162<>\"\",1,0)","v":0},0,{"$f":"IF($C93=1,'Sjekkliste noter'!A162,\"\")","v":""},{"$f":"IF($C93=1,'Sjekkliste noter'!B162,\"\")","v":""},null,{"$f":"IF($C93=1,'Sjekkliste noter'!H162,\"\")","v":""}]
[{"$f":"'Sjekkliste noter'!A164","v":93},{"$f":"IF('Sjekkliste noter'!E164<>\"\",1,0)","v":0},0,{"$f":"IF($C94=1,'Sjekkliste noter'!A164,\"\")","v":""},{"$f":"IF($C94=1,'Sjekkliste noter'!B164,\"\")","v":""},null,{"$f":"IF($C94=1,'Sjekkliste noter'!H164,\"\")","v":""}]
[{"$f":"'Sjekkliste noter'!A166","v":94},{"$f":"IF('Sjekkliste noter'!E166<>\"\",1,0)","v":0},0,{"$f":"IF($C95=1,'Sjekkliste noter'!A166,\"\")","v":""},{"$f":"IF($C95=1,'Sjekkliste noter'!B166,\"\")","v":""},null,{"$f":"IF($C95=1,'Sjekkliste noter'!H166,\"\")","v":""}]
[{"$f":"'Sjekkliste noter'!A167","v":95},{"$f":"IF('Sjekkliste noter'!E167<>\"\",1,0)","v":0},0,{"$f":"IF($C96=1,'Sjekkliste noter'!A167,\"\")","v":""},{"$f":"IF($C96=1,'Sjekkliste noter'!B167,\"\")","v":""},null,{"$f":"IF($C96=1,'Sjekkliste noter'!H167,\"\")","v":""}]
[{"$f":"'Sjekkliste noter'!A170","v":96},{"$f":"IF('Sjekkliste noter'!E170<>\"\",1,0)","v":0},0,{"$f":"IF($C97=1,'Sjekkliste noter'!A170,\"\")","v":""},{"$f":"IF($C97=1,'Sjekkliste noter'!B170,\"\")","v":""},null,{"$f":"IF($C97=1,'Sjekkliste noter'!H170,\"\")","v":""}]
[{"$f":"'Sjekkliste noter'!A171","v":97},{"$f":"IF('Sjekkliste noter'!E171<>\"\",1,0)","v":0},0,{"$f":"IF($C98=1,'Sjekkliste noter'!A171,\"\")","v":""},{"$f":"IF($C98=1,'Sjekkliste noter'!B171,\"\")","v":""},null,{"$f":"IF($C98=1,'Sjekkliste noter'!H171,\"\")","v":""}]
[{"$f":"'Sjekkliste noter'!A172","v":98},{"$f":"IF('Sjekkliste noter'!E172<>\"\",1,0)","v":0},0,{"$f":"IF($C99=1,'Sjekkliste noter'!A172,\"\")","v":""},{"$f":"IF($C99=1,'Sjekkliste noter'!B172,\"\")","v":""},null,{"$f":"IF($C99=1,'Sjekkliste noter'!H172,\"\")","v":""}]
[{"$f":"'Sjekkliste noter'!A173","v":99},{"$f":"IF('Sjekkliste noter'!E173<>\"\",1,0)","v":0},0,{"$f":"IF($C100=1,'Sjekkliste noter'!A173,\"\")","v":""},{"$f":"IF($C100=1,'Sjekkliste noter'!B173,\"\")","v":""},null,{"$f":"IF($C100=1,'Sjekkliste noter'!H173,\"\")","v":""}]
[{"$f":"'Sjekkliste noter'!A174","v":100},{"$f":"IF('Sjekkliste noter'!E174<>\"\",1,0)","v":0},0,{"$f":"IF($C101=1,'Sjekkliste noter'!A174,\"\")","v":""},{"$f":"IF($C101=1,'Sjekkliste noter'!B174,\"\")","v":""},null,{"$f":"IF($C101=1,'Sjekkliste noter'!H174,\"\")","v":""}]
[{"$f":"'Sjekkliste noter'!A175","v":101},{"$f":"IF('Sjekkliste noter'!E175<>\"\",1,0)","v":0},0,{"$f":"IF($C102=1,'Sjekkliste noter'!A175,\"\")","v":""},{"$f":"IF($C102=1,'Sjekkliste noter'!B175,\"\")","v":""},null,{"$f":"IF($C102=1,'Sjekkliste noter'!H175,\"\")","v":""}]
[{"$f":"'Sjekkliste noter'!A178","v":102},{"$f":"IF('Sjekkliste noter'!E178<>\"\",1,0)","v":0},0,{"$f":"IF($C103=1,'Sjekkliste noter'!A178,\"\")","v":""},{"$f":"IF($C103=1,'Sjekkliste noter'!B178,\"\")","v":""},null,{"$f":"IF($C103=1,'Sjekkliste noter'!H178,\"\")","v":""}]
[{"$f":"'Sjekkliste noter'!A179","v":103},{"$f":"IF('Sjekkliste noter'!E179<>\"\",1,0)","v":0},0,{"$f":"IF($C104=1,'Sjekkliste noter'!A179,\"\")","v":""},{"$f":"IF($C104=1,'Sjekkliste noter'!B179,\"\")","v":""},null,{"$f":"IF($C104=1,'Sjekkliste noter'!H179,\"\")","v":""}]
[{"$f":"'Sjekkliste noter'!A180","v":104},{"$f":"IF('Sjekkliste noter'!E180<>\"\",1,0)","v":0},0,{"$f":"IF($C105=1,'Sjekkliste noter'!A180,\"\")","v":""},{"$f":"IF($C105=1,'Sjekkliste noter'!B180,\"\")","v":""},null,{"$f":"IF($C105=1,'Sjekkliste noter'!H180,\"\")","v":""}]
[{"$f":"'Sjekkliste noter'!A181","v":105},{"$f":"IF('Sjekkliste noter'!E181<>\"\",1,0)","v":0},0,{"$f":"IF($C106=1,'Sjekkliste noter'!A181,\"\")","v":""},{"$f":"IF($C106=1,'Sjekkliste noter'!B181,\"\")","v":""},null,{"$f":"IF($C106=1,'Sjekkliste noter'!H181,\"\")","v":""}]
[{"$f":"'Sjekkliste noter'!A182","v":106},{"$f":"IF('Sjekkliste noter'!E182<>\"\",1,0)","v":0},0,{"$f":"IF($C107=1,'Sjekkliste noter'!A182,\"\")","v":""},{"$f":"IF($C107=1,'Sjekkliste noter'!B182,\"\")","v":""},null,{"$f":"IF($C107=1,'Sjekkliste noter'!H182,\"\")","v":""}]
[{"$f":"'Sjekkliste noter'!A183","v":107},{"$f":"IF('Sjekkliste noter'!E183<>\"\",1,0)","v":0},0,{"$f":"IF($C108=1,'Sjekkliste noter'!A183,\"\")","v":""},{"$f":"IF($C108=1,'Sjekkliste noter'!B183,\"\")","v":""},null,{"$f":"IF($C108=1,'Sjekkliste noter'!H183,\"\")","v":""}]
[{"$f":"'Sjekkliste noter'!A184","v":108},{"$f":"IF('Sjekkliste noter'!E184<>\"\",1,0)","v":0},0,{"$f":"IF($C109=1,'Sjekkliste noter'!A184,\"\")","v":""},{"$f":"IF($C109=1,'Sjekkliste noter'!B184,\"\")","v":""},null,{"$f":"IF($C109=1,'Sjekkliste noter'!H184,\"\")","v":""}]
[{"$f":"'Sjekkliste noter'!A185","v":109},{"$f":"IF('Sjekkliste noter'!E185<>\"\",1,0)","v":0},0,{"$f":"IF($C110=1,'Sjekkliste noter'!A185,\"\")","v":""},{"$f":"IF($C110=1,'Sjekkliste noter'!B185,\"\")","v":""},null,{"$f":"IF($C110=1,'Sjekkliste noter'!H185,\"\")","v":""}]
[{"$f":"'Sjekkliste noter'!A186","v":110},{"$f":"IF('Sjekkliste noter'!E186<>\"\",1,0)","v":0},0,{"$f":"IF($C111=1,'Sjekkliste noter'!A186,\"\")","v":""},{"$f":"IF($C111=1,'Sjekkliste noter'!B186,\"\")","v":""},null,{"$f":"IF($C111=1,'Sjekkliste noter'!H186,\"\")","v":""}]
[{"$f":"'Sjekkliste noter'!A188","v":111},{"$f":"IF('Sjekkliste noter'!E188<>\"\",1,0)","v":0},0,{"$f":"IF($C112=1,'Sjekkliste noter'!A188,\"\")","v":""},{"$f":"IF($C112=1,'Sjekkliste noter'!B188,\"\")","v":""},null,{"$f":"IF($C112=1,'Sjekkliste noter'!H188,\"\")","v":""}]
[{"$f":"'Sjekkliste noter'!A189","v":112},{"$f":"IF('Sjekkliste noter'!E189<>\"\",1,0)","v":0},0,{"$f":"IF($C113=1,'Sjekkliste noter'!A189,\"\")","v":""},{"$f":"IF($C113=1,'Sjekkliste noter'!B189,\"\")","v":""},null,{"$f":"IF($C113=1,'Sjekkliste noter'!H189,\"\")","v":""}]
[{"$f":"'Sjekkliste noter'!A191","v":113},{"$f":"IF('Sjekkliste noter'!E191<>\"\",1,0)","v":0},0,{"$f":"IF($C114=1,'Sjekkliste noter'!A191,\"\")","v":""},{"$f":"IF($C114=1,'Sjekkliste noter'!B191,\"\")","v":""},null,{"$f":"IF($C114=1,'Sjekkliste noter'!H191,\"\")","v":""}]
[{"$f":"'Sjekkliste noter'!A192","v":114},{"$f":"IF('Sjekkliste noter'!E192<>\"\",1,0)","v":0},0,{"$f":"IF($C115=1,'Sjekkliste noter'!A192,\"\")","v":""},{"$f":"IF($C115=1,'Sjekkliste noter'!B192,\"\")","v":""},null,{"$f":"IF($C115=1,'Sjekkliste noter'!H192,\"\")","v":""}]
[{"$f":"'Sjekkliste noter'!A194","v":115},{"$f":"IF('Sjekkliste noter'!E194<>\"\",1,0)","v":0},0,{"$f":"IF($C116=1,'Sjekkliste noter'!A194,\"\")","v":""},{"$f":"IF($C116=1,'Sjekkliste noter'!B194,\"\")","v":""},null,{"$f":"IF($C116=1,'Sjekkliste noter'!H194,\"\")","v":""}]
[{"$f":"'Sjekkliste noter'!A195","v":116},{"$f":"IF('Sjekkliste noter'!E195<>\"\",1,0)","v":0},0,{"$f":"IF($C117=1,'Sjekkliste noter'!A195,\"\")","v":""},{"$f":"IF($C117=1,'Sjekkliste noter'!B195,\"\")","v":""},null,{"$f":"IF($C117=1,'Sjekkliste noter'!H195,\"\")","v":""}]
[{"$f":"'Sjekkliste noter'!A196","v":117},{"$f":"IF('Sjekkliste noter'!E196<>\"\",1,0)","v":0},0,{"$f":"IF($C118=1,'Sjekkliste noter'!A196,\"\")","v":""},{"$f":"IF($C118=1,'Sjekkliste noter'!B196,\"\")","v":""},null,{"$f":"IF($C118=1,'Sjekkliste noter'!H196,\"\")","v":""}]
[{"$f":"'Sjekkliste noter'!A197","v":118},{"$f":"IF('Sjekkliste noter'!E197<>\"\",1,0)","v":0},0,{"$f":"IF($C119=1,'Sjekkliste noter'!A197,\"\")","v":""},{"$f":"IF($C119=1,'Sjekkliste noter'!B197,\"\")","v":""},null,{"$f":"IF($C119=1,'Sjekkliste noter'!H197,\"\")","v":""}]
[{"$f":"'Sjekkliste noter'!A198","v":119},{"$f":"IF('Sjekkliste noter'!E198<>\"\",1,0)","v":0},0,{"$f":"IF($C120=1,'Sjekkliste noter'!A198,\"\")","v":""},{"$f":"IF($C120=1,'Sjekkliste noter'!B198,\"\")","v":""},null,{"$f":"IF($C120=1,'Sjekkliste noter'!H198,\"\")","v":""}]
[{"$f":"'Sjekkliste noter'!A199","v":120},{"$f":"IF('Sjekkliste noter'!E199<>\"\",1,0)","v":0},0,{"$f":"IF($C121=1,'Sjekkliste noter'!A199,\"\")","v":""},{"$f":"IF($C121=1,'Sjekkliste noter'!B199,\"\")","v":""},null,{"$f":"IF($C121=1,'Sjekkliste noter'!H199,\"\")","v":""}]
[{"$f":"'Sjekkliste noter'!A203","v":121},{"$f":"IF('Sjekkliste noter'!E203<>\"\",1,0)","v":0},0,{"$f":"IF($C122=1,'Sjekkliste noter'!A203,\"\")","v":""},{"$f":"IF($C122=1,'Sjekkliste noter'!B203,\"\")","v":""},null,{"$f":"IF($C122=1,'Sjekkliste noter'!H203,\"\")","v":""}]
[{"$f":"'Sjekkliste noter'!A204","v":122},{"$f":"IF('Sjekkliste noter'!E204<>\"\",1,0)","v":0},0,{"$f":"IF($C123=1,'Sjekkliste noter'!A204,\"\")","v":""},{"$f":"IF($C123=1,'Sjekkliste noter'!B204,\"\")","v":""},null,{"$f":"IF($C123=1,'Sjekkliste noter'!H204,\"\")","v":""}]
[{"$f":"'Sjekkliste noter'!A205","v":123},{"$f":"IF('Sjekkliste noter'!E205<>\"\",1,0)","v":0},0,{"$f":"IF($C124=1,'Sjekkliste noter'!A205,\"\")","v":""},{"$f":"IF($C124=1,'Sjekkliste noter'!B205,\"\")","v":""},null,{"$f":"IF($C124=1,'Sjekkliste noter'!H205,\"\")","v":""}]
[{"$f":"'Sjekkliste noter'!A206","v":124},{"$f":"IF('Sjekkliste noter'!E206<>\"\",1,0)","v":0},0,{"$f":"IF($C125=1,'Sjekkliste noter'!A206,\"\")","v":""},{"$f":"IF($C125=1,'Sjekkliste noter'!B206,\"\")","v":""},null,{"$f":"IF($C125=1,'Sjekkliste noter'!H206,\"\")","v":""}]
[{"$f":"'Sjekkliste noter'!A208","v":125},{"$f":"IF('Sjekkliste noter'!E208<>\"\",1,0)","v":0},0,{"$f":"IF($C126=1,'Sjekkliste noter'!A208,\"\")","v":""},{"$f":"IF($C126=1,'Sjekkliste noter'!B208,\"\")","v":""},null,{"$f":"IF($C126=1,'Sjekkliste noter'!H208,\"\")","v":""}]
[{"$f":"'Sjekkliste noter'!A209","v":126},{"$f":"IF('Sjekkliste noter'!E209<>\"\",1,0)","v":0},0,{"$f":"IF($C127=1,'Sjekkliste noter'!A209,\"\")","v":""},{"$f":"IF($C127=1,'Sjekkliste noter'!B209,\"\")","v":""},null,{"$f":"IF($C127=1,'Sjekkliste noter'!H209,\"\")","v":""}]
[{"$f":"'Sjekkliste noter'!A210","v":127},{"$f":"IF('Sjekkliste noter'!E210<>\"\",1,0)","v":0},0,{"$f":"IF($C128=1,'Sjekkliste noter'!A210,\"\")","v":""},{"$f":"IF($C128=1,'Sjekkliste noter'!B210,\"\")","v":""},null,{"$f":"IF($C128=1,'Sjekkliste noter'!H210,\"\")","v":""}]
[{"$f":"'Sjekkliste noter'!A212","v":128},{"$f":"IF('Sjekkliste noter'!E212<>\"\",1,0)","v":0},0,{"$f":"IF($C129=1,'Sjekkliste noter'!A212,\"\")","v":""},{"$f":"IF($C129=1,'Sjekkliste noter'!B212,\"\")","v":""},null,{"$f":"IF($C129=1,'Sjekkliste noter'!H212,\"\")","v":""}]
[{"$f":"'Sjekkliste noter'!A213","v":129},{"$f":"IF('Sjekkliste noter'!E213<>\"\",1,0)","v":0},{"$f":"SUM(B130:B130)","v":0},{"$f":"IF($C130=1,'Sjekkliste noter'!A213,\"\")","v":""},{"$f":"IF($C130=1,'Sjekkliste noter'!B213,\"\")","v":""},null,{"$f":"IF($C130=1,'Sjekkliste noter'!H213,\"\")","v":""}]
[{"$f":"'Sjekkliste noter'!A214","v":130},{"$f":"IF('Sjekkliste noter'!E214<>\"\",1,0)","v":0},0,{"$f":"IF($C131=1,'Sjekkliste noter'!A214,\"\")","v":""},{"$f":"IF($C131=1,'Sjekkliste noter'!B214,\"\")","v":""},null,{"$f":"IF($C131=1,'Sjekkliste noter'!H214,\"\")","v":""}]
[{"$f":"'Sjekkliste noter'!A217","v":131},{"$f":"IF('Sjekkliste noter'!E217<>\"\",1,0)","v":0},0,{"$f":"IF($C132=1,'Sjekkliste noter'!A217,\"\")","v":""},{"$f":"IF($C132=1,'Sjekkliste noter'!B217,\"\")","v":""},null,{"$f":"IF($C132=1,'Sjekkliste noter'!H217,\"\")","v":""}]
[{"$f":"'Sjekkliste noter'!A218","v":132},{"$f":"IF('Sjekkliste noter'!E218<>\"\",1,0)","v":0},0,{"$f":"IF($C133=1,'Sjekkliste noter'!A218,\"\")","v":""},{"$f":"IF($C133=1,'Sjekkliste noter'!B218,\"\")","v":""},null,{"$f":"IF($C133=1,'Sjekkliste noter'!H218,\"\")","v":""}]
[{"$f":"'Sjekkliste noter'!A220","v":133},{"$f":"IF('Sjekkliste noter'!E220<>\"\",1,0)","v":0},0,{"$f":"IF($C134=1,'Sjekkliste noter'!A220,\"\")","v":""},{"$f":"IF($C134=1,'Sjekkliste noter'!B220,\"\")","v":""},null,{"$f":"IF($C134=1,'Sjekkliste noter'!H220,\"\")","v":""}]
[{"$f":"'Sjekkliste noter'!A221","v":134},{"$f":"IF('Sjekkliste noter'!E221<>\"\",1,0)","v":0},0,{"$f":"IF($C135=1,'Sjekkliste noter'!A221,\"\")","v":""},{"$f":"IF($C135=1,'Sjekkliste noter'!B221,\"\")","v":""},null,{"$f":"IF($C135=1,'Sjekkliste noter'!H221,\"\")","v":""}]
[{"$f":"'Sjekkliste noter'!A224","v":135},{"$f":"IF('Sjekkliste noter'!E224<>\"\",1,0)","v":0},0,{"$f":"IF($C136=1,'Sjekkliste noter'!A224,\"\")","v":""},{"$f":"IF($C136=1,'Sjekkliste noter'!B224,\"\")","v":""},null,{"$f":"IF($C136=1,'Sjekkliste noter'!H224,\"\")","v":""}]
[{"$f":"'Sjekkliste noter'!A225","v":136},{"$f":"IF('Sjekkliste noter'!E225<>\"\",1,0)","v":0},0,{"$f":"IF($C137=1,'Sjekkliste noter'!A225,\"\")","v":""},{"$f":"IF($C137=1,'Sjekkliste noter'!B225,\"\")","v":""},null,{"$f":"IF($C137=1,'Sjekkliste noter'!H225,\"\")","v":""}]
[{"$f":"'Sjekkliste noter'!A227","v":137},{"$f":"IF('Sjekkliste noter'!E227<>\"\",1,0)","v":0},0,{"$f":"IF($C138=1,'Sjekkliste noter'!A227,\"\")","v":""},{"$f":"IF($C138=1,'Sjekkliste noter'!B227,\"\")","v":""},null,{"$f":"IF($C138=1,'Sjekkliste noter'!H227,\"\")","v":""}]
[{"$f":"'Sjekkliste noter'!A228","v":138},{"$f":"IF('Sjekkliste noter'!E228<>\"\",1,0)","v":0},0,{"$f":"IF($C139=1,'Sjekkliste noter'!A228,\"\")","v":""},{"$f":"IF($C139=1,'Sjekkliste noter'!B228,\"\")","v":""},null,{"$f":"IF($C139=1,'Sjekkliste noter'!H228,\"\")","v":""}]
[{"$f":"'Sjekkliste noter'!A230","v":139},{"$f":"IF('Sjekkliste noter'!E230<>\"\",1,0)","v":0},0,{"$f":"IF($C140=1,'Sjekkliste noter'!A230,\"\")","v":""},{"$f":"IF($C140=1,'Sjekkliste noter'!B230,\"\")","v":""},null,{"$f":"IF($C140=1,'Sjekkliste noter'!H230,\"\")","v":""}]
[{"$f":"'Sjekkliste noter'!A232","v":140},{"$f":"IF('Sjekkliste noter'!E232<>\"\",1,0)","v":0},0,{"$f":"IF($C141=1,'Sjekkliste noter'!A232,\"\")","v":""},{"$f":"IF($C141=1,'Sjekkliste noter'!B232,\"\")","v":""},null,{"$f":"IF($C141=1,'Sjekkliste noter'!H232,\"\")","v":""}]
[{"$f":"'Sjekkliste noter'!A235","v":141},{"$f":"IF('Sjekkliste noter'!E235<>\"\",1,0)","v":0},0,{"$f":"IF($C142=1,'Sjekkliste noter'!A235,\"\")","v":""},{"$f":"IF($C142=1,'Sjekkliste noter'!B235,\"\")","v":""},null,{"$f":"IF($C142=1,'Sjekkliste noter'!H235,\"\")","v":""}]
[{"$f":"'Sjekkliste noter'!A236","v":142},{"$f":"IF('Sjekkliste noter'!E236<>\"\",1,0)","v":0},0,{"$f":"IF($C143=1,'Sjekkliste noter'!A236,\"\")","v":""},{"$f":"IF($C143=1,'Sjekkliste noter'!B236,\"\")","v":""},null,{"$f":"IF($C143=1,'Sjekkliste noter'!H236,\"\")","v":""}]
[{"$f":"'Sjekkliste noter'!A237","v":143},{"$f":"IF('Sjekkliste noter'!E237<>\"\",1,0)","v":0},0,{"$f":"IF($C144=1,'Sjekkliste noter'!A237,\"\")","v":""},{"$f":"IF($C144=1,'Sjekkliste noter'!B237,\"\")","v":""},null,{"$f":"IF($C144=1,'Sjekkliste noter'!H237,\"\")","v":""}]
[{"$f":"'Sjekkliste noter'!A239","v":144},{"$f":"IF('Sjekkliste noter'!E239<>\"\",1,0)","v":0},0,{"$f":"IF($C145=1,'Sjekkliste noter'!A239,\"\")","v":""},{"$f":"IF($C145=1,'Sjekkliste noter'!B239,\"\")","v":""},null,{"$f":"IF($C145=1,'Sjekkliste noter'!H239,\"\")","v":""}]
[{"$f":"'Sjekkliste noter'!A240","v":145},{"$f":"IF('Sjekkliste noter'!E240<>\"\",1,0)","v":0},0,{"$f":"IF($C146=1,'Sjekkliste noter'!A240,\"\")","v":""},{"$f":"IF($C146=1,'Sjekkliste noter'!B240,\"\")","v":""},null,{"$f":"IF($C146=1,'Sjekkliste noter'!H240,\"\")","v":""}]
[{"$f":"'Sjekkliste noter'!A242","v":146},{"$f":"IF('Sjekkliste noter'!E242<>\"\",1,0)","v":0},0,{"$f":"IF($C147=1,'Sjekkliste noter'!A242,\"\")","v":""},{"$f":"IF($C147=1,'Sjekkliste noter'!B242,\"\")","v":""},null,{"$f":"IF($C147=1,'Sjekkliste noter'!H242,\"\")","v":""}]
[{"$f":"'Sjekkliste noter'!A243","v":147},{"$f":"IF('Sjekkliste noter'!E243<>\"\",1,0)","v":0},0,{"$f":"IF($C148=1,'Sjekkliste noter'!A243,\"\")","v":""},{"$f":"IF($C148=1,'Sjekkliste noter'!B243,\"\")","v":""},null,{"$f":"IF($C148=1,'Sjekkliste noter'!H243,\"\")","v":""}]
[{"$f":"'Sjekkliste noter'!A244","v":148},{"$f":"IF('Sjekkliste noter'!E244<>\"\",1,0)","v":0},0,{"$f":"IF($C149=1,'Sjekkliste noter'!A244,\"\")","v":""},{"$f":"IF($C149=1,'Sjekkliste noter'!B244,\"\")","v":""},null,{"$f":"IF($C149=1,'Sjekkliste noter'!H244,\"\")","v":""}]
[{"$f":"'Sjekkliste noter'!A246","v":149},{"$f":"IF('Sjekkliste noter'!E246<>\"\",1,0)","v":0},0,{"$f":"IF($C150=1,'Sjekkliste noter'!A246,\"\")","v":""},{"$f":"IF($C150=1,'Sjekkliste noter'!B246,\"\")","v":""},null,{"$f":"IF($C150=1,'Sjekkliste noter'!H246,\"\")","v":""}]
[{"$f":"'Sjekkliste noter'!A247","v":150},{"$f":"IF('Sjekkliste noter'!E247<>\"\",1,0)","v":0},0,{"$f":"IF($C151=1,'Sjekkliste noter'!A247,\"\")","v":""},{"$f":"IF($C151=1,'Sjekkliste noter'!B247,\"\")","v":""},null,{"$f":"IF($C151=1,'Sjekkliste noter'!H247,\"\")","v":""}]
[{"$f":"'Sjekkliste noter'!A248","v":151},{"$f":"IF('Sjekkliste noter'!E248<>\"\",1,0)","v":0},0,{"$f":"IF($C152=1,'Sjekkliste noter'!A248,\"\")","v":""},{"$f":"IF($C152=1,'Sjekkliste noter'!B248,\"\")","v":""},null,{"$f":"IF($C152=1,'Sjekkliste noter'!H248,\"\")","v":""}]
[{"$f":"'Sjekkliste noter'!A249","v":152},{"$f":"IF('Sjekkliste noter'!E249<>\"\",1,0)","v":0},0,{"$f":"IF($C153=1,'Sjekkliste noter'!A249,\"\")","v":""},{"$f":"IF($C153=1,'Sjekkliste noter'!B249,\"\")","v":""},null,{"$f":"IF($C153=1,'Sjekkliste noter'!H249,\"\")","v":""}]
[{"$f":"'Sjekkliste noter'!A250","v":153},{"$f":"IF('Sjekkliste noter'!E250<>\"\",1,0)","v":0},0,{"$f":"IF($C154=1,'Sjekkliste noter'!A250,\"\")","v":""},{"$f":"IF($C154=1,'Sjekkliste noter'!B250,\"\")","v":""},null,{"$f":"IF($C154=1,'Sjekkliste noter'!H250,\"\")","v":""}]
[{"$f":"'Sjekkliste noter'!A251","v":154},{"$f":"IF('Sjekkliste noter'!E251<>\"\",1,0)","v":0},0,{"$f":"IF($C155=1,'Sjekkliste noter'!A251,\"\")","v":""},{"$f":"IF($C155=1,'Sjekkliste noter'!B251,\"\")","v":""},null,{"$f":"IF($C155=1,'Sjekkliste noter'!H251,\"\")","v":""}]
[{"$f":"'Sjekkliste noter'!A252","v":155},{"$f":"IF('Sjekkliste noter'!E252<>\"\",1,0)","v":0},0,{"$f":"IF($C156=1,'Sjekkliste noter'!A252,\"\")","v":""},{"$f":"IF($C156=1,'Sjekkliste noter'!B252,\"\")","v":""},null,{"$f":"IF($C156=1,'Sjekkliste noter'!H252,\"\")","v":""}]
[{"$f":"'Sjekkliste noter'!A254","v":156},{"$f":"IF('Sjekkliste noter'!E254<>\"\",1,0)","v":0},0,{"$f":"IF($C157=1,'Sjekkliste noter'!A254,\"\")","v":""},{"$f":"IF($C157=1,'Sjekkliste noter'!B254,\"\")","v":""},null,{"$f":"IF($C157=1,'Sjekkliste noter'!H254,\"\")","v":""}]
[{"$f":"'Sjekkliste noter'!A255","v":157},{"$f":"IF('Sjekkliste noter'!E255<>\"\",1,0)","v":0},0,{"$f":"IF($C158=1,'Sjekkliste noter'!A255,\"\")","v":""},{"$f":"IF($C158=1,'Sjekkliste noter'!B255,\"\")","v":""},null,{"$f":"IF($C158=1,'Sjekkliste noter'!H255,\"\")","v":""}]
[{"$f":"'Sjekkliste noter'!A256","v":158},{"$f":"IF('Sjekkliste noter'!E256<>\"\",1,0)","v":0},0,{"$f":"IF($C159=1,'Sjekkliste noter'!A256,\"\")","v":""},{"$f":"IF($C159=1,'Sjekkliste noter'!B256,\"\")","v":""},null,{"$f":"IF($C159=1,'Sjekkliste noter'!H256,\"\")","v":""}]
[{"$f":"'Sjekkliste noter'!A258","v":159},{"$f":"IF('Sjekkliste noter'!E258<>\"\",1,0)","v":0},0,{"$f":"IF($C160=1,'Sjekkliste noter'!A258,\"\")","v":""},{"$f":"IF($C160=1,'Sjekkliste noter'!B258,\"\")","v":""},null,{"$f":"IF($C160=1,'Sjekkliste noter'!H258,\"\")","v":""}]
[{"$f":"'Sjekkliste noter'!A259","v":160},{"$f":"IF('Sjekkliste noter'!E259<>\"\",1,0)","v":0},0,{"$f":"IF($C161=1,'Sjekkliste noter'!A259,\"\")","v":""},{"$f":"IF($C161=1,'Sjekkliste noter'!B259,\"\")","v":""},null,{"$f":"IF($C161=1,'Sjekkliste noter'!H259,\"\")","v":""}]
[{"$f":"'Sjekkliste noter'!A260","v":161},{"$f":"IF('Sjekkliste noter'!E260<>\"\",1,0)","v":0},0,{"$f":"IF($C162=1,'Sjekkliste noter'!A260,\"\")","v":""},{"$f":"IF($C162=1,'Sjekkliste noter'!B260,\"\")","v":""},null,{"$f":"IF($C162=1,'Sjekkliste noter'!H260,\"\")","v":""}]
[{"$f":"'Sjekkliste noter'!A261","v":162},{"$f":"IF('Sjekkliste noter'!E261<>\"\",1,0)","v":0},0,{"$f":"IF($C163=1,'Sjekkliste noter'!A261,\"\")","v":""},{"$f":"IF($C163=1,'Sjekkliste noter'!B261,\"\")","v":""},null,{"$f":"IF($C163=1,'Sjekkliste noter'!H261,\"\")","v":""}]
[{"$f":"'Sjekkliste noter'!A262","v":163},{"$f":"IF('Sjekkliste noter'!E262<>\"\",1,0)","v":0},0,{"$f":"IF($C164=1,'Sjekkliste noter'!A262,\"\")","v":""},{"$f":"IF($C164=1,'Sjekkliste noter'!B262,\"\")","v":""},null,{"$f":"IF($C164=1,'Sjekkliste noter'!H262,\"\")","v":""}]
[{"$f":"'Sjekkliste noter'!A263","v":164},{"$f":"IF('Sjekkliste noter'!E263<>\"\",1,0)","v":0},0,{"$f":"IF($C165=1,'Sjekkliste noter'!A263,\"\")","v":""},{"$f":"IF($C165=1,'Sjekkliste noter'!B263,\"\")","v":""},null,{"$f":"IF($C165=1,'Sjekkliste noter'!H263,\"\")","v":""}]
[{"$f":"'Sjekkliste noter'!A264","v":165},{"$f":"IF('Sjekkliste noter'!E264<>\"\",1,0)","v":0},0,{"$f":"IF($C166=1,'Sjekkliste noter'!A264,\"\")","v":""},{"$f":"IF($C166=1,'Sjekkliste noter'!B264,\"\")","v":""},null,{"$f":"IF($C166=1,'Sjekkliste noter'!H264,\"\")","v":""}]
[{"$f":"'Sjekkliste noter'!A265","v":166},{"$f":"IF('Sjekkliste noter'!E265<>\"\",1,0)","v":0},0,{"$f":"IF($C167=1,'Sjekkliste noter'!A265,\"\")","v":""},{"$f":"IF($C167=1,'Sjekkliste noter'!B265,\"\")","v":""},null,{"$f":"IF($C167=1,'Sjekkliste noter'!H265,\"\")","v":""}]
[{"$f":"'Sjekkliste noter'!A266","v":167},{"$f":"IF('Sjekkliste noter'!E266<>\"\",1,0)","v":0},0,{"$f":"IF($C168=1,'Sjekkliste noter'!A266,\"\")","v":""},{"$f":"IF($C168=1,'Sjekkliste noter'!B266,\"\")","v":""},null,{"$f":"IF($C168=1,'Sjekkliste noter'!H266,\"\")","v":""}]
[{"$f":"'Sjekkliste noter'!A268","v":168},{"$f":"IF('Sjekkliste noter'!E268<>\"\",1,0)","v":0},0,{"$f":"IF($C169=1,'Sjekkliste noter'!A268,\"\")","v":""},{"$f":"IF($C169=1,'Sjekkliste noter'!B268,\"\")","v":""},null,{"$f":"IF($C169=1,'Sjekkliste noter'!H268,\"\")","v":""}]
[{"$f":"'Sjekkliste noter'!A269","v":169},{"$f":"IF('Sjekkliste noter'!E269<>\"\",1,0)","v":0},0,{"$f":"IF($C170=1,'Sjekkliste noter'!A269,\"\")","v":""},{"$f":"IF($C170=1,'Sjekkliste noter'!B269,\"\")","v":""},null,{"$f":"IF($C170=1,'Sjekkliste noter'!H269,\"\")","v":""}]
[{"$f":"'Sjekkliste noter'!A271","v":170},{"$f":"IF('Sjekkliste noter'!E271<>\"\",1,0)","v":0},0,{"$f":"IF($C171=1,'Sjekkliste noter'!A271,\"\")","v":""},{"$f":"IF($C171=1,'Sjekkliste noter'!B271,\"\")","v":""},null,{"$f":"IF($C171=1,'Sjekkliste noter'!H271,\"\")","v":""}]
[{"$f":"'Sjekkliste noter'!A272","v":171},{"$f":"IF('Sjekkliste noter'!E272<>\"\",1,0)","v":0},0,{"$f":"IF($C172=1,'Sjekkliste noter'!A272,\"\")","v":""},{"$f":"IF($C172=1,'Sjekkliste noter'!B272,\"\")","v":""},null,{"$f":"IF($C172=1,'Sjekkliste noter'!H272,\"\")","v":""}]
[{"$f":"'Sjekkliste noter'!A275","v":172},{"$f":"IF('Sjekkliste noter'!E275<>\"\",1,0)","v":0},0,{"$f":"IF($C173=1,'Sjekkliste noter'!A275,\"\")","v":""},{"$f":"IF($C173=1,'Sjekkliste noter'!B275,\"\")","v":""},null,{"$f":"IF($C173=1,'Sjekkliste noter'!H275,\"\")","v":""}]
[{"$f":"'Sjekkliste noter'!A276","v":173},{"$f":"IF('Sjekkliste noter'!E276<>\"\",1,0)","v":0},0,{"$f":"IF($C174=1,'Sjekkliste noter'!A276,\"\")","v":""},{"$f":"IF($C174=1,'Sjekkliste noter'!B276,\"\")","v":""},null,{"$f":"IF($C174=1,'Sjekkliste noter'!H276,\"\")","v":""}]
[{"$f":"'Sjekkliste noter'!A278","v":174},{"$f":"IF('Sjekkliste noter'!E278<>\"\",1,0)","v":0},0,{"$f":"IF($C175=1,'Sjekkliste noter'!A278,\"\")","v":""},{"$f":"IF($C175=1,'Sjekkliste noter'!B278,\"\")","v":""},null,{"$f":"IF($C175=1,'Sjekkliste noter'!H278,\"\")","v":""}]
[{"$f":"'Sjekkliste noter'!A280","v":175},{"$f":"IF('Sjekkliste noter'!E280<>\"\",1,0)","v":0},0,{"$f":"IF($C176=1,'Sjekkliste noter'!A280,\"\")","v":""},{"$f":"IF($C176=1,'Sjekkliste noter'!B280,\"\")","v":""},null,{"$f":"IF($C176=1,'Sjekkliste noter'!H280,\"\")","v":""}]
[{"$f":"'Sjekkliste noter'!A281","v":176},{"$f":"IF('Sjekkliste noter'!E281<>\"\",1,0)","v":0},0,{"$f":"IF($C177=1,'Sjekkliste noter'!A281,\"\")","v":""},{"$f":"IF($C177=1,'Sjekkliste noter'!B281,\"\")","v":""},null,{"$f":"IF($C177=1,'Sjekkliste noter'!H281,\"\")","v":""}]
[{"$f":"'Sjekkliste noter'!A282","v":177},{"$f":"IF('Sjekkliste noter'!E282<>\"\",1,0)","v":0},0,{"$f":"IF($C178=1,'Sjekkliste noter'!A282,\"\")","v":""},{"$f":"IF($C178=1,'Sjekkliste noter'!B282,\"\")","v":""},null,{"$f":"IF($C178=1,'Sjekkliste noter'!H282,\"\")","v":""}]
[{"$f":"'Sjekkliste noter'!A283","v":178},{"$f":"IF('Sjekkliste noter'!E283<>\"\",1,0)","v":0},0,{"$f":"IF($C179=1,'Sjekkliste noter'!A283,\"\")","v":""},{"$f":"IF($C179=1,'Sjekkliste noter'!B283,\"\")","v":""},null,{"$f":"IF($C179=1,'Sjekkliste noter'!H283,\"\")","v":""}]
[{"$f":"'Sjekkliste noter'!A284","v":179},{"$f":"IF('Sjekkliste noter'!E284<>\"\",1,0)","v":0},0,{"$f":"IF($C180=1,'Sjekkliste noter'!A284,\"\")","v":""},{"$f":"IF($C180=1,'Sjekkliste noter'!B284,\"\")","v":""},null,{"$f":"IF($C180=1,'Sjekkliste noter'!H284,\"\")","v":""}]
[{"$f":"'Sjekkliste noter'!A285","v":180},{"$f":"IF('Sjekkliste noter'!E285<>\"\",1,0)","v":0},0,{"$f":"IF($C181=1,'Sjekkliste noter'!A285,\"\")","v":""},{"$f":"IF($C181=1,'Sjekkliste noter'!B285,\"\")","v":""},null,{"$f":"IF($C181=1,'Sjekkliste noter'!H285,\"\")","v":""}]
[{"$f":"'Sjekkliste noter'!A286","v":181},{"$f":"IF('Sjekkliste noter'!E286<>\"\",1,0)","v":0},0,{"$f":"IF($C182=1,'Sjekkliste noter'!A286,\"\")","v":""},{"$f":"IF($C182=1,'Sjekkliste noter'!B286,\"\")","v":""},null,{"$f":"IF($C182=1,'Sjekkliste noter'!H286,\"\")","v":""}]
[{"$f":"'Sjekkliste noter'!A287","v":182},{"$f":"IF('Sjekkliste noter'!E287<>\"\",1,0)","v":0},0,{"$f":"IF($C183=1,'Sjekkliste noter'!A287,\"\")","v":""},{"$f":"IF($C183=1,'Sjekkliste noter'!B287,\"\")","v":""},null,{"$f":"IF($C183=1,'Sjekkliste noter'!H287,\"\")","v":""}]
[{"$f":"'Sjekkliste noter'!A290","v":183},{"$f":"IF('Sjekkliste noter'!E290<>\"\",1,0)","v":0},0,{"$f":"IF($C184=1,'Sjekkliste noter'!A290,\"\")","v":""},{"$f":"IF($C184=1,'Sjekkliste noter'!B290,\"\")","v":""},null,{"$f":"IF($C184=1,'Sjekkliste noter'!H290,\"\")","v":""}]
[{"$f":"'Sjekkliste noter'!A291","v":184},{"$f":"IF('Sjekkliste noter'!E291<>\"\",1,0)","v":0},0,{"$f":"IF($C185=1,'Sjekkliste noter'!A291,\"\")","v":""},{"$f":"IF($C185=1,'Sjekkliste noter'!B291,\"\")","v":""},null,{"$f":"IF($C185=1,'Sjekkliste noter'!H291,\"\")","v":""}]
[{"$f":"'Sjekkliste noter'!A295","v":185},{"$f":"IF('Sjekkliste noter'!E295<>\"\",1,0)","v":0},0,{"$f":"IF($C186=1,'Sjekkliste noter'!A295,\"\")","v":""},{"$f":"IF($C186=1,'Sjekkliste noter'!B295,\"\")","v":""},null,{"$f":"IF($C186=1,'Sjekkliste noter'!H295,\"\")","v":""}]
[{"$f":"'Sjekkliste noter'!A296","v":186},{"$f":"IF('Sjekkliste noter'!E296<>\"\",1,0)","v":0},0,{"$f":"IF($C187=1,'Sjekkliste noter'!A296,\"\")","v":""},{"$f":"IF($C187=1,'Sjekkliste noter'!B296,\"\")","v":""},null,{"$f":"IF($C187=1,'Sjekkliste noter'!H296,\"\")","v":""}]
[{"$f":"'Sjekkliste noter'!A297","v":187},{"$f":"IF('Sjekkliste noter'!E297<>\"\",1,0)","v":0},0,{"$f":"IF($C188=1,'Sjekkliste noter'!A297,\"\")","v":""},{"$f":"IF($C188=1,'Sjekkliste noter'!B297,\"\")","v":""},null,{"$f":"IF($C188=1,'Sjekkliste noter'!H297,\"\")","v":""}]
[{"$f":"'Sjekkliste noter'!A298","v":188},{"$f":"IF('Sjekkliste noter'!E298<>\"\",1,0)","v":0},0,{"$f":"IF($C189=1,'Sjekkliste noter'!A298,\"\")","v":""},{"$f":"IF($C189=1,'Sjekkliste noter'!B298,\"\")","v":""},null,{"$f":"IF($C189=1,'Sjekkliste noter'!H298,\"\")","v":""}]
[{"$f":"'Sjekkliste noter'!A301","v":189},{"$f":"IF('Sjekkliste noter'!E301<>\"\",1,0)","v":0},0,{"$f":"IF($C190=1,'Sjekkliste noter'!A301,\"\")","v":""},{"$f":"IF($C190=1,'Sjekkliste noter'!B301,\"\")","v":""},null,{"$f":"IF($C190=1,'Sjekkliste noter'!H301,\"\")","v":""}]
[{"$f":"'Sjekkliste noter'!A302","v":190},{"$f":"IF('Sjekkliste noter'!E302<>\"\",1,0)","v":0},0,{"$f":"IF($C191=1,'Sjekkliste noter'!A302,\"\")","v":""},{"$f":"IF($C191=1,'Sjekkliste noter'!B302,\"\")","v":""},null,{"$f":"IF($C191=1,'Sjekkliste noter'!H302,\"\")","v":""}]
[{"$f":"'Sjekkliste noter'!A303","v":191},{"$f":"IF('Sjekkliste noter'!E303<>\"\",1,0)","v":0},0,{"$f":"IF($C192=1,'Sjekkliste noter'!A303,\"\")","v":""},{"$f":"IF($C192=1,'Sjekkliste noter'!B303,\"\")","v":""},null,{"$f":"IF($C192=1,'Sjekkliste noter'!H303,\"\")","v":""}]
[{"$f":"'Sjekkliste noter'!A304","v":192},{"$f":"IF('Sjekkliste noter'!E304<>\"\",1,0)","v":0},0,{"$f":"IF($C193=1,'Sjekkliste noter'!A304,\"\")","v":""},{"$f":"IF($C193=1,'Sjekkliste noter'!B304,\"\")","v":""},null,{"$f":"IF($C193=1,'Sjekkliste noter'!H304,\"\")","v":""}]
[{"$f":"'Sjekkliste noter'!A308","v":193},{"$f":"IF('Sjekkliste noter'!E308<>\"\",1,0)","v":0},{"$f":"SUM(B194:B194)","v":0},{"$f":"IF($C194=1,'Sjekkliste noter'!A308,\"\")","v":""},{"$f":"IF($C194=1,'Sjekkliste noter'!B308,\"\")","v":""},null,{"$f":"IF($C194=1,'Sjekkliste noter'!H308,\"\")","v":""}]
[{"$f":"'Sjekkliste noter'!A309","v":194},{"$f":"IF('Sjekkliste noter'!E309<>\"\",1,0)","v":0},0,{"$f":"IF($C195=1,'Sjekkliste noter'!A309,\"\")","v":""},{"$f":"IF($C195=1,'Sjekkliste noter'!B309,\"\")","v":""},null,{"$f":"IF($C195=1,'Sjekkliste noter'!H309,\"\")","v":""}]
[{"$f":"'Sjekkliste noter'!A310","v":195},{"$f":"IF('Sjekkliste noter'!E310<>\"\",1,0)","v":0},0,{"$f":"IF($C196=1,'Sjekkliste noter'!A310,\"\")","v":""},{"$f":"IF($C196=1,'Sjekkliste noter'!B310,\"\")","v":""},null,{"$f":"IF($C196=1,'Sjekkliste noter'!H310,\"\")","v":""}]
[{"$f":"'Sjekkliste noter'!A311","v":196},{"$f":"IF('Sjekkliste noter'!E311<>\"\",1,0)","v":0},0,{"$f":"IF($C197=1,'Sjekkliste noter'!A311,\"\")","v":""},{"$f":"IF($C197=1,'Sjekkliste noter'!B311,\"\")","v":""},null,{"$f":"IF($C197=1,'Sjekkliste noter'!H311,\"\")","v":""}]
[{"$f":"'Sjekkliste noter'!A313","v":197},{"$f":"IF('Sjekkliste noter'!E313<>\"\",1,0)","v":0},0,{"$f":"IF($C198=1,'Sjekkliste noter'!A313,\"\")","v":""},{"$f":"IF($C198=1,'Sjekkliste noter'!B313,\"\")","v":""},null,{"$f":"IF($C198=1,'Sjekkliste noter'!H313,\"\")","v":""}]
[{"$f":"'Sjekkliste noter'!A315","v":198},{"$f":"IF('Sjekkliste noter'!E315<>\"\",1,0)","v":0},0,{"$f":"IF($C199=1,'Sjekkliste noter'!A315,\"\")","v":""},{"$f":"IF($C199=1,'Sjekkliste noter'!B315,\"\")","v":""},null,{"$f":"IF($C199=1,'Sjekkliste noter'!H315,\"\")","v":""}]
[{"$f":"'Sjekkliste noter'!A316","v":199},{"$f":"IF('Sjekkliste noter'!E316<>\"\",1,0)","v":0},0,{"$f":"IF($C200=1,'Sjekkliste noter'!A316,\"\")","v":""},{"$f":"IF($C200=1,'Sjekkliste noter'!B316,\"\")","v":""},null,{"$f":"IF($C200=1,'Sjekkliste noter'!H316,\"\")","v":""}]
[{"$f":"'Sjekkliste noter'!A319","v":200},{"$f":"IF('Sjekkliste noter'!E319<>\"\",1,0)","v":0},0,{"$f":"IF($C201=1,'Sjekkliste noter'!A319,\"\")","v":""},{"$f":"IF($C201=1,'Sjekkliste noter'!B319,\"\")","v":""},null,{"$f":"IF($C201=1,'Sjekkliste noter'!H319,\"\")","v":""}]
[{"$f":"'Sjekkliste noter'!A320","v":201},{"$f":"IF('Sjekkliste noter'!E320<>\"\",1,0)","v":0},0,{"$f":"IF($C202=1,'Sjekkliste noter'!A320,\"\")","v":""},{"$f":"IF($C202=1,'Sjekkliste noter'!B320,\"\")","v":""},null,{"$f":"IF($C202=1,'Sjekkliste noter'!H320,\"\")","v":""}]
[{"$f":"'Sjekkliste noter'!A322","v":202},{"$f":"IF('Sjekkliste noter'!E322<>\"\",1,0)","v":0},0,{"$f":"IF($C203=1,'Sjekkliste noter'!A322,\"\")","v":""},{"$f":"IF($C203=1,'Sjekkliste noter'!B322,\"\")","v":""},null,{"$f":"IF($C203=1,'Sjekkliste noter'!H322,\"\")","v":""}]
[{"$f":"'Sjekkliste noter'!A323","v":203},{"$f":"IF('Sjekkliste noter'!E323<>\"\",1,0)","v":0},0,{"$f":"IF($C204=1,'Sjekkliste noter'!A323,\"\")","v":""},{"$f":"IF($C204=1,'Sjekkliste noter'!B323,\"\")","v":""},null,{"$f":"IF($C204=1,'Sjekkliste noter'!H323,\"\")","v":""}]
[{"$f":"'Sjekkliste noter'!A324","v":204},{"$f":"IF('Sjekkliste noter'!E324<>\"\",1,0)","v":0},0,{"$f":"IF($C205=1,'Sjekkliste noter'!A324,\"\")","v":""},{"$f":"IF($C205=1,'Sjekkliste noter'!B324,\"\")","v":""},null,{"$f":"IF($C205=1,'Sjekkliste noter'!H324,\"\")","v":""}]
[{"$f":"'Sjekkliste noter'!A325","v":205},{"$f":"IF('Sjekkliste noter'!E325<>\"\",1,0)","v":0},0,{"$f":"IF($C206=1,'Sjekkliste noter'!A325,\"\")","v":""},{"$f":"IF($C206=1,'Sjekkliste noter'!B325,\"\")","v":""},null,{"$f":"IF($C206=1,'Sjekkliste noter'!H325,\"\")","v":""}]
[{"$f":"'Sjekkliste noter'!A327","v":206},{"$f":"IF('Sjekkliste noter'!E327<>\"\",1,0)","v":0},0,{"$f":"IF($C207=1,'Sjekkliste noter'!A327,\"\")","v":""},{"$f":"IF($C207=1,'Sjekkliste noter'!B327,\"\")","v":""},null,{"$f":"IF($C207=1,'Sjekkliste noter'!H327,\"\")","v":""}]
[{"$f":"'Sjekkliste noter'!A328","v":207},{"$f":"IF('Sjekkliste noter'!E328<>\"\",1,0)","v":0},0,{"$f":"IF($C208=1,'Sjekkliste noter'!A328,\"\")","v":""},{"$f":"IF($C208=1,'Sjekkliste noter'!B328,\"\")","v":""},null,{"$f":"IF($C208=1,'Sjekkliste noter'!H328,\"\")","v":""}]
[{"$f":"'Sjekkliste noter'!A329","v":208},{"$f":"IF('Sjekkliste noter'!E329<>\"\",1,0)","v":0},0,{"$f":"IF($C209=1,'Sjekkliste noter'!A329,\"\")","v":""},{"$f":"IF($C209=1,'Sjekkliste noter'!B329,\"\")","v":""},null,{"$f":"IF($C209=1,'Sjekkliste noter'!H329,\"\")","v":""}]
[{"$f":"'Sjekkliste noter'!A330","v":209},{"$f":"IF('Sjekkliste noter'!E330<>\"\",1,0)","v":0},0,{"$f":"IF($C210=1,'Sjekkliste noter'!A330,\"\")","v":""},{"$f":"IF($C210=1,'Sjekkliste noter'!B330,\"\")","v":""},null,{"$f":"IF($C210=1,'Sjekkliste noter'!H330,\"\")","v":""}]
[{"$f":"'Sjekkliste noter'!A331","v":210},{"$f":"IF('Sjekkliste noter'!E331<>\"\",1,0)","v":0},0,{"$f":"IF($C211=1,'Sjekkliste noter'!A331,\"\")","v":""},{"$f":"IF($C211=1,'Sjekkliste noter'!B331,\"\")","v":""},null,{"$f":"IF($C211=1,'Sjekkliste noter'!H331,\"\")","v":""}]
[{"$f":"'Sjekkliste noter'!A333","v":211},{"$f":"IF('Sjekkliste noter'!E333<>\"\",1,0)","v":0},0,{"$f":"IF($C212=1,'Sjekkliste noter'!A333,\"\")","v":""},{"$f":"IF($C212=1,'Sjekkliste noter'!B333,\"\")","v":""},null,{"$f":"IF($C212=1,'Sjekkliste noter'!H333,\"\")","v":""}]
[{"$f":"'Sjekkliste noter'!A334","v":212},{"$f":"IF('Sjekkliste noter'!E334<>\"\",1,0)","v":0},0,{"$f":"IF($C213=1,'Sjekkliste noter'!A334,\"\")","v":""},{"$f":"IF($C213=1,'Sjekkliste noter'!B334,\"\")","v":""},null,{"$f":"IF($C213=1,'Sjekkliste noter'!H334,\"\")","v":""}]
[{"$f":"'Sjekkliste noter'!A335","v":213},{"$f":"IF('Sjekkliste noter'!E335<>\"\",1,0)","v":0},0,{"$f":"IF($C214=1,'Sjekkliste noter'!A335,\"\")","v":""},{"$f":"IF($C214=1,'Sjekkliste noter'!B335,\"\")","v":""},null,{"$f":"IF($C214=1,'Sjekkliste noter'!H335,\"\")","v":""}]
[{"$f":"'Sjekkliste noter'!A336","v":214},{"$f":"IF('Sjekkliste noter'!E336<>\"\",1,0)","v":0},0,{"$f":"IF($C215=1,'Sjekkliste noter'!A336,\"\")","v":""},{"$f":"IF($C215=1,'Sjekkliste noter'!B336,\"\")","v":""},null,{"$f":"IF($C215=1,'Sjekkliste noter'!H336,\"\")","v":""}]
[{"$f":"'Sjekkliste noter'!A337","v":215},{"$f":"IF('Sjekkliste noter'!E337<>\"\",1,0)","v":0},0,{"$f":"IF($C216=1,'Sjekkliste noter'!A337,\"\")","v":""},{"$f":"IF($C216=1,'Sjekkliste noter'!B337,\"\")","v":""},null,{"$f":"IF($C216=1,'Sjekkliste noter'!H337,\"\")","v":""}]
[{"$f":"'Sjekkliste noter'!A338","v":216},{"$f":"IF('Sjekkliste noter'!E338<>\"\",1,0)","v":0},0,{"$f":"IF($C217=1,'Sjekkliste noter'!A338,\"\")","v":""},{"$f":"IF($C217=1,'Sjekkliste noter'!B338,\"\")","v":""},null,{"$f":"IF($C217=1,'Sjekkliste noter'!H338,\"\")","v":""}]
[{"$f":"'Sjekkliste noter'!A340","v":217},{"$f":"IF('Sjekkliste noter'!E340<>\"\",1,0)","v":0},0,{"$f":"IF($C218=1,'Sjekkliste noter'!A340,\"\")","v":""},{"$f":"IF($C218=1,'Sjekkliste noter'!B340,\"\")","v":""},null,{"$f":"IF($C218=1,'Sjekkliste noter'!H340,\"\")","v":""}]
[{"$f":"'Sjekkliste noter'!A341","v":218},{"$f":"IF('Sjekkliste noter'!E341<>\"\",1,0)","v":0},0,{"$f":"IF($C219=1,'Sjekkliste noter'!A341,\"\")","v":""},{"$f":"IF($C219=1,'Sjekkliste noter'!B341,\"\")","v":""},null,{"$f":"IF($C219=1,'Sjekkliste noter'!H341,\"\")","v":""}]
[{"$f":"'Sjekkliste noter'!A342","v":219},{"$f":"IF('Sjekkliste noter'!E342<>\"\",1,0)","v":0},0,{"$f":"IF($C220=1,'Sjekkliste noter'!A342,\"\")","v":""},{"$f":"IF($C220=1,'Sjekkliste noter'!B342,\"\")","v":""},null,{"$f":"IF($C220=1,'Sjekkliste noter'!H342,\"\")","v":""}]
[{"$f":"'Sjekkliste noter'!A344","v":220},{"$f":"IF('Sjekkliste noter'!E344<>\"\",1,0)","v":0},0,{"$f":"IF($C221=1,'Sjekkliste noter'!A344,\"\")","v":""},{"$f":"IF($C221=1,'Sjekkliste noter'!B344,\"\")","v":""},null,{"$f":"IF($C221=1,'Sjekkliste noter'!H344,\"\")","v":""}]
[{"$f":"'Sjekkliste noter'!A345","v":221},{"$f":"IF('Sjekkliste noter'!E345<>\"\",1,0)","v":0},0,{"$f":"IF($C222=1,'Sjekkliste noter'!A345,\"\")","v":""},{"$f":"IF($C222=1,'Sjekkliste noter'!B345,\"\")","v":""},null,{"$f":"IF($C222=1,'Sjekkliste noter'!H345,\"\")","v":""}]
[{"$f":"'Sjekkliste noter'!A346","v":222},{"$f":"IF('Sjekkliste noter'!E346<>\"\",1,0)","v":0},0,{"$f":"IF($C223=1,'Sjekkliste noter'!A346,\"\")","v":""},{"$f":"IF($C223=1,'Sjekkliste noter'!B346,\"\")","v":""},null,{"$f":"IF($C223=1,'Sjekkliste noter'!H346,\"\")","v":""}]
[{"$f":"'Sjekkliste noter'!A347","v":223},{"$f":"IF('Sjekkliste noter'!E347<>\"\",1,0)","v":0},0,{"$f":"IF($C224=1,'Sjekkliste noter'!A347,\"\")","v":""},{"$f":"IF($C224=1,'Sjekkliste noter'!B347,\"\")","v":""},null,{"$f":"IF($C224=1,'Sjekkliste noter'!H347,\"\")","v":""}]
[{"$f":"'Sjekkliste noter'!A349","v":224},{"$f":"IF('Sjekkliste noter'!E349<>\"\",1,0)","v":0},0,{"$f":"IF($C225=1,'Sjekkliste noter'!A349,\"\")","v":""},{"$f":"IF($C225=1,'Sjekkliste noter'!B349,\"\")","v":""},null,{"$f":"IF($C225=1,'Sjekkliste noter'!H349,\"\")","v":""}]
[{"$f":"'Sjekkliste noter'!A352","v":225},{"$f":"IF('Sjekkliste noter'!E352<>\"\",1,0)","v":0},0,{"$f":"IF($C226=1,'Sjekkliste noter'!A352,\"\")","v":""},{"$f":"IF($C226=1,'Sjekkliste noter'!B352,\"\")","v":""},null,{"$f":"IF($C226=1,'Sjekkliste noter'!H352,\"\")","v":""}]
[{"$f":"'Sjekkliste noter'!A353","v":226},{"$f":"IF('Sjekkliste noter'!E353<>\"\",1,0)","v":0},0,{"$f":"IF($C227=1,'Sjekkliste noter'!A353,\"\")","v":""},{"$f":"IF($C227=1,'Sjekkliste noter'!B353,\"\")","v":""},null,{"$f":"IF($C227=1,'Sjekkliste noter'!H353,\"\")","v":""}]
[{"$f":"'Sjekkliste noter'!A354","v":227},{"$f":"IF('Sjekkliste noter'!E354<>\"\",1,0)","v":0},0,{"$f":"IF($C228=1,'Sjekkliste noter'!A354,\"\")","v":""},{"$f":"IF($C228=1,'Sjekkliste noter'!B354,\"\")","v":""},null,{"$f":"IF($C228=1,'Sjekkliste noter'!H354,\"\")","v":""}]
[{"$f":"'Sjekkliste noter'!A355","v":228},{"$f":"IF('Sjekkliste noter'!E355<>\"\",1,0)","v":0},0,{"$f":"IF($C229=1,'Sjekkliste noter'!A355,\"\")","v":""},{"$f":"IF($C229=1,'Sjekkliste noter'!B355,\"\")","v":""},null,{"$f":"IF($C229=1,'Sjekkliste noter'!H355,\"\")","v":""}]
[{"$f":"'Sjekkliste noter'!A357","v":229},{"$f":"IF('Sjekkliste noter'!E357<>\"\",1,0)","v":0},0,{"$f":"IF($C230=1,'Sjekkliste noter'!A357,\"\")","v":""},{"$f":"IF($C230=1,'Sjekkliste noter'!B357,\"\")","v":""},null,{"$f":"IF($C230=1,'Sjekkliste noter'!H357,\"\")","v":""}]
[{"$f":"'Sjekkliste noter'!A358","v":230},{"$f":"IF('Sjekkliste noter'!E358<>\"\",1,0)","v":0},0,{"$f":"IF($C231=1,'Sjekkliste noter'!A358,\"\")","v":""},{"$f":"IF($C231=1,'Sjekkliste noter'!B358,\"\")","v":""},null,{"$f":"IF($C231=1,'Sjekkliste noter'!H358,\"\")","v":""}]
[{"$f":"'Sjekkliste noter'!A362","v":231},{"$f":"IF('Sjekkliste noter'!E362<>\"\",1,0)","v":0},0,{"$f":"IF($C232=1,'Sjekkliste noter'!A362,\"\")","v":""},{"$f":"IF($C232=1,'Sjekkliste noter'!B362,\"\")","v":""},null,{"$f":"IF($C232=1,'Sjekkliste noter'!H362,\"\")","v":""}]
[{"$f":"'Sjekkliste noter'!A363","v":232},{"$f":"IF('Sjekkliste noter'!E363<>\"\",1,0)","v":0},0,{"$f":"IF($C233=1,'Sjekkliste noter'!A363,\"\")","v":""},{"$f":"IF($C233=1,'Sjekkliste noter'!B363,\"\")","v":""},null,{"$f":"IF($C233=1,'Sjekkliste noter'!H363,\"\")","v":""}]
[{"$f":"'Sjekkliste noter'!A364","v":233},{"$f":"IF('Sjekkliste noter'!E364<>\"\",1,0)","v":0},0,{"$f":"IF($C234=1,'Sjekkliste noter'!A364,\"\")","v":""},{"$f":"IF($C234=1,'Sjekkliste noter'!B364,\"\")","v":""},null,{"$f":"IF($C234=1,'Sjekkliste noter'!H364,\"\")","v":""}]
[{"$f":"'Sjekkliste noter'!A366","v":234},{"$f":"IF('Sjekkliste noter'!E366<>\"\",1,0)","v":0},0,{"$f":"IF($C235=1,'Sjekkliste noter'!A366,\"\")","v":""},{"$f":"IF($C235=1,'Sjekkliste noter'!B366,\"\")","v":""},null,{"$f":"IF($C235=1,'Sjekkliste noter'!H366,\"\")","v":""}]
[{"$f":"'Sjekkliste noter'!A367","v":235},{"$f":"IF('Sjekkliste noter'!E367<>\"\",1,0)","v":0},0,{"$f":"IF($C236=1,'Sjekkliste noter'!A367,\"\")","v":""},{"$f":"IF($C236=1,'Sjekkliste noter'!B367,\"\")","v":""},null,{"$f":"IF($C236=1,'Sjekkliste noter'!H367,\"\")","v":""}]
[{"$f":"'Sjekkliste noter'!A368","v":236},{"$f":"IF('Sjekkliste noter'!E368<>\"\",1,0)","v":0},0,{"$f":"IF($C237=1,'Sjekkliste noter'!A368,\"\")","v":""},{"$f":"IF($C237=1,'Sjekkliste noter'!B368,\"\")","v":""},null,{"$f":"IF($C237=1,'Sjekkliste noter'!H368,\"\")","v":""}]
[{"$f":"'Sjekkliste noter'!A369","v":237},{"$f":"IF('Sjekkliste noter'!E369<>\"\",1,0)","v":0},0,{"$f":"IF($C238=1,'Sjekkliste noter'!A369,\"\")","v":""},{"$f":"IF($C238=1,'Sjekkliste noter'!B369,\"\")","v":""},null,{"$f":"IF($C238=1,'Sjekkliste noter'!H369,\"\")","v":""}]
[{"$f":"'Sjekkliste noter'!A370","v":238},{"$f":"IF('Sjekkliste noter'!E370<>\"\",1,0)","v":0},0,{"$f":"IF($C239=1,'Sjekkliste noter'!A370,\"\")","v":""},{"$f":"IF($C239=1,'Sjekkliste noter'!B370,\"\")","v":""},null,{"$f":"IF($C239=1,'Sjekkliste noter'!H370,\"\")","v":""}]
[{"$f":"'Sjekkliste noter'!A371","v":239},{"$f":"IF('Sjekkliste noter'!E371<>\"\",1,0)","v":0},0,{"$f":"IF($C240=1,'Sjekkliste noter'!A371,\"\")","v":""},{"$f":"IF($C240=1,'Sjekkliste noter'!B371,\"\")","v":""},null,{"$f":"IF($C240=1,'Sjekkliste noter'!H371,\"\")","v":""}]
[{"$f":"'Sjekkliste noter'!A375","v":240},{"$f":"IF('Sjekkliste noter'!E375<>\"\",1,0)","v":0},0,{"$f":"IF($C241=1,'Sjekkliste noter'!A375,\"\")","v":""},{"$f":"IF($C241=1,'Sjekkliste noter'!B375,\"\")","v":""},null,{"$f":"IF($C241=1,'Sjekkliste noter'!H375,\"\")","v":""}]
[{"$f":"'Sjekkliste noter'!A376","v":241},{"$f":"IF('Sjekkliste noter'!E376<>\"\",1,0)","v":0},0,{"$f":"IF($C242=1,'Sjekkliste noter'!A376,\"\")","v":""},{"$f":"IF($C242=1,'Sjekkliste noter'!B376,\"\")","v":""},null,{"$f":"IF($C242=1,'Sjekkliste noter'!H376,\"\")","v":""}]
[{"$f":"'Sjekkliste noter'!A377","v":242},{"$f":"IF('Sjekkliste noter'!E377<>\"\",1,0)","v":0},0,{"$f":"IF($C243=1,'Sjekkliste noter'!A377,\"\")","v":""},{"$f":"IF($C243=1,'Sjekkliste noter'!B377,\"\")","v":""},null,{"$f":"IF($C243=1,'Sjekkliste noter'!H377,\"\")","v":""}]
[{"$f":"'Sjekkliste noter'!A378","v":243},{"$f":"IF('Sjekkliste noter'!E378<>\"\",1,0)","v":0},0,{"$f":"IF($C244=1,'Sjekkliste noter'!A378,\"\")","v":""},{"$f":"IF($C244=1,'Sjekkliste noter'!B378,\"\")","v":""},null,{"$f":"IF($C244=1,'Sjekkliste noter'!H378,\"\")","v":""}]
[{"$f":"'Sjekkliste noter'!A380","v":244},{"$f":"IF('Sjekkliste noter'!E380<>\"\",1,0)","v":0},0,{"$f":"IF($C245=1,'Sjekkliste noter'!A380,\"\")","v":""},{"$f":"IF($C245=1,'Sjekkliste noter'!B380,\"\")","v":""},null,{"$f":"IF($C245=1,'Sjekkliste noter'!H380,\"\")","v":""}]
[{"$f":"'Sjekkliste noter'!A381","v":245},{"$f":"IF('Sjekkliste noter'!E381<>\"\",1,0)","v":0},0,{"$f":"IF($C246=1,'Sjekkliste noter'!A381,\"\")","v":""},{"$f":"IF($C246=1,'Sjekkliste noter'!B381,\"\")","v":""},null,{"$f":"IF($C246=1,'Sjekkliste noter'!H381,\"\")","v":""}]
[{"$f":"'Sjekkliste noter'!A382","v":246},{"$f":"IF('Sjekkliste noter'!E382<>\"\",1,0)","v":0},0,{"$f":"IF($C247=1,'Sjekkliste noter'!A382,\"\")","v":""},{"$f":"IF($C247=1,'Sjekkliste noter'!B382,\"\")","v":""},null,{"$f":"IF($C247=1,'Sjekkliste noter'!H382,\"\")","v":""}]
[{"$f":"'Sjekkliste noter'!A384","v":247},{"$f":"IF('Sjekkliste noter'!E384<>\"\",1,0)","v":0},0,{"$f":"IF($C248=1,'Sjekkliste noter'!A384,\"\")","v":""},{"$f":"IF($C248=1,'Sjekkliste noter'!B384,\"\")","v":""},null,{"$f":"IF($C248=1,'Sjekkliste noter'!H384,\"\")","v":""}]
[{"$f":"'Sjekkliste noter'!A385","v":248},{"$f":"IF('Sjekkliste noter'!E385<>\"\",1,0)","v":0},0,{"$f":"IF($C249=1,'Sjekkliste noter'!A385,\"\")","v":""},{"$f":"IF($C249=1,'Sjekkliste noter'!B385,\"\")","v":""},null,{"$f":"IF($C249=1,'Sjekkliste noter'!H385,\"\")","v":""}]
[{"$f":"'Sjekkliste noter'!A386","v":249},{"$f":"IF('Sjekkliste noter'!E386<>\"\",1,0)","v":0},0,{"$f":"IF($C250=1,'Sjekkliste noter'!A386,\"\")","v":""},{"$f":"IF($C250=1,'Sjekkliste noter'!B386,\"\")","v":""},null,{"$f":"IF($C250=1,'Sjekkliste noter'!H386,\"\")","v":""}]
[{"$f":"'Sjekkliste noter'!A387","v":250},{"$f":"IF('Sjekkliste noter'!E387<>\"\",1,0)","v":0},0,{"$f":"IF($C251=1,'Sjekkliste noter'!A387,\"\")","v":""},{"$f":"IF($C251=1,'Sjekkliste noter'!B387,\"\")","v":""},null,{"$f":"IF($C251=1,'Sjekkliste noter'!H387,\"\")","v":""}]
[{"$f":"'Sjekkliste noter'!A388","v":251},{"$f":"IF('Sjekkliste noter'!E388<>\"\",1,0)","v":0},0,{"$f":"IF($C252=1,'Sjekkliste noter'!A388,\"\")","v":""},{"$f":"IF($C252=1,'Sjekkliste noter'!B388,\"\")","v":""},null,{"$f":"IF($C252=1,'Sjekkliste noter'!H388,\"\")","v":""}]
[{"$f":"'Sjekkliste noter'!A389","v":252},{"$f":"IF('Sjekkliste noter'!E389<>\"\",1,0)","v":0},0,{"$f":"IF($C253=1,'Sjekkliste noter'!A389,\"\")","v":""},{"$f":"IF($C253=1,'Sjekkliste noter'!B389,\"\")","v":""},null,{"$f":"IF($C253=1,'Sjekkliste noter'!H389,\"\")","v":""}]
[{"$f":"'Sjekkliste noter'!A391","v":253},{"$f":"IF('Sjekkliste noter'!E391<>\"\",1,0)","v":0},0,{"$f":"IF($C254=1,'Sjekkliste noter'!A391,\"\")","v":""},{"$f":"IF($C254=1,'Sjekkliste noter'!B391,\"\")","v":""},null,{"$f":"IF($C254=1,'Sjekkliste noter'!H391,\"\")","v":""}]
[{"$f":"'Sjekkliste noter'!A392","v":254},{"$f":"IF('Sjekkliste noter'!E392<>\"\",1,0)","v":0},0,{"$f":"IF($C255=1,'Sjekkliste noter'!A392,\"\")","v":""},{"$f":"IF($C255=1,'Sjekkliste noter'!B392,\"\")","v":""},null,{"$f":"IF($C255=1,'Sjekkliste noter'!H392,\"\")","v":""}]
[{"$f":"'Sjekkliste noter'!A394","v":255},{"$f":"IF('Sjekkliste noter'!E394<>\"\",1,0)","v":0},0,{"$f":"IF($C256=1,'Sjekkliste noter'!A394,\"\")","v":""},{"$f":"IF($C256=1,'Sjekkliste noter'!B394,\"\")","v":""},null,{"$f":"IF($C256=1,'Sjekkliste noter'!H394,\"\")","v":""}]
[{"$f":"'Sjekkliste noter'!A396","v":256},{"$f":"IF('Sjekkliste noter'!E396<>\"\",1,0)","v":0},0,{"$f":"IF($C257=1,'Sjekkliste noter'!A396,\"\")","v":""},{"$f":"IF($C257=1,'Sjekkliste noter'!B396,\"\")","v":""},null,{"$f":"IF($C257=1,'Sjekkliste noter'!H396,\"\")","v":""}]
[{"$f":"'Sjekkliste noter'!A397","v":257},{"$f":"IF('Sjekkliste noter'!E397<>\"\",1,0)","v":0},{"$f":"SUM(B258:B258)","v":0},{"$f":"IF($C258=1,'Sjekkliste noter'!A397,\"\")","v":""},{"$f":"IF($C258=1,'Sjekkliste noter'!B397,\"\")","v":""},null,{"$f":"IF($C258=1,'Sjekkliste noter'!H397,\"\")","v":""}]
[{"$f":"'Sjekkliste noter'!A398","v":258},{"$f":"IF('Sjekkliste noter'!E398<>\"\",1,0)","v":0},0,{"$f":"IF($C259=1,'Sjekkliste noter'!A398,\"\")","v":""},{"$f":"IF($C259=1,'Sjekkliste noter'!B398,\"\")","v":""},null,{"$f":"IF($C259=1,'Sjekkliste noter'!H398,\"\")","v":""}]
[{"$f":"'Sjekkliste noter'!A399","v":259},{"$f":"IF('Sjekkliste noter'!E399<>\"\",1,0)","v":0},0,{"$f":"IF($C260=1,'Sjekkliste noter'!A399,\"\")","v":""},{"$f":"IF($C260=1,'Sjekkliste noter'!B399,\"\")","v":""},null,{"$f":"IF($C260=1,'Sjekkliste noter'!H399,\"\")","v":""}]
[{"$f":"'Sjekkliste noter'!A406","v":260},{"$f":"IF('Sjekkliste noter'!E406<>\"\",1,0)","v":0},0,{"$f":"IF($C261=1,'Sjekkliste noter'!A406,\"\")","v":""},{"$f":"IF($C261=1,'Sjekkliste noter'!B406,\"\")","v":""},null,{"$f":"IF($C261=1,'Sjekkliste noter'!H406,\"\")","v":""}]
[{"$f":"'Sjekkliste noter'!A407","v":261},{"$f":"IF('Sjekkliste noter'!E407<>\"\",1,0)","v":0},0,{"$f":"IF($C262=1,'Sjekkliste noter'!A407,\"\")","v":""},{"$f":"IF($C262=1,'Sjekkliste noter'!B407,\"\")","v":""},null,{"$f":"IF($C262=1,'Sjekkliste noter'!H407,\"\")","v":""}]
[{"$f":"'Sjekkliste noter'!A408","v":262},{"$f":"IF('Sjekkliste noter'!E408<>\"\",1,0)","v":0},0,{"$f":"IF($C263=1,'Sjekkliste noter'!A408,\"\")","v":""},{"$f":"IF($C263=1,'Sjekkliste noter'!B408,\"\")","v":""},null,{"$f":"IF($C263=1,'Sjekkliste noter'!H408,\"\")","v":""}]
[{"$f":"'Sjekkliste noter'!A410","v":263},{"$f":"IF('Sjekkliste noter'!E410<>\"\",1,0)","v":0},0,{"$f":"IF($C264=1,'Sjekkliste noter'!A410,\"\")","v":""},{"$f":"IF($C264=1,'Sjekkliste noter'!B410,\"\")","v":""},null,{"$f":"IF($C264=1,'Sjekkliste noter'!H410,\"\")","v":""}]
[{"$f":"'Sjekkliste noter'!A411","v":264},{"$f":"IF('Sjekkliste noter'!E411<>\"\",1,0)","v":0},0,{"$f":"IF($C265=1,'Sjekkliste noter'!A411,\"\")","v":""},{"$f":"IF($C265=1,'Sjekkliste noter'!B411,\"\")","v":""},null,{"$f":"IF($C265=1,'Sjekkliste noter'!H411,\"\")","v":""}]
[{"$f":"'Sjekkliste noter'!A412","v":265},{"$f":"IF('Sjekkliste noter'!E412<>\"\",1,0)","v":0},0,{"$f":"IF($C266=1,'Sjekkliste noter'!A412,\"\")","v":""},{"$f":"IF($C266=1,'Sjekkliste noter'!B412,\"\")","v":""},null,{"$f":"IF($C266=1,'Sjekkliste noter'!H412,\"\")","v":""}]
[{"$f":"'Sjekkliste noter'!A414","v":266},{"$f":"IF('Sjekkliste noter'!E414<>\"\",1,0)","v":0},0,{"$f":"IF($C267=1,'Sjekkliste noter'!A414,\"\")","v":""},{"$f":"IF($C267=1,'Sjekkliste noter'!B414,\"\")","v":""},null,{"$f":"IF($C267=1,'Sjekkliste noter'!H414,\"\")","v":""}]
[{"$f":"'Sjekkliste noter'!A415","v":267},{"$f":"IF('Sjekkliste noter'!E415<>\"\",1,0)","v":0},0,{"$f":"IF($C268=1,'Sjekkliste noter'!A415,\"\")","v":""},{"$f":"IF($C268=1,'Sjekkliste noter'!B415,\"\")","v":""},null,{"$f":"IF($C268=1,'Sjekkliste noter'!H415,\"\")","v":""}]
[{"$f":"'Sjekkliste noter'!A416","v":268},{"$f":"IF('Sjekkliste noter'!E416<>\"\",1,0)","v":0},0,{"$f":"IF($C269=1,'Sjekkliste noter'!A416,\"\")","v":""},{"$f":"IF($C269=1,'Sjekkliste noter'!B416,\"\")","v":""},null,{"$f":"IF($C269=1,'Sjekkliste noter'!H416,\"\")","v":""}]
[{"$f":"'Sjekkliste noter'!A418","v":269},{"$f":"IF('Sjekkliste noter'!E418<>\"\",1,0)","v":0},0,{"$f":"IF($C270=1,'Sjekkliste noter'!A418,\"\")","v":""},{"$f":"IF($C270=1,'Sjekkliste noter'!B418,\"\")","v":""},null,{"$f":"IF($C270=1,'Sjekkliste noter'!H418,\"\")","v":""}]
[{"$f":"'Sjekkliste noter'!A419","v":270},{"$f":"IF('Sjekkliste noter'!E419<>\"\",1,0)","v":0},0,{"$f":"IF($C271=1,'Sjekkliste noter'!A419,\"\")","v":""},{"$f":"IF($C271=1,'Sjekkliste noter'!B419,\"\")","v":""},null,{"$f":"IF($C271=1,'Sjekkliste noter'!H419,\"\")","v":""}]
[{"$f":"'Sjekkliste noter'!A422","v":271},{"$f":"IF('Sjekkliste noter'!E422<>\"\",1,0)","v":0},0,{"$f":"IF($C272=1,'Sjekkliste noter'!A422,\"\")","v":""},{"$f":"IF($C272=1,'Sjekkliste noter'!B422,\"\")","v":""},null,{"$f":"IF($C272=1,'Sjekkliste noter'!H422,\"\")","v":""}]
[{"$f":"'Sjekkliste noter'!A423","v":272},{"$f":"IF('Sjekkliste noter'!E423<>\"\",1,0)","v":0},0,{"$f":"IF($C273=1,'Sjekkliste noter'!A423,\"\")","v":""},{"$f":"IF($C273=1,'Sjekkliste noter'!B423,\"\")","v":""},null,{"$f":"IF($C273=1,'Sjekkliste noter'!H423,\"\")","v":""}]
[{"$f":"'Sjekkliste noter'!A424","v":273},{"$f":"IF('Sjekkliste noter'!E424<>\"\",1,0)","v":0},0,{"$f":"IF($C274=1,'Sjekkliste noter'!A424,\"\")","v":""},{"$f":"IF($C274=1,'Sjekkliste noter'!B424,\"\")","v":""},null,{"$f":"IF($C274=1,'Sjekkliste noter'!H424,\"\")","v":""}]
[{"$f":"'Sjekkliste noter'!A425","v":274},{"$f":"IF('Sjekkliste noter'!E425<>\"\",1,0)","v":0},0,{"$f":"IF($C275=1,'Sjekkliste noter'!A425,\"\")","v":""},{"$f":"IF($C275=1,'Sjekkliste noter'!B425,\"\")","v":""},null,{"$f":"IF($C275=1,'Sjekkliste noter'!H425,\"\")","v":""}]
[{"$f":"'Sjekkliste noter'!A426","v":275},{"$f":"IF('Sjekkliste noter'!E426<>\"\",1,0)","v":0},0,{"$f":"IF($C276=1,'Sjekkliste noter'!A426,\"\")","v":""},{"$f":"IF($C276=1,'Sjekkliste noter'!B426,\"\")","v":""},null,{"$f":"IF($C276=1,'Sjekkliste noter'!H426,\"\")","v":""}]
[{"$f":"'Sjekkliste noter'!A428","v":276},{"$f":"IF('Sjekkliste noter'!E428<>\"\",1,0)","v":0},0,{"$f":"IF($C277=1,'Sjekkliste noter'!A428,\"\")","v":""},{"$f":"IF($C277=1,'Sjekkliste noter'!B428,\"\")","v":""},null,{"$f":"IF($C277=1,'Sjekkliste noter'!H428,\"\")","v":""}]
[{"$f":"'Sjekkliste noter'!A429","v":277},{"$f":"IF('Sjekkliste noter'!E429<>\"\",1,0)","v":0},0,{"$f":"IF($C278=1,'Sjekkliste noter'!A429,\"\")","v":""},{"$f":"IF($C278=1,'Sjekkliste noter'!B429,\"\")","v":""},null,{"$f":"IF($C278=1,'Sjekkliste noter'!H429,\"\")","v":""}]
[{"$f":"'Sjekkliste noter'!A430","v":278},{"$f":"IF('Sjekkliste noter'!E430<>\"\",1,0)","v":0},0,{"$f":"IF($C279=1,'Sjekkliste noter'!A430,\"\")","v":""},{"$f":"IF($C279=1,'Sjekkliste noter'!B430,\"\")","v":""},null,{"$f":"IF($C279=1,'Sjekkliste noter'!H430,\"\")","v":""}]
[{"$f":"'Sjekkliste noter'!A431","v":279},{"$f":"IF('Sjekkliste noter'!E431<>\"\",1,0)","v":0},0,{"$f":"IF($C280=1,'Sjekkliste noter'!A431,\"\")","v":""},{"$f":"IF($C280=1,'Sjekkliste noter'!B431,\"\")","v":""},null,{"$f":"IF($C280=1,'Sjekkliste noter'!H431,\"\")","v":""}]
[{"$f":"'Sjekkliste noter'!A432","v":280},{"$f":"IF('Sjekkliste noter'!E432<>\"\",1,0)","v":0},0,{"$f":"IF($C281=1,'Sjekkliste noter'!A432,\"\")","v":""},{"$f":"IF($C281=1,'Sjekkliste noter'!B432,\"\")","v":""},null,{"$f":"IF($C281=1,'Sjekkliste noter'!H432,\"\")","v":""}]
[{"$f":"'Sjekkliste noter'!A433","v":281},{"$f":"IF('Sjekkliste noter'!E433<>\"\",1,0)","v":0},0,{"$f":"IF($C282=1,'Sjekkliste noter'!A433,\"\")","v":""},{"$f":"IF($C282=1,'Sjekkliste noter'!B433,\"\")","v":""},null,{"$f":"IF($C282=1,'Sjekkliste noter'!H433,\"\")","v":""}]
[{"$f":"'Sjekkliste noter'!A434","v":282},{"$f":"IF('Sjekkliste noter'!E434<>\"\",1,0)","v":0},0,{"$f":"IF($C283=1,'Sjekkliste noter'!A434,\"\")","v":""},{"$f":"IF($C283=1,'Sjekkliste noter'!B434,\"\")","v":""},null,{"$f":"IF($C283=1,'Sjekkliste noter'!H434,\"\")","v":""}]
[{"$f":"'Sjekkliste noter'!A437","v":283},{"$f":"IF('Sjekkliste noter'!E437<>\"\",1,0)","v":0},0,{"$f":"IF($C284=1,'Sjekkliste noter'!A437,\"\")","v":""},{"$f":"IF($C284=1,'Sjekkliste noter'!B437,\"\")","v":""},null,{"$f":"IF($C284=1,'Sjekkliste noter'!H437,\"\")","v":""}]
[{"$f":"'Sjekkliste noter'!A439","v":284},{"$f":"IF('Sjekkliste noter'!E439<>\"\",1,0)","v":0},0,{"$f":"IF($C285=1,'Sjekkliste noter'!A439,\"\")","v":""},{"$f":"IF($C285=1,'Sjekkliste noter'!B439,\"\")","v":""},null,{"$f":"IF($C285=1,'Sjekkliste noter'!H439,\"\")","v":""}]
[{"$f":"'Sjekkliste noter'!A440","v":285},{"$f":"IF('Sjekkliste noter'!E440<>\"\",1,0)","v":0},0,{"$f":"IF($C286=1,'Sjekkliste noter'!A440,\"\")","v":""},{"$f":"IF($C286=1,'Sjekkliste noter'!B440,\"\")","v":""},null,{"$f":"IF($C286=1,'Sjekkliste noter'!H440,\"\")","v":""}]
[{"$f":"'Sjekkliste noter'!A444","v":286},{"$f":"IF('Sjekkliste noter'!E444<>\"\",1,0)","v":0},0,{"$f":"IF($C287=1,'Sjekkliste noter'!A444,\"\")","v":""},{"$f":"IF($C287=1,'Sjekkliste noter'!B444,\"\")","v":""},null,{"$f":"IF($C287=1,'Sjekkliste noter'!H444,\"\")","v":""}]
[{"$f":"'Sjekkliste noter'!A445","v":287},{"$f":"IF('Sjekkliste noter'!E445<>\"\",1,0)","v":0},0,{"$f":"IF($C288=1,'Sjekkliste noter'!A445,\"\")","v":""},{"$f":"IF($C288=1,'Sjekkliste noter'!B445,\"\")","v":""},null,{"$f":"IF($C288=1,'Sjekkliste noter'!H445,\"\")","v":""}]
[{"$f":"'Sjekkliste noter'!A446","v":288},{"$f":"IF('Sjekkliste noter'!E446<>\"\",1,0)","v":0},0,{"$f":"IF($C289=1,'Sjekkliste noter'!A446,\"\")","v":""},{"$f":"IF($C289=1,'Sjekkliste noter'!B446,\"\")","v":""},null,{"$f":"IF($C289=1,'Sjekkliste noter'!H446,\"\")","v":""}]
[{"$f":"'Sjekkliste noter'!A447","v":289},{"$f":"IF('Sjekkliste noter'!E447<>\"\",1,0)","v":0},0,{"$f":"IF($C290=1,'Sjekkliste noter'!A447,\"\")","v":""},{"$f":"IF($C290=1,'Sjekkliste noter'!B447,\"\")","v":""},null,{"$f":"IF($C290=1,'Sjekkliste noter'!H447,\"\")","v":""}]
[{"$f":"'Sjekkliste noter'!A448","v":290},{"$f":"IF('Sjekkliste noter'!E448<>\"\",1,0)","v":0},0,{"$f":"IF($C291=1,'Sjekkliste noter'!A448,\"\")","v":""},{"$f":"IF($C291=1,'Sjekkliste noter'!B448,\"\")","v":""},null,{"$f":"IF($C291=1,'Sjekkliste noter'!H448,\"\")","v":""}]
[{"$f":"'Sjekkliste noter'!A449","v":291},{"$f":"IF('Sjekkliste noter'!E449<>\"\",1,0)","v":0},0,{"$f":"IF($C292=1,'Sjekkliste noter'!A449,\"\")","v":""},{"$f":"IF($C292=1,'Sjekkliste noter'!B449,\"\")","v":""},null,{"$f":"IF($C292=1,'Sjekkliste noter'!H449,\"\")","v":""}]
[{"$f":"'Sjekkliste noter'!A450","v":292},{"$f":"IF('Sjekkliste noter'!E450<>\"\",1,0)","v":0},0,{"$f":"IF($C293=1,'Sjekkliste noter'!A450,\"\")","v":""},{"$f":"IF($C293=1,'Sjekkliste noter'!B450,\"\")","v":""},null,{"$f":"IF($C293=1,'Sjekkliste noter'!H450,\"\")","v":""}]
[{"$f":"'Sjekkliste noter'!A451","v":293},{"$f":"IF('Sjekkliste noter'!E451<>\"\",1,0)","v":0},0,{"$f":"IF($C294=1,'Sjekkliste noter'!A451,\"\")","v":""},{"$f":"IF($C294=1,'Sjekkliste noter'!B451,\"\")","v":""},null,{"$f":"IF($C294=1,'Sjekkliste noter'!H451,\"\")","v":""}]
[{"$f":"'Sjekkliste noter'!A454","v":294},{"$f":"IF('Sjekkliste noter'!E454<>\"\",1,0)","v":0},0,{"$f":"IF($C295=1,'Sjekkliste noter'!A454,\"\")","v":""},{"$f":"IF($C295=1,'Sjekkliste noter'!B454,\"\")","v":""},null,{"$f":"IF($C295=1,'Sjekkliste noter'!H454,\"\")","v":""}]
[{"$f":"'Sjekkliste noter'!A455","v":295},{"$f":"IF('Sjekkliste noter'!E455<>\"\",1,0)","v":0},0,{"$f":"IF($C296=1,'Sjekkliste noter'!A455,\"\")","v":""},{"$f":"IF($C296=1,'Sjekkliste noter'!B455,\"\")","v":""},null,{"$f":"IF($C296=1,'Sjekkliste noter'!H455,\"\")","v":""}]
[{"$f":"'Sjekkliste noter'!A456","v":296},{"$f":"IF('Sjekkliste noter'!E456<>\"\",1,0)","v":0},0,{"$f":"IF($C297=1,'Sjekkliste noter'!A456,\"\")","v":""},{"$f":"IF($C297=1,'Sjekkliste noter'!B456,\"\")","v":""},null,{"$f":"IF($C297=1,'Sjekkliste noter'!H456,\"\")","v":""}]
[{"$f":"'Sjekkliste noter'!A461","v":297},{"$f":"IF('Sjekkliste noter'!E461<>\"\",1,0)","v":0},0,{"$f":"IF($C298=1,'Sjekkliste noter'!A461,\"\")","v":""},{"$f":"IF($C298=1,'Sjekkliste noter'!B461,\"\")","v":""},null,{"$f":"IF($C298=1,'Sjekkliste noter'!H461,\"\")","v":""}]
[{"$f":"'Sjekkliste noter'!A462","v":298},{"$f":"IF('Sjekkliste noter'!E462<>\"\",1,0)","v":0},0,{"$f":"IF($C299=1,'Sjekkliste noter'!A462,\"\")","v":""},{"$f":"IF($C299=1,'Sjekkliste noter'!B462,\"\")","v":""},null,{"$f":"IF($C299=1,'Sjekkliste noter'!H462,\"\")","v":""}]
[{"$f":"'Sjekkliste noter'!A463","v":299},{"$f":"IF('Sjekkliste noter'!E463<>\"\",1,0)","v":0},0,{"$f":"IF($C300=1,'Sjekkliste noter'!A463,\"\")","v":""},{"$f":"IF($C300=1,'Sjekkliste noter'!B463,\"\")","v":""},null,{"$f":"IF($C300=1,'Sjekkliste noter'!H463,\"\")","v":""}]
[{"$f":"'Sjekkliste noter'!A464","v":300},{"$f":"IF('Sjekkliste noter'!E464<>\"\",1,0)","v":0},0,{"$f":"IF($C301=1,'Sjekkliste noter'!A464,\"\")","v":""},{"$f":"IF($C301=1,'Sjekkliste noter'!B464,\"\")","v":""},null,{"$f":"IF($C301=1,'Sjekkliste noter'!H464,\"\")","v":""}]
[{"$f":"'Sjekkliste noter'!A465","v":301},{"$f":"IF('Sjekkliste noter'!E465<>\"\",1,0)","v":0},0,{"$f":"IF($C302=1,'Sjekkliste noter'!A465,\"\")","v":""},{"$f":"IF($C302=1,'Sjekkliste noter'!B465,\"\")","v":""},null,{"$f":"IF($C302=1,'Sjekkliste noter'!H465,\"\")","v":""}]
[{"$f":"'Sjekkliste noter'!A466","v":302},{"$f":"IF('Sjekkliste noter'!E466<>\"\",1,0)","v":0},0,{"$f":"IF($C303=1,'Sjekkliste noter'!A466,\"\")","v":""},{"$f":"IF($C303=1,'Sjekkliste noter'!B466,\"\")","v":""},null,{"$f":"IF($C303=1,'Sjekkliste noter'!H466,\"\")","v":""}]
[{"$f":"'Sjekkliste noter'!A468","v":303},{"$f":"IF('Sjekkliste noter'!E468<>\"\",1,0)","v":0},0,{"$f":"IF($C304=1,'Sjekkliste noter'!A468,\"\")","v":""},{"$f":"IF($C304=1,'Sjekkliste noter'!B468,\"\")","v":""},null,{"$f":"IF($C304=1,'Sjekkliste noter'!H468,\"\")","v":""}]
[{"$f":"'Sjekkliste noter'!A469","v":304},{"$f":"IF('Sjekkliste noter'!E469<>\"\",1,0)","v":0},0,{"$f":"IF($C305=1,'Sjekkliste noter'!A469,\"\")","v":""},{"$f":"IF($C305=1,'Sjekkliste noter'!B469,\"\")","v":""},null,{"$f":"IF($C305=1,'Sjekkliste noter'!H469,\"\")","v":""}]
[{"$f":"'Sjekkliste noter'!A470","v":305},{"$f":"IF('Sjekkliste noter'!E470<>\"\",1,0)","v":0},0,{"$f":"IF($C306=1,'Sjekkliste noter'!A470,\"\")","v":""},{"$f":"IF($C306=1,'Sjekkliste noter'!B470,\"\")","v":""},null,{"$f":"IF($C306=1,'Sjekkliste noter'!H470,\"\")","v":""}]
[{"$f":"'Sjekkliste noter'!A472","v":306},{"$f":"IF('Sjekkliste noter'!E472<>\"\",1,0)","v":0},0,{"$f":"IF($C307=1,'Sjekkliste noter'!A472,\"\")","v":""},{"$f":"IF($C307=1,'Sjekkliste noter'!B472,\"\")","v":""},null,{"$f":"IF($C307=1,'Sjekkliste noter'!H472,\"\")","v":""}]
[{"$f":"'Sjekkliste noter'!A473","v":307},{"$f":"IF('Sjekkliste noter'!E473<>\"\",1,0)","v":0},0,{"$f":"IF($C308=1,'Sjekkliste noter'!A473,\"\")","v":""},{"$f":"IF($C308=1,'Sjekkliste noter'!B473,\"\")","v":""},null,{"$f":"IF($C308=1,'Sjekkliste noter'!H473,\"\")","v":""}]
[{"$f":"'Sjekkliste noter'!A474","v":308},{"$f":"IF('Sjekkliste noter'!E474<>\"\",1,0)","v":0},0,{"$f":"IF($C309=1,'Sjekkliste noter'!A474,\"\")","v":""},{"$f":"IF($C309=1,'Sjekkliste noter'!B474,\"\")","v":""},null,{"$f":"IF($C309=1,'Sjekkliste noter'!H474,\"\")","v":""}]
[{"$f":"'Sjekkliste noter'!A475","v":309},{"$f":"IF('Sjekkliste noter'!E475<>\"\",1,0)","v":0},0,{"$f":"IF($C310=1,'Sjekkliste noter'!A475,\"\")","v":""},{"$f":"IF($C310=1,'Sjekkliste noter'!B475,\"\")","v":""},null,{"$f":"IF($C310=1,'Sjekkliste noter'!H475,\"\")","v":""}]
[{"$f":"'Sjekkliste noter'!A479","v":310},{"$f":"IF('Sjekkliste noter'!E479<>\"\",1,0)","v":0},0,{"$f":"IF($C311=1,'Sjekkliste noter'!A479,\"\")","v":""},{"$f":"IF($C311=1,'Sjekkliste noter'!B479,\"\")","v":""},null,{"$f":"IF($C311=1,'Sjekkliste noter'!H479,\"\")","v":""}]
[{"$f":"'Sjekkliste noter'!A480","v":311},{"$f":"IF('Sjekkliste noter'!E480<>\"\",1,0)","v":0},0,{"$f":"IF($C312=1,'Sjekkliste noter'!A480,\"\")","v":""},{"$f":"IF($C312=1,'Sjekkliste noter'!B480,\"\")","v":""},null,{"$f":"IF($C312=1,'Sjekkliste noter'!H480,\"\")","v":""}]
[{"$f":"'Sjekkliste noter'!A481","v":312},{"$f":"IF('Sjekkliste noter'!E481<>\"\",1,0)","v":0},0,{"$f":"IF($C313=1,'Sjekkliste noter'!A481,\"\")","v":""},{"$f":"IF($C313=1,'Sjekkliste noter'!B481,\"\")","v":""},null,{"$f":"IF($C313=1,'Sjekkliste noter'!H481,\"\")","v":""}]
[{"$f":"'Sjekkliste noter'!A483","v":313},{"$f":"IF('Sjekkliste noter'!E483<>\"\",1,0)","v":0},0,{"$f":"IF($C314=1,'Sjekkliste noter'!A483,\"\")","v":""},{"$f":"IF($C314=1,'Sjekkliste noter'!B483,\"\")","v":""},null,{"$f":"IF($C314=1,'Sjekkliste noter'!H483,\"\")","v":""}]
[{"$f":"'Sjekkliste noter'!A484","v":314},{"$f":"IF('Sjekkliste noter'!E484<>\"\",1,0)","v":0},0,{"$f":"IF($C315=1,'Sjekkliste noter'!A484,\"\")","v":""},{"$f":"IF($C315=1,'Sjekkliste noter'!B484,\"\")","v":""},null,{"$f":"IF($C315=1,'Sjekkliste noter'!H484,\"\")","v":""}]
[{"$f":"'Sjekkliste noter'!A485","v":315},{"$f":"IF('Sjekkliste noter'!E485<>\"\",1,0)","v":0},0,{"$f":"IF($C316=1,'Sjekkliste noter'!A485,\"\")","v":""},{"$f":"IF($C316=1,'Sjekkliste noter'!B485,\"\")","v":""},null,{"$f":"IF($C316=1,'Sjekkliste noter'!H485,\"\")","v":""}]
[{"$f":"'Sjekkliste noter'!A486","v":316},{"$f":"IF('Sjekkliste noter'!E486<>\"\",1,0)","v":0},0,{"$f":"IF($C317=1,'Sjekkliste noter'!A486,\"\")","v":""},{"$f":"IF($C317=1,'Sjekkliste noter'!B486,\"\")","v":""},null,{"$f":"IF($C317=1,'Sjekkliste noter'!H486,\"\")","v":""}]
[{"$f":"'Sjekkliste noter'!A490","v":317},{"$f":"IF('Sjekkliste noter'!E490<>\"\",1,0)","v":0},0,{"$f":"IF($C318=1,'Sjekkliste noter'!A490,\"\")","v":""},{"$f":"IF($C318=1,'Sjekkliste noter'!B490,\"\")","v":""},null,{"$f":"IF($C318=1,'Sjekkliste noter'!H490,\"\")","v":""}]
[{"$f":"'Sjekkliste noter'!A491","v":318},{"$f":"IF('Sjekkliste noter'!E491<>\"\",1,0)","v":0},0,{"$f":"IF($C319=1,'Sjekkliste noter'!A491,\"\")","v":""},{"$f":"IF($C319=1,'Sjekkliste noter'!B491,\"\")","v":""},null,{"$f":"IF($C319=1,'Sjekkliste noter'!H491,\"\")","v":""}]
[{"$f":"'Sjekkliste noter'!A492","v":319},{"$f":"IF('Sjekkliste noter'!E492<>\"\",1,0)","v":0},0,{"$f":"IF($C320=1,'Sjekkliste noter'!A492,\"\")","v":""},{"$f":"IF($C320=1,'Sjekkliste noter'!B492,\"\")","v":""},null,{"$f":"IF($C320=1,'Sjekkliste noter'!H492,\"\")","v":""}]
[{"$f":"'Sjekkliste noter'!A493","v":320},{"$f":"IF('Sjekkliste noter'!E493<>\"\",1,0)","v":0},0,{"$f":"IF($C321=1,'Sjekkliste noter'!A493,\"\")","v":""},{"$f":"IF($C321=1,'Sjekkliste noter'!B493,\"\")","v":""},null,{"$f":"IF($C321=1,'Sjekkliste noter'!H493,\"\")","v":""}]
[{"$f":"'Sjekkliste noter'!A497","v":321},{"$f":"IF('Sjekkliste noter'!E497<>\"\",1,0)","v":0},{"$f":"SUM(B322:B322)","v":0},{"$f":"IF($C322=1,'Sjekkliste noter'!A497,\"\")","v":""},{"$f":"IF($C322=1,'Sjekkliste noter'!B497,\"\")","v":""},null,{"$f":"IF($C322=1,'Sjekkliste noter'!H497,\"\")","v":""}]
[{"$f":"'Sjekkliste noter'!A498","v":322},{"$f":"IF('Sjekkliste noter'!E498<>\"\",1,0)","v":0},0,{"$f":"IF($C323=1,'Sjekkliste noter'!A498,\"\")","v":""},{"$f":"IF($C323=1,'Sjekkliste noter'!B498,\"\")","v":""},null,{"$f":"IF($C323=1,'Sjekkliste noter'!H498,\"\")","v":""}]
[{"$f":"'Sjekkliste noter'!A500","v":323},{"$f":"IF('Sjekkliste noter'!E500<>\"\",1,0)","v":0},0,{"$f":"IF($C324=1,'Sjekkliste noter'!A500,\"\")","v":""},{"$f":"IF($C324=1,'Sjekkliste noter'!B500,\"\")","v":""},null,{"$f":"IF($C324=1,'Sjekkliste noter'!H500,\"\")","v":""}]
[{"$f":"'Sjekkliste noter'!A502","v":324},{"$f":"IF('Sjekkliste noter'!E502<>\"\",1,0)","v":0},0,{"$f":"IF($C325=1,'Sjekkliste noter'!A502,\"\")","v":""},{"$f":"IF($C325=1,'Sjekkliste noter'!B502,\"\")","v":""},null,{"$f":"IF($C325=1,'Sjekkliste noter'!H502,\"\")","v":""}]
[{"$f":"'Sjekkliste noter'!A503","v":325},{"$f":"IF('Sjekkliste noter'!E503<>\"\",1,0)","v":0},0,{"$f":"IF($C326=1,'Sjekkliste noter'!A503,\"\")","v":""},{"$f":"IF($C326=1,'Sjekkliste noter'!B503,\"\")","v":""},null,{"$f":"IF($C326=1,'Sjekkliste noter'!H503,\"\")","v":""}]
[{"$f":"'Sjekkliste noter'!A504","v":326},{"$f":"IF('Sjekkliste noter'!E504<>\"\",1,0)","v":0},0,{"$f":"IF($C327=1,'Sjekkliste noter'!A504,\"\")","v":""},{"$f":"IF($C327=1,'Sjekkliste noter'!B504,\"\")","v":""},null,{"$f":"IF($C327=1,'Sjekkliste noter'!H504,\"\")","v":""}]
[{"$f":"'Sjekkliste noter'!A505","v":327},{"$f":"IF('Sjekkliste noter'!E505<>\"\",1,0)","v":0},0,{"$f":"IF($C328=1,'Sjekkliste noter'!A505,\"\")","v":""},{"$f":"IF($C328=1,'Sjekkliste noter'!B505,\"\")","v":""},null,{"$f":"IF($C328=1,'Sjekkliste noter'!H505,\"\")","v":""}]
[{"$f":"'Sjekkliste noter'!A506","v":328},{"$f":"IF('Sjekkliste noter'!E506<>\"\",1,0)","v":0},0,{"$f":"IF($C329=1,'Sjekkliste noter'!A506,\"\")","v":""},{"$f":"IF($C329=1,'Sjekkliste noter'!B506,\"\")","v":""},null,{"$f":"IF($C329=1,'Sjekkliste noter'!H506,\"\")","v":""}]
[{"$f":"'Sjekkliste noter'!A507","v":329},{"$f":"IF('Sjekkliste noter'!E507<>\"\",1,0)","v":0},0,{"$f":"IF($C330=1,'Sjekkliste noter'!A507,\"\")","v":""},{"$f":"IF($C330=1,'Sjekkliste noter'!B507,\"\")","v":""},null,{"$f":"IF($C330=1,'Sjekkliste noter'!H507,\"\")","v":""}]
[{"$f":"'Sjekkliste noter'!A508","v":330},{"$f":"IF('Sjekkliste noter'!E508<>\"\",1,0)","v":0},0,{"$f":"IF($C331=1,'Sjekkliste noter'!A508,\"\")","v":""},{"$f":"IF($C331=1,'Sjekkliste noter'!B508,\"\")","v":""},null,{"$f":"IF($C331=1,'Sjekkliste noter'!H508,\"\")","v":""}]
[{"$f":"'Sjekkliste noter'!A509","v":331},{"$f":"IF('Sjekkliste noter'!E509<>\"\",1,0)","v":0},0,{"$f":"IF($C332=1,'Sjekkliste noter'!A509,\"\")","v":""},{"$f":"IF($C332=1,'Sjekkliste noter'!B509,\"\")","v":""},null,{"$f":"IF($C332=1,'Sjekkliste noter'!H509,\"\")","v":""}]
[{"$f":"'Sjekkliste noter'!A510","v":332},{"$f":"IF('Sjekkliste noter'!E510<>\"\",1,0)","v":0},0,{"$f":"IF($C333=1,'Sjekkliste noter'!A510,\"\")","v":""},{"$f":"IF($C333=1,'Sjekkliste noter'!B510,\"\")","v":""},null,{"$f":"IF($C333=1,'Sjekkliste noter'!H510,\"\")","v":""}]
[{"$f":"'Sjekkliste noter'!A512","v":333},{"$f":"IF('Sjekkliste noter'!E512<>\"\",1,0)","v":0},0,{"$f":"IF($C334=1,'Sjekkliste noter'!A512,\"\")","v":""},{"$f":"IF($C334=1,'Sjekkliste noter'!B512,\"\")","v":""},null,{"$f":"IF($C334=1,'Sjekkliste noter'!H512,\"\")","v":""}]
[{"$f":"'Sjekkliste noter'!A513","v":334},{"$f":"IF('Sjekkliste noter'!E513<>\"\",1,0)","v":0},0,{"$f":"IF($C335=1,'Sjekkliste noter'!A513,\"\")","v":""},{"$f":"IF($C335=1,'Sjekkliste noter'!B513,\"\")","v":""},null,{"$f":"IF($C335=1,'Sjekkliste noter'!H513,\"\")","v":""}]
[{"$f":"'Sjekkliste noter'!A514","v":335},{"$f":"IF('Sjekkliste noter'!E514<>\"\",1,0)","v":0},0,{"$f":"IF($C336=1,'Sjekkliste noter'!A514,\"\")","v":""},{"$f":"IF($C336=1,'Sjekkliste noter'!B514,\"\")","v":""},null,{"$f":"IF($C336=1,'Sjekkliste noter'!H514,\"\")","v":""}]
[{"$f":"'Sjekkliste noter'!A515","v":336},{"$f":"IF('Sjekkliste noter'!E515<>\"\",1,0)","v":0},0,{"$f":"IF($C337=1,'Sjekkliste noter'!A515,\"\")","v":""},{"$f":"IF($C337=1,'Sjekkliste noter'!B515,\"\")","v":""},null,{"$f":"IF($C337=1,'Sjekkliste noter'!H515,\"\")","v":""}]
[{"$f":"'Sjekkliste noter'!A516","v":337},{"$f":"IF('Sjekkliste noter'!E516<>\"\",1,0)","v":0},0,{"$f":"IF($C338=1,'Sjekkliste noter'!A516,\"\")","v":""},{"$f":"IF($C338=1,'Sjekkliste noter'!B516,\"\")","v":""},null,{"$f":"IF($C338=1,'Sjekkliste noter'!H516,\"\")","v":""}]
[{"$f":"'Sjekkliste noter'!A517","v":338},{"$f":"IF('Sjekkliste noter'!E517<>\"\",1,0)","v":0},0,{"$f":"IF($C339=1,'Sjekkliste noter'!A517,\"\")","v":""},{"$f":"IF($C339=1,'Sjekkliste noter'!B517,\"\")","v":""},null,{"$f":"IF($C339=1,'Sjekkliste noter'!H517,\"\")","v":""}]
[{"$f":"'Sjekkliste noter'!A518","v":339},{"$f":"IF('Sjekkliste noter'!E518<>\"\",1,0)","v":0},0,{"$f":"IF($C340=1,'Sjekkliste noter'!A518,\"\")","v":""},{"$f":"IF($C340=1,'Sjekkliste noter'!B518,\"\")","v":""},null,{"$f":"IF($C340=1,'Sjekkliste noter'!H518,\"\")","v":""}]
[{"$f":"'Sjekkliste noter'!A520","v":340},{"$f":"IF('Sjekkliste noter'!E520<>\"\",1,0)","v":0},0,{"$f":"IF($C341=1,'Sjekkliste noter'!A520,\"\")","v":""},{"$f":"IF($C341=1,'Sjekkliste noter'!B520,\"\")","v":""},null,{"$f":"IF($C341=1,'Sjekkliste noter'!H520,\"\")","v":""}]
[{"$f":"'Sjekkliste noter'!A521","v":341},{"$f":"IF('Sjekkliste noter'!E521<>\"\",1,0)","v":0},0,{"$f":"IF($C342=1,'Sjekkliste noter'!A521,\"\")","v":""},{"$f":"IF($C342=1,'Sjekkliste noter'!B521,\"\")","v":""},null,{"$f":"IF($C342=1,'Sjekkliste noter'!H521,\"\")","v":""}]
[{"$f":"'Sjekkliste noter'!A522","v":342},{"$f":"IF('Sjekkliste noter'!E522<>\"\",1,0)","v":0},0,{"$f":"IF($C343=1,'Sjekkliste noter'!A522,\"\")","v":""},{"$f":"IF($C343=1,'Sjekkliste noter'!B522,\"\")","v":""},null,{"$f":"IF($C343=1,'Sjekkliste noter'!H522,\"\")","v":""}]
[{"$f":"'Sjekkliste noter'!A526","v":343},{"$f":"IF('Sjekkliste noter'!E526<>\"\",1,0)","v":0},0,{"$f":"IF($C344=1,'Sjekkliste noter'!A526,\"\")","v":""},{"$f":"IF($C344=1,'Sjekkliste noter'!B526,\"\")","v":""},null,{"$f":"IF($C344=1,'Sjekkliste noter'!H526,\"\")","v":""}]
[{"$f":"'Sjekkliste noter'!A527","v":344},{"$f":"IF('Sjekkliste noter'!E527<>\"\",1,0)","v":0},0,{"$f":"IF($C345=1,'Sjekkliste noter'!A527,\"\")","v":""},{"$f":"IF($C345=1,'Sjekkliste noter'!B527,\"\")","v":""},null,{"$f":"IF($C345=1,'Sjekkliste noter'!H527,\"\")","v":""}]
[{"$f":"'Sjekkliste noter'!A528","v":345},{"$f":"IF('Sjekkliste noter'!E528<>\"\",1,0)","v":0},0,{"$f":"IF($C346=1,'Sjekkliste noter'!A528,\"\")","v":""},{"$f":"IF($C346=1,'Sjekkliste noter'!B528,\"\")","v":""},null,{"$f":"IF($C346=1,'Sjekkliste noter'!H528,\"\")","v":""}]
[{"$f":"'Sjekkliste noter'!A529","v":346},{"$f":"IF('Sjekkliste noter'!E529<>\"\",1,0)","v":0},0,{"$f":"IF($C347=1,'Sjekkliste noter'!A529,\"\")","v":""},{"$f":"IF($C347=1,'Sjekkliste noter'!B529,\"\")","v":""},null,{"$f":"IF($C347=1,'Sjekkliste noter'!H529,\"\")","v":""}]
[{"$f":"'Sjekkliste noter'!A531","v":347},{"$f":"IF('Sjekkliste noter'!E531<>\"\",1,0)","v":0},0,{"$f":"IF($C348=1,'Sjekkliste noter'!A531,\"\")","v":""},{"$f":"IF($C348=1,'Sjekkliste noter'!B531,\"\")","v":""},null,{"$f":"IF($C348=1,'Sjekkliste noter'!H531,\"\")","v":""}]
[{"$f":"'Sjekkliste noter'!A535","v":348},{"$f":"IF('Sjekkliste noter'!E535<>\"\",1,0)","v":0},0,{"$f":"IF($C349=1,'Sjekkliste noter'!A535,\"\")","v":""},{"$f":"IF($C349=1,'Sjekkliste noter'!B535,\"\")","v":""},null,{"$f":"IF($C349=1,'Sjekkliste noter'!H535,\"\")","v":""}]
[{"$f":"'Sjekkliste noter'!A536","v":349},{"$f":"IF('Sjekkliste noter'!E536<>\"\",1,0)","v":0},0,{"$f":"IF($C350=1,'Sjekkliste noter'!A536,\"\")","v":""},{"$f":"IF($C350=1,'Sjekkliste noter'!B536,\"\")","v":""},null,{"$f":"IF($C350=1,'Sjekkliste noter'!H536,\"\")","v":""}]
[{"$f":"'Sjekkliste noter'!A537","v":350},{"$f":"IF('Sjekkliste noter'!E537<>\"\",1,0)","v":0},0,{"$f":"IF($C351=1,'Sjekkliste noter'!A537,\"\")","v":""},{"$f":"IF($C351=1,'Sjekkliste noter'!B537,\"\")","v":""},null,{"$f":"IF($C351=1,'Sjekkliste noter'!H537,\"\")","v":""}]
[{"$f":"'Sjekkliste noter'!A538","v":351},{"$f":"IF('Sjekkliste noter'!E538<>\"\",1,0)","v":0},0,{"$f":"IF($C352=1,'Sjekkliste noter'!A538,\"\")","v":""},{"$f":"IF($C352=1,'Sjekkliste noter'!B538,\"\")","v":""},null,{"$f":"IF($C352=1,'Sjekkliste noter'!H538,\"\")","v":""}]
[{"$f":"'Sjekkliste noter'!A539","v":352},{"$f":"IF('Sjekkliste noter'!E539<>\"\",1,0)","v":0},0,{"$f":"IF($C353=1,'Sjekkliste noter'!A539,\"\")","v":""},{"$f":"IF($C353=1,'Sjekkliste noter'!B539,\"\")","v":""},null,{"$f":"IF($C353=1,'Sjekkliste noter'!H539,\"\")","v":""}]
[{"$f":"'Sjekkliste noter'!A546","v":353},{"$f":"IF('Sjekkliste noter'!E546<>\"\",1,0)","v":0},0,{"$f":"IF($C354=1,'Sjekkliste noter'!A546,\"\")","v":""},{"$f":"IF($C354=1,'Sjekkliste noter'!B546,\"\")","v":""},null,{"$f":"IF($C354=1,'Sjekkliste noter'!H546,\"\")","v":""}]
[{"$f":"'Sjekkliste noter'!A548","v":354},{"$f":"IF('Sjekkliste noter'!E548<>\"\",1,0)","v":0},0,{"$f":"IF($C355=1,'Sjekkliste noter'!A548,\"\")","v":""},{"$f":"IF($C355=1,'Sjekkliste noter'!B548,\"\")","v":""},null,{"$f":"IF($C355=1,'Sjekkliste noter'!H548,\"\")","v":""}]
[{"$f":"'Sjekkliste noter'!A549","v":355},{"$f":"IF('Sjekkliste noter'!E549<>\"\",1,0)","v":0},0,{"$f":"IF($C356=1,'Sjekkliste noter'!A549,\"\")","v":""},{"$f":"IF($C356=1,'Sjekkliste noter'!B549,\"\")","v":""},null,{"$f":"IF($C356=1,'Sjekkliste noter'!H549,\"\")","v":""}]
[{"$f":"'Sjekkliste noter'!A551","v":356},{"$f":"IF('Sjekkliste noter'!E551<>\"\",1,0)","v":0},0,{"$f":"IF($C357=1,'Sjekkliste noter'!A551,\"\")","v":""},{"$f":"IF($C357=1,'Sjekkliste noter'!B551,\"\")","v":""},null,{"$f":"IF($C357=1,'Sjekkliste noter'!H551,\"\")","v":""}]
[{"$f":"'Sjekkliste noter'!A552","v":357},{"$f":"IF('Sjekkliste noter'!E552<>\"\",1,0)","v":0},0,{"$f":"IF($C358=1,'Sjekkliste noter'!A552,\"\")","v":""},{"$f":"IF($C358=1,'Sjekkliste noter'!B552,\"\")","v":""},null,{"$f":"IF($C358=1,'Sjekkliste noter'!H552,\"\")","v":""}]
[{"$f":"'Sjekkliste noter'!A553","v":358},{"$f":"IF('Sjekkliste noter'!E553<>\"\",1,0)","v":0},0,{"$f":"IF($C359=1,'Sjekkliste noter'!A553,\"\")","v":""},{"$f":"IF($C359=1,'Sjekkliste noter'!B553,\"\")","v":""},null,{"$f":"IF($C359=1,'Sjekkliste noter'!H553,\"\")","v":""}]
[{"$f":"'Sjekkliste noter'!A554","v":359},{"$f":"IF('Sjekkliste noter'!E554<>\"\",1,0)","v":0},0,{"$f":"IF($C360=1,'Sjekkliste noter'!A554,\"\")","v":""},{"$f":"IF($C360=1,'Sjekkliste noter'!B554,\"\")","v":""},null,{"$f":"IF($C360=1,'Sjekkliste noter'!H554,\"\")","v":""}]
[{"$f":"'Sjekkliste noter'!A555","v":360},{"$f":"IF('Sjekkliste noter'!E555<>\"\",1,0)","v":0},0,{"$f":"IF($C361=1,'Sjekkliste noter'!A555,\"\")","v":""},{"$f":"IF($C361=1,'Sjekkliste noter'!B555,\"\")","v":""},null,{"$f":"IF($C361=1,'Sjekkliste noter'!H555,\"\")","v":""}]
[{"$f":"'Sjekkliste noter'!A558","v":361},{"$f":"IF('Sjekkliste noter'!E558<>\"\",1,0)","v":0},0,{"$f":"IF($C362=1,'Sjekkliste noter'!A558,\"\")","v":""},{"$f":"IF($C362=1,'Sjekkliste noter'!B558,\"\")","v":""},null,{"$f":"IF($C362=1,'Sjekkliste noter'!H558,\"\")","v":""}]
[{"$f":"'Sjekkliste noter'!A559","v":362},{"$f":"IF('Sjekkliste noter'!E559<>\"\",1,0)","v":0},0,{"$f":"IF($C363=1,'Sjekkliste noter'!A559,\"\")","v":""},{"$f":"IF($C363=1,'Sjekkliste noter'!B559,\"\")","v":""},null,{"$f":"IF($C363=1,'Sjekkliste noter'!H559,\"\")","v":""}]
[{"$f":"'Sjekkliste noter'!A560","v":363},{"$f":"IF('Sjekkliste noter'!E560<>\"\",1,0)","v":0},0,{"$f":"IF($C364=1,'Sjekkliste noter'!A560,\"\")","v":""},{"$f":"IF($C364=1,'Sjekkliste noter'!B560,\"\")","v":""},null,{"$f":"IF($C364=1,'Sjekkliste noter'!H560,\"\")","v":""}]
[{"$f":"'Sjekkliste noter'!A561","v":364},{"$f":"IF('Sjekkliste noter'!E561<>\"\",1,0)","v":0},0,{"$f":"IF($C365=1,'Sjekkliste noter'!A561,\"\")","v":""},{"$f":"IF($C365=1,'Sjekkliste noter'!B561,\"\")","v":""},null,{"$f":"IF($C365=1,'Sjekkliste noter'!H561,\"\")","v":""}]
[{"$f":"'Sjekkliste noter'!A562","v":365},{"$f":"IF('Sjekkliste noter'!E562<>\"\",1,0)","v":0},0,{"$f":"IF($C366=1,'Sjekkliste noter'!A562,\"\")","v":""},{"$f":"IF($C366=1,'Sjekkliste noter'!B562,\"\")","v":""},null,{"$f":"IF($C366=1,'Sjekkliste noter'!H562,\"\")","v":""}]
[{"$f":"'Sjekkliste noter'!A563","v":366},{"$f":"IF('Sjekkliste noter'!E563<>\"\",1,0)","v":0},0,{"$f":"IF($C367=1,'Sjekkliste noter'!A563,\"\")","v":""},{"$f":"IF($C367=1,'Sjekkliste noter'!B563,\"\")","v":""},null,{"$f":"IF($C367=1,'Sjekkliste noter'!H563,\"\")","v":""}]
[{"$f":"'Sjekkliste noter'!A564","v":367},{"$f":"IF('Sjekkliste noter'!E564<>\"\",1,0)","v":0},0,{"$f":"IF($C368=1,'Sjekkliste noter'!A564,\"\")","v":""},{"$f":"IF($C368=1,'Sjekkliste noter'!B564,\"\")","v":""},null,{"$f":"IF($C368=1,'Sjekkliste noter'!H564,\"\")","v":""}]
[{"$f":"'Sjekkliste noter'!A565","v":368},{"$f":"IF('Sjekkliste noter'!E565<>\"\",1,0)","v":0},0,{"$f":"IF($C369=1,'Sjekkliste noter'!A565,\"\")","v":""},{"$f":"IF($C369=1,'Sjekkliste noter'!B565,\"\")","v":""},null,{"$f":"IF($C369=1,'Sjekkliste noter'!H565,\"\")","v":""}]
[{"$f":"'Sjekkliste noter'!A566","v":369},{"$f":"IF('Sjekkliste noter'!E566<>\"\",1,0)","v":0},0,{"$f":"IF($C370=1,'Sjekkliste noter'!A566,\"\")","v":""},{"$f":"IF($C370=1,'Sjekkliste noter'!B566,\"\")","v":""},null,{"$f":"IF($C370=1,'Sjekkliste noter'!H566,\"\")","v":""}]
[{"$f":"'Sjekkliste noter'!A567","v":370},{"$f":"IF('Sjekkliste noter'!E567<>\"\",1,0)","v":0},0,{"$f":"IF($C371=1,'Sjekkliste noter'!A567,\"\")","v":""},{"$f":"IF($C371=1,'Sjekkliste noter'!B567,\"\")","v":""},null,{"$f":"IF($C371=1,'Sjekkliste noter'!H567,\"\")","v":""}]
[{"$f":"'Sjekkliste noter'!A568","v":371},{"$f":"IF('Sjekkliste noter'!E568<>\"\",1,0)","v":0},0,{"$f":"IF($C372=1,'Sjekkliste noter'!A568,\"\")","v":""},{"$f":"IF($C372=1,'Sjekkliste noter'!B568,\"\")","v":""},null,{"$f":"IF($C372=1,'Sjekkliste noter'!H568,\"\")","v":""}]
[{"$f":"'Sjekkliste noter'!A569","v":372},{"$f":"IF('Sjekkliste noter'!E569<>\"\",1,0)","v":0},0,{"$f":"IF($C373=1,'Sjekkliste noter'!A569,\"\")","v":""},{"$f":"IF($C373=1,'Sjekkliste noter'!B569,\"\")","v":""},null,{"$f":"IF($C373=1,'Sjekkliste noter'!H569,\"\")","v":""}]
[{"$f":"'Sjekkliste noter'!A570","v":373},{"$f":"IF('Sjekkliste noter'!E570<>\"\",1,0)","v":0},0,{"$f":"IF($C374=1,'Sjekkliste noter'!A570,\"\")","v":""},{"$f":"IF($C374=1,'Sjekkliste noter'!B570,\"\")","v":""},null,{"$f":"IF($C374=1,'Sjekkliste noter'!H570,\"\")","v":""}]
[{"$f":"'Sjekkliste noter'!A573","v":374},{"$f":"IF('Sjekkliste noter'!E573<>\"\",1,0)","v":0},0,{"$f":"IF($C375=1,'Sjekkliste noter'!A573,\"\")","v":""},{"$f":"IF($C375=1,'Sjekkliste noter'!B573,\"\")","v":""},null,{"$f":"IF($C375=1,'Sjekkliste noter'!H573,\"\")","v":""}]
[{"$f":"'Sjekkliste noter'!A574","v":375},{"$f":"IF('Sjekkliste noter'!E574<>\"\",1,0)","v":0},0,{"$f":"IF($C376=1,'Sjekkliste noter'!A574,\"\")","v":""},{"$f":"IF($C376=1,'Sjekkliste noter'!B574,\"\")","v":""},null,{"$f":"IF($C376=1,'Sjekkliste noter'!H574,\"\")","v":""}]
[{"$f":"'Sjekkliste noter'!A577","v":376},{"$f":"IF('Sjekkliste noter'!E577<>\"\",1,0)","v":0},0,{"$f":"IF($C377=1,'Sjekkliste noter'!A577,\"\")","v":""},{"$f":"IF($C377=1,'Sjekkliste noter'!B577,\"\")","v":""},null,{"$f":"IF($C377=1,'Sjekkliste noter'!H577,\"\")","v":""}]
[{"$f":"'Sjekkliste noter'!A578","v":377},{"$f":"IF('Sjekkliste noter'!E578<>\"\",1,0)","v":0},0,{"$f":"IF($C378=1,'Sjekkliste noter'!A578,\"\")","v":""},{"$f":"IF($C378=1,'Sjekkliste noter'!B578,\"\")","v":""},null,{"$f":"IF($C378=1,'Sjekkliste noter'!H578,\"\")","v":""}]
[{"$f":"'Sjekkliste noter'!A579","v":378},{"$f":"IF('Sjekkliste noter'!E579<>\"\",1,0)","v":0},0,{"$f":"IF($C379=1,'Sjekkliste noter'!A579,\"\")","v":""},{"$f":"IF($C379=1,'Sjekkliste noter'!B579,\"\")","v":""},null,{"$f":"IF($C379=1,'Sjekkliste noter'!H579,\"\")","v":""}]
[{"$f":"'Sjekkliste noter'!A584","v":379},{"$f":"IF('Sjekkliste noter'!E584<>\"\",1,0)","v":0},0,{"$f":"IF($C380=1,'Sjekkliste noter'!A584,\"\")","v":""},{"$f":"IF($C380=1,'Sjekkliste noter'!B584,\"\")","v":""},null,{"$f":"IF($C380=1,'Sjekkliste noter'!H584,\"\")","v":""}]
[{"$f":"'Sjekkliste noter'!A585","v":380},{"$f":"IF('Sjekkliste noter'!E585<>\"\",1,0)","v":0},0,{"$f":"IF($C381=1,'Sjekkliste noter'!A585,\"\")","v":""},{"$f":"IF($C381=1,'Sjekkliste noter'!B585,\"\")","v":""},null,{"$f":"IF($C381=1,'Sjekkliste noter'!H585,\"\")","v":""}]
[{"$f":"'Sjekkliste noter'!A586","v":381},{"$f":"IF('Sjekkliste noter'!E586<>\"\",1,0)","v":0},0,{"$f":"IF($C382=1,'Sjekkliste noter'!A586,\"\")","v":""},{"$f":"IF($C382=1,'Sjekkliste noter'!B586,\"\")","v":""},null,{"$f":"IF($C382=1,'Sjekkliste noter'!H586,\"\")","v":""}]
[{"$f":"'Sjekkliste noter'!A587","v":382},{"$f":"IF('Sjekkliste noter'!E587<>\"\",1,0)","v":0},0,{"$f":"IF($C383=1,'Sjekkliste noter'!A587,\"\")","v":""},{"$f":"IF($C383=1,'Sjekkliste noter'!B587,\"\")","v":""},null,{"$f":"IF($C383=1,'Sjekkliste noter'!H587,\"\")","v":""}]
[{"$f":"'Sjekkliste noter'!A588","v":383},{"$f":"IF('Sjekkliste noter'!E588<>\"\",1,0)","v":0},0,{"$f":"IF($C384=1,'Sjekkliste noter'!A588,\"\")","v":""},{"$f":"IF($C384=1,'Sjekkliste noter'!B588,\"\")","v":""},null,{"$f":"IF($C384=1,'Sjekkliste noter'!H588,\"\")","v":""}]
[{"$f":"'Sjekkliste noter'!A589","v":384},{"$f":"IF('Sjekkliste noter'!E589<>\"\",1,0)","v":0},0,{"$f":"IF($C385=1,'Sjekkliste noter'!A589,\"\")","v":""},{"$f":"IF($C385=1,'Sjekkliste noter'!B589,\"\")","v":""},null,{"$f":"IF($C385=1,'Sjekkliste noter'!H589,\"\")","v":""}]
[{"$f":"'Sjekkliste noter'!A591","v":385},{"$f":"IF('Sjekkliste noter'!E591<>\"\",1,0)","v":0},{"$f":"SUM(B386:B386)","v":0},{"$f":"IF($C386=1,'Sjekkliste noter'!A591,\"\")","v":""},{"$f":"IF($C386=1,'Sjekkliste noter'!B591,\"\")","v":""},null,{"$f":"IF($C386=1,'Sjekkliste noter'!H591,\"\")","v":""}]
[{"$f":"'Sjekkliste noter'!A592","v":386},{"$f":"IF('Sjekkliste noter'!E592<>\"\",1,0)","v":0},0,{"$f":"IF($C387=1,'Sjekkliste noter'!A592,\"\")","v":""},{"$f":"IF($C387=1,'Sjekkliste noter'!B592,\"\")","v":""},null,{"$f":"IF($C387=1,'Sjekkliste noter'!H592,\"\")","v":""}]
[{"$f":"'Sjekkliste noter'!A593","v":387},{"$f":"IF('Sjekkliste noter'!E593<>\"\",1,0)","v":0},0,{"$f":"IF($C388=1,'Sjekkliste noter'!A593,\"\")","v":""},{"$f":"IF($C388=1,'Sjekkliste noter'!B593,\"\")","v":""},null,{"$f":"IF($C388=1,'Sjekkliste noter'!H593,\"\")","v":""}]
[{"$f":"'Sjekkliste noter'!A594","v":388},{"$f":"IF('Sjekkliste noter'!E594<>\"\",1,0)","v":0},0,{"$f":"IF($C389=1,'Sjekkliste noter'!A594,\"\")","v":""},{"$f":"IF($C389=1,'Sjekkliste noter'!B594,\"\")","v":""},null,{"$f":"IF($C389=1,'Sjekkliste noter'!H594,\"\")","v":""}]
[{"$f":"'Sjekkliste noter'!A595","v":389},{"$f":"IF('Sjekkliste noter'!E595<>\"\",1,0)","v":0},0,{"$f":"IF($C390=1,'Sjekkliste noter'!A595,\"\")","v":""},{"$f":"IF($C390=1,'Sjekkliste noter'!B595,\"\")","v":""},null,{"$f":"IF($C390=1,'Sjekkliste noter'!H595,\"\")","v":""}]
[{"$f":"'Sjekkliste noter'!A596","v":390},{"$f":"IF('Sjekkliste noter'!E596<>\"\",1,0)","v":0},0,{"$f":"IF($C391=1,'Sjekkliste noter'!A596,\"\")","v":""},{"$f":"IF($C391=1,'Sjekkliste noter'!B596,\"\")","v":""},null,{"$f":"IF($C391=1,'Sjekkliste noter'!H596,\"\")","v":""}]
[{"$f":"'Sjekkliste noter'!A597","v":391},{"$f":"IF('Sjekkliste noter'!E597<>\"\",1,0)","v":0},0,{"$f":"IF($C392=1,'Sjekkliste noter'!A597,\"\")","v":""},{"$f":"IF($C392=1,'Sjekkliste noter'!B597,\"\")","v":""},null,{"$f":"IF($C392=1,'Sjekkliste noter'!H597,\"\")","v":""}]
[{"$f":"'Sjekkliste noter'!A598","v":392},{"$f":"IF('Sjekkliste noter'!E598<>\"\",1,0)","v":0},0,{"$f":"IF($C393=1,'Sjekkliste noter'!A598,\"\")","v":""},{"$f":"IF($C393=1,'Sjekkliste noter'!B598,\"\")","v":""},null,{"$f":"IF($C393=1,'Sjekkliste noter'!H598,\"\")","v":""}]
[{"$f":"'Sjekkliste noter'!A599","v":393},{"$f":"IF('Sjekkliste noter'!E599<>\"\",1,0)","v":0},0,{"$f":"IF($C394=1,'Sjekkliste noter'!A599,\"\")","v":""},{"$f":"IF($C394=1,'Sjekkliste noter'!B599,\"\")","v":""},null,{"$f":"IF($C394=1,'Sjekkliste noter'!H599,\"\")","v":""}]
[{"$f":"'Sjekkliste noter'!A600","v":394},{"$f":"IF('Sjekkliste noter'!E600<>\"\",1,0)","v":0},0,{"$f":"IF($C395=1,'Sjekkliste noter'!A600,\"\")","v":""},{"$f":"IF($C395=1,'Sjekkliste noter'!B600,\"\")","v":""},null,{"$f":"IF($C395=1,'Sjekkliste noter'!H600,\"\")","v":""}]
[{"$f":"'Sjekkliste noter'!A604","v":396},{"$f":"IF('Sjekkliste noter'!E604<>\"\",1,0)","v":0},0,{"$f":"IF($C396=1,'Sjekkliste noter'!A604,\"\")","v":""},{"$f":"IF($C396=1,'Sjekkliste noter'!B604,\"\")","v":""},null,{"$f":"IF($C396=1,'Sjekkliste noter'!H604,\"\")","v":""}]
[{"$f":"'Sjekkliste noter'!A605","v":397},{"$f":"IF('Sjekkliste noter'!E605<>\"\",1,0)","v":0},0,{"$f":"IF($C397=1,'Sjekkliste noter'!A605,\"\")","v":""},{"$f":"IF($C397=1,'Sjekkliste noter'!B605,\"\")","v":""},null,{"$f":"IF($C397=1,'Sjekkliste noter'!H605,\"\")","v":""}]
[{"$f":"'Sjekkliste noter'!A606","v":398},{"$f":"IF('Sjekkliste noter'!E606<>\"\",1,0)","v":0},0,{"$f":"IF($C398=1,'Sjekkliste noter'!A606,\"\")","v":""},{"$f":"IF($C398=1,'Sjekkliste noter'!B606,\"\")","v":""},null,{"$f":"IF($C398=1,'Sjekkliste noter'!H606,\"\")","v":""}]
[{"$f":"'Sjekkliste noter'!A607","v":399},{"$f":"IF('Sjekkliste noter'!E607<>\"\",1,0)","v":0},0,{"$f":"IF($C399=1,'Sjekkliste noter'!A607,\"\")","v":""},{"$f":"IF($C399=1,'Sjekkliste noter'!B607,\"\")","v":""},null,{"$f":"IF($C399=1,'Sjekkliste noter'!H607,\"\")","v":""}]
[{"$f":"'Sjekkliste noter'!A608","v":400},{"$f":"IF('Sjekkliste noter'!E608<>\"\",1,0)","v":0},0,{"$f":"IF($C400=1,'Sjekkliste noter'!A608,\"\")","v":""},{"$f":"IF($C400=1,'Sjekkliste noter'!B608,\"\")","v":""},null,{"$f":"IF($C400=1,'Sjekkliste noter'!H608,\"\")","v":""}]
[{"$f":"'Sjekkliste noter'!A609","v":401},{"$f":"IF('Sjekkliste noter'!E609<>\"\",1,0)","v":0},0,{"$f":"IF($C401=1,'Sjekkliste noter'!A609,\"\")","v":""},{"$f":"IF($C401=1,'Sjekkliste noter'!B609,\"\")","v":""},null,{"$f":"IF($C401=1,'Sjekkliste noter'!H609,\"\")","v":""}]
[{"$f":"'Sjekkliste noter'!A610","v":402},{"$f":"IF('Sjekkliste noter'!E610<>\"\",1,0)","v":0},0,{"$f":"IF($C402=1,'Sjekkliste noter'!A610,\"\")","v":""},{"$f":"IF($C402=1,'Sjekkliste noter'!B610,\"\")","v":""},null,{"$f":"IF($C402=1,'Sjekkliste noter'!H610,\"\")","v":""}]
[{"$f":"'Sjekkliste noter'!A611","v":403},{"$f":"IF('Sjekkliste noter'!E611<>\"\",1,0)","v":0},0,{"$f":"IF($C403=1,'Sjekkliste noter'!A611,\"\")","v":""},{"$f":"IF($C403=1,'Sjekkliste noter'!B611,\"\")","v":""},null,{"$f":"IF($C403=1,'Sjekkliste noter'!H611,\"\")","v":""}]
[{"$f":"'Sjekkliste noter'!A612","v":404},{"$f":"IF('Sjekkliste noter'!E612<>\"\",1,0)","v":0},0,{"$f":"IF($C404=1,'Sjekkliste noter'!A612,\"\")","v":""},{"$f":"IF($C404=1,'Sjekkliste noter'!B612,\"\")","v":""},null,{"$f":"IF($C404=1,'Sjekkliste noter'!H612,\"\")","v":""}]
[{"$f":"'Sjekkliste noter'!A613","v":405},{"$f":"IF('Sjekkliste noter'!E613<>\"\",1,0)","v":0},0,{"$f":"IF($C405=1,'Sjekkliste noter'!A613,\"\")","v":""},{"$f":"IF($C405=1,'Sjekkliste noter'!B613,\"\")","v":""},null,{"$f":"IF($C405=1,'Sjekkliste noter'!H613,\"\")","v":""}]
[{"$f":"'Sjekkliste noter'!A614","v":406},{"$f":"IF('Sjekkliste noter'!E614<>\"\",1,0)","v":0},0,{"$f":"IF($C406=1,'Sjekkliste noter'!A614,\"\")","v":""},{"$f":"IF($C406=1,'Sjekkliste noter'!B614,\"\")","v":""},null,{"$f":"IF($C406=1,'Sjekkliste noter'!H614,\"\")","v":""}]
[{"$f":"'Sjekkliste noter'!A615","v":407},{"$f":"IF('Sjekkliste noter'!E615<>\"\",1,0)","v":0},0,{"$f":"IF($C407=1,'Sjekkliste noter'!A615,\"\")","v":""},{"$f":"IF($C407=1,'Sjekkliste noter'!B615,\"\")","v":""},null,{"$f":"IF($C407=1,'Sjekkliste noter'!H615,\"\")","v":""}]
[{"$f":"'Sjekkliste noter'!A616","v":408},{"$f":"IF('Sjekkliste noter'!E616<>\"\",1,0)","v":0},0,{"$f":"IF($C408=1,'Sjekkliste noter'!A616,\"\")","v":""},{"$f":"IF($C408=1,'Sjekkliste noter'!B616,\"\")","v":""},null,{"$f":"IF($C408=1,'Sjekkliste noter'!H616,\"\")","v":""}]
[{"$f":"'Sjekkliste noter'!A617","v":409},{"$f":"IF('Sjekkliste noter'!E617<>\"\",1,0)","v":0},0,{"$f":"IF($C409=1,'Sjekkliste noter'!A617,\"\")","v":""},{"$f":"IF($C409=1,'Sjekkliste noter'!B617,\"\")","v":""},null,{"$f":"IF($C409=1,'Sjekkliste noter'!H617,\"\")","v":""}]
[{"$f":"'Sjekkliste noter'!A618","v":410},{"$f":"IF('Sjekkliste noter'!E618<>\"\",1,0)","v":0},0,{"$f":"IF($C410=1,'Sjekkliste noter'!A618,\"\")","v":""},{"$f":"IF($C410=1,'Sjekkliste noter'!B618,\"\")","v":""},null,{"$f":"IF($C410=1,'Sjekkliste noter'!H618,\"\")","v":""}]
[{"$f":"'Sjekkliste noter'!A619","v":411},{"$f":"IF('Sjekkliste noter'!E619<>\"\",1,0)","v":0},0,{"$f":"IF($C411=1,'Sjekkliste noter'!A619,\"\")","v":""},{"$f":"IF($C411=1,'Sjekkliste noter'!B619,\"\")","v":""},null,{"$f":"IF($C411=1,'Sjekkliste noter'!H619,\"\")","v":""}]
[{"$f":"'Sjekkliste noter'!A620","v":412},{"$f":"IF('Sjekkliste noter'!E620<>\"\",1,0)","v":0},0,{"$f":"IF($C412=1,'Sjekkliste noter'!A620,\"\")","v":""},{"$f":"IF($C412=1,'Sjekkliste noter'!B620,\"\")","v":""},null,{"$f":"IF($C412=1,'Sjekkliste noter'!H620,\"\")","v":""}]
[{"$f":"'Sjekkliste noter'!A621","v":413},{"$f":"IF('Sjekkliste noter'!E621<>\"\",1,0)","v":0},0,{"$f":"IF($C413=1,'Sjekkliste noter'!A621,\"\")","v":""},{"$f":"IF($C413=1,'Sjekkliste noter'!B621,\"\")","v":""},null,{"$f":"IF($C413=1,'Sjekkliste noter'!H621,\"\")","v":""}]
[{"$f":"'Sjekkliste noter'!A622","v":414},{"$f":"IF('Sjekkliste noter'!E622<>\"\",1,0)","v":0},0,{"$f":"IF($C414=1,'Sjekkliste noter'!A622,\"\")","v":""},{"$f":"IF($C414=1,'Sjekkliste noter'!B622,\"\")","v":""},null,{"$f":"IF($C414=1,'Sjekkliste noter'!H622,\"\")","v":""}]
[{"$f":"'Sjekkliste noter'!A623","v":415},{"$f":"IF('Sjekkliste noter'!E623<>\"\",1,0)","v":0},0,{"$f":"IF($C415=1,'Sjekkliste noter'!A623,\"\")","v":""},{"$f":"IF($C415=1,'Sjekkliste noter'!B623,\"\")","v":""},null,{"$f":"IF($C415=1,'Sjekkliste noter'!H623,\"\")","v":""}]
[{"$f":"'Sjekkliste noter'!A624","v":416},{"$f":"IF('Sjekkliste noter'!E624<>\"\",1,0)","v":0},0,{"$f":"IF($C416=1,'Sjekkliste noter'!A624,\"\")","v":""},{"$f":"IF($C416=1,'Sjekkliste noter'!B624,\"\")","v":""},null,{"$f":"IF($C416=1,'Sjekkliste noter'!H624,\"\")","v":""}]
[{"$f":"'Sjekkliste noter'!A625","v":417},{"$f":"IF('Sjekkliste noter'!E625<>\"\",1,0)","v":0},0,{"$f":"IF($C417=1,'Sjekkliste noter'!A625,\"\")","v":""},{"$f":"IF($C417=1,'Sjekkliste noter'!B625,\"\")","v":""},null,{"$f":"IF($C417=1,'Sjekkliste noter'!H625,\"\")","v":""}]
[{"$f":"'Sjekkliste noter'!A626","v":418},{"$f":"IF('Sjekkliste noter'!E626<>\"\",1,0)","v":0},0,{"$f":"IF($C418=1,'Sjekkliste noter'!A626,\"\")","v":""},{"$f":"IF($C418=1,'Sjekkliste noter'!B626,\"\")","v":""},null,{"$f":"IF($C418=1,'Sjekkliste noter'!H626,\"\")","v":""}]
[{"$f":"'Sjekkliste noter'!A627","v":419},{"$f":"IF('Sjekkliste noter'!E627<>\"\",1,0)","v":0},0,{"$f":"IF($C419=1,'Sjekkliste noter'!A627,\"\")","v":""},{"$f":"IF($C419=1,'Sjekkliste noter'!B627,\"\")","v":""},null,{"$f":"IF($C419=1,'Sjekkliste noter'!H627,\"\")","v":""}]
[{"$f":"'Sjekkliste noter'!A628","v":420},{"$f":"IF('Sjekkliste noter'!E628<>\"\",1,0)","v":0},0,{"$f":"IF($C420=1,'Sjekkliste noter'!A628,\"\")","v":""},{"$f":"IF($C420=1,'Sjekkliste noter'!B628,\"\")","v":""},null,{"$f":"IF($C420=1,'Sjekkliste noter'!H628,\"\")","v":""}]
[{"$f":"'Sjekkliste noter'!A631","v":421},{"$f":"IF('Sjekkliste noter'!E631<>\"\",1,0)","v":0},0,{"$f":"IF($C421=1,'Sjekkliste noter'!A631,\"\")","v":""},{"$f":"IF($C421=1,'Sjekkliste noter'!B631,\"\")","v":""},null,{"$f":"IF($C421=1,'Sjekkliste noter'!H631,\"\")","v":""}]
[{"$f":"'Sjekkliste noter'!A632","v":422},{"$f":"IF('Sjekkliste noter'!E632<>\"\",1,0)","v":0},0,{"$f":"IF($C422=1,'Sjekkliste noter'!A632,\"\")","v":""},{"$f":"IF($C422=1,'Sjekkliste noter'!B632,\"\")","v":""},null,{"$f":"IF($C422=1,'Sjekkliste noter'!H632,\"\")","v":""}]
[{"$f":"'Sjekkliste noter'!A633","v":423},{"$f":"IF('Sjekkliste noter'!E633<>\"\",1,0)","v":0},0,{"$f":"IF($C423=1,'Sjekkliste noter'!A633,\"\")","v":""},{"$f":"IF($C423=1,'Sjekkliste noter'!B633,\"\")","v":""},null,{"$f":"IF($C423=1,'Sjekkliste noter'!H633,\"\")","v":""}]
[{"$f":"'Sjekkliste noter'!A635","v":424},{"$f":"IF('Sjekkliste noter'!E635<>\"\",1,0)","v":0},0,{"$f":"IF($C424=1,'Sjekkliste noter'!A635,\"\")","v":""},{"$f":"IF($C424=1,'Sjekkliste noter'!B635,\"\")","v":""},null,{"$f":"IF($C424=1,'Sjekkliste noter'!H635,\"\")","v":""}]
[{"$f":"'Sjekkliste noter'!A636","v":425},{"$f":"IF('Sjekkliste noter'!E636<>\"\",1,0)","v":0},0,{"$f":"IF($C425=1,'Sjekkliste noter'!A636,\"\")","v":""},{"$f":"IF($C425=1,'Sjekkliste noter'!B636,\"\")","v":""},null,{"$f":"IF($C425=1,'Sjekkliste noter'!H636,\"\")","v":""}]
[{"$f":"'Sjekkliste noter'!A637","v":426},{"$f":"IF('Sjekkliste noter'!E637<>\"\",1,0)","v":0},0,{"$f":"IF($C426=1,'Sjekkliste noter'!A637,\"\")","v":""},{"$f":"IF($C426=1,'Sjekkliste noter'!B637,\"\")","v":""},null,{"$f":"IF($C426=1,'Sjekkliste noter'!H637,\"\")","v":""}]
[{"$f":"'Sjekkliste noter'!A638","v":427},{"$f":"IF('Sjekkliste noter'!E638<>\"\",1,0)","v":0},0,{"$f":"IF($C427=1,'Sjekkliste noter'!A638,\"\")","v":""},{"$f":"IF($C427=1,'Sjekkliste noter'!B638,\"\")","v":""},null,{"$f":"IF($C427=1,'Sjekkliste noter'!H638,\"\")","v":""}]
[{"$f":"'Sjekkliste noter'!A640","v":428},{"$f":"IF('Sjekkliste noter'!E640<>\"\",1,0)","v":0},0,{"$f":"IF($C428=1,'Sjekkliste noter'!A640,\"\")","v":""},{"$f":"IF($C428=1,'Sjekkliste noter'!B640,\"\")","v":""},null,{"$f":"IF($C428=1,'Sjekkliste noter'!H640,\"\")","v":""}]
[{"$f":"'Sjekkliste noter'!A641","v":429},{"$f":"IF('Sjekkliste noter'!E641<>\"\",1,0)","v":0},0,{"$f":"IF($C429=1,'Sjekkliste noter'!A641,\"\")","v":""},{"$f":"IF($C429=1,'Sjekkliste noter'!B641,\"\")","v":""},null,{"$f":"IF($C429=1,'Sjekkliste noter'!H641,\"\")","v":""}]
[{"$f":"'Sjekkliste noter'!A642","v":430},{"$f":"IF('Sjekkliste noter'!E642<>\"\",1,0)","v":0},0,{"$f":"IF($C430=1,'Sjekkliste noter'!A642,\"\")","v":""},{"$f":"IF($C430=1,'Sjekkliste noter'!B642,\"\")","v":""},null,{"$f":"IF($C430=1,'Sjekkliste noter'!H642,\"\")","v":""}]
[{"$f":"'Sjekkliste noter'!A643","v":431},{"$f":"IF('Sjekkliste noter'!E643<>\"\",1,0)","v":0},0,{"$f":"IF($C431=1,'Sjekkliste noter'!A643,\"\")","v":""},{"$f":"IF($C431=1,'Sjekkliste noter'!B643,\"\")","v":""},null,{"$f":"IF($C431=1,'Sjekkliste noter'!H643,\"\")","v":""}]
[{"$f":"'Sjekkliste noter'!A644","v":432},{"$f":"IF('Sjekkliste noter'!E644<>\"\",1,0)","v":0},0,{"$f":"IF($C432=1,'Sjekkliste noter'!A644,\"\")","v":""},{"$f":"IF($C432=1,'Sjekkliste noter'!B644,\"\")","v":""},null,{"$f":"IF($C432=1,'Sjekkliste noter'!H644,\"\")","v":""}]
[{"$f":"'Sjekkliste noter'!A645","v":433},{"$f":"IF('Sjekkliste noter'!E645<>\"\",1,0)","v":0},0,{"$f":"IF($C433=1,'Sjekkliste noter'!A645,\"\")","v":""},{"$f":"IF($C433=1,'Sjekkliste noter'!B645,\"\")","v":""},null,{"$f":"IF($C433=1,'Sjekkliste noter'!H645,\"\")","v":""}]

{"sheet":"N_Nei","index":7,"n_rows":433,"n_cols":7,"rows_kept":433,"cut":false,"hidden":true,"merged":[]}
[null,null,{"$f":"COUNTIF(C2:C2,\"=1\")","v":0},"Nei-svar",{"$f":"+Forside!B2","v":0},{"$f":"+Forside!B3","v":2021},"Kommentarer"]
[{"$f":"+'Sjekkliste noter'!A17","v":1},{"$f":"IF('Sjekkliste noter'!F17<>\"\",1,0)","v":0},{"$f":"SUM(B2:B2)","v":0},{"$f":"IF($C2=1,'Sjekkliste noter'!A17,\"\")","v":""},{"$f":"IF($C2=1,'Sjekkliste noter'!B17,\"\")","v":""},null,{"$f":"IF($C2=1,'Sjekkliste noter'!H17,\"\")","v":""}]
[{"$f":"+'Sjekkliste noter'!A19","v":2},{"$f":"IF('Sjekkliste noter'!F19<>\"\",1,0)","v":0},0,{"$f":"IF($C3=1,'Sjekkliste noter'!A19,\"\")","v":""},{"$f":"IF($C3=1,'Sjekkliste noter'!B19,\"\")","v":""},null,{"$f":"IF($C3=1,'Sjekkliste noter'!H19,\"\")","v":""}]
[{"$f":"+'Sjekkliste noter'!A20","v":3},{"$f":"IF('Sjekkliste noter'!F20<>\"\",1,0)","v":0},0,{"$f":"IF($C4=1,'Sjekkliste noter'!A20,\"\")","v":""},{"$f":"IF($C4=1,'Sjekkliste noter'!B20,\"\")","v":""},null,{"$f":"IF($C4=1,'Sjekkliste noter'!H20,\"\")","v":""}]
[{"$f":"+'Sjekkliste noter'!A21","v":4},{"$f":"IF('Sjekkliste noter'!F21<>\"\",1,0)","v":0},0,{"$f":"IF($C5=1,'Sjekkliste noter'!A21,\"\")","v":""},{"$f":"IF($C5=1,'Sjekkliste noter'!B21,\"\")","v":""},null,{"$f":"IF($C5=1,'Sjekkliste noter'!H21,\"\")","v":""}]
[{"$f":"+'Sjekkliste noter'!A22","v":5},{"$f":"IF('Sjekkliste noter'!F22<>\"\",1,0)","v":0},0,{"$f":"IF($C6=1,'Sjekkliste noter'!A22,\"\")","v":""},{"$f":"IF($C6=1,'Sjekkliste noter'!B22,\"\")","v":""},null,{"$f":"IF($C6=1,'Sjekkliste noter'!H22,\"\")","v":""}]
[{"$f":"+'Sjekkliste noter'!A23","v":6},{"$f":"IF('Sjekkliste noter'!F23<>\"\",1,0)","v":0},0,{"$f":"IF($C7=1,'Sjekkliste noter'!A23,\"\")","v":""},{"$f":"IF($C7=1,'Sjekkliste noter'!B23,\"\")","v":""},null,{"$f":"IF($C7=1,'Sjekkliste noter'!H23,\"\")","v":""}]
[{"$f":"+'Sjekkliste noter'!A24","v":7},{"$f":"IF('Sjekkliste noter'!F24<>\"\",1,0)","v":0},0,{"$f":"IF($C8=1,'Sjekkliste noter'!A24,\"\")","v":""},{"$f":"IF($C8=1,'Sjekkliste noter'!B24,\"\")","v":""},null,{"$f":"IF($C8=1,'Sjekkliste noter'!H24,\"\")","v":""}]
[{"$f":"+'Sjekkliste noter'!A26","v":8},{"$f":"IF('Sjekkliste noter'!F26<>\"\",1,0)","v":0},0,{"$f":"IF($C9=1,'Sjekkliste noter'!A26,\"\")","v":""},{"$f":"IF($C9=1,'Sjekkliste noter'!B26,\"\")","v":""},null,{"$f":"IF($C9=1,'Sjekkliste noter'!H26,\"\")","v":""}]
[{"$f":"+'Sjekkliste noter'!A28","v":9},{"$f":"IF('Sjekkliste noter'!F28<>\"\",1,0)","v":0},0,{"$f":"IF($C10=1,'Sjekkliste noter'!A28,\"\")","v":""},{"$f":"IF($C10=1,'Sjekkliste noter'!B28,\"\")","v":""},null,{"$f":"IF($C10=1,'Sjekkliste noter'!H28,\"\")","v":""}]
[{"$f":"+'Sjekkliste noter'!A29","v":10},{"$f":"IF('Sjekkliste noter'!F29<>\"\",1,0)","v":0},0,{"$f":"IF($C11=1,'Sjekkliste noter'!A29,\"\")","v":""},{"$f":"IF($C11=1,'Sjekkliste noter'!B29,\"\")","v":""},null,{"$f":"IF($C11=1,'Sjekkliste noter'!H29,\"\")","v":""}]
[{"$f":"+'Sjekkliste noter'!A30","v":11},{"$f":"IF('Sjekkliste noter'!F30<>\"\",1,0)","v":0},0,{"$f":"IF($C12=1,'Sjekkliste noter'!A30,\"\")","v":""},{"$f":"IF($C12=1,'Sjekkliste noter'!B30,\"\")","v":""},null,{"$f":"IF($C12=1,'Sjekkliste noter'!H30,\"\")","v":""}]
[{"$f":"+'Sjekkliste noter'!A31","v":12},{"$f":"IF('Sjekkliste noter'!F31<>\"\",1,0)","v":0},0,{"$f":"IF($C13=1,'Sjekkliste noter'!A31,\"\")","v":""},{"$f":"IF($C13=1,'Sjekkliste noter'!B31,\"\")","v":""},null,{"$f":"IF($C13=1,'Sjekkliste noter'!H31,\"\")","v":""}]
[{"$f":"+'Sjekkliste noter'!A32","v":13},{"$f":"IF('Sjekkliste noter'!F32<>\"\",1,0)","v":0},0,{"$f":"IF($C14=1,'Sjekkliste noter'!A32,\"\")","v":""},{"$f":"IF($C14=1,'Sjekkliste noter'!B32,\"\")","v":""},null,{"$f":"IF($C14=1,'Sjekkliste noter'!H32,\"\")","v":""}]
[{"$f":"+'Sjekkliste noter'!A33","v":14},{"$f":"IF('Sjekkliste noter'!F33<>\"\",1,0)","v":0},0,{"$f":"IF($C15=1,'Sjekkliste noter'!A33,\"\")","v":""},{"$f":"IF($C15=1,'Sjekkliste noter'!B33,\"\")","v":""},null,{"$f":"IF($C15=1,'Sjekkliste noter'!H33,\"\")","v":""}]
[{"$f":"+'Sjekkliste noter'!A34","v":15},{"$f":"IF('Sjekkliste noter'!F34<>\"\",1,0)","v":0},0,{"$f":"IF($C16=1,'Sjekkliste noter'!A34,\"\")","v":""},{"$f":"IF($C16=1,'Sjekkliste noter'!B34,\"\")","v":""},null,{"$f":"IF($C16=1,'Sjekkliste noter'!H34,\"\")","v":""}]
[{"$f":"+'Sjekkliste noter'!A35","v":16},{"$f":"IF('Sjekkliste noter'!F35<>\"\",1,0)","v":0},0,{"$f":"IF($C17=1,'Sjekkliste noter'!A35,\"\")","v":""},{"$f":"IF($C17=1,'Sjekkliste noter'!B35,\"\")","v":""},null,{"$f":"IF($C17=1,'Sjekkliste noter'!H35,\"\")","v":""}]
[{"$f":"+'Sjekkliste noter'!A38","v":17},{"$f":"IF('Sjekkliste noter'!F38<>\"\",1,0)","v":0},0,{"$f":"IF($C18=1,'Sjekkliste noter'!A38,\"\")","v":""},{"$f":"IF($C18=1,'Sjekkliste noter'!B38,\"\")","v":""},null,{"$f":"IF($C18=1,'Sjekkliste noter'!H38,\"\")","v":""}]
[{"$f":"+'Sjekkliste noter'!A39","v":18},{"$f":"IF('Sjekkliste noter'!F39<>\"\",1,0)","v":0},0,{"$f":"IF($C19=1,'Sjekkliste noter'!A39,\"\")","v":""},{"$f":"IF($C19=1,'Sjekkliste noter'!B39,\"\")","v":""},null,{"$f":"IF($C19=1,'Sjekkliste noter'!H39,\"\")","v":""}]
[{"$f":"+'Sjekkliste noter'!A40","v":19},{"$f":"IF('Sjekkliste noter'!F40<>\"\",1,0)","v":0},0,{"$f":"IF($C20=1,'Sjekkliste noter'!A40,\"\")","v":""},{"$f":"IF($C20=1,'Sjekkliste noter'!B40,\"\")","v":""},null,{"$f":"IF($C20=1,'Sjekkliste noter'!H40,\"\")","v":""}]
[{"$f":"+'Sjekkliste noter'!A41","v":20},{"$f":"IF('Sjekkliste noter'!F41<>\"\",1,0)","v":0},0,{"$f":"IF($C21=1,'Sjekkliste noter'!A41,\"\")","v":""},{"$f":"IF($C21=1,'Sjekkliste noter'!B41,\"\")","v":""},null,{"$f":"IF($C21=1,'Sjekkliste noter'!H41,\"\")","v":""}]
[{"$f":"+'Sjekkliste noter'!A42","v":21},{"$f":"IF('Sjekkliste noter'!F42<>\"\",1,0)","v":0},0,{"$f":"IF($C22=1,'Sjekkliste noter'!A42,\"\")","v":""},{"$f":"IF($C22=1,'Sjekkliste noter'!B42,\"\")","v":""},null,{"$f":"IF($C22=1,'Sjekkliste noter'!H42,\"\")","v":""}]
[{"$f":"+'Sjekkliste noter'!A43","v":22},{"$f":"IF('Sjekkliste noter'!F43<>\"\",1,0)","v":0},0,{"$f":"IF($C23=1,'Sjekkliste noter'!A43,\"\")","v":""},{"$f":"IF($C23=1,'Sjekkliste noter'!B43,\"\")","v":""},null,{"$f":"IF($C23=1,'Sjekkliste noter'!H43,\"\")","v":""}]
[{"$f":"+'Sjekkliste noter'!A45","v":23},{"$f":"IF('Sjekkliste noter'!F45<>\"\",1,0)","v":0},0,{"$f":"IF($C24=1,'Sjekkliste noter'!A45,\"\")","v":""},{"$f":"IF($C24=1,'Sjekkliste noter'!B45,\"\")","v":""},null,{"$f":"IF($C24=1,'Sjekkliste noter'!H45,\"\")","v":""}]
[{"$f":"+'Sjekkliste noter'!A46","v":24},{"$f":"IF('Sjekkliste noter'!F46<>\"\",1,0)","v":0},0,{"$f":"IF($C25=1,'Sjekkliste noter'!A46,\"\")","v":""},{"$f":"IF($C25=1,'Sjekkliste noter'!B46,\"\")","v":""},null,{"$f":"IF($C25=1,'Sjekkliste noter'!H46,\"\")","v":""}]
[{"$f":"+'Sjekkliste noter'!A48","v":25},{"$f":"IF('Sjekkliste noter'!F48<>\"\",1,0)","v":0},0,{"$f":"IF($C26=1,'Sjekkliste noter'!A48,\"\")","v":""},{"$f":"IF($C26=1,'Sjekkliste noter'!B48,\"\")","v":""},null,{"$f":"IF($C26=1,'Sjekkliste noter'!H48,\"\")","v":""}]
[{"$f":"+'Sjekkliste noter'!A49","v":26},{"$f":"IF('Sjekkliste noter'!F49<>\"\",1,0)","v":0},0,{"$f":"IF($C27=1,'Sjekkliste noter'!A49,\"\")","v":""},{"$f":"IF($C27=1,'Sjekkliste noter'!B49,\"\")","v":""},null,{"$f":"IF($C27=1,'Sjekkliste noter'!H49,\"\")","v":""}]
[{"$f":"+'Sjekkliste noter'!A53","v":27},{"$f":"IF('Sjekkliste noter'!F53<>\"\",1,0)","v":0},0,{"$f":"IF($C28=1,'Sjekkliste noter'!A53,\"\")","v":""},{"$f":"IF($C28=1,'Sjekkliste noter'!B53,\"\")","v":""},null,{"$f":"IF($C28=1,'Sjekkliste noter'!H53,\"\")","v":""}]
[{"$f":"+'Sjekkliste noter'!A55","v":28},{"$f":"IF('Sjekkliste noter'!F55<>\"\",1,0)","v":0},0,{"$f":"IF($C29=1,'Sjekkliste noter'!A55,\"\")","v":""},{"$f":"IF($C29=1,'Sjekkliste noter'!B55,\"\")","v":""},null,{"$f":"IF($C29=1,'Sjekkliste noter'!H55,\"\")","v":""}]
[{"$f":"+'Sjekkliste noter'!A56","v":29},{"$f":"IF('Sjekkliste noter'!F56<>\"\",1,0)","v":0},0,{"$f":"IF($C30=1,'Sjekkliste noter'!A56,\"\")","v":""},{"$f":"IF($C30=1,'Sjekkliste noter'!B56,\"\")","v":""},null,{"$f":"IF($C30=1,'Sjekkliste noter'!H56,\"\")","v":""}]
[{"$f":"+'Sjekkliste noter'!A57","v":30},{"$f":"IF('Sjekkliste noter'!F57<>\"\",1,0)","v":0},0,{"$f":"IF($C31=1,'Sjekkliste noter'!A57,\"\")","v":""},{"$f":"IF($C31=1,'Sjekkliste noter'!B57,\"\")","v":""},null,{"$f":"IF($C31=1,'Sjekkliste noter'!H57,\"\")","v":""}]
[{"$f":"+'Sjekkliste noter'!A58","v":31},{"$f":"IF('Sjekkliste noter'!F58<>\"\",1,0)","v":0},0,{"$f":"IF($C32=1,'Sjekkliste noter'!A58,\"\")","v":""},{"$f":"IF($C32=1,'Sjekkliste noter'!B58,\"\")","v":""},null,{"$f":"IF($C32=1,'Sjekkliste noter'!H58,\"\")","v":""}]
[{"$f":"+'Sjekkliste noter'!A59","v":32},{"$f":"IF('Sjekkliste noter'!F59<>\"\",1,0)","v":0},0,{"$f":"IF($C33=1,'Sjekkliste noter'!A59,\"\")","v":""},{"$f":"IF($C33=1,'Sjekkliste noter'!B59,\"\")","v":""},null,{"$f":"IF($C33=1,'Sjekkliste noter'!H59,\"\")","v":""}]
[{"$f":"+'Sjekkliste noter'!A65","v":33},{"$f":"IF('Sjekkliste noter'!F65<>\"\",1,0)","v":0},0,{"$f":"IF($C34=1,'Sjekkliste noter'!A65,\"\")","v":""},{"$f":"IF($C34=1,'Sjekkliste noter'!B65,\"\")","v":""},null,{"$f":"IF($C34=1,'Sjekkliste noter'!H65,\"\")","v":""}]
[{"$f":"+'Sjekkliste noter'!A66","v":34},{"$f":"IF('Sjekkliste noter'!F66<>\"\",1,0)","v":0},0,{"$f":"IF($C35=1,'Sjekkliste noter'!A66,\"\")","v":""},{"$f":"IF($C35=1,'Sjekkliste noter'!B66,\"\")","v":""},null,{"$f":"IF($C35=1,'Sjekkliste noter'!H66,\"\")","v":""}]
[{"$f":"+'Sjekkliste noter'!A67","v":35},{"$f":"IF('Sjekkliste noter'!F67<>\"\",1,0)","v":0},0,{"$f":"IF($C36=1,'Sjekkliste noter'!A67,\"\")","v":""},{"$f":"IF($C36=1,'Sjekkliste noter'!B67,\"\")","v":""},null,{"$f":"IF($C36=1,'Sjekkliste noter'!H67,\"\")","v":""}]
[{"$f":"+'Sjekkliste noter'!A68","v":36},{"$f":"IF('Sjekkliste noter'!F68<>\"\",1,0)","v":0},0,{"$f":"IF($C37=1,'Sjekkliste noter'!A68,\"\")","v":""},{"$f":"IF($C37=1,'Sjekkliste noter'!B68,\"\")","v":""},null,{"$f":"IF($C37=1,'Sjekkliste noter'!H68,\"\")","v":""}]
[{"$f":"+'Sjekkliste noter'!A69","v":37},{"$f":"IF('Sjekkliste noter'!F69<>\"\",1,0)","v":0},0,{"$f":"IF($C38=1,'Sjekkliste noter'!A69,\"\")","v":""},{"$f":"IF($C38=1,'Sjekkliste noter'!B69,\"\")","v":""},null,{"$f":"IF($C38=1,'Sjekkliste noter'!H69,\"\")","v":""}]
[{"$f":"+'Sjekkliste noter'!A70","v":38},{"$f":"IF('Sjekkliste noter'!F70<>\"\",1,0)","v":0},0,{"$f":"IF($C39=1,'Sjekkliste noter'!A70,\"\")","v":""},{"$f":"IF($C39=1,'Sjekkliste noter'!B70,\"\")","v":""},null,{"$f":"IF($C39=1,'Sjekkliste noter'!H70,\"\")","v":""}]
[{"$f":"+'Sjekkliste noter'!A71","v":39},{"$f":"IF('Sjekkliste noter'!F71<>\"\",1,0)","v":0},0,{"$f":"IF($C40=1,'Sjekkliste noter'!A71,\"\")","v":""},{"$f":"IF($C40=1,'Sjekkliste noter'!B71,\"\")","v":""},null,{"$f":"IF($C40=1,'Sjekkliste noter'!H71,\"\")","v":""}]
[{"$f":"+'Sjekkliste noter'!A72","v":40},{"$f":"IF('Sjekkliste noter'!F72<>\"\",1,0)","v":0},0,{"$f":"IF($C41=1,'Sjekkliste noter'!A72,\"\")","v":""},{"$f":"IF($C41=1,'Sjekkliste noter'!B72,\"\")","v":""},null,{"$f":"IF($C41=1,'Sjekkliste noter'!H72,\"\")","v":""}]
[{"$f":"+'Sjekkliste noter'!A74","v":41},{"$f":"IF('Sjekkliste noter'!F74<>\"\",1,0)","v":0},0,{"$f":"IF($C42=1,'Sjekkliste noter'!A74,\"\")","v":""},{"$f":"IF($C42=1,'Sjekkliste noter'!B74,\"\")","v":""},null,{"$f":"IF($C42=1,'Sjekkliste noter'!H74,\"\")","v":""}]
[{"$f":"+'Sjekkliste noter'!A77","v":42},{"$f":"IF('Sjekkliste noter'!F77<>\"\",1,0)","v":0},0,{"$f":"IF($C43=1,'Sjekkliste noter'!A77,\"\")","v":""},{"$f":"IF($C43=1,'Sjekkliste noter'!B77,\"\")","v":""},null,{"$f":"IF($C43=1,'Sjekkliste noter'!H77,\"\")","v":""}]
[{"$f":"+'Sjekkliste noter'!A78","v":43},{"$f":"IF('Sjekkliste noter'!F78<>\"\",1,0)","v":0},0,{"$f":"IF($C44=1,'Sjekkliste noter'!A78,\"\")","v":""},{"$f":"IF($C44=1,'Sjekkliste noter'!B78,\"\")","v":""},null,{"$f":"IF($C44=1,'Sjekkliste noter'!H78,\"\")","v":""}]
[{"$f":"+'Sjekkliste noter'!A79","v":44},{"$f":"IF('Sjekkliste noter'!F79<>\"\",1,0)","v":0},0,{"$f":"IF($C45=1,'Sjekkliste noter'!A79,\"\")","v":""},{"$f":"IF($C45=1,'Sjekkliste noter'!B79,\"\")","v":""},null,{"$f":"IF($C45=1,'Sjekkliste noter'!H79,\"\")","v":""}]
[{"$f":"+'Sjekkliste noter'!A81","v":45},{"$f":"IF('Sjekkliste noter'!F81<>\"\",1,0)","v":0},0,{"$f":"IF($C46=1,'Sjekkliste noter'!A81,\"\")","v":""},{"$f":"IF($C46=1,'Sjekkliste noter'!B81,\"\")","v":""},null,{"$f":"IF($C46=1,'Sjekkliste noter'!H81,\"\")","v":""}]
[{"$f":"+'Sjekkliste noter'!A82","v":46},{"$f":"IF('Sjekkliste noter'!F82<>\"\",1,0)","v":0},0,{"$f":"IF($C47=1,'Sjekkliste noter'!A82,\"\")","v":""},{"$f":"IF($C47=1,'Sjekkliste noter'!B82,\"\")","v":""},null,{"$f":"IF($C47=1,'Sjekkliste noter'!H82,\"\")","v":""}]
[{"$f":"+'Sjekkliste noter'!A84","v":47},{"$f":"IF('Sjekkliste noter'!F84<>\"\",1,0)","v":0},0,{"$f":"IF($C48=1,'Sjekkliste noter'!A84,\"\")","v":""},{"$f":"IF($C48=1,'Sjekkliste noter'!B84,\"\")","v":""},null,{"$f":"IF($C48=1,'Sjekkliste noter'!H84,\"\")","v":""}]
[{"$f":"+'Sjekkliste noter'!A86","v":48},{"$f":"IF('Sjekkliste noter'!F86<>\"\",1,0)","v":0},0,{"$f":"IF($C49=1,'Sjekkliste noter'!A86,\"\")","v":""},{"$f":"IF($C49=1,'Sjekkliste noter'!B86,\"\")","v":""},null,{"$f":"IF($C49=1,'Sjekkliste noter'!H86,\"\")","v":""}]
[{"$f":"+'Sjekkliste noter'!A87","v":49},{"$f":"IF('Sjekkliste noter'!F87<>\"\",1,0)","v":0},0,{"$f":"IF($C50=1,'Sjekkliste noter'!A87,\"\")","v":""},{"$f":"IF($C50=1,'Sjekkliste noter'!B87,\"\")","v":""},null,{"$f":"IF($C50=1,'Sjekkliste noter'!H87,\"\")","v":""}]
[{"$f":"+'Sjekkliste noter'!A88","v":50},{"$f":"IF('Sjekkliste noter'!F88<>\"\",1,0)","v":0},0,{"$f":"IF($C51=1,'Sjekkliste noter'!A88,\"\")","v":""},{"$f":"IF($C51=1,'Sjekkliste noter'!B88,\"\")","v":""},null,{"$f":"IF($C51=1,'Sjekkliste noter'!H88,\"\")","v":""}]
[{"$f":"+'Sjekkliste noter'!A94","v":51},{"$f":"IF('Sjekkliste noter'!F94<>\"\",1,0)","v":0},0,{"$f":"IF($C52=1,'Sjekkliste noter'!A94,\"\")","v":""},{"$f":"IF($C52=1,'Sjekkliste noter'!B94,\"\")","v":""},null,{"$f":"IF($C52=1,'Sjekkliste noter'!H94,\"\")","v":""}]
[{"$f":"+'Sjekkliste noter'!A95","v":52},{"$f":"IF('Sjekkliste noter'!F95<>\"\",1,0)","v":0},0,{"$f":"IF($C53=1,'Sjekkliste noter'!A95,\"\")","v":""},{"$f":"IF($C53=1,'Sjekkliste noter'!B95,\"\")","v":""},null,{"$f":"IF($C53=1,'Sjekkliste noter'!H95,\"\")","v":""}]
[{"$f":"+'Sjekkliste noter'!A96","v":53},{"$f":"IF('Sjekkliste noter'!F96<>\"\",1,0)","v":0},0,{"$f":"IF($C54=1,'Sjekkliste noter'!A96,\"\")","v":""},{"$f":"IF($C54=1,'Sjekkliste noter'!B96,\"\")","v":""},null,{"$f":"IF($C54=1,'Sjekkliste noter'!H96,\"\")","v":""}]
[{"$f":"+'Sjekkliste noter'!A97","v":54},{"$f":"IF('Sjekkliste noter'!F97<>\"\",1,0)","v":0},0,{"$f":"IF($C55=1,'Sjekkliste noter'!A97,\"\")","v":""},{"$f":"IF($C55=1,'Sjekkliste noter'!B97,\"\")","v":""},null,{"$f":"IF($C55=1,'Sjekkliste noter'!H97,\"\")","v":""}]
[{"$f":"+'Sjekkliste noter'!A98","v":55},{"$f":"IF('Sjekkliste noter'!F98<>\"\",1,0)","v":0},0,{"$f":"IF($C56=1,'Sjekkliste noter'!A98,\"\")","v":""},{"$f":"IF($C56=1,'Sjekkliste noter'!B98,\"\")","v":""},null,{"$f":"IF($C56=1,'Sjekkliste noter'!H98,\"\")","v":""}]
[{"$f":"+'Sjekkliste noter'!A99","v":56},{"$f":"IF('Sjekkliste noter'!F99<>\"\",1,0)","v":0},0,{"$f":"IF($C57=1,'Sjekkliste noter'!A99,\"\")","v":""},{"$f":"IF($C57=1,'Sjekkliste noter'!B99,\"\")","v":""},null,{"$f":"IF($C57=1,'Sjekkliste noter'!H99,\"\")","v":""}]
[{"$f":"+'Sjekkliste noter'!A101","v":57},{"$f":"IF('Sjekkliste noter'!F101<>\"\",1,0)","v":0},0,{"$f":"IF($C58=1,'Sjekkliste noter'!A101,\"\")","v":""},{"$f":"IF($C58=1,'Sjekkliste noter'!B101,\"\")","v":""},null,{"$f":"IF($C58=1,'Sjekkliste noter'!H101,\"\")","v":""}]
[{"$f":"+'Sjekkliste noter'!A102","v":58},{"$f":"IF('Sjekkliste noter'!F102<>\"\",1,0)","v":0},0,{"$f":"IF($C59=1,'Sjekkliste noter'!A102,\"\")","v":""},{"$f":"IF($C59=1,'Sjekkliste noter'!B102,\"\")","v":""},null,{"$f":"IF($C59=1,'Sjekkliste noter'!H102,\"\")","v":""}]
[{"$f":"+'Sjekkliste noter'!A104","v":59},{"$f":"IF('Sjekkliste noter'!F104<>\"\",1,0)","v":0},0,{"$f":"IF($C60=1,'Sjekkliste noter'!A104,\"\")","v":""},{"$f":"IF($C60=1,'Sjekkliste noter'!B104,\"\")","v":""},null,{"$f":"IF($C60=1,'Sjekkliste noter'!H104,\"\")","v":""}]
[{"$f":"+'Sjekkliste noter'!A105","v":60},{"$f":"IF('Sjekkliste noter'!F105<>\"\",1,0)","v":0},0,{"$f":"IF($C61=1,'Sjekkliste noter'!A105,\"\")","v":""},{"$f":"IF($C61=1,'Sjekkliste noter'!B105,\"\")","v":""},null,{"$f":"IF($C61=1,'Sjekkliste noter'!H105,\"\")","v":""}]
[{"$f":"+'Sjekkliste noter'!A107","v":61},{"$f":"IF('Sjekkliste noter'!F107<>\"\",1,0)","v":0},0,{"$f":"IF($C62=1,'Sjekkliste noter'!A107,\"\")","v":""},{"$f":"IF($C62=1,'Sjekkliste noter'!B107,\"\")","v":""},null,{"$f":"IF($C62=1,'Sjekkliste noter'!H107,\"\")","v":""}]
[{"$f":"+'Sjekkliste noter'!A109","v":62},{"$f":"IF('Sjekkliste noter'!F109<>\"\",1,0)","v":0},0,{"$f":"IF($C63=1,'Sjekkliste noter'!A109,\"\")","v":""},{"$f":"IF($C63=1,'Sjekkliste noter'!B109,\"\")","v":""},null,{"$f":"IF($C63=1,'Sjekkliste noter'!H109,\"\")","v":""}]
[{"$f":"+'Sjekkliste noter'!A111","v":63},{"$f":"IF('Sjekkliste noter'!F111<>\"\",1,0)","v":0},0,{"$f":"IF($C64=1,'Sjekkliste noter'!A111,\"\")","v":""},{"$f":"IF($C64=1,'Sjekkliste noter'!B111,\"\")","v":""},null,{"$f":"IF($C64=1,'Sjekkliste noter'!H111,\"\")","v":""}]
[{"$f":"+'Sjekkliste noter'!A113","v":64},{"$f":"IF('Sjekkliste noter'!F113<>\"\",1,0)","v":0},0,{"$f":"IF($C65=1,'Sjekkliste noter'!A113,\"\")","v":""},{"$f":"IF($C65=1,'Sjekkliste noter'!B113,\"\")","v":""},null,{"$f":"IF($C65=1,'Sjekkliste noter'!H113,\"\")","v":""}]
[{"$f":"+'Sjekkliste noter'!A115","v":65},{"$f":"IF('Sjekkliste noter'!F115<>\"\",1,0)","v":0},{"$f":"SUM(B66:B66)","v":0},{"$f":"IF($C66=1,'Sjekkliste noter'!A115,\"\")","v":""},{"$f":"IF($C66=1,'Sjekkliste noter'!B115,\"\")","v":""},null,{"$f":"IF($C66=1,'Sjekkliste noter'!H115,\"\")","v":""}]
[{"$f":"+'Sjekkliste noter'!A118","v":66},{"$f":"IF('Sjekkliste noter'!F118<>\"\",1,0)","v":0},0,{"$f":"IF($C67=1,'Sjekkliste noter'!A118,\"\")","v":""},{"$f":"IF($C67=1,'Sjekkliste noter'!B118,\"\")","v":""},null,{"$f":"IF($C67=1,'Sjekkliste noter'!H118,\"\")","v":""}]
[{"$f":"+'Sjekkliste noter'!A120","v":67},{"$f":"IF('Sjekkliste noter'!F120<>\"\",1,0)","v":0},0,{"$f":"IF($C68=1,'Sjekkliste noter'!A120,\"\")","v":""},{"$f":"IF($C68=1,'Sjekkliste noter'!B120,\"\")","v":""},null,{"$f":"IF($C68=1,'Sjekkliste noter'!H120,\"\")","v":""}]
[{"$f":"+'Sjekkliste noter'!A121","v":68},{"$f":"IF('Sjekkliste noter'!F121<>\"\",1,0)","v":0},0,{"$f":"IF($C69=1,'Sjekkliste noter'!A121,\"\")","v":""},{"$f":"IF($C69=1,'Sjekkliste noter'!B121,\"\")","v":""},null,{"$f":"IF($C69=1,'Sjekkliste noter'!H121,\"\")","v":""}]
[{"$f":"+'Sjekkliste noter'!A122","v":69},{"$f":"IF('Sjekkliste noter'!F122<>\"\",1,0)","v":0},0,{"$f":"IF($C70=1,'Sjekkliste noter'!A122,\"\")","v":""},{"$f":"IF($C70=1,'Sjekkliste noter'!B122,\"\")","v":""},null,{"$f":"IF($C70=1,'Sjekkliste noter'!H122,\"\")","v":""}]
[{"$f":"+'Sjekkliste noter'!A124","v":70},{"$f":"IF('Sjekkliste noter'!F124<>\"\",1,0)","v":0},0,{"$f":"IF($C71=1,'Sjekkliste noter'!A124,\"\")","v":""},{"$f":"IF($C71=1,'Sjekkliste noter'!B124,\"\")","v":""},null,{"$f":"IF($C71=1,'Sjekkliste noter'!H124,\"\")","v":""}]
[{"$f":"+'Sjekkliste noter'!A129","v":71},{"$f":"IF('Sjekkliste noter'!F129<>\"\",1,0)","v":0},0,{"$f":"IF($C72=1,'Sjekkliste noter'!A129,\"\")","v":""},{"$f":"IF($C72=1,'Sjekkliste noter'!B129,\"\")","v":""},null,{"$f":"IF($C72=1,'Sjekkliste noter'!H129,\"\")","v":""}]
[{"$f":"+'Sjekkliste noter'!A130","v":72},{"$f":"IF('Sjekkliste noter'!F130<>\"\",1,0)","v":0},0,{"$f":"IF($C73=1,'Sjekkliste noter'!A130,\"\")","v":""},{"$f":"IF($C73=1,'Sjekkliste noter'!B130,\"\")","v":""},null,{"$f":"IF($C73=1,'Sjekkliste noter'!H130,\"\")","v":""}]
[{"$f":"+'Sjekkliste noter'!A131","v":73},{"$f":"IF('Sjekkliste noter'!F131<>\"\",1,0)","v":0},0,{"$f":"IF($C74=1,'Sjekkliste noter'!A131,\"\")","v":""},{"$f":"IF($C74=1,'Sjekkliste noter'!B131,\"\")","v":""},null,{"$f":"IF($C74=1,'Sjekkliste noter'!H131,\"\")","v":""}]
[{"$f":"+'Sjekkliste noter'!A132","v":74},{"$f":"IF('Sjekkliste noter'!F132<>\"\",1,0)","v":0},0,{"$f":"IF($C75=1,'Sjekkliste noter'!A132,\"\")","v":""},{"$f":"IF($C75=1,'Sjekkliste noter'!B132,\"\")","v":""},null,{"$f":"IF($C75=1,'Sjekkliste noter'!H132,\"\")","v":""}]
[{"$f":"+'Sjekkliste noter'!A133","v":75},{"$f":"IF('Sjekkliste noter'!F133<>\"\",1,0)","v":0},0,{"$f":"IF($C76=1,'Sjekkliste noter'!A133,\"\")","v":""},{"$f":"IF($C76=1,'Sjekkliste noter'!B133,\"\")","v":""},null,{"$f":"IF($C76=1,'Sjekkliste noter'!H133,\"\")","v":""}]
[{"$f":"+'Sjekkliste noter'!A135","v":76},{"$f":"IF('Sjekkliste noter'!F135<>\"\",1,0)","v":0},0,{"$f":"IF($C77=1,'Sjekkliste noter'!A135,\"\")","v":""},{"$f":"IF($C77=1,'Sjekkliste noter'!B135,\"\")","v":""},null,{"$f":"IF($C77=1,'Sjekkliste noter'!H135,\"\")","v":""}]
[{"$f":"+'Sjekkliste noter'!A137","v":77},{"$f":"IF('Sjekkliste noter'!F137<>\"\",1,0)","v":0},0,{"$f":"IF($C78=1,'Sjekkliste noter'!A137,\"\")","v":""},{"$f":"IF($C78=1,'Sjekkliste noter'!B137,\"\")","v":""},null,{"$f":"IF($C78=1,'Sjekkliste noter'!H137,\"\")","v":""}]
[{"$f":"+'Sjekkliste noter'!A139","v":78},{"$f":"IF('Sjekkliste noter'!F139<>\"\",1,0)","v":0},0,{"$f":"IF($C79=1,'Sjekkliste noter'!A139,\"\")","v":""},{"$f":"IF($C79=1,'Sjekkliste noter'!B139,\"\")","v":""},null,{"$f":"IF($C79=1,'Sjekkliste noter'!H139,\"\")","v":""}]
[{"$f":"+'Sjekkliste noter'!A141","v":79},{"$f":"IF('Sjekkliste noter'!F141<>\"\",1,0)","v":0},0,{"$f":"IF($C80=1,'Sjekkliste noter'!A141,\"\")","v":""},{"$f":"IF($C80=1,'Sjekkliste noter'!B141,\"\")","v":""},null,{"$f":"IF($C80=1,'Sjekkliste noter'!H141,\"\")","v":""}]
[{"$f":"+'Sjekkliste noter'!A142","v":80},{"$f":"IF('Sjekkliste noter'!F142<>\"\",1,0)","v":0},0,{"$f":"IF($C81=1,'Sjekkliste noter'!A142,\"\")","v":""},{"$f":"IF($C81=1,'Sjekkliste noter'!B142,\"\")","v":""},null,{"$f":"IF($C81=1,'Sjekkliste noter'!H142,\"\")","v":""}]
[{"$f":"+'Sjekkliste noter'!A144","v":81},{"$f":"IF('Sjekkliste noter'!F144<>\"\",1,0)","v":0},0,{"$f":"IF($C82=1,'Sjekkliste noter'!A144,\"\")","v":""},{"$f":"IF($C82=1,'Sjekkliste noter'!B144,\"\")","v":""},null,{"$f":"IF($C82=1,'Sjekkliste noter'!H144,\"\")","v":""}]
[{"$f":"+'Sjekkliste noter'!A146","v":82},{"$f":"IF('Sjekkliste noter'!F146<>\"\",1,0)","v":0},0,{"$f":"IF($C83=1,'Sjekkliste noter'!A146,\"\")","v":""},{"$f":"IF($C83=1,'Sjekkliste noter'!B146,\"\")","v":""},null,{"$f":"IF($C83=1,'Sjekkliste noter'!H146,\"\")","v":""}]
[{"$f":"+'Sjekkliste noter'!A147","v":83},{"$f":"IF('Sjekkliste noter'!F147<>\"\",1,0)","v":0},0,{"$f":"IF($C84=1,'Sjekkliste noter'!A147,\"\")","v":""},{"$f":"IF($C84=1,'Sjekkliste noter'!B147,\"\")","v":""},null,{"$f":"IF($C84=1,'Sjekkliste noter'!H147,\"\")","v":""}]
[{"$f":"+'Sjekkliste noter'!A149","v":84},{"$f":"IF('Sjekkliste noter'!F149<>\"\",1,0)","v":0},0,{"$f":"IF($C85=1,'Sjekkliste noter'!A149,\"\")","v":""},{"$f":"IF($C85=1,'Sjekkliste noter'!B149,\"\")","v":""},null,{"$f":"IF($C85=1,'Sjekkliste noter'!H149,\"\")","v":""}]
[{"$f":"+'Sjekkliste noter'!A150","v":85},{"$f":"IF('Sjekkliste noter'!F150<>\"\",1,0)","v":0},0,{"$f":"IF($C86=1,'Sjekkliste noter'!A150,\"\")","v":""},{"$f":"IF($C86=1,'Sjekkliste noter'!B150,\"\")","v":""},null,{"$f":"IF($C86=1,'Sjekkliste noter'!H150,\"\")","v":""}]
[{"$f":"+'Sjekkliste noter'!A152","v":86},{"$f":"IF('Sjekkliste noter'!F152<>\"\",1,0)","v":0},0,{"$f":"IF($C87=1,'Sjekkliste noter'!A152,\"\")","v":""},{"$f":"IF($C87=1,'Sjekkliste noter'!B152,\"\")","v":""},null,{"$f":"IF($C87=1,'Sjekkliste noter'!H152,\"\")","v":""}]
[{"$f":"+'Sjekkliste noter'!A153","v":87},{"$f":"IF('Sjekkliste noter'!F153<>\"\",1,0)","v":0},0,{"$f":"IF($C88=1,'Sjekkliste noter'!A153,\"\")","v":""},{"$f":"IF($C88=1,'Sjekkliste noter'!B153,\"\")","v":""},null,{"$f":"IF($C88=1,'Sjekkliste noter'!H153,\"\")","v":""}]
[{"$f":"+'Sjekkliste noter'!A155","v":88},{"$f":"IF('Sjekkliste noter'!F155<>\"\",1,0)","v":0},0,{"$f":"IF($C89=1,'Sjekkliste noter'!A155,\"\")","v":""},{"$f":"IF($C89=1,'Sjekkliste noter'!B155,\"\")","v":""},null,{"$f":"IF($C89=1,'Sjekkliste noter'!H155,\"\")","v":""}]
[{"$f":"+'Sjekkliste noter'!A156","v":89},{"$f":"IF('Sjekkliste noter'!F156<>\"\",1,0)","v":0},0,{"$f":"IF($C90=1,'Sjekkliste noter'!A156,\"\")","v":""},{"$f":"IF($C90=1,'Sjekkliste noter'!B156,\"\")","v":""},null,{"$f":"IF($C90=1,'Sjekkliste noter'!H156,\"\")","v":""}]
[{"$f":"+'Sjekkliste noter'!A158","v":90},{"$f":"IF('Sjekkliste noter'!F158<>\"\",1,0)","v":0},0,{"$f":"IF($C91=1,'Sjekkliste noter'!A158,\"\")","v":""},{"$f":"IF($C91=1,'Sjekkliste noter'!B158,\"\")","v":""},null,{"$f":"IF($C91=1,'Sjekkliste noter'!H158,\"\")","v":""}]
[{"$f":"+'Sjekkliste noter'!A160","v":91},{"$f":"IF('Sjekkliste noter'!F160<>\"\",1,0)","v":0},0,{"$f":"IF($C92=1,'Sjekkliste noter'!A160,\"\")","v":""},{"$f":"IF($C92=1,'Sjekkliste noter'!B160,\"\")","v":""},null,{"$f":"IF($C92=1,'Sjekkliste noter'!H160,\"\")","v":""}]
[{"$f":"+'Sjekkliste noter'!A162","v":92},{"$f":"IF('Sjekkliste noter'!F162<>\"\",1,0)","v":0},0,{"$f":"IF($C93=1,'Sjekkliste noter'!A162,\"\")","v":""},{"$f":"IF($C93=1,'Sjekkliste noter'!B162,\"\")","v":""},null,{"$f":"IF($C93=1,'Sjekkliste noter'!H162,\"\")","v":""}]
[{"$f":"+'Sjekkliste noter'!A164","v":93},{"$f":"IF('Sjekkliste noter'!F164<>\"\",1,0)","v":0},0,{"$f":"IF($C94=1,'Sjekkliste noter'!A164,\"\")","v":""},{"$f":"IF($C94=1,'Sjekkliste noter'!B164,\"\")","v":""},null,{"$f":"IF($C94=1,'Sjekkliste noter'!H164,\"\")","v":""}]
[{"$f":"+'Sjekkliste noter'!A166","v":94},{"$f":"IF('Sjekkliste noter'!F166<>\"\",1,0)","v":0},0,{"$f":"IF($C95=1,'Sjekkliste noter'!A166,\"\")","v":""},{"$f":"IF($C95=1,'Sjekkliste noter'!B166,\"\")","v":""},null,{"$f":"IF($C95=1,'Sjekkliste noter'!H166,\"\")","v":""}]
[{"$f":"+'Sjekkliste noter'!A167","v":95},{"$f":"IF('Sjekkliste noter'!F167<>\"\",1,0)","v":0},0,{"$f":"IF($C96=1,'Sjekkliste noter'!A167,\"\")","v":""},{"$f":"IF($C96=1,'Sjekkliste noter'!B167,\"\")","v":""},null,{"$f":"IF($C96=1,'Sjekkliste noter'!H167,\"\")","v":""}]
[{"$f":"+'Sjekkliste noter'!A170","v":96},{"$f":"IF('Sjekkliste noter'!F170<>\"\",1,0)","v":0},0,{"$f":"IF($C97=1,'Sjekkliste noter'!A170,\"\")","v":""},{"$f":"IF($C97=1,'Sjekkliste noter'!B170,\"\")","v":""},null,{"$f":"IF($C97=1,'Sjekkliste noter'!H170,\"\")","v":""}]
[{"$f":"+'Sjekkliste noter'!A171","v":97},{"$f":"IF('Sjekkliste noter'!F171<>\"\",1,0)","v":0},0,{"$f":"IF($C98=1,'Sjekkliste noter'!A171,\"\")","v":""},{"$f":"IF($C98=1,'Sjekkliste noter'!B171,\"\")","v":""},null,{"$f":"IF($C98=1,'Sjekkliste noter'!H171,\"\")","v":""}]
[{"$f":"+'Sjekkliste noter'!A172","v":98},{"$f":"IF('Sjekkliste noter'!F172<>\"\",1,0)","v":0},0,{"$f":"IF($C99=1,'Sjekkliste noter'!A172,\"\")","v":""},{"$f":"IF($C99=1,'Sjekkliste noter'!B172,\"\")","v":""},null,{"$f":"IF($C99=1,'Sjekkliste noter'!H172,\"\")","v":""}]
[{"$f":"+'Sjekkliste noter'!A173","v":99},{"$f":"IF('Sjekkliste noter'!F173<>\"\",1,0)","v":0},0,{"$f":"IF($C100=1,'Sjekkliste noter'!A173,\"\")","v":""},{"$f":"IF($C100=1,'Sjekkliste noter'!B173,\"\")","v":""},null,{"$f":"IF($C100=1,'Sjekkliste noter'!H173,\"\")","v":""}]
[{"$f":"+'Sjekkliste noter'!A174","v":100},{"$f":"IF('Sjekkliste noter'!F174<>\"\",1,0)","v":0},0,{"$f":"IF($C101=1,'Sjekkliste noter'!A174,\"\")","v":""},{"$f":"IF($C101=1,'Sjekkliste noter'!B174,\"\")","v":""},null,{"$f":"IF($C101=1,'Sjekkliste noter'!H174,\"\")","v":""}]
[{"$f":"+'Sjekkliste noter'!A175","v":101},{"$f":"IF('Sjekkliste noter'!F175<>\"\",1,0)","v":0},0,{"$f":"IF($C102=1,'Sjekkliste noter'!A175,\"\")","v":""},{"$f":"IF($C102=1,'Sjekkliste noter'!B175,\"\")","v":""},null,{"$f":"IF($C102=1,'Sjekkliste noter'!H175,\"\")","v":""}]
[{"$f":"+'Sjekkliste noter'!A178","v":102},{"$f":"IF('Sjekkliste noter'!F178<>\"\",1,0)","v":0},0,{"$f":"IF($C103=1,'Sjekkliste noter'!A178,\"\")","v":""},{"$f":"IF($C103=1,'Sjekkliste noter'!B178,\"\")","v":""},null,{"$f":"IF($C103=1,'Sjekkliste noter'!H178,\"\")","v":""}]
[{"$f":"+'Sjekkliste noter'!A179","v":103},{"$f":"IF('Sjekkliste noter'!F179<>\"\",1,0)","v":0},0,{"$f":"IF($C104=1,'Sjekkliste noter'!A179,\"\")","v":""},{"$f":"IF($C104=1,'Sjekkliste noter'!B179,\"\")","v":""},null,{"$f":"IF($C104=1,'Sjekkliste noter'!H179,\"\")","v":""}]
[{"$f":"+'Sjekkliste noter'!A180","v":104},{"$f":"IF('Sjekkliste noter'!F180<>\"\",1,0)","v":0},0,{"$f":"IF($C105=1,'Sjekkliste noter'!A180,\"\")","v":""},{"$f":"IF($C105=1,'Sjekkliste noter'!B180,\"\")","v":""},null,{"$f":"IF($C105=1,'Sjekkliste noter'!H180,\"\")","v":""}]
[{"$f":"+'Sjekkliste noter'!A181","v":105},{"$f":"IF('Sjekkliste noter'!F181<>\"\",1,0)","v":0},0,{"$f":"IF($C106=1,'Sjekkliste noter'!A181,\"\")","v":""},{"$f":"IF($C106=1,'Sjekkliste noter'!B181,\"\")","v":""},null,{"$f":"IF($C106=1,'Sjekkliste noter'!H181,\"\")","v":""}]
[{"$f":"+'Sjekkliste noter'!A182","v":106},{"$f":"IF('Sjekkliste noter'!F182<>\"\",1,0)","v":0},0,{"$f":"IF($C107=1,'Sjekkliste noter'!A182,\"\")","v":""},{"$f":"IF($C107=1,'Sjekkliste noter'!B182,\"\")","v":""},null,{"$f":"IF($C107=1,'Sjekkliste noter'!H182,\"\")","v":""}]
[{"$f":"+'Sjekkliste noter'!A183","v":107},{"$f":"IF('Sjekkliste noter'!F183<>\"\",1,0)","v":0},0,{"$f":"IF($C108=1,'Sjekkliste noter'!A183,\"\")","v":""},{"$f":"IF($C108=1,'Sjekkliste noter'!B183,\"\")","v":""},null,{"$f":"IF($C108=1,'Sjekkliste noter'!H183,\"\")","v":""}]
[{"$f":"+'Sjekkliste noter'!A184","v":108},{"$f":"IF('Sjekkliste noter'!F184<>\"\",1,0)","v":0},0,{"$f":"IF($C109=1,'Sjekkliste noter'!A184,\"\")","v":""},{"$f":"IF($C109=1,'Sjekkliste noter'!B184,\"\")","v":""},null,{"$f":"IF($C109=1,'Sjekkliste noter'!H184,\"\")","v":""}]
[{"$f":"+'Sjekkliste noter'!A185","v":109},{"$f":"IF('Sjekkliste noter'!F185<>\"\",1,0)","v":0},0,{"$f":"IF($C110=1,'Sjekkliste noter'!A185,\"\")","v":""},{"$f":"IF($C110=1,'Sjekkliste noter'!B185,\"\")","v":""},null,{"$f":"IF($C110=1,'Sjekkliste noter'!H185,\"\")","v":""}]
[{"$f":"+'Sjekkliste noter'!A186","v":110},{"$f":"IF('Sjekkliste noter'!F186<>\"\",1,0)","v":0},0,{"$f":"IF($C111=1,'Sjekkliste noter'!A186,\"\")","v":""},{"$f":"IF($C111=1,'Sjekkliste noter'!B186,\"\")","v":""},null,{"$f":"IF($C111=1,'Sjekkliste noter'!H186,\"\")","v":""}]
[{"$f":"+'Sjekkliste noter'!A188","v":111},{"$f":"IF('Sjekkliste noter'!F188<>\"\",1,0)","v":0},0,{"$f":"IF($C112=1,'Sjekkliste noter'!A188,\"\")","v":""},{"$f":"IF($C112=1,'Sjekkliste noter'!B188,\"\")","v":""},null,{"$f":"IF($C112=1,'Sjekkliste noter'!H188,\"\")","v":""}]
[{"$f":"+'Sjekkliste noter'!A189","v":112},{"$f":"IF('Sjekkliste noter'!F189<>\"\",1,0)","v":0},0,{"$f":"IF($C113=1,'Sjekkliste noter'!A189,\"\")","v":""},{"$f":"IF($C113=1,'Sjekkliste noter'!B189,\"\")","v":""},null,{"$f":"IF($C113=1,'Sjekkliste noter'!H189,\"\")","v":""}]
[{"$f":"+'Sjekkliste noter'!A191","v":113},{"$f":"IF('Sjekkliste noter'!F191<>\"\",1,0)","v":0},0,{"$f":"IF($C114=1,'Sjekkliste noter'!A191,\"\")","v":""},{"$f":"IF($C114=1,'Sjekkliste noter'!B191,\"\")","v":""},null,{"$f":"IF($C114=1,'Sjekkliste noter'!H191,\"\")","v":""}]
[{"$f":"+'Sjekkliste noter'!A192","v":114},{"$f":"IF('Sjekkliste noter'!F192<>\"\",1,0)","v":0},0,{"$f":"IF($C115=1,'Sjekkliste noter'!A192,\"\")","v":""},{"$f":"IF($C115=1,'Sjekkliste noter'!B192,\"\")","v":""},null,{"$f":"IF($C115=1,'Sjekkliste noter'!H192,\"\")","v":""}]
[{"$f":"+'Sjekkliste noter'!A194","v":115},{"$f":"IF('Sjekkliste noter'!F194<>\"\",1,0)","v":0},0,{"$f":"IF($C116=1,'Sjekkliste noter'!A194,\"\")","v":""},{"$f":"IF($C116=1,'Sjekkliste noter'!B194,\"\")","v":""},null,{"$f":"IF($C116=1,'Sjekkliste noter'!H194,\"\")","v":""}]
[{"$f":"+'Sjekkliste noter'!A195","v":116},{"$f":"IF('Sjekkliste noter'!F195<>\"\",1,0)","v":0},0,{"$f":"IF($C117=1,'Sjekkliste noter'!A195,\"\")","v":""},{"$f":"IF($C117=1,'Sjekkliste noter'!B195,\"\")","v":""},null,{"$f":"IF($C117=1,'Sjekkliste noter'!H195,\"\")","v":""}]
[{"$f":"+'Sjekkliste noter'!A196","v":117},{"$f":"IF('Sjekkliste noter'!F196<>\"\",1,0)","v":0},0,{"$f":"IF($C118=1,'Sjekkliste noter'!A196,\"\")","v":""},{"$f":"IF($C118=1,'Sjekkliste noter'!B196,\"\")","v":""},null,{"$f":"IF($C118=1,'Sjekkliste noter'!H196,\"\")","v":""}]
[{"$f":"+'Sjekkliste noter'!A197","v":118},{"$f":"IF('Sjekkliste noter'!F197<>\"\",1,0)","v":0},0,{"$f":"IF($C119=1,'Sjekkliste noter'!A197,\"\")","v":""},{"$f":"IF($C119=1,'Sjekkliste noter'!B197,\"\")","v":""},null,{"$f":"IF($C119=1,'Sjekkliste noter'!H197,\"\")","v":""}]
[{"$f":"+'Sjekkliste noter'!A198","v":119},{"$f":"IF('Sjekkliste noter'!F198<>\"\",1,0)","v":0},0,{"$f":"IF($C120=1,'Sjekkliste noter'!A198,\"\")","v":""},{"$f":"IF($C120=1,'Sjekkliste noter'!B198,\"\")","v":""},null,{"$f":"IF($C120=1,'Sjekkliste noter'!H198,\"\")","v":""}]
[{"$f":"+'Sjekkliste noter'!A199","v":120},{"$f":"IF('Sjekkliste noter'!F199<>\"\",1,0)","v":0},0,{"$f":"IF($C121=1,'Sjekkliste noter'!A199,\"\")","v":""},{"$f":"IF($C121=1,'Sjekkliste noter'!B199,\"\")","v":""},null,{"$f":"IF($C121=1,'Sjekkliste noter'!H199,\"\")","v":""}]
[{"$f":"+'Sjekkliste noter'!A203","v":121},{"$f":"IF('Sjekkliste noter'!F203<>\"\",1,0)","v":0},0,{"$f":"IF($C122=1,'Sjekkliste noter'!A203,\"\")","v":""},{"$f":"IF($C122=1,'Sjekkliste noter'!B203,\"\")","v":""},null,{"$f":"IF($C122=1,'Sjekkliste noter'!H203,\"\")","v":""}]
[{"$f":"+'Sjekkliste noter'!A204","v":122},{"$f":"IF('Sjekkliste noter'!F204<>\"\",1,0)","v":0},0,{"$f":"IF($C123=1,'Sjekkliste noter'!A204,\"\")","v":""},{"$f":"IF($C123=1,'Sjekkliste noter'!B204,\"\")","v":""},null,{"$f":"IF($C123=1,'Sjekkliste noter'!H204,\"\")","v":""}]
[{"$f":"+'Sjekkliste noter'!A205","v":123},{"$f":"IF('Sjekkliste noter'!F205<>\"\",1,0)","v":0},0,{"$f":"IF($C124=1,'Sjekkliste noter'!A205,\"\")","v":""},{"$f":"IF($C124=1,'Sjekkliste noter'!B205,\"\")","v":""},null,{"$f":"IF($C124=1,'Sjekkliste noter'!H205,\"\")","v":""}]
[{"$f":"+'Sjekkliste noter'!A206","v":124},{"$f":"IF('Sjekkliste noter'!F206<>\"\",1,0)","v":0},0,{"$f":"IF($C125=1,'Sjekkliste noter'!A206,\"\")","v":""},{"$f":"IF($C125=1,'Sjekkliste noter'!B206,\"\")","v":""},null,{"$f":"IF($C125=1,'Sjekkliste noter'!H206,\"\")","v":""}]
[{"$f":"+'Sjekkliste noter'!A208","v":125},{"$f":"IF('Sjekkliste noter'!F208<>\"\",1,0)","v":0},0,{"$f":"IF($C126=1,'Sjekkliste noter'!A208,\"\")","v":""},{"$f":"IF($C126=1,'Sjekkliste noter'!B208,\"\")","v":""},null,{"$f":"IF($C126=1,'Sjekkliste noter'!H208,\"\")","v":""}]
[{"$f":"+'Sjekkliste noter'!A209","v":126},{"$f":"IF('Sjekkliste noter'!F209<>\"\",1,0)","v":0},0,{"$f":"IF($C127=1,'Sjekkliste noter'!A209,\"\")","v":""},{"$f":"IF($C127=1,'Sjekkliste noter'!B209,\"\")","v":""},null,{"$f":"IF($C127=1,'Sjekkliste noter'!H209,\"\")","v":""}]
[{"$f":"+'Sjekkliste noter'!A210","v":127},{"$f":"IF('Sjekkliste noter'!F210<>\"\",1,0)","v":0},0,{"$f":"IF($C128=1,'Sjekkliste noter'!A210,\"\")","v":""},{"$f":"IF($C128=1,'Sjekkliste noter'!B210,\"\")","v":""},null,{"$f":"IF($C128=1,'Sjekkliste noter'!H210,\"\")","v":""}]
[{"$f":"+'Sjekkliste noter'!A212","v":128},{"$f":"IF('Sjekkliste noter'!F212<>\"\",1,0)","v":0},0,{"$f":"IF($C129=1,'Sjekkliste noter'!A212,\"\")","v":""},{"$f":"IF($C129=1,'Sjekkliste noter'!B212,\"\")","v":""},null,{"$f":"IF($C129=1,'Sjekkliste noter'!H212,\"\")","v":""}]
[{"$f":"+'Sjekkliste noter'!A213","v":129},{"$f":"IF('Sjekkliste noter'!F213<>\"\",1,0)","v":0},{"$f":"SUM(B130:B130)","v":0},{"$f":"IF($C130=1,'Sjekkliste noter'!A213,\"\")","v":""},{"$f":"IF($C130=1,'Sjekkliste noter'!B213,\"\")","v":""},null,{"$f":"IF($C130=1,'Sjekkliste noter'!H213,\"\")","v":""}]
[{"$f":"+'Sjekkliste noter'!A214","v":130},{"$f":"IF('Sjekkliste noter'!F214<>\"\",1,0)","v":0},0,{"$f":"IF($C131=1,'Sjekkliste noter'!A214,\"\")","v":""},{"$f":"IF($C131=1,'Sjekkliste noter'!B214,\"\")","v":""},null,{"$f":"IF($C131=1,'Sjekkliste noter'!H214,\"\")","v":""}]
[{"$f":"+'Sjekkliste noter'!A217","v":131},{"$f":"IF('Sjekkliste noter'!F217<>\"\",1,0)","v":0},0,{"$f":"IF($C132=1,'Sjekkliste noter'!A217,\"\")","v":""},{"$f":"IF($C132=1,'Sjekkliste noter'!B217,\"\")","v":""},null,{"$f":"IF($C132=1,'Sjekkliste noter'!H217,\"\")","v":""}]
[{"$f":"+'Sjekkliste noter'!A218","v":132},{"$f":"IF('Sjekkliste noter'!F218<>\"\",1,0)","v":0},0,{"$f":"IF($C133=1,'Sjekkliste noter'!A218,\"\")","v":""},{"$f":"IF($C133=1,'Sjekkliste noter'!B218,\"\")","v":""},null,{"$f":"IF($C133=1,'Sjekkliste noter'!H218,\"\")","v":""}]
[{"$f":"+'Sjekkliste noter'!A220","v":133},{"$f":"IF('Sjekkliste noter'!F220<>\"\",1,0)","v":0},0,{"$f":"IF($C134=1,'Sjekkliste noter'!A220,\"\")","v":""},{"$f":"IF($C134=1,'Sjekkliste noter'!B220,\"\")","v":""},null,{"$f":"IF($C134=1,'Sjekkliste noter'!H220,\"\")","v":""}]
[{"$f":"+'Sjekkliste noter'!A221","v":134},{"$f":"IF('Sjekkliste noter'!F221<>\"\",1,0)","v":0},0,{"$f":"IF($C135=1,'Sjekkliste noter'!A221,\"\")","v":""},{"$f":"IF($C135=1,'Sjekkliste noter'!B221,\"\")","v":""},null,{"$f":"IF($C135=1,'Sjekkliste noter'!H221,\"\")","v":""}]
[{"$f":"+'Sjekkliste noter'!A224","v":135},{"$f":"IF('Sjekkliste noter'!F224<>\"\",1,0)","v":0},0,{"$f":"IF($C136=1,'Sjekkliste noter'!A224,\"\")","v":""},{"$f":"IF($C136=1,'Sjekkliste noter'!B224,\"\")","v":""},null,{"$f":"IF($C136=1,'Sjekkliste noter'!H224,\"\")","v":""}]
[{"$f":"+'Sjekkliste noter'!A225","v":136},{"$f":"IF('Sjekkliste noter'!F225<>\"\",1,0)","v":0},0,{"$f":"IF($C137=1,'Sjekkliste noter'!A225,\"\")","v":""},{"$f":"IF($C137=1,'Sjekkliste noter'!B225,\"\")","v":""},null,{"$f":"IF($C137=1,'Sjekkliste noter'!H225,\"\")","v":""}]
[{"$f":"+'Sjekkliste noter'!A227","v":137},{"$f":"IF('Sjekkliste noter'!F227<>\"\",1,0)","v":0},0,{"$f":"IF($C138=1,'Sjekkliste noter'!A227,\"\")","v":""},{"$f":"IF($C138=1,'Sjekkliste noter'!B227,\"\")","v":""},null,{"$f":"IF($C138=1,'Sjekkliste noter'!H227,\"\")","v":""}]
[{"$f":"+'Sjekkliste noter'!A228","v":138},{"$f":"IF('Sjekkliste noter'!F228<>\"\",1,0)","v":0},0,{"$f":"IF($C139=1,'Sjekkliste noter'!A228,\"\")","v":""},{"$f":"IF($C139=1,'Sjekkliste noter'!B228,\"\")","v":""},null,{"$f":"IF($C139=1,'Sjekkliste noter'!H228,\"\")","v":""}]
[{"$f":"+'Sjekkliste noter'!A230","v":139},{"$f":"IF('Sjekkliste noter'!F230<>\"\",1,0)","v":0},0,{"$f":"IF($C140=1,'Sjekkliste noter'!A230,\"\")","v":""},{"$f":"IF($C140=1,'Sjekkliste noter'!B230,\"\")","v":""},null,{"$f":"IF($C140=1,'Sjekkliste noter'!H230,\"\")","v":""}]
[{"$f":"+'Sjekkliste noter'!A232","v":140},{"$f":"IF('Sjekkliste noter'!F232<>\"\",1,0)","v":0},0,{"$f":"IF($C141=1,'Sjekkliste noter'!A232,\"\")","v":""},{"$f":"IF($C141=1,'Sjekkliste noter'!B232,\"\")","v":""},null,{"$f":"IF($C141=1,'Sjekkliste noter'!H232,\"\")","v":""}]
[{"$f":"+'Sjekkliste noter'!A235","v":141},{"$f":"IF('Sjekkliste noter'!F235<>\"\",1,0)","v":0},0,{"$f":"IF($C142=1,'Sjekkliste noter'!A235,\"\")","v":""},{"$f":"IF($C142=1,'Sjekkliste noter'!B235,\"\")","v":""},null,{"$f":"IF($C142=1,'Sjekkliste noter'!H235,\"\")","v":""}]
[{"$f":"+'Sjekkliste noter'!A236","v":142},{"$f":"IF('Sjekkliste noter'!F236<>\"\",1,0)","v":0},0,{"$f":"IF($C143=1,'Sjekkliste noter'!A236,\"\")","v":""},{"$f":"IF($C143=1,'Sjekkliste noter'!B236,\"\")","v":""},null,{"$f":"IF($C143=1,'Sjekkliste noter'!H236,\"\")","v":""}]
[{"$f":"+'Sjekkliste noter'!A237","v":143},{"$f":"IF('Sjekkliste noter'!F237<>\"\",1,0)","v":0},0,{"$f":"IF($C144=1,'Sjekkliste noter'!A237,\"\")","v":""},{"$f":"IF($C144=1,'Sjekkliste noter'!B237,\"\")","v":""},null,{"$f":"IF($C144=1,'Sjekkliste noter'!H237,\"\")","v":""}]
[{"$f":"+'Sjekkliste noter'!A239","v":144},{"$f":"IF('Sjekkliste noter'!F239<>\"\",1,0)","v":0},0,{"$f":"IF($C145=1,'Sjekkliste noter'!A239,\"\")","v":""},{"$f":"IF($C145=1,'Sjekkliste noter'!B239,\"\")","v":""},null,{"$f":"IF($C145=1,'Sjekkliste noter'!H239,\"\")","v":""}]
[{"$f":"+'Sjekkliste noter'!A240","v":145},{"$f":"IF('Sjekkliste noter'!F240<>\"\",1,0)","v":0},0,{"$f":"IF($C146=1,'Sjekkliste noter'!A240,\"\")","v":""},{"$f":"IF($C146=1,'Sjekkliste noter'!B240,\"\")","v":""},null,{"$f":"IF($C146=1,'Sjekkliste noter'!H240,\"\")","v":""}]
[{"$f":"+'Sjekkliste noter'!A242","v":146},{"$f":"IF('Sjekkliste noter'!F242<>\"\",1,0)","v":0},0,{"$f":"IF($C147=1,'Sjekkliste noter'!A242,\"\")","v":""},{"$f":"IF($C147=1,'Sjekkliste noter'!B242,\"\")","v":""},null,{"$f":"IF($C147=1,'Sjekkliste noter'!H242,\"\")","v":""}]
[{"$f":"+'Sjekkliste noter'!A243","v":147},{"$f":"IF('Sjekkliste noter'!F243<>\"\",1,0)","v":0},0,{"$f":"IF($C148=1,'Sjekkliste noter'!A243,\"\")","v":""},{"$f":"IF($C148=1,'Sjekkliste noter'!B243,\"\")","v":""},null,{"$f":"IF($C148=1,'Sjekkliste noter'!H243,\"\")","v":""}]
[{"$f":"+'Sjekkliste noter'!A244","v":148},{"$f":"IF('Sjekkliste noter'!F244<>\"\",1,0)","v":0},0,{"$f":"IF($C149=1,'Sjekkliste noter'!A244,\"\")","v":""},{"$f":"IF($C149=1,'Sjekkliste noter'!B244,\"\")","v":""},null,{"$f":"IF($C149=1,'Sjekkliste noter'!H244,\"\")","v":""}]
[{"$f":"+'Sjekkliste noter'!A246","v":149},{"$f":"IF('Sjekkliste noter'!F246<>\"\",1,0)","v":0},0,{"$f":"IF($C150=1,'Sjekkliste noter'!A246,\"\")","v":""},{"$f":"IF($C150=1,'Sjekkliste noter'!B246,\"\")","v":""},null,{"$f":"IF($C150=1,'Sjekkliste noter'!H246,\"\")","v":""}]
[{"$f":"+'Sjekkliste noter'!A247","v":150},{"$f":"IF('Sjekkliste noter'!F247<>\"\",1,0)","v":0},0,{"$f":"IF($C151=1,'Sjekkliste noter'!A247,\"\")","v":""},{"$f":"IF($C151=1,'Sjekkliste noter'!B247,\"\")","v":""},null,{"$f":"IF($C151=1,'Sjekkliste noter'!H247,\"\")","v":""}]
[{"$f":"+'Sjekkliste noter'!A248","v":151},{"$f":"IF('Sjekkliste noter'!F248<>\"\",1,0)","v":0},0,{"$f":"IF($C152=1,'Sjekkliste noter'!A248,\"\")","v":""},{"$f":"IF($C152=1,'Sjekkliste noter'!B248,\"\")","v":""},null,{"$f":"IF($C152=1,'Sjekkliste noter'!H248,\"\")","v":""}]
[{"$f":"+'Sjekkliste noter'!A249","v":152},{"$f":"IF('Sjekkliste noter'!F249<>\"\",1,0)","v":0},0,{"$f":"IF($C153=1,'Sjekkliste noter'!A249,\"\")","v":""},{"$f":"IF($C153=1,'Sjekkliste noter'!B249,\"\")","v":""},null,{"$f":"IF($C153=1,'Sjekkliste noter'!H249,\"\")","v":""}]
[{"$f":"+'Sjekkliste noter'!A250","v":153},{"$f":"IF('Sjekkliste noter'!F250<>\"\",1,0)","v":0},0,{"$f":"IF($C154=1,'Sjekkliste noter'!A250,\"\")","v":""},{"$f":"IF($C154=1,'Sjekkliste noter'!B250,\"\")","v":""},null,{"$f":"IF($C154=1,'Sjekkliste noter'!H250,\"\")","v":""}]
[{"$f":"+'Sjekkliste noter'!A251","v":154},{"$f":"IF('Sjekkliste noter'!F251<>\"\",1,0)","v":0},0,{"$f":"IF($C155=1,'Sjekkliste noter'!A251,\"\")","v":""},{"$f":"IF($C155=1,'Sjekkliste noter'!B251,\"\")","v":""},null,{"$f":"IF($C155=1,'Sjekkliste noter'!H251,\"\")","v":""}]
[{"$f":"+'Sjekkliste noter'!A252","v":155},{"$f":"IF('Sjekkliste noter'!F252<>\"\",1,0)","v":0},0,{"$f":"IF($C156=1,'Sjekkliste noter'!A252,\"\")","v":""},{"$f":"IF($C156=1,'Sjekkliste noter'!B252,\"\")","v":""},null,{"$f":"IF($C156=1,'Sjekkliste noter'!H252,\"\")","v":""}]
[{"$f":"+'Sjekkliste noter'!A254","v":156},{"$f":"IF('Sjekkliste noter'!F254<>\"\",1,0)","v":0},0,{"$f":"IF($C157=1,'Sjekkliste noter'!A254,\"\")","v":""},{"$f":"IF($C157=1,'Sjekkliste noter'!B254,\"\")","v":""},null,{"$f":"IF($C157=1,'Sjekkliste noter'!H254,\"\")","v":""}]
[{"$f":"+'Sjekkliste noter'!A255","v":157},{"$f":"IF('Sjekkliste noter'!F255<>\"\",1,0)","v":0},0,{"$f":"IF($C158=1,'Sjekkliste noter'!A255,\"\")","v":""},{"$f":"IF($C158=1,'Sjekkliste noter'!B255,\"\")","v":""},null,{"$f":"IF($C158=1,'Sjekkliste noter'!H255,\"\")","v":""}]
[{"$f":"+'Sjekkliste noter'!A256","v":158},{"$f":"IF('Sjekkliste noter'!F256<>\"\",1,0)","v":0},0,{"$f":"IF($C159=1,'Sjekkliste noter'!A256,\"\")","v":""},{"$f":"IF($C159=1,'Sjekkliste noter'!B256,\"\")","v":""},null,{"$f":"IF($C159=1,'Sjekkliste noter'!H256,\"\")","v":""}]
[{"$f":"+'Sjekkliste noter'!A258","v":159},{"$f":"IF('Sjekkliste noter'!F258<>\"\",1,0)","v":0},0,{"$f":"IF($C160=1,'Sjekkliste noter'!A258,\"\")","v":""},{"$f":"IF($C160=1,'Sjekkliste noter'!B258,\"\")","v":""},null,{"$f":"IF($C160=1,'Sjekkliste noter'!H258,\"\")","v":""}]
[{"$f":"+'Sjekkliste noter'!A259","v":160},{"$f":"IF('Sjekkliste noter'!F259<>\"\",1,0)","v":0},0,{"$f":"IF($C161=1,'Sjekkliste noter'!A259,\"\")","v":""},{"$f":"IF($C161=1,'Sjekkliste noter'!B259,\"\")","v":""},null,{"$f":"IF($C161=1,'Sjekkliste noter'!H259,\"\")","v":""}]
[{"$f":"+'Sjekkliste noter'!A260","v":161},{"$f":"IF('Sjekkliste noter'!F260<>\"\",1,0)","v":0},0,{"$f":"IF($C162=1,'Sjekkliste noter'!A260,\"\")","v":""},{"$f":"IF($C162=1,'Sjekkliste noter'!B260,\"\")","v":""},null,{"$f":"IF($C162=1,'Sjekkliste noter'!H260,\"\")","v":""}]
[{"$f":"+'Sjekkliste noter'!A261","v":162},{"$f":"IF('Sjekkliste noter'!F261<>\"\",1,0)","v":0},0,{"$f":"IF($C163=1,'Sjekkliste noter'!A261,\"\")","v":""},{"$f":"IF($C163=1,'Sjekkliste noter'!B261,\"\")","v":""},null,{"$f":"IF($C163=1,'Sjekkliste noter'!H261,\"\")","v":""}]
[{"$f":"+'Sjekkliste noter'!A262","v":163},{"$f":"IF('Sjekkliste noter'!F262<>\"\",1,0)","v":0},0,{"$f":"IF($C164=1,'Sjekkliste noter'!A262,\"\")","v":""},{"$f":"IF($C164=1,'Sjekkliste noter'!B262,\"\")","v":""},null,{"$f":"IF($C164=1,'Sjekkliste noter'!H262,\"\")","v":""}]
[{"$f":"+'Sjekkliste noter'!A263","v":164},{"$f":"IF('Sjekkliste noter'!F263<>\"\",1,0)","v":0},0,{"$f":"IF($C165=1,'Sjekkliste noter'!A263,\"\")","v":""},{"$f":"IF($C165=1,'Sjekkliste noter'!B263,\"\")","v":""},null,{"$f":"IF($C165=1,'Sjekkliste noter'!H263,\"\")","v":""}]
[{"$f":"+'Sjekkliste noter'!A264","v":165},{"$f":"IF('Sjekkliste noter'!F264<>\"\",1,0)","v":0},0,{"$f":"IF($C166=1,'Sjekkliste noter'!A264,\"\")","v":""},{"$f":"IF($C166=1,'Sjekkliste noter'!B264,\"\")","v":""},null,{"$f":"IF($C166=1,'Sjekkliste noter'!H264,\"\")","v":""}]
[{"$f":"+'Sjekkliste noter'!A265","v":166},{"$f":"IF('Sjekkliste noter'!F265<>\"\",1,0)","v":0},0,{"$f":"IF($C167=1,'Sjekkliste noter'!A265,\"\")","v":""},{"$f":"IF($C167=1,'Sjekkliste noter'!B265,\"\")","v":""},null,{"$f":"IF($C167=1,'Sjekkliste noter'!H265,\"\")","v":""}]
[{"$f":"+'Sjekkliste noter'!A266","v":167},{"$f":"IF('Sjekkliste noter'!F266<>\"\",1,0)","v":0},0,{"$f":"IF($C168=1,'Sjekkliste noter'!A266,\"\")","v":""},{"$f":"IF($C168=1,'Sjekkliste noter'!B266,\"\")","v":""},null,{"$f":"IF($C168=1,'Sjekkliste noter'!H266,\"\")","v":""}]
[{"$f":"+'Sjekkliste noter'!A268","v":168},{"$f":"IF('Sjekkliste noter'!F268<>\"\",1,0)","v":0},0,{"$f":"IF($C169=1,'Sjekkliste noter'!A268,\"\")","v":""},{"$f":"IF($C169=1,'Sjekkliste noter'!B268,\"\")","v":""},null,{"$f":"IF($C169=1,'Sjekkliste noter'!H268,\"\")","v":""}]
[{"$f":"+'Sjekkliste noter'!A269","v":169},{"$f":"IF('Sjekkliste noter'!F269<>\"\",1,0)","v":0},0,{"$f":"IF($C170=1,'Sjekkliste noter'!A269,\"\")","v":""},{"$f":"IF($C170=1,'Sjekkliste noter'!B269,\"\")","v":""},null,{"$f":"IF($C170=1,'Sjekkliste noter'!H269,\"\")","v":""}]
[{"$f":"+'Sjekkliste noter'!A271","v":170},{"$f":"IF('Sjekkliste noter'!F271<>\"\",1,0)","v":0},0,{"$f":"IF($C171=1,'Sjekkliste noter'!A271,\"\")","v":""},{"$f":"IF($C171=1,'Sjekkliste noter'!B271,\"\")","v":""},null,{"$f":"IF($C171=1,'Sjekkliste noter'!H271,\"\")","v":""}]
[{"$f":"+'Sjekkliste noter'!A272","v":171},{"$f":"IF('Sjekkliste noter'!F272<>\"\",1,0)","v":0},0,{"$f":"IF($C172=1,'Sjekkliste noter'!A272,\"\")","v":""},{"$f":"IF($C172=1,'Sjekkliste noter'!B272,\"\")","v":""},null,{"$f":"IF($C172=1,'Sjekkliste noter'!H272,\"\")","v":""}]
[{"$f":"+'Sjekkliste noter'!A275","v":172},{"$f":"IF('Sjekkliste noter'!F275<>\"\",1,0)","v":0},0,{"$f":"IF($C173=1,'Sjekkliste noter'!A275,\"\")","v":""},{"$f":"IF($C173=1,'Sjekkliste noter'!B275,\"\")","v":""},null,{"$f":"IF($C173=1,'Sjekkliste noter'!H275,\"\")","v":""}]
[{"$f":"+'Sjekkliste noter'!A276","v":173},{"$f":"IF('Sjekkliste noter'!F276<>\"\",1,0)","v":0},0,{"$f":"IF($C174=1,'Sjekkliste noter'!A276,\"\")","v":""},{"$f":"IF($C174=1,'Sjekkliste noter'!B276,\"\")","v":""},null,{"$f":"IF($C174=1,'Sjekkliste noter'!H276,\"\")","v":""}]
[{"$f":"+'Sjekkliste noter'!A278","v":174},{"$f":"IF('Sjekkliste noter'!F278<>\"\",1,0)","v":0},0,{"$f":"IF($C175=1,'Sjekkliste noter'!A278,\"\")","v":""},{"$f":"IF($C175=1,'Sjekkliste noter'!B278,\"\")","v":""},null,{"$f":"IF($C175=1,'Sjekkliste noter'!H278,\"\")","v":""}]
[{"$f":"+'Sjekkliste noter'!A280","v":175},{"$f":"IF('Sjekkliste noter'!F280<>\"\",1,0)","v":0},0,{"$f":"IF($C176=1,'Sjekkliste noter'!A280,\"\")","v":""},{"$f":"IF($C176=1,'Sjekkliste noter'!B280,\"\")","v":""},null,{"$f":"IF($C176=1,'Sjekkliste noter'!H280,\"\")","v":""}]
[{"$f":"+'Sjekkliste noter'!A281","v":176},{"$f":"IF('Sjekkliste noter'!F281<>\"\",1,0)","v":0},0,{"$f":"IF($C177=1,'Sjekkliste noter'!A281,\"\")","v":""},{"$f":"IF($C177=1,'Sjekkliste noter'!B281,\"\")","v":""},null,{"$f":"IF($C177=1,'Sjekkliste noter'!H281,\"\")","v":""}]
[{"$f":"+'Sjekkliste noter'!A282","v":177},{"$f":"IF('Sjekkliste noter'!F282<>\"\",1,0)","v":0},0,{"$f":"IF($C178=1,'Sjekkliste noter'!A282,\"\")","v":""},{"$f":"IF($C178=1,'Sjekkliste noter'!B282,\"\")","v":""},null,{"$f":"IF($C178=1,'Sjekkliste noter'!H282,\"\")","v":""}]
[{"$f":"+'Sjekkliste noter'!A283","v":178},{"$f":"IF('Sjekkliste noter'!F283<>\"\",1,0)","v":0},0,{"$f":"IF($C179=1,'Sjekkliste noter'!A283,\"\")","v":""},{"$f":"IF($C179=1,'Sjekkliste noter'!B283,\"\")","v":""},null,{"$f":"IF($C179=1,'Sjekkliste noter'!H283,\"\")","v":""}]
[{"$f":"+'Sjekkliste noter'!A284","v":179},{"$f":"IF('Sjekkliste noter'!F284<>\"\",1,0)","v":0},0,{"$f":"IF($C180=1,'Sjekkliste noter'!A284,\"\")","v":""},{"$f":"IF($C180=1,'Sjekkliste noter'!B284,\"\")","v":""},null,{"$f":"IF($C180=1,'Sjekkliste noter'!H284,\"\")","v":""}]
[{"$f":"+'Sjekkliste noter'!A285","v":180},{"$f":"IF('Sjekkliste noter'!F285<>\"\",1,0)","v":0},0,{"$f":"IF($C181=1,'Sjekkliste noter'!A285,\"\")","v":""},{"$f":"IF($C181=1,'Sjekkliste noter'!B285,\"\")","v":""},null,{"$f":"IF($C181=1,'Sjekkliste noter'!H285,\"\")","v":""}]
[{"$f":"+'Sjekkliste noter'!A286","v":181},{"$f":"IF('Sjekkliste noter'!F286<>\"\",1,0)","v":0},0,{"$f":"IF($C182=1,'Sjekkliste noter'!A286,\"\")","v":""},{"$f":"IF($C182=1,'Sjekkliste noter'!B286,\"\")","v":""},null,{"$f":"IF($C182=1,'Sjekkliste noter'!H286,\"\")","v":""}]
[{"$f":"+'Sjekkliste noter'!A287","v":182},{"$f":"IF('Sjekkliste noter'!F287<>\"\",1,0)","v":0},0,{"$f":"IF($C183=1,'Sjekkliste noter'!A287,\"\")","v":""},{"$f":"IF($C183=1,'Sjekkliste noter'!B287,\"\")","v":""},null,{"$f":"IF($C183=1,'Sjekkliste noter'!H287,\"\")","v":""}]
[{"$f":"+'Sjekkliste noter'!A290","v":183},{"$f":"IF('Sjekkliste noter'!F290<>\"\",1,0)","v":0},0,{"$f":"IF($C184=1,'Sjekkliste noter'!A290,\"\")","v":""},{"$f":"IF($C184=1,'Sjekkliste noter'!B290,\"\")","v":""},null,{"$f":"IF($C184=1,'Sjekkliste noter'!H290,\"\")","v":""}]
[{"$f":"+'Sjekkliste noter'!A291","v":184},{"$f":"IF('Sjekkliste noter'!F291<>\"\",1,0)","v":0},0,{"$f":"IF($C185=1,'Sjekkliste noter'!A291,\"\")","v":""},{"$f":"IF($C185=1,'Sjekkliste noter'!B291,\"\")","v":""},null,{"$f":"IF($C185=1,'Sjekkliste noter'!H291,\"\")","v":""}]
[{"$f":"+'Sjekkliste noter'!A295","v":185},{"$f":"IF('Sjekkliste noter'!F295<>\"\",1,0)","v":0},0,{"$f":"IF($C186=1,'Sjekkliste noter'!A295,\"\")","v":""},{"$f":"IF($C186=1,'Sjekkliste noter'!B295,\"\")","v":""},null,{"$f":"IF($C186=1,'Sjekkliste noter'!H295,\"\")","v":""}]
[{"$f":"+'Sjekkliste noter'!A296","v":186},{"$f":"IF('Sjekkliste noter'!F296<>\"\",1,0)","v":0},0,{"$f":"IF($C187=1,'Sjekkliste noter'!A296,\"\")","v":""},{"$f":"IF($C187=1,'Sjekkliste noter'!B296,\"\")","v":""},null,{"$f":"IF($C187=1,'Sjekkliste noter'!H296,\"\")","v":""}]
[{"$f":"+'Sjekkliste noter'!A297","v":187},{"$f":"IF('Sjekkliste noter'!F297<>\"\",1,0)","v":0},0,{"$f":"IF($C188=1,'Sjekkliste noter'!A297,\"\")","v":""},{"$f":"IF($C188=1,'Sjekkliste noter'!B297,\"\")","v":""},null,{"$f":"IF($C188=1,'Sjekkliste noter'!H297,\"\")","v":""}]
[{"$f":"+'Sjekkliste noter'!A298","v":188},{"$f":"IF('Sjekkliste noter'!F298<>\"\",1,0)","v":0},0,{"$f":"IF($C189=1,'Sjekkliste noter'!A298,\"\")","v":""},{"$f":"IF($C189=1,'Sjekkliste noter'!B298,\"\")","v":""},null,{"$f":"IF($C189=1,'Sjekkliste noter'!H298,\"\")","v":""}]
[{"$f":"+'Sjekkliste noter'!A301","v":189},{"$f":"IF('Sjekkliste noter'!F301<>\"\",1,0)","v":0},0,{"$f":"IF($C190=1,'Sjekkliste noter'!A301,\"\")","v":""},{"$f":"IF($C190=1,'Sjekkliste noter'!B301,\"\")","v":""},null,{"$f":"IF($C190=1,'Sjekkliste noter'!H301,\"\")","v":""}]
[{"$f":"+'Sjekkliste noter'!A302","v":190},{"$f":"IF('Sjekkliste noter'!F302<>\"\",1,0)","v":0},0,{"$f":"IF($C191=1,'Sjekkliste noter'!A302,\"\")","v":""},{"$f":"IF($C191=1,'Sjekkliste noter'!B302,\"\")","v":""},null,{"$f":"IF($C191=1,'Sjekkliste noter'!H302,\"\")","v":""}]
[{"$f":"+'Sjekkliste noter'!A303","v":191},{"$f":"IF('Sjekkliste noter'!F303<>\"\",1,0)","v":0},0,{"$f":"IF($C192=1,'Sjekkliste noter'!A303,\"\")","v":""},{"$f":"IF($C192=1,'Sjekkliste noter'!B303,\"\")","v":""},null,{"$f":"IF($C192=1,'Sjekkliste noter'!H303,\"\")","v":""}]
[{"$f":"+'Sjekkliste noter'!A304","v":192},{"$f":"IF('Sjekkliste noter'!F304<>\"\",1,0)","v":0},0,{"$f":"IF($C193=1,'Sjekkliste noter'!A304,\"\")","v":""},{"$f":"IF($C193=1,'Sjekkliste noter'!B304,\"\")","v":""},null,{"$f":"IF($C193=1,'Sjekkliste noter'!H304,\"\")","v":""}]
[{"$f":"+'Sjekkliste noter'!A308","v":193},{"$f":"IF('Sjekkliste noter'!F308<>\"\",1,0)","v":0},{"$f":"SUM(B194:B194)","v":0},{"$f":"IF($C194=1,'Sjekkliste noter'!A308,\"\")","v":""},{"$f":"IF($C194=1,'Sjekkliste noter'!B308,\"\")","v":""},null,{"$f":"IF($C194=1,'Sjekkliste noter'!H308,\"\")","v":""}]
[{"$f":"+'Sjekkliste noter'!A309","v":194},{"$f":"IF('Sjekkliste noter'!F309<>\"\",1,0)","v":0},0,{"$f":"IF($C195=1,'Sjekkliste noter'!A309,\"\")","v":""},{"$f":"IF($C195=1,'Sjekkliste noter'!B309,\"\")","v":""},null,{"$f":"IF($C195=1,'Sjekkliste noter'!H309,\"\")","v":""}]
[{"$f":"+'Sjekkliste noter'!A310","v":195},{"$f":"IF('Sjekkliste noter'!F310<>\"\",1,0)","v":0},0,{"$f":"IF($C196=1,'Sjekkliste noter'!A310,\"\")","v":""},{"$f":"IF($C196=1,'Sjekkliste noter'!B310,\"\")","v":""},null,{"$f":"IF($C196=1,'Sjekkliste noter'!H310,\"\")","v":""}]
[{"$f":"+'Sjekkliste noter'!A311","v":196},{"$f":"IF('Sjekkliste noter'!F311<>\"\",1,0)","v":0},0,{"$f":"IF($C197=1,'Sjekkliste noter'!A311,\"\")","v":""},{"$f":"IF($C197=1,'Sjekkliste noter'!B311,\"\")","v":""},null,{"$f":"IF($C197=1,'Sjekkliste noter'!H311,\"\")","v":""}]
[{"$f":"+'Sjekkliste noter'!A313","v":197},{"$f":"IF('Sjekkliste noter'!F313<>\"\",1,0)","v":0},0,{"$f":"IF($C198=1,'Sjekkliste noter'!A313,\"\")","v":""},{"$f":"IF($C198=1,'Sjekkliste noter'!B313,\"\")","v":""},null,{"$f":"IF($C198=1,'Sjekkliste noter'!H313,\"\")","v":""}]
[{"$f":"+'Sjekkliste noter'!A315","v":198},{"$f":"IF('Sjekkliste noter'!F315<>\"\",1,0)","v":0},0,{"$f":"IF($C199=1,'Sjekkliste noter'!A315,\"\")","v":""},{"$f":"IF($C199=1,'Sjekkliste noter'!B315,\"\")","v":""},null,{"$f":"IF($C199=1,'Sjekkliste noter'!H315,\"\")","v":""}]
[{"$f":"+'Sjekkliste noter'!A316","v":199},{"$f":"IF('Sjekkliste noter'!F316<>\"\",1,0)","v":0},0,{"$f":"IF($C200=1,'Sjekkliste noter'!A316,\"\")","v":""},{"$f":"IF($C200=1,'Sjekkliste noter'!B316,\"\")","v":""},null,{"$f":"IF($C200=1,'Sjekkliste noter'!H316,\"\")","v":""}]
[{"$f":"+'Sjekkliste noter'!A319","v":200},{"$f":"IF('Sjekkliste noter'!F319<>\"\",1,0)","v":0},0,{"$f":"IF($C201=1,'Sjekkliste noter'!A319,\"\")","v":""},{"$f":"IF($C201=1,'Sjekkliste noter'!B319,\"\")","v":""},null,{"$f":"IF($C201=1,'Sjekkliste noter'!H319,\"\")","v":""}]
[{"$f":"+'Sjekkliste noter'!A320","v":201},{"$f":"IF('Sjekkliste noter'!F320<>\"\",1,0)","v":0},0,{"$f":"IF($C202=1,'Sjekkliste noter'!A320,\"\")","v":""},{"$f":"IF($C202=1,'Sjekkliste noter'!B320,\"\")","v":""},null,{"$f":"IF($C202=1,'Sjekkliste noter'!H320,\"\")","v":""}]
[{"$f":"+'Sjekkliste noter'!A322","v":202},{"$f":"IF('Sjekkliste noter'!F322<>\"\",1,0)","v":0},0,{"$f":"IF($C203=1,'Sjekkliste noter'!A322,\"\")","v":""},{"$f":"IF($C203=1,'Sjekkliste noter'!B322,\"\")","v":""},null,{"$f":"IF($C203=1,'Sjekkliste noter'!H322,\"\")","v":""}]
[{"$f":"+'Sjekkliste noter'!A323","v":203},{"$f":"IF('Sjekkliste noter'!F323<>\"\",1,0)","v":0},0,{"$f":"IF($C204=1,'Sjekkliste noter'!A323,\"\")","v":""},{"$f":"IF($C204=1,'Sjekkliste noter'!B323,\"\")","v":""},null,{"$f":"IF($C204=1,'Sjekkliste noter'!H323,\"\")","v":""}]
[{"$f":"+'Sjekkliste noter'!A324","v":204},{"$f":"IF('Sjekkliste noter'!F324<>\"\",1,0)","v":0},0,{"$f":"IF($C205=1,'Sjekkliste noter'!A324,\"\")","v":""},{"$f":"IF($C205=1,'Sjekkliste noter'!B324,\"\")","v":""},null,{"$f":"IF($C205=1,'Sjekkliste noter'!H324,\"\")","v":""}]
[{"$f":"+'Sjekkliste noter'!A325","v":205},{"$f":"IF('Sjekkliste noter'!F325<>\"\",1,0)","v":0},0,{"$f":"IF($C206=1,'Sjekkliste noter'!A325,\"\")","v":""},{"$f":"IF($C206=1,'Sjekkliste noter'!B325,\"\")","v":""},null,{"$f":"IF($C206=1,'Sjekkliste noter'!H325,\"\")","v":""}]
[{"$f":"+'Sjekkliste noter'!A327","v":206},{"$f":"IF('Sjekkliste noter'!F327<>\"\",1,0)","v":0},0,{"$f":"IF($C207=1,'Sjekkliste noter'!A327,\"\")","v":""},{"$f":"IF($C207=1,'Sjekkliste noter'!B327,\"\")","v":""},null,{"$f":"IF($C207=1,'Sjekkliste noter'!H327,\"\")","v":""}]
[{"$f":"+'Sjekkliste noter'!A328","v":207},{"$f":"IF('Sjekkliste noter'!F328<>\"\",1,0)","v":0},0,{"$f":"IF($C208=1,'Sjekkliste noter'!A328,\"\")","v":""},{"$f":"IF($C208=1,'Sjekkliste noter'!B328,\"\")","v":""},null,{"$f":"IF($C208=1,'Sjekkliste noter'!H328,\"\")","v":""}]
[{"$f":"+'Sjekkliste noter'!A329","v":208},{"$f":"IF('Sjekkliste noter'!F329<>\"\",1,0)","v":0},0,{"$f":"IF($C209=1,'Sjekkliste noter'!A329,\"\")","v":""},{"$f":"IF($C209=1,'Sjekkliste noter'!B329,\"\")","v":""},null,{"$f":"IF($C209=1,'Sjekkliste noter'!H329,\"\")","v":""}]
[{"$f":"+'Sjekkliste noter'!A330","v":209},{"$f":"IF('Sjekkliste noter'!F330<>\"\",1,0)","v":0},0,{"$f":"IF($C210=1,'Sjekkliste noter'!A330,\"\")","v":""},{"$f":"IF($C210=1,'Sjekkliste noter'!B330,\"\")","v":""},null,{"$f":"IF($C210=1,'Sjekkliste noter'!H330,\"\")","v":""}]
[{"$f":"+'Sjekkliste noter'!A331","v":210},{"$f":"IF('Sjekkliste noter'!F331<>\"\",1,0)","v":0},0,{"$f":"IF($C211=1,'Sjekkliste noter'!A331,\"\")","v":""},{"$f":"IF($C211=1,'Sjekkliste noter'!B331,\"\")","v":""},null,{"$f":"IF($C211=1,'Sjekkliste noter'!H331,\"\")","v":""}]
[{"$f":"+'Sjekkliste noter'!A333","v":211},{"$f":"IF('Sjekkliste noter'!F333<>\"\",1,0)","v":0},0,{"$f":"IF($C212=1,'Sjekkliste noter'!A333,\"\")","v":""},{"$f":"IF($C212=1,'Sjekkliste noter'!B333,\"\")","v":""},null,{"$f":"IF($C212=1,'Sjekkliste noter'!H333,\"\")","v":""}]
[{"$f":"+'Sjekkliste noter'!A334","v":212},{"$f":"IF('Sjekkliste noter'!F334<>\"\",1,0)","v":0},0,{"$f":"IF($C213=1,'Sjekkliste noter'!A334,\"\")","v":""},{"$f":"IF($C213=1,'Sjekkliste noter'!B334,\"\")","v":""},null,{"$f":"IF($C213=1,'Sjekkliste noter'!H334,\"\")","v":""}]
[{"$f":"+'Sjekkliste noter'!A335","v":213},{"$f":"IF('Sjekkliste noter'!F335<>\"\",1,0)","v":0},0,{"$f":"IF($C214=1,'Sjekkliste noter'!A335,\"\")","v":""},{"$f":"IF($C214=1,'Sjekkliste noter'!B335,\"\")","v":""},null,{"$f":"IF($C214=1,'Sjekkliste noter'!H335,\"\")","v":""}]
[{"$f":"+'Sjekkliste noter'!A336","v":214},{"$f":"IF('Sjekkliste noter'!F336<>\"\",1,0)","v":0},0,{"$f":"IF($C215=1,'Sjekkliste noter'!A336,\"\")","v":""},{"$f":"IF($C215=1,'Sjekkliste noter'!B336,\"\")","v":""},null,{"$f":"IF($C215=1,'Sjekkliste noter'!H336,\"\")","v":""}]
[{"$f":"+'Sjekkliste noter'!A337","v":215},{"$f":"IF('Sjekkliste noter'!F337<>\"\",1,0)","v":0},0,{"$f":"IF($C216=1,'Sjekkliste noter'!A337,\"\")","v":""},{"$f":"IF($C216=1,'Sjekkliste noter'!B337,\"\")","v":""},null,{"$f":"IF($C216=1,'Sjekkliste noter'!H337,\"\")","v":""}]
[{"$f":"+'Sjekkliste noter'!A338","v":216},{"$f":"IF('Sjekkliste noter'!F338<>\"\",1,0)","v":0},0,{"$f":"IF($C217=1,'Sjekkliste noter'!A338,\"\")","v":""},{"$f":"IF($C217=1,'Sjekkliste noter'!B338,\"\")","v":""},null,{"$f":"IF($C217=1,'Sjekkliste noter'!H338,\"\")","v":""}]
[{"$f":"+'Sjekkliste noter'!A340","v":217},{"$f":"IF('Sjekkliste noter'!F340<>\"\",1,0)","v":0},0,{"$f":"IF($C218=1,'Sjekkliste noter'!A340,\"\")","v":""},{"$f":"IF($C218=1,'Sjekkliste noter'!B340,\"\")","v":""},null,{"$f":"IF($C218=1,'Sjekkliste noter'!H340,\"\")","v":""}]
[{"$f":"+'Sjekkliste noter'!A341","v":218},{"$f":"IF('Sjekkliste noter'!F341<>\"\",1,0)","v":0},0,{"$f":"IF($C219=1,'Sjekkliste noter'!A341,\"\")","v":""},{"$f":"IF($C219=1,'Sjekkliste noter'!B341,\"\")","v":""},null,{"$f":"IF($C219=1,'Sjekkliste noter'!H341,\"\")","v":""}]
[{"$f":"+'Sjekkliste noter'!A342","v":219},{"$f":"IF('Sjekkliste noter'!F342<>\"\",1,0)","v":0},0,{"$f":"IF($C220=1,'Sjekkliste noter'!A342,\"\")","v":""},{"$f":"IF($C220=1,'Sjekkliste noter'!B342,\"\")","v":""},null,{"$f":"IF($C220=1,'Sjekkliste noter'!H342,\"\")","v":""}]
[{"$f":"+'Sjekkliste noter'!A344","v":220},{"$f":"IF('Sjekkliste noter'!F344<>\"\",1,0)","v":0},0,{"$f":"IF($C221=1,'Sjekkliste noter'!A344,\"\")","v":""},{"$f":"IF($C221=1,'Sjekkliste noter'!B344,\"\")","v":""},null,{"$f":"IF($C221=1,'Sjekkliste noter'!H344,\"\")","v":""}]
[{"$f":"+'Sjekkliste noter'!A345","v":221},{"$f":"IF('Sjekkliste noter'!F345<>\"\",1,0)","v":0},0,{"$f":"IF($C222=1,'Sjekkliste noter'!A345,\"\")","v":""},{"$f":"IF($C222=1,'Sjekkliste noter'!B345,\"\")","v":""},null,{"$f":"IF($C222=1,'Sjekkliste noter'!H345,\"\")","v":""}]
[{"$f":"+'Sjekkliste noter'!A346","v":222},{"$f":"IF('Sjekkliste noter'!F346<>\"\",1,0)","v":0},0,{"$f":"IF($C223=1,'Sjekkliste noter'!A346,\"\")","v":""},{"$f":"IF($C223=1,'Sjekkliste noter'!B346,\"\")","v":""},null,{"$f":"IF($C223=1,'Sjekkliste noter'!H346,\"\")","v":""}]
[{"$f":"+'Sjekkliste noter'!A347","v":223},{"$f":"IF('Sjekkliste noter'!F347<>\"\",1,0)","v":0},0,{"$f":"IF($C224=1,'Sjekkliste noter'!A347,\"\")","v":""},{"$f":"IF($C224=1,'Sjekkliste noter'!B347,\"\")","v":""},null,{"$f":"IF($C224=1,'Sjekkliste noter'!H347,\"\")","v":""}]
[{"$f":"+'Sjekkliste noter'!A349","v":224},{"$f":"IF('Sjekkliste noter'!F349<>\"\",1,0)","v":0},0,{"$f":"IF($C225=1,'Sjekkliste noter'!A349,\"\")","v":""},{"$f":"IF($C225=1,'Sjekkliste noter'!B349,\"\")","v":""},null,{"$f":"IF($C225=1,'Sjekkliste noter'!H349,\"\")","v":""}]
[{"$f":"+'Sjekkliste noter'!A352","v":225},{"$f":"IF('Sjekkliste noter'!F352<>\"\",1,0)","v":0},0,{"$f":"IF($C226=1,'Sjekkliste noter'!A352,\"\")","v":""},{"$f":"IF($C226=1,'Sjekkliste noter'!B352,\"\")","v":""},null,{"$f":"IF($C226=1,'Sjekkliste noter'!H352,\"\")","v":""}]
[{"$f":"+'Sjekkliste noter'!A353","v":226},{"$f":"IF('Sjekkliste noter'!F353<>\"\",1,0)","v":0},0,{"$f":"IF($C227=1,'Sjekkliste noter'!A353,\"\")","v":""},{"$f":"IF($C227=1,'Sjekkliste noter'!B353,\"\")","v":""},null,{"$f":"IF($C227=1,'Sjekkliste noter'!H353,\"\")","v":""}]
[{"$f":"+'Sjekkliste noter'!A354","v":227},{"$f":"IF('Sjekkliste noter'!F354<>\"\",1,0)","v":0},0,{"$f":"IF($C228=1,'Sjekkliste noter'!A354,\"\")","v":""},{"$f":"IF($C228=1,'Sjekkliste noter'!B354,\"\")","v":""},null,{"$f":"IF($C228=1,'Sjekkliste noter'!H354,\"\")","v":""}]
[{"$f":"+'Sjekkliste noter'!A355","v":228},{"$f":"IF('Sjekkliste noter'!F355<>\"\",1,0)","v":0},0,{"$f":"IF($C229=1,'Sjekkliste noter'!A355,\"\")","v":""},{"$f":"IF($C229=1,'Sjekkliste noter'!B355,\"\")","v":""},null,{"$f":"IF($C229=1,'Sjekkliste noter'!H355,\"\")","v":""}]
[{"$f":"+'Sjekkliste noter'!A357","v":229},{"$f":"IF('Sjekkliste noter'!F357<>\"\",1,0)","v":0},0,{"$f":"IF($C230=1,'Sjekkliste noter'!A357,\"\")","v":""},{"$f":"IF($C230=1,'Sjekkliste noter'!B357,\"\")","v":""},null,{"$f":"IF($C230=1,'Sjekkliste noter'!H357,\"\")","v":""}]
[{"$f":"+'Sjekkliste noter'!A358","v":230},{"$f":"IF('Sjekkliste noter'!F358<>\"\",1,0)","v":0},0,{"$f":"IF($C231=1,'Sjekkliste noter'!A358,\"\")","v":""},{"$f":"IF($C231=1,'Sjekkliste noter'!B358,\"\")","v":""},null,{"$f":"IF($C231=1,'Sjekkliste noter'!H358,\"\")","v":""}]
[{"$f":"+'Sjekkliste noter'!A362","v":231},{"$f":"IF('Sjekkliste noter'!F362<>\"\",1,0)","v":0},0,{"$f":"IF($C232=1,'Sjekkliste noter'!A362,\"\")","v":""},{"$f":"IF($C232=1,'Sjekkliste noter'!B362,\"\")","v":""},null,{"$f":"IF($C232=1,'Sjekkliste noter'!H362,\"\")","v":""}]
[{"$f":"+'Sjekkliste noter'!A363","v":232},{"$f":"IF('Sjekkliste noter'!F363<>\"\",1,0)","v":0},0,{"$f":"IF($C233=1,'Sjekkliste noter'!A363,\"\")","v":""},{"$f":"IF($C233=1,'Sjekkliste noter'!B363,\"\")","v":""},null,{"$f":"IF($C233=1,'Sjekkliste noter'!H363,\"\")","v":""}]
[{"$f":"+'Sjekkliste noter'!A364","v":233},{"$f":"IF('Sjekkliste noter'!F364<>\"\",1,0)","v":0},0,{"$f":"IF($C234=1,'Sjekkliste noter'!A364,\"\")","v":""},{"$f":"IF($C234=1,'Sjekkliste noter'!B364,\"\")","v":""},null,{"$f":"IF($C234=1,'Sjekkliste noter'!H364,\"\")","v":""}]
[{"$f":"+'Sjekkliste noter'!A366","v":234},{"$f":"IF('Sjekkliste noter'!F366<>\"\",1,0)","v":0},0,{"$f":"IF($C235=1,'Sjekkliste noter'!A366,\"\")","v":""},{"$f":"IF($C235=1,'Sjekkliste noter'!B366,\"\")","v":""},null,{"$f":"IF($C235=1,'Sjekkliste noter'!H366,\"\")","v":""}]
[{"$f":"+'Sjekkliste noter'!A367","v":235},{"$f":"IF('Sjekkliste noter'!F367<>\"\",1,0)","v":0},0,{"$f":"IF($C236=1,'Sjekkliste noter'!A367,\"\")","v":""},{"$f":"IF($C236=1,'Sjekkliste noter'!B367,\"\")","v":""},null,{"$f":"IF($C236=1,'Sjekkliste noter'!H367,\"\")","v":""}]
[{"$f":"+'Sjekkliste noter'!A368","v":236},{"$f":"IF('Sjekkliste noter'!F368<>\"\",1,0)","v":0},0,{"$f":"IF($C237=1,'Sjekkliste noter'!A368,\"\")","v":""},{"$f":"IF($C237=1,'Sjekkliste noter'!B368,\"\")","v":""},null,{"$f":"IF($C237=1,'Sjekkliste noter'!H368,\"\")","v":""}]
[{"$f":"+'Sjekkliste noter'!A369","v":237},{"$f":"IF('Sjekkliste noter'!F369<>\"\",1,0)","v":0},0,{"$f":"IF($C238=1,'Sjekkliste noter'!A369,\"\")","v":""},{"$f":"IF($C238=1,'Sjekkliste noter'!B369,\"\")","v":""},null,{"$f":"IF($C238=1,'Sjekkliste noter'!H369,\"\")","v":""}]
[{"$f":"+'Sjekkliste noter'!A370","v":238},{"$f":"IF('Sjekkliste noter'!F370<>\"\",1,0)","v":0},0,{"$f":"IF($C239=1,'Sjekkliste noter'!A370,\"\")","v":""},{"$f":"IF($C239=1,'Sjekkliste noter'!B370,\"\")","v":""},null,{"$f":"IF($C239=1,'Sjekkliste noter'!H370,\"\")","v":""}]
[{"$f":"+'Sjekkliste noter'!A371","v":239},{"$f":"IF('Sjekkliste noter'!F371<>\"\",1,0)","v":0},0,{"$f":"IF($C240=1,'Sjekkliste noter'!A371,\"\")","v":""},{"$f":"IF($C240=1,'Sjekkliste noter'!B371,\"\")","v":""},null,{"$f":"IF($C240=1,'Sjekkliste noter'!H371,\"\")","v":""}]
[{"$f":"+'Sjekkliste noter'!A375","v":240},{"$f":"IF('Sjekkliste noter'!F375<>\"\",1,0)","v":0},0,{"$f":"IF($C241=1,'Sjekkliste noter'!A375,\"\")","v":""},{"$f":"IF($C241=1,'Sjekkliste noter'!B375,\"\")","v":""},null,{"$f":"IF($C241=1,'Sjekkliste noter'!H375,\"\")","v":""}]
[{"$f":"+'Sjekkliste noter'!A376","v":241},{"$f":"IF('Sjekkliste noter'!F376<>\"\",1,0)","v":0},0,{"$f":"IF($C242=1,'Sjekkliste noter'!A376,\"\")","v":""},{"$f":"IF($C242=1,'Sjekkliste noter'!B376,\"\")","v":""},null,{"$f":"IF($C242=1,'Sjekkliste noter'!H376,\"\")","v":""}]
[{"$f":"+'Sjekkliste noter'!A377","v":242},{"$f":"IF('Sjekkliste noter'!F377<>\"\",1,0)","v":0},0,{"$f":"IF($C243=1,'Sjekkliste noter'!A377,\"\")","v":""},{"$f":"IF($C243=1,'Sjekkliste noter'!B377,\"\")","v":""},null,{"$f":"IF($C243=1,'Sjekkliste noter'!H377,\"\")","v":""}]
[{"$f":"+'Sjekkliste noter'!A378","v":243},{"$f":"IF('Sjekkliste noter'!F378<>\"\",1,0)","v":0},0,{"$f":"IF($C244=1,'Sjekkliste noter'!A378,\"\")","v":""},{"$f":"IF($C244=1,'Sjekkliste noter'!B378,\"\")","v":""},null,{"$f":"IF($C244=1,'Sjekkliste noter'!H378,\"\")","v":""}]
[{"$f":"+'Sjekkliste noter'!A380","v":244},{"$f":"IF('Sjekkliste noter'!F380<>\"\",1,0)","v":0},0,{"$f":"IF($C245=1,'Sjekkliste noter'!A380,\"\")","v":""},{"$f":"IF($C245=1,'Sjekkliste noter'!B380,\"\")","v":""},null,{"$f":"IF($C245=1,'Sjekkliste noter'!H380,\"\")","v":""}]
[{"$f":"+'Sjekkliste noter'!A381","v":245},{"$f":"IF('Sjekkliste noter'!F381<>\"\",1,0)","v":0},0,{"$f":"IF($C246=1,'Sjekkliste noter'!A381,\"\")","v":""},{"$f":"IF($C246=1,'Sjekkliste noter'!B381,\"\")","v":""},null,{"$f":"IF($C246=1,'Sjekkliste noter'!H381,\"\")","v":""}]
[{"$f":"+'Sjekkliste noter'!A382","v":246},{"$f":"IF('Sjekkliste noter'!F382<>\"\",1,0)","v":0},0,{"$f":"IF($C247=1,'Sjekkliste noter'!A382,\"\")","v":""},{"$f":"IF($C247=1,'Sjekkliste noter'!B382,\"\")","v":""},null,{"$f":"IF($C247=1,'Sjekkliste noter'!H382,\"\")","v":""}]
[{"$f":"+'Sjekkliste noter'!A384","v":247},{"$f":"IF('Sjekkliste noter'!F384<>\"\",1,0)","v":0},0,{"$f":"IF($C248=1,'Sjekkliste noter'!A384,\"\")","v":""},{"$f":"IF($C248=1,'Sjekkliste noter'!B384,\"\")","v":""},null,{"$f":"IF($C248=1,'Sjekkliste noter'!H384,\"\")","v":""}]
[{"$f":"+'Sjekkliste noter'!A385","v":248},{"$f":"IF('Sjekkliste noter'!F385<>\"\",1,0)","v":0},0,{"$f":"IF($C249=1,'Sjekkliste noter'!A385,\"\")","v":""},{"$f":"IF($C249=1,'Sjekkliste noter'!B385,\"\")","v":""},null,{"$f":"IF($C249=1,'Sjekkliste noter'!H385,\"\")","v":""}]
[{"$f":"+'Sjekkliste noter'!A386","v":249},{"$f":"IF('Sjekkliste noter'!F386<>\"\",1,0)","v":0},0,{"$f":"IF($C250=1,'Sjekkliste noter'!A386,\"\")","v":""},{"$f":"IF($C250=1,'Sjekkliste noter'!B386,\"\")","v":""},null,{"$f":"IF($C250=1,'Sjekkliste noter'!H386,\"\")","v":""}]
[{"$f":"+'Sjekkliste noter'!A387","v":250},{"$f":"IF('Sjekkliste noter'!F387<>\"\",1,0)","v":0},0,{"$f":"IF($C251=1,'Sjekkliste noter'!A387,\"\")","v":""},{"$f":"IF($C251=1,'Sjekkliste noter'!B387,\"\")","v":""},null,{"$f":"IF($C251=1,'Sjekkliste noter'!H387,\"\")","v":""}]
[{"$f":"+'Sjekkliste noter'!A388","v":251},{"$f":"IF('Sjekkliste noter'!F388<>\"\",1,0)","v":0},0,{"$f":"IF($C252=1,'Sjekkliste noter'!A388,\"\")","v":""},{"$f":"IF($C252=1,'Sjekkliste noter'!B388,\"\")","v":""},null,{"$f":"IF($C252=1,'Sjekkliste noter'!H388,\"\")","v":""}]
[{"$f":"+'Sjekkliste noter'!A389","v":252},{"$f":"IF('Sjekkliste noter'!F389<>\"\",1,0)","v":0},0,{"$f":"IF($C253=1,'Sjekkliste noter'!A389,\"\")","v":""},{"$f":"IF($C253=1,'Sjekkliste noter'!B389,\"\")","v":""},null,{"$f":"IF($C253=1,'Sjekkliste noter'!H389,\"\")","v":""}]
[{"$f":"+'Sjekkliste noter'!A391","v":253},{"$f":"IF('Sjekkliste noter'!F391<>\"\",1,0)","v":0},0,{"$f":"IF($C254=1,'Sjekkliste noter'!A391,\"\")","v":""},{"$f":"IF($C254=1,'Sjekkliste noter'!B391,\"\")","v":""},null,{"$f":"IF($C254=1,'Sjekkliste noter'!H391,\"\")","v":""}]
[{"$f":"+'Sjekkliste noter'!A392","v":254},{"$f":"IF('Sjekkliste noter'!F392<>\"\",1,0)","v":0},0,{"$f":"IF($C255=1,'Sjekkliste noter'!A392,\"\")","v":""},{"$f":"IF($C255=1,'Sjekkliste noter'!B392,\"\")","v":""},null,{"$f":"IF($C255=1,'Sjekkliste noter'!H392,\"\")","v":""}]
[{"$f":"+'Sjekkliste noter'!A394","v":255},{"$f":"IF('Sjekkliste noter'!F394<>\"\",1,0)","v":0},0,{"$f":"IF($C256=1,'Sjekkliste noter'!A394,\"\")","v":""},{"$f":"IF($C256=1,'Sjekkliste noter'!B394,\"\")","v":""},null,{"$f":"IF($C256=1,'Sjekkliste noter'!H394,\"\")","v":""}]
[{"$f":"+'Sjekkliste noter'!A396","v":256},{"$f":"IF('Sjekkliste noter'!F396<>\"\",1,0)","v":0},0,{"$f":"IF($C257=1,'Sjekkliste noter'!A396,\"\")","v":""},{"$f":"IF($C257=1,'Sjekkliste noter'!B396,\"\")","v":""},null,{"$f":"IF($C257=1,'Sjekkliste noter'!H396,\"\")","v":""}]
[{"$f":"+'Sjekkliste noter'!A397","v":257},{"$f":"IF('Sjekkliste noter'!F397<>\"\",1,0)","v":0},{"$f":"SUM(B258:B258)","v":0},{"$f":"IF($C258=1,'Sjekkliste noter'!A397,\"\")","v":""},{"$f":"IF($C258=1,'Sjekkliste noter'!B397,\"\")","v":""},null,{"$f":"IF($C258=1,'Sjekkliste noter'!H397,\"\")","v":""}]
[{"$f":"+'Sjekkliste noter'!A398","v":258},{"$f":"IF('Sjekkliste noter'!F398<>\"\",1,0)","v":0},0,{"$f":"IF($C259=1,'Sjekkliste noter'!A398,\"\")","v":""},{"$f":"IF($C259=1,'Sjekkliste noter'!B398,\"\")","v":""},null,{"$f":"IF($C259=1,'Sjekkliste noter'!H398,\"\")","v":""}]
[{"$f":"+'Sjekkliste noter'!A399","v":259},{"$f":"IF('Sjekkliste noter'!F399<>\"\",1,0)","v":0},0,{"$f":"IF($C260=1,'Sjekkliste noter'!A399,\"\")","v":""},{"$f":"IF($C260=1,'Sjekkliste noter'!B399,\"\")","v":""},null,{"$f":"IF($C260=1,'Sjekkliste noter'!H399,\"\")","v":""}]
[{"$f":"+'Sjekkliste noter'!A406","v":260},{"$f":"IF('Sjekkliste noter'!F406<>\"\",1,0)","v":0},0,{"$f":"IF($C261=1,'Sjekkliste noter'!A406,\"\")","v":""},{"$f":"IF($C261=1,'Sjekkliste noter'!B406,\"\")","v":""},null,{"$f":"IF($C261=1,'Sjekkliste noter'!H406,\"\")","v":""}]
[{"$f":"+'Sjekkliste noter'!A407","v":261},{"$f":"IF('Sjekkliste noter'!F407<>\"\",1,0)","v":0},0,{"$f":"IF($C262=1,'Sjekkliste noter'!A407,\"\")","v":""},{"$f":"IF($C262=1,'Sjekkliste noter'!B407,\"\")","v":""},null,{"$f":"IF($C262=1,'Sjekkliste noter'!H407,\"\")","v":""}]
[{"$f":"+'Sjekkliste noter'!A408","v":262},{"$f":"IF('Sjekkliste noter'!F408<>\"\",1,0)","v":0},0,{"$f":"IF($C263=1,'Sjekkliste noter'!A408,\"\")","v":""},{"$f":"IF($C263=1,'Sjekkliste noter'!B408,\"\")","v":""},null,{"$f":"IF($C263=1,'Sjekkliste noter'!H408,\"\")","v":""}]
[{"$f":"+'Sjekkliste noter'!A410","v":263},{"$f":"IF('Sjekkliste noter'!F410<>\"\",1,0)","v":0},0,{"$f":"IF($C264=1,'Sjekkliste noter'!A410,\"\")","v":""},{"$f":"IF($C264=1,'Sjekkliste noter'!B410,\"\")","v":""},null,{"$f":"IF($C264=1,'Sjekkliste noter'!H410,\"\")","v":""}]
[{"$f":"+'Sjekkliste noter'!A411","v":264},{"$f":"IF('Sjekkliste noter'!F411<>\"\",1,0)","v":0},0,{"$f":"IF($C265=1,'Sjekkliste noter'!A411,\"\")","v":""},{"$f":"IF($C265=1,'Sjekkliste noter'!B411,\"\")","v":""},null,{"$f":"IF($C265=1,'Sjekkliste noter'!H411,\"\")","v":""}]
[{"$f":"+'Sjekkliste noter'!A412","v":265},{"$f":"IF('Sjekkliste noter'!F412<>\"\",1,0)","v":0},0,{"$f":"IF($C266=1,'Sjekkliste noter'!A412,\"\")","v":""},{"$f":"IF($C266=1,'Sjekkliste noter'!B412,\"\")","v":""},null,{"$f":"IF($C266=1,'Sjekkliste noter'!H412,\"\")","v":""}]
[{"$f":"+'Sjekkliste noter'!A414","v":266},{"$f":"IF('Sjekkliste noter'!F414<>\"\",1,0)","v":0},0,{"$f":"IF($C267=1,'Sjekkliste noter'!A414,\"\")","v":""},{"$f":"IF($C267=1,'Sjekkliste noter'!B414,\"\")","v":""},null,{"$f":"IF($C267=1,'Sjekkliste noter'!H414,\"\")","v":""}]
[{"$f":"+'Sjekkliste noter'!A415","v":267},{"$f":"IF('Sjekkliste noter'!F415<>\"\",1,0)","v":0},0,{"$f":"IF($C268=1,'Sjekkliste noter'!A415,\"\")","v":""},{"$f":"IF($C268=1,'Sjekkliste noter'!B415,\"\")","v":""},null,{"$f":"IF($C268=1,'Sjekkliste noter'!H415,\"\")","v":""}]
[{"$f":"+'Sjekkliste noter'!A416","v":268},{"$f":"IF('Sjekkliste noter'!F416<>\"\",1,0)","v":0},0,{"$f":"IF($C269=1,'Sjekkliste noter'!A416,\"\")","v":""},{"$f":"IF($C269=1,'Sjekkliste noter'!B416,\"\")","v":""},null,{"$f":"IF($C269=1,'Sjekkliste noter'!H416,\"\")","v":""}]
[{"$f":"+'Sjekkliste noter'!A418","v":269},{"$f":"IF('Sjekkliste noter'!F418<>\"\",1,0)","v":0},0,{"$f":"IF($C270=1,'Sjekkliste noter'!A418,\"\")","v":""},{"$f":"IF($C270=1,'Sjekkliste noter'!B418,\"\")","v":""},null,{"$f":"IF($C270=1,'Sjekkliste noter'!H418,\"\")","v":""}]
[{"$f":"+'Sjekkliste noter'!A419","v":270},{"$f":"IF('Sjekkliste noter'!F419<>\"\",1,0)","v":0},0,{"$f":"IF($C271=1,'Sjekkliste noter'!A419,\"\")","v":""},{"$f":"IF($C271=1,'Sjekkliste noter'!B419,\"\")","v":""},null,{"$f":"IF($C271=1,'Sjekkliste noter'!H419,\"\")","v":""}]
[{"$f":"+'Sjekkliste noter'!A422","v":271},{"$f":"IF('Sjekkliste noter'!F422<>\"\",1,0)","v":0},0,{"$f":"IF($C272=1,'Sjekkliste noter'!A422,\"\")","v":""},{"$f":"IF($C272=1,'Sjekkliste noter'!B422,\"\")","v":""},null,{"$f":"IF($C272=1,'Sjekkliste noter'!H422,\"\")","v":""}]
[{"$f":"+'Sjekkliste noter'!A423","v":272},{"$f":"IF('Sjekkliste noter'!F423<>\"\",1,0)","v":0},0,{"$f":"IF($C273=1,'Sjekkliste noter'!A423,\"\")","v":""},{"$f":"IF($C273=1,'Sjekkliste noter'!B423,\"\")","v":""},null,{"$f":"IF($C273=1,'Sjekkliste noter'!H423,\"\")","v":""}]
[{"$f":"+'Sjekkliste noter'!A424","v":273},{"$f":"IF('Sjekkliste noter'!F424<>\"\",1,0)","v":0},0,{"$f":"IF($C274=1,'Sjekkliste noter'!A424,\"\")","v":""},{"$f":"IF($C274=1,'Sjekkliste noter'!B424,\"\")","v":""},null,{"$f":"IF($C274=1,'Sjekkliste noter'!H424,\"\")","v":""}]
[{"$f":"+'Sjekkliste noter'!A425","v":274},{"$f":"IF('Sjekkliste noter'!F425<>\"\",1,0)","v":0},0,{"$f":"IF($C275=1,'Sjekkliste noter'!A425,\"\")","v":""},{"$f":"IF($C275=1,'Sjekkliste noter'!B425,\"\")","v":""},null,{"$f":"IF($C275=1,'Sjekkliste noter'!H425,\"\")","v":""}]
[{"$f":"+'Sjekkliste noter'!A426","v":275},{"$f":"IF('Sjekkliste noter'!F426<>\"\",1,0)","v":0},0,{"$f":"IF($C276=1,'Sjekkliste noter'!A426,\"\")","v":""},{"$f":"IF($C276=1,'Sjekkliste noter'!B426,\"\")","v":""},null,{"$f":"IF($C276=1,'Sjekkliste noter'!H426,\"\")","v":""}]
[{"$f":"+'Sjekkliste noter'!A428","v":276},{"$f":"IF('Sjekkliste noter'!F428<>\"\",1,0)","v":0},0,{"$f":"IF($C277=1,'Sjekkliste noter'!A428,\"\")","v":""},{"$f":"IF($C277=1,'Sjekkliste noter'!B428,\"\")","v":""},null,{"$f":"IF($C277=1,'Sjekkliste noter'!H428,\"\")","v":""}]
[{"$f":"+'Sjekkliste noter'!A429","v":277},{"$f":"IF('Sjekkliste noter'!F429<>\"\",1,0)","v":0},0,{"$f":"IF($C278=1,'Sjekkliste noter'!A429,\"\")","v":""},{"$f":"IF($C278=1,'Sjekkliste noter'!B429,\"\")","v":""},null,{"$f":"IF($C278=1,'Sjekkliste noter'!H429,\"\")","v":""}]
[{"$f":"+'Sjekkliste noter'!A430","v":278},{"$f":"IF('Sjekkliste noter'!F430<>\"\",1,0)","v":0},0,{"$f":"IF($C279=1,'Sjekkliste noter'!A430,\"\")","v":""},{"$f":"IF($C279=1,'Sjekkliste noter'!B430,\"\")","v":""},null,{"$f":"IF($C279=1,'Sjekkliste noter'!H430,\"\")","v":""}]
[{"$f":"+'Sjekkliste noter'!A431","v":279},{"$f":"IF('Sjekkliste noter'!F431<>\"\",1,0)","v":0},0,{"$f":"IF($C280=1,'Sjekkliste noter'!A431,\"\")","v":""},{"$f":"IF($C280=1,'Sjekkliste noter'!B431,\"\")","v":""},null,{"$f":"IF($C280=1,'Sjekkliste noter'!H431,\"\")","v":""}]
[{"$f":"+'Sjekkliste noter'!A432","v":280},{"$f":"IF('Sjekkliste noter'!F432<>\"\",1,0)","v":0},0,{"$f":"IF($C281=1,'Sjekkliste noter'!A432,\"\")","v":""},{"$f":"IF($C281=1,'Sjekkliste noter'!B432,\"\")","v":""},null,{"$f":"IF($C281=1,'Sjekkliste noter'!H432,\"\")","v":""}]
[{"$f":"+'Sjekkliste noter'!A433","v":281},{"$f":"IF('Sjekkliste noter'!F433<>\"\",1,0)","v":0},0,{"$f":"IF($C282=1,'Sjekkliste noter'!A433,\"\")","v":""},{"$f":"IF($C282=1,'Sjekkliste noter'!B433,\"\")","v":""},null,{"$f":"IF($C282=1,'Sjekkliste noter'!H433,\"\")","v":""}]
[{"$f":"+'Sjekkliste noter'!A434","v":282},{"$f":"IF('Sjekkliste noter'!F434<>\"\",1,0)","v":0},0,{"$f":"IF($C283=1,'Sjekkliste noter'!A434,\"\")","v":""},{"$f":"IF($C283=1,'Sjekkliste noter'!B434,\"\")","v":""},null,{"$f":"IF($C283=1,'Sjekkliste noter'!H434,\"\")","v":""}]
[{"$f":"+'Sjekkliste noter'!A437","v":283},{"$f":"IF('Sjekkliste noter'!F437<>\"\",1,0)","v":0},0,{"$f":"IF($C284=1,'Sjekkliste noter'!A437,\"\")","v":""},{"$f":"IF($C284=1,'Sjekkliste noter'!B437,\"\")","v":""},null,{"$f":"IF($C284=1,'Sjekkliste noter'!H437,\"\")","v":""}]
[{"$f":"+'Sjekkliste noter'!A439","v":284},{"$f":"IF('Sjekkliste noter'!F439<>\"\",1,0)","v":0},0,{"$f":"IF($C285=1,'Sjekkliste noter'!A439,\"\")","v":""},{"$f":"IF($C285=1,'Sjekkliste noter'!B439,\"\")","v":""},null,{"$f":"IF($C285=1,'Sjekkliste noter'!H439,\"\")","v":""}]
[{"$f":"+'Sjekkliste noter'!A440","v":285},{"$f":"IF('Sjekkliste noter'!F440<>\"\",1,0)","v":0},0,{"$f":"IF($C286=1,'Sjekkliste noter'!A440,\"\")","v":""},{"$f":"IF($C286=1,'Sjekkliste noter'!B440,\"\")","v":""},null,{"$f":"IF($C286=1,'Sjekkliste noter'!H440,\"\")","v":""}]
[{"$f":"+'Sjekkliste noter'!A444","v":286},{"$f":"IF('Sjekkliste noter'!F444<>\"\",1,0)","v":0},0,{"$f":"IF($C287=1,'Sjekkliste noter'!A444,\"\")","v":""},{"$f":"IF($C287=1,'Sjekkliste noter'!B444,\"\")","v":""},null,{"$f":"IF($C287=1,'Sjekkliste noter'!H444,\"\")","v":""}]
[{"$f":"+'Sjekkliste noter'!A445","v":287},{"$f":"IF('Sjekkliste noter'!F445<>\"\",1,0)","v":0},0,{"$f":"IF($C288=1,'Sjekkliste noter'!A445,\"\")","v":""},{"$f":"IF($C288=1,'Sjekkliste noter'!B445,\"\")","v":""},null,{"$f":"IF($C288=1,'Sjekkliste noter'!H445,\"\")","v":""}]
[{"$f":"+'Sjekkliste noter'!A446","v":288},{"$f":"IF('Sjekkliste noter'!F446<>\"\",1,0)","v":0},0,{"$f":"IF($C289=1,'Sjekkliste noter'!A446,\"\")","v":""},{"$f":"IF($C289=1,'Sjekkliste noter'!B446,\"\")","v":""},null,{"$f":"IF($C289=1,'Sjekkliste noter'!H446,\"\")","v":""}]
[{"$f":"+'Sjekkliste noter'!A447","v":289},{"$f":"IF('Sjekkliste noter'!F447<>\"\",1,0)","v":0},0,{"$f":"IF($C290=1,'Sjekkliste noter'!A447,\"\")","v":""},{"$f":"IF($C290=1,'Sjekkliste noter'!B447,\"\")","v":""},null,{"$f":"IF($C290=1,'Sjekkliste noter'!H447,\"\")","v":""}]
[{"$f":"+'Sjekkliste noter'!A448","v":290},{"$f":"IF('Sjekkliste noter'!F448<>\"\",1,0)","v":0},0,{"$f":"IF($C291=1,'Sjekkliste noter'!A448,\"\")","v":""},{"$f":"IF($C291=1,'Sjekkliste noter'!B448,\"\")","v":""},null,{"$f":"IF($C291=1,'Sjekkliste noter'!H448,\"\")","v":""}]
[{"$f":"+'Sjekkliste noter'!A449","v":291},{"$f":"IF('Sjekkliste noter'!F449<>\"\",1,0)","v":0},0,{"$f":"IF($C292=1,'Sjekkliste noter'!A449,\"\")","v":""},{"$f":"IF($C292=1,'Sjekkliste noter'!B449,\"\")","v":""},null,{"$f":"IF($C292=1,'Sjekkliste noter'!H449,\"\")","v":""}]
[{"$f":"+'Sjekkliste noter'!A450","v":292},{"$f":"IF('Sjekkliste noter'!F450<>\"\",1,0)","v":0},0,{"$f":"IF($C293=1,'Sjekkliste noter'!A450,\"\")","v":""},{"$f":"IF($C293=1,'Sjekkliste noter'!B450,\"\")","v":""},null,{"$f":"IF($C293=1,'Sjekkliste noter'!H450,\"\")","v":""}]
[{"$f":"+'Sjekkliste noter'!A451","v":293},{"$f":"IF('Sjekkliste noter'!F451<>\"\",1,0)","v":0},0,{"$f":"IF($C294=1,'Sjekkliste noter'!A451,\"\")","v":""},{"$f":"IF($C294=1,'Sjekkliste noter'!B451,\"\")","v":""},null,{"$f":"IF($C294=1,'Sjekkliste noter'!H451,\"\")","v":""}]
[{"$f":"+'Sjekkliste noter'!A454","v":294},{"$f":"IF('Sjekkliste noter'!F454<>\"\",1,0)","v":0},0,{"$f":"IF($C295=1,'Sjekkliste noter'!A454,\"\")","v":""},{"$f":"IF($C295=1,'Sjekkliste noter'!B454,\"\")","v":""},null,{"$f":"IF($C295=1,'Sjekkliste noter'!H454,\"\")","v":""}]
[{"$f":"+'Sjekkliste noter'!A455","v":295},{"$f":"IF('Sjekkliste noter'!F455<>\"\",1,0)","v":0},0,{"$f":"IF($C296=1,'Sjekkliste noter'!A455,\"\")","v":""},{"$f":"IF($C296=1,'Sjekkliste noter'!B455,\"\")","v":""},null,{"$f":"IF($C296=1,'Sjekkliste noter'!H455,\"\")","v":""}]
[{"$f":"+'Sjekkliste noter'!A456","v":296},{"$f":"IF('Sjekkliste noter'!F456<>\"\",1,0)","v":0},0,{"$f":"IF($C297=1,'Sjekkliste noter'!A456,\"\")","v":""},{"$f":"IF($C297=1,'Sjekkliste noter'!B456,\"\")","v":""},null,{"$f":"IF($C297=1,'Sjekkliste noter'!H456,\"\")","v":""}]
[{"$f":"+'Sjekkliste noter'!A461","v":297},{"$f":"IF('Sjekkliste noter'!F461<>\"\",1,0)","v":0},0,{"$f":"IF($C298=1,'Sjekkliste noter'!A461,\"\")","v":""},{"$f":"IF($C298=1,'Sjekkliste noter'!B461,\"\")","v":""},null,{"$f":"IF($C298=1,'Sjekkliste noter'!H461,\"\")","v":""}]
[{"$f":"+'Sjekkliste noter'!A462","v":298},{"$f":"IF('Sjekkliste noter'!F462<>\"\",1,0)","v":0},0,{"$f":"IF($C299=1,'Sjekkliste noter'!A462,\"\")","v":""},{"$f":"IF($C299=1,'Sjekkliste noter'!B462,\"\")","v":""},null,{"$f":"IF($C299=1,'Sjekkliste noter'!H462,\"\")","v":""}]
[{"$f":"+'Sjekkliste noter'!A463","v":299},{"$f":"IF('Sjekkliste noter'!F463<>\"\",1,0)","v":0},0,{"$f":"IF($C300=1,'Sjekkliste noter'!A463,\"\")","v":""},{"$f":"IF($C300=1,'Sjekkliste noter'!B463,\"\")","v":""},null,{"$f":"IF($C300=1,'Sjekkliste noter'!H463,\"\")","v":""}]
[{"$f":"+'Sjekkliste noter'!A464","v":300},{"$f":"IF('Sjekkliste noter'!F464<>\"\",1,0)","v":0},0,{"$f":"IF($C301=1,'Sjekkliste noter'!A464,\"\")","v":""},{"$f":"IF($C301=1,'Sjekkliste noter'!B464,\"\")","v":""},null,{"$f":"IF($C301=1,'Sjekkliste noter'!H464,\"\")","v":""}]
[{"$f":"+'Sjekkliste noter'!A465","v":301},{"$f":"IF('Sjekkliste noter'!F465<>\"\",1,0)","v":0},0,{"$f":"IF($C302=1,'Sjekkliste noter'!A465,\"\")","v":""},{"$f":"IF($C302=1,'Sjekkliste noter'!B465,\"\")","v":""},null,{"$f":"IF($C302=1,'Sjekkliste noter'!H465,\"\")","v":""}]
[{"$f":"+'Sjekkliste noter'!A466","v":302},{"$f":"IF('Sjekkliste noter'!F466<>\"\",1,0)","v":0},0,{"$f":"IF($C303=1,'Sjekkliste noter'!A466,\"\")","v":""},{"$f":"IF($C303=1,'Sjekkliste noter'!B466,\"\")","v":""},null,{"$f":"IF($C303=1,'Sjekkliste noter'!H466,\"\")","v":""}]
[{"$f":"+'Sjekkliste noter'!A468","v":303},{"$f":"IF('Sjekkliste noter'!F468<>\"\",1,0)","v":0},0,{"$f":"IF($C304=1,'Sjekkliste noter'!A468,\"\")","v":""},{"$f":"IF($C304=1,'Sjekkliste noter'!B468,\"\")","v":""},null,{"$f":"IF($C304=1,'Sjekkliste noter'!H468,\"\")","v":""}]
[{"$f":"+'Sjekkliste noter'!A469","v":304},{"$f":"IF('Sjekkliste noter'!F469<>\"\",1,0)","v":0},0,{"$f":"IF($C305=1,'Sjekkliste noter'!A469,\"\")","v":""},{"$f":"IF($C305=1,'Sjekkliste noter'!B469,\"\")","v":""},null,{"$f":"IF($C305=1,'Sjekkliste noter'!H469,\"\")","v":""}]
[{"$f":"+'Sjekkliste noter'!A470","v":305},{"$f":"IF('Sjekkliste noter'!F470<>\"\",1,0)","v":0},0,{"$f":"IF($C306=1,'Sjekkliste noter'!A470,\"\")","v":""},{"$f":"IF($C306=1,'Sjekkliste noter'!B470,\"\")","v":""},null,{"$f":"IF($C306=1,'Sjekkliste noter'!H470,\"\")","v":""}]
[{"$f":"+'Sjekkliste noter'!A472","v":306},{"$f":"IF('Sjekkliste noter'!F472<>\"\",1,0)","v":0},0,{"$f":"IF($C307=1,'Sjekkliste noter'!A472,\"\")","v":""},{"$f":"IF($C307=1,'Sjekkliste noter'!B472,\"\")","v":""},null,{"$f":"IF($C307=1,'Sjekkliste noter'!H472,\"\")","v":""}]
[{"$f":"+'Sjekkliste noter'!A473","v":307},{"$f":"IF('Sjekkliste noter'!F473<>\"\",1,0)","v":0},0,{"$f":"IF($C308=1,'Sjekkliste noter'!A473,\"\")","v":""},{"$f":"IF($C308=1,'Sjekkliste noter'!B473,\"\")","v":""},null,{"$f":"IF($C308=1,'Sjekkliste noter'!H473,\"\")","v":""}]
[{"$f":"+'Sjekkliste noter'!A474","v":308},{"$f":"IF('Sjekkliste noter'!F474<>\"\",1,0)","v":0},0,{"$f":"IF($C309=1,'Sjekkliste noter'!A474,\"\")","v":""},{"$f":"IF($C309=1,'Sjekkliste noter'!B474,\"\")","v":""},null,{"$f":"IF($C309=1,'Sjekkliste noter'!H474,\"\")","v":""}]
[{"$f":"+'Sjekkliste noter'!A475","v":309},{"$f":"IF('Sjekkliste noter'!F475<>\"\",1,0)","v":0},0,{"$f":"IF($C310=1,'Sjekkliste noter'!A475,\"\")","v":""},{"$f":"IF($C310=1,'Sjekkliste noter'!B475,\"\")","v":""},null,{"$f":"IF($C310=1,'Sjekkliste noter'!H475,\"\")","v":""}]
[{"$f":"+'Sjekkliste noter'!A479","v":310},{"$f":"IF('Sjekkliste noter'!F479<>\"\",1,0)","v":0},0,{"$f":"IF($C311=1,'Sjekkliste noter'!A479,\"\")","v":""},{"$f":"IF($C311=1,'Sjekkliste noter'!B479,\"\")","v":""},null,{"$f":"IF($C311=1,'Sjekkliste noter'!H479,\"\")","v":""}]
[{"$f":"+'Sjekkliste noter'!A480","v":311},{"$f":"IF('Sjekkliste noter'!F480<>\"\",1,0)","v":0},0,{"$f":"IF($C312=1,'Sjekkliste noter'!A480,\"\")","v":""},{"$f":"IF($C312=1,'Sjekkliste noter'!B480,\"\")","v":""},null,{"$f":"IF($C312=1,'Sjekkliste noter'!H480,\"\")","v":""}]
[{"$f":"+'Sjekkliste noter'!A481","v":312},{"$f":"IF('Sjekkliste noter'!F481<>\"\",1,0)","v":0},0,{"$f":"IF($C313=1,'Sjekkliste noter'!A481,\"\")","v":""},{"$f":"IF($C313=1,'Sjekkliste noter'!B481,\"\")","v":""},null,{"$f":"IF($C313=1,'Sjekkliste noter'!H481,\"\")","v":""}]
[{"$f":"+'Sjekkliste noter'!A483","v":313},{"$f":"IF('Sjekkliste noter'!F483<>\"\",1,0)","v":0},0,{"$f":"IF($C314=1,'Sjekkliste noter'!A483,\"\")","v":""},{"$f":"IF($C314=1,'Sjekkliste noter'!B483,\"\")","v":""},null,{"$f":"IF($C314=1,'Sjekkliste noter'!H483,\"\")","v":""}]
[{"$f":"+'Sjekkliste noter'!A484","v":314},{"$f":"IF('Sjekkliste noter'!F484<>\"\",1,0)","v":0},0,{"$f":"IF($C315=1,'Sjekkliste noter'!A484,\"\")","v":""},{"$f":"IF($C315=1,'Sjekkliste noter'!B484,\"\")","v":""},null,{"$f":"IF($C315=1,'Sjekkliste noter'!H484,\"\")","v":""}]
[{"$f":"+'Sjekkliste noter'!A485","v":315},{"$f":"IF('Sjekkliste noter'!F485<>\"\",1,0)","v":0},0,{"$f":"IF($C316=1,'Sjekkliste noter'!A485,\"\")","v":""},{"$f":"IF($C316=1,'Sjekkliste noter'!B485,\"\")","v":""},null,{"$f":"IF($C316=1,'Sjekkliste noter'!H485,\"\")","v":""}]
[{"$f":"+'Sjekkliste noter'!A486","v":316},{"$f":"IF('Sjekkliste noter'!F486<>\"\",1,0)","v":0},0,{"$f":"IF($C317=1,'Sjekkliste noter'!A486,\"\")","v":""},{"$f":"IF($C317=1,'Sjekkliste noter'!B486,\"\")","v":""},null,{"$f":"IF($C317=1,'Sjekkliste noter'!H486,\"\")","v":""}]
[{"$f":"+'Sjekkliste noter'!A490","v":317},{"$f":"IF('Sjekkliste noter'!F490<>\"\",1,0)","v":0},0,{"$f":"IF($C318=1,'Sjekkliste noter'!A490,\"\")","v":""},{"$f":"IF($C318=1,'Sjekkliste noter'!B490,\"\")","v":""},null,{"$f":"IF($C318=1,'Sjekkliste noter'!H490,\"\")","v":""}]
[{"$f":"+'Sjekkliste noter'!A491","v":318},{"$f":"IF('Sjekkliste noter'!F491<>\"\",1,0)","v":0},0,{"$f":"IF($C319=1,'Sjekkliste noter'!A491,\"\")","v":""},{"$f":"IF($C319=1,'Sjekkliste noter'!B491,\"\")","v":""},null,{"$f":"IF($C319=1,'Sjekkliste noter'!H491,\"\")","v":""}]
[{"$f":"+'Sjekkliste noter'!A492","v":319},{"$f":"IF('Sjekkliste noter'!F492<>\"\",1,0)","v":0},0,{"$f":"IF($C320=1,'Sjekkliste noter'!A492,\"\")","v":""},{"$f":"IF($C320=1,'Sjekkliste noter'!B492,\"\")","v":""},null,{"$f":"IF($C320=1,'Sjekkliste noter'!H492,\"\")","v":""}]
[{"$f":"+'Sjekkliste noter'!A493","v":320},{"$f":"IF('Sjekkliste noter'!F493<>\"\",1,0)","v":0},0,{"$f":"IF($C321=1,'Sjekkliste noter'!A493,\"\")","v":""},{"$f":"IF($C321=1,'Sjekkliste noter'!B493,\"\")","v":""},null,{"$f":"IF($C321=1,'Sjekkliste noter'!H493,\"\")","v":""}]
[{"$f":"+'Sjekkliste noter'!A497","v":321},{"$f":"IF('Sjekkliste noter'!F497<>\"\",1,0)","v":0},{"$f":"SUM(B322:B322)","v":0},{"$f":"IF($C322=1,'Sjekkliste noter'!A497,\"\")","v":""},{"$f":"IF($C322=1,'Sjekkliste noter'!B497,\"\")","v":""},null,{"$f":"IF($C322=1,'Sjekkliste noter'!H497,\"\")","v":""}]
[{"$f":"+'Sjekkliste noter'!A498","v":322},{"$f":"IF('Sjekkliste noter'!F498<>\"\",1,0)","v":0},0,{"$f":"IF($C323=1,'Sjekkliste noter'!A498,\"\")","v":""},{"$f":"IF($C323=1,'Sjekkliste noter'!B498,\"\")","v":""},null,{"$f":"IF($C323=1,'Sjekkliste noter'!H498,\"\")","v":""}]
[{"$f":"+'Sjekkliste noter'!A500","v":323},{"$f":"IF('Sjekkliste noter'!F500<>\"\",1,0)","v":0},0,{"$f":"IF($C324=1,'Sjekkliste noter'!A500,\"\")","v":""},{"$f":"IF($C324=1,'Sjekkliste noter'!B500,\"\")","v":""},null,{"$f":"IF($C324=1,'Sjekkliste noter'!H500,\"\")","v":""}]
[{"$f":"+'Sjekkliste noter'!A502","v":324},{"$f":"IF('Sjekkliste noter'!F502<>\"\",1,0)","v":0},0,{"$f":"IF($C325=1,'Sjekkliste noter'!A502,\"\")","v":""},{"$f":"IF($C325=1,'Sjekkliste noter'!B502,\"\")","v":""},null,{"$f":"IF($C325=1,'Sjekkliste noter'!H502,\"\")","v":""}]
[{"$f":"+'Sjekkliste noter'!A503","v":325},{"$f":"IF('Sjekkliste noter'!F503<>\"\",1,0)","v":0},0,{"$f":"IF($C326=1,'Sjekkliste noter'!A503,\"\")","v":""},{"$f":"IF($C326=1,'Sjekkliste noter'!B503,\"\")","v":""},null,{"$f":"IF($C326=1,'Sjekkliste noter'!H503,\"\")","v":""}]
[{"$f":"+'Sjekkliste noter'!A504","v":326},{"$f":"IF('Sjekkliste noter'!F504<>\"\",1,0)","v":0},0,{"$f":"IF($C327=1,'Sjekkliste noter'!A504,\"\")","v":""},{"$f":"IF($C327=1,'Sjekkliste noter'!B504,\"\")","v":""},null,{"$f":"IF($C327=1,'Sjekkliste noter'!H504,\"\")","v":""}]
[{"$f":"+'Sjekkliste noter'!A505","v":327},{"$f":"IF('Sjekkliste noter'!F505<>\"\",1,0)","v":0},0,{"$f":"IF($C328=1,'Sjekkliste noter'!A505,\"\")","v":""},{"$f":"IF($C328=1,'Sjekkliste noter'!B505,\"\")","v":""},null,{"$f":"IF($C328=1,'Sjekkliste noter'!H505,\"\")","v":""}]
[{"$f":"+'Sjekkliste noter'!A506","v":328},{"$f":"IF('Sjekkliste noter'!F506<>\"\",1,0)","v":0},0,{"$f":"IF($C329=1,'Sjekkliste noter'!A506,\"\")","v":""},{"$f":"IF($C329=1,'Sjekkliste noter'!B506,\"\")","v":""},null,{"$f":"IF($C329=1,'Sjekkliste noter'!H506,\"\")","v":""}]
[{"$f":"+'Sjekkliste noter'!A507","v":329},{"$f":"IF('Sjekkliste noter'!F507<>\"\",1,0)","v":0},0,{"$f":"IF($C330=1,'Sjekkliste noter'!A507,\"\")","v":""},{"$f":"IF($C330=1,'Sjekkliste noter'!B507,\"\")","v":""},null,{"$f":"IF($C330=1,'Sjekkliste noter'!H507,\"\")","v":""}]
[{"$f":"+'Sjekkliste noter'!A508","v":330},{"$f":"IF('Sjekkliste noter'!F508<>\"\",1,0)","v":0},0,{"$f":"IF($C331=1,'Sjekkliste noter'!A508,\"\")","v":""},{"$f":"IF($C331=1,'Sjekkliste noter'!B508,\"\")","v":""},null,{"$f":"IF($C331=1,'Sjekkliste noter'!H508,\"\")","v":""}]
[{"$f":"+'Sjekkliste noter'!A509","v":331},{"$f":"IF('Sjekkliste noter'!F509<>\"\",1,0)","v":0},0,{"$f":"IF($C332=1,'Sjekkliste noter'!A509,\"\")","v":""},{"$f":"IF($C332=1,'Sjekkliste noter'!B509,\"\")","v":""},null,{"$f":"IF($C332=1,'Sjekkliste noter'!H509,\"\")","v":""}]
[{"$f":"+'Sjekkliste noter'!A510","v":332},{"$f":"IF('Sjekkliste noter'!F510<>\"\",1,0)","v":0},0,{"$f":"IF($C333=1,'Sjekkliste noter'!A510,\"\")","v":""},{"$f":"IF($C333=1,'Sjekkliste noter'!B510,\"\")","v":""},null,{"$f":"IF($C333=1,'Sjekkliste noter'!H510,\"\")","v":""}]
[{"$f":"+'Sjekkliste noter'!A512","v":333},{"$f":"IF('Sjekkliste noter'!F512<>\"\",1,0)","v":0},0,{"$f":"IF($C334=1,'Sjekkliste noter'!A512,\"\")","v":""},{"$f":"IF($C334=1,'Sjekkliste noter'!B512,\"\")","v":""},null,{"$f":"IF($C334=1,'Sjekkliste noter'!H512,\"\")","v":""}]
[{"$f":"+'Sjekkliste noter'!A513","v":334},{"$f":"IF('Sjekkliste noter'!F513<>\"\",1,0)","v":0},0,{"$f":"IF($C335=1,'Sjekkliste noter'!A513,\"\")","v":""},{"$f":"IF($C335=1,'Sjekkliste noter'!B513,\"\")","v":""},null,{"$f":"IF($C335=1,'Sjekkliste noter'!H513,\"\")","v":""}]
[{"$f":"+'Sjekkliste noter'!A514","v":335},{"$f":"IF('Sjekkliste noter'!F514<>\"\",1,0)","v":0},0,{"$f":"IF($C336=1,'Sjekkliste noter'!A514,\"\")","v":""},{"$f":"IF($C336=1,'Sjekkliste noter'!B514,\"\")","v":""},null,{"$f":"IF($C336=1,'Sjekkliste noter'!H514,\"\")","v":""}]
[{"$f":"+'Sjekkliste noter'!A515","v":336},{"$f":"IF('Sjekkliste noter'!F515<>\"\",1,0)","v":0},0,{"$f":"IF($C337=1,'Sjekkliste noter'!A515,\"\")","v":""},{"$f":"IF($C337=1,'Sjekkliste noter'!B515,\"\")","v":""},null,{"$f":"IF($C337=1,'Sjekkliste noter'!H515,\"\")","v":""}]
[{"$f":"+'Sjekkliste noter'!A516","v":337},{"$f":"IF('Sjekkliste noter'!F516<>\"\",1,0)","v":0},0,{"$f":"IF($C338=1,'Sjekkliste noter'!A516,\"\")","v":""},{"$f":"IF($C338=1,'Sjekkliste noter'!B516,\"\")","v":""},null,{"$f":"IF($C338=1,'Sjekkliste noter'!H516,\"\")","v":""}]
[{"$f":"+'Sjekkliste noter'!A517","v":338},{"$f":"IF('Sjekkliste noter'!F517<>\"\",1,0)","v":0},0,{"$f":"IF($C339=1,'Sjekkliste noter'!A517,\"\")","v":""},{"$f":"IF($C339=1,'Sjekkliste noter'!B517,\"\")","v":""},null,{"$f":"IF($C339=1,'Sjekkliste noter'!H517,\"\")","v":""}]
[{"$f":"+'Sjekkliste noter'!A518","v":339},{"$f":"IF('Sjekkliste noter'!F518<>\"\",1,0)","v":0},0,{"$f":"IF($C340=1,'Sjekkliste noter'!A518,\"\")","v":""},{"$f":"IF($C340=1,'Sjekkliste noter'!B518,\"\")","v":""},null,{"$f":"IF($C340=1,'Sjekkliste noter'!H518,\"\")","v":""}]
[{"$f":"+'Sjekkliste noter'!A520","v":340},{"$f":"IF('Sjekkliste noter'!F520<>\"\",1,0)","v":0},0,{"$f":"IF($C341=1,'Sjekkliste noter'!A520,\"\")","v":""},{"$f":"IF($C341=1,'Sjekkliste noter'!B520,\"\")","v":""},null,{"$f":"IF($C341=1,'Sjekkliste noter'!H520,\"\")","v":""}]
[{"$f":"+'Sjekkliste noter'!A521","v":341},{"$f":"IF('Sjekkliste noter'!F521<>\"\",1,0)","v":0},0,{"$f":"IF($C342=1,'Sjekkliste noter'!A521,\"\")","v":""},{"$f":"IF($C342=1,'Sjekkliste noter'!B521,\"\")","v":""},null,{"$f":"IF($C342=1,'Sjekkliste noter'!H521,\"\")","v":""}]
[{"$f":"+'Sjekkliste noter'!A522","v":342},{"$f":"IF('Sjekkliste noter'!F522<>\"\",1,0)","v":0},0,{"$f":"IF($C343=1,'Sjekkliste noter'!A522,\"\")","v":""},{"$f":"IF($C343=1,'Sjekkliste noter'!B522,\"\")","v":""},null,{"$f":"IF($C343=1,'Sjekkliste noter'!H522,\"\")","v":""}]
[{"$f":"+'Sjekkliste noter'!A526","v":343},{"$f":"IF('Sjekkliste noter'!F526<>\"\",1,0)","v":0},0,{"$f":"IF($C344=1,'Sjekkliste noter'!A526,\"\")","v":""},{"$f":"IF($C344=1,'Sjekkliste noter'!B526,\"\")","v":""},null,{"$f":"IF($C344=1,'Sjekkliste noter'!H526,\"\")","v":""}]
[{"$f":"+'Sjekkliste noter'!A527","v":344},{"$f":"IF('Sjekkliste noter'!F527<>\"\",1,0)","v":0},0,{"$f":"IF($C345=1,'Sjekkliste noter'!A527,\"\")","v":""},{"$f":"IF($C345=1,'Sjekkliste noter'!B527,\"\")","v":""},null,{"$f":"IF($C345=1,'Sjekkliste noter'!H527,\"\")","v":""}]
[{"$f":"+'Sjekkliste noter'!A528","v":345},{"$f":"IF('Sjekkliste noter'!F528<>\"\",1,0)","v":0},0,{"$f":"IF($C346=1,'Sjekkliste noter'!A528,\"\")","v":""},{"$f":"IF($C346=1,'Sjekkliste noter'!B528,\"\")","v":""},null,{"$f":"IF($C346=1,'Sjekkliste noter'!H528,\"\")","v":""}]
[{"$f":"+'Sjekkliste noter'!A529","v":346},{"$f":"IF('Sjekkliste noter'!F529<>\"\",1,0)","v":0},0,{"$f":"IF($C347=1,'Sjekkliste noter'!A529,\"\")","v":""},{"$f":"IF($C347=1,'Sjekkliste noter'!B529,\"\")","v":""},null,{"$f":"IF($C347=1,'Sjekkliste noter'!H529,\"\")","v":""}]
[{"$f":"+'Sjekkliste noter'!A531","v":347},{"$f":"IF('Sjekkliste noter'!F531<>\"\",1,0)","v":0},0,{"$f":"IF($C348=1,'Sjekkliste noter'!A531,\"\")","v":""},{"$f":"IF($C348=1,'Sjekkliste noter'!B531,\"\")","v":""},null,{"$f":"IF($C348=1,'Sjekkliste noter'!H531,\"\")","v":""}]
[{"$f":"+'Sjekkliste noter'!A535","v":348},{"$f":"IF('Sjekkliste noter'!F535<>\"\",1,0)","v":0},0,{"$f":"IF($C349=1,'Sjekkliste noter'!A535,\"\")","v":""},{"$f":"IF($C349=1,'Sjekkliste noter'!B535,\"\")","v":""},null,{"$f":"IF($C349=1,'Sjekkliste noter'!H535,\"\")","v":""}]
[{"$f":"+'Sjekkliste noter'!A536","v":349},{"$f":"IF('Sjekkliste noter'!F536<>\"\",1,0)","v":0},0,{"$f":"IF($C350=1,'Sjekkliste noter'!A536,\"\")","v":""},{"$f":"IF($C350=1,'Sjekkliste noter'!B536,\"\")","v":""},null,{"$f":"IF($C350=1,'Sjekkliste noter'!H536,\"\")","v":""}]
[{"$f":"+'Sjekkliste noter'!A537","v":350},{"$f":"IF('Sjekkliste noter'!F537<>\"\",1,0)","v":0},0,{"$f":"IF($C351=1,'Sjekkliste noter'!A537,\"\")","v":""},{"$f":"IF($C351=1,'Sjekkliste noter'!B537,\"\")","v":""},null,{"$f":"IF($C351=1,'Sjekkliste noter'!H537,\"\")","v":""}]
[{"$f":"+'Sjekkliste noter'!A538","v":351},{"$f":"IF('Sjekkliste noter'!F538<>\"\",1,0)","v":0},0,{"$f":"IF($C352=1,'Sjekkliste noter'!A538,\"\")","v":""},{"$f":"IF($C352=1,'Sjekkliste noter'!B538,\"\")","v":""},null,{"$f":"IF($C352=1,'Sjekkliste noter'!H538,\"\")","v":""}]
[{"$f":"+'Sjekkliste noter'!A539","v":352},{"$f":"IF('Sjekkliste noter'!F539<>\"\",1,0)","v":0},0,{"$f":"IF($C353=1,'Sjekkliste noter'!A539,\"\")","v":""},{"$f":"IF($C353=1,'Sjekkliste noter'!B539,\"\")","v":""},null,{"$f":"IF($C353=1,'Sjekkliste noter'!H539,\"\")","v":""}]
[{"$f":"+'Sjekkliste noter'!A546","v":353},{"$f":"IF('Sjekkliste noter'!F546<>\"\",1,0)","v":0},0,{"$f":"IF($C354=1,'Sjekkliste noter'!A546,\"\")","v":""},{"$f":"IF($C354=1,'Sjekkliste noter'!B546,\"\")","v":""},null,{"$f":"IF($C354=1,'Sjekkliste noter'!H546,\"\")","v":""}]
[{"$f":"+'Sjekkliste noter'!A548","v":354},{"$f":"IF('Sjekkliste noter'!F548<>\"\",1,0)","v":0},0,{"$f":"IF($C355=1,'Sjekkliste noter'!A548,\"\")","v":""},{"$f":"IF($C355=1,'Sjekkliste noter'!B548,\"\")","v":""},null,{"$f":"IF($C355=1,'Sjekkliste noter'!H548,\"\")","v":""}]
[{"$f":"+'Sjekkliste noter'!A549","v":355},{"$f":"IF('Sjekkliste noter'!F549<>\"\",1,0)","v":0},0,{"$f":"IF($C356=1,'Sjekkliste noter'!A549,\"\")","v":""},{"$f":"IF($C356=1,'Sjekkliste noter'!B549,\"\")","v":""},null,{"$f":"IF($C356=1,'Sjekkliste noter'!H549,\"\")","v":""}]
[{"$f":"+'Sjekkliste noter'!A551","v":356},{"$f":"IF('Sjekkliste noter'!F551<>\"\",1,0)","v":0},0,{"$f":"IF($C357=1,'Sjekkliste noter'!A551,\"\")","v":""},{"$f":"IF($C357=1,'Sjekkliste noter'!B551,\"\")","v":""},null,{"$f":"IF($C357=1,'Sjekkliste noter'!H551,\"\")","v":""}]
[{"$f":"+'Sjekkliste noter'!A552","v":357},{"$f":"IF('Sjekkliste noter'!F552<>\"\",1,0)","v":0},0,{"$f":"IF($C358=1,'Sjekkliste noter'!A552,\"\")","v":""},{"$f":"IF($C358=1,'Sjekkliste noter'!B552,\"\")","v":""},null,{"$f":"IF($C358=1,'Sjekkliste noter'!H552,\"\")","v":""}]
[{"$f":"+'Sjekkliste noter'!A553","v":358},{"$f":"IF('Sjekkliste noter'!F553<>\"\",1,0)","v":0},0,{"$f":"IF($C359=1,'Sjekkliste noter'!A553,\"\")","v":""},{"$f":"IF($C359=1,'Sjekkliste noter'!B553,\"\")","v":""},null,{"$f":"IF($C359=1,'Sjekkliste noter'!H553,\"\")","v":""}]
[{"$f":"+'Sjekkliste noter'!A554","v":359},{"$f":"IF('Sjekkliste noter'!F554<>\"\",1,0)","v":0},0,{"$f":"IF($C360=1,'Sjekkliste noter'!A554,\"\")","v":""},{"$f":"IF($C360=1,'Sjekkliste noter'!B554,\"\")","v":""},null,{"$f":"IF($C360=1,'Sjekkliste noter'!H554,\"\")","v":""}]
[{"$f":"+'Sjekkliste noter'!A555","v":360},{"$f":"IF('Sjekkliste noter'!F555<>\"\",1,0)","v":0},0,{"$f":"IF($C361=1,'Sjekkliste noter'!A555,\"\")","v":""},{"$f":"IF($C361=1,'Sjekkliste noter'!B555,\"\")","v":""},null,{"$f":"IF($C361=1,'Sjekkliste noter'!H555,\"\")","v":""}]
[{"$f":"+'Sjekkliste noter'!A558","v":361},{"$f":"IF('Sjekkliste noter'!F558<>\"\",1,0)","v":0},0,{"$f":"IF($C362=1,'Sjekkliste noter'!A558,\"\")","v":""},{"$f":"IF($C362=1,'Sjekkliste noter'!B558,\"\")","v":""},null,{"$f":"IF($C362=1,'Sjekkliste noter'!H558,\"\")","v":""}]
[{"$f":"+'Sjekkliste noter'!A559","v":362},{"$f":"IF('Sjekkliste noter'!F559<>\"\",1,0)","v":0},0,{"$f":"IF($C363=1,'Sjekkliste noter'!A559,\"\")","v":""},{"$f":"IF($C363=1,'Sjekkliste noter'!B559,\"\")","v":""},null,{"$f":"IF($C363=1,'Sjekkliste noter'!H559,\"\")","v":""}]
[{"$f":"+'Sjekkliste noter'!A560","v":363},{"$f":"IF('Sjekkliste noter'!F560<>\"\",1,0)","v":0},0,{"$f":"IF($C364=1,'Sjekkliste noter'!A560,\"\")","v":""},{"$f":"IF($C364=1,'Sjekkliste noter'!B560,\"\")","v":""},null,{"$f":"IF($C364=1,'Sjekkliste noter'!H560,\"\")","v":""}]
[{"$f":"+'Sjekkliste noter'!A561","v":364},{"$f":"IF('Sjekkliste noter'!F561<>\"\",1,0)","v":0},0,{"$f":"IF($C365=1,'Sjekkliste noter'!A561,\"\")","v":""},{"$f":"IF($C365=1,'Sjekkliste noter'!B561,\"\")","v":""},null,{"$f":"IF($C365=1,'Sjekkliste noter'!H561,\"\")","v":""}]
[{"$f":"+'Sjekkliste noter'!A562","v":365},{"$f":"IF('Sjekkliste noter'!F562<>\"\",1,0)","v":0},0,{"$f":"IF($C366=1,'Sjekkliste noter'!A562,\"\")","v":""},{"$f":"IF($C366=1,'Sjekkliste noter'!B562,\"\")","v":""},null,{"$f":"IF($C366=1,'Sjekkliste noter'!H562,\"\")","v":""}]
[{"$f":"+'Sjekkliste noter'!A563","v":366},{"$f":"IF('Sjekkliste noter'!F563<>\"\",1,0)","v":0},0,{"$f":"IF($C367=1,'Sjekkliste noter'!A563,\"\")","v":""},{"$f":"IF($C367=1,'Sjekkliste noter'!B563,\"\")","v":""},null,{"$f":"IF($C367=1,'Sjekkliste noter'!H563,\"\")","v":""}]
[{"$f":"+'Sjekkliste noter'!A564","v":367},{"$f":"IF('Sjekkliste noter'!F564<>\"\",1,0)","v":0},0,{"$f":"IF($C368=1,'Sjekkliste noter'!A564,\"\")","v":""},{"$f":"IF($C368=1,'Sjekkliste noter'!B564,\"\")","v":""},null,{"$f":"IF($C368=1,'Sjekkliste noter'!H564,\"\")","v":""}]
[{"$f":"+'Sjekkliste noter'!A565","v":368},{"$f":"IF('Sjekkliste noter'!F565<>\"\",1,0)","v":0},0,{"$f":"IF($C369=1,'Sjekkliste noter'!A565,\"\")","v":""},{"$f":"IF($C369=1,'Sjekkliste noter'!B565,\"\")","v":""},null,{"$f":"IF($C369=1,'Sjekkliste noter'!H565,\"\")","v":""}]
[{"$f":"+'Sjekkliste noter'!A566","v":369},{"$f":"IF('Sjekkliste noter'!F566<>\"\",1,0)","v":0},0,{"$f":"IF($C370=1,'Sjekkliste noter'!A566,\"\")","v":""},{"$f":"IF($C370=1,'Sjekkliste noter'!B566,\"\")","v":""},null,{"$f":"IF($C370=1,'Sjekkliste noter'!H566,\"\")","v":""}]
[{"$f":"+'Sjekkliste noter'!A567","v":370},{"$f":"IF('Sjekkliste noter'!F567<>\"\",1,0)","v":0},0,{"$f":"IF($C371=1,'Sjekkliste noter'!A567,\"\")","v":""},{"$f":"IF($C371=1,'Sjekkliste noter'!B567,\"\")","v":""},null,{"$f":"IF($C371=1,'Sjekkliste noter'!H567,\"\")","v":""}]
[{"$f":"+'Sjekkliste noter'!A568","v":371},{"$f":"IF('Sjekkliste noter'!F568<>\"\",1,0)","v":0},0,{"$f":"IF($C372=1,'Sjekkliste noter'!A568,\"\")","v":""},{"$f":"IF($C372=1,'Sjekkliste noter'!B568,\"\")","v":""},null,{"$f":"IF($C372=1,'Sjekkliste noter'!H568,\"\")","v":""}]
[{"$f":"+'Sjekkliste noter'!A569","v":372},{"$f":"IF('Sjekkliste noter'!F569<>\"\",1,0)","v":0},0,{"$f":"IF($C373=1,'Sjekkliste noter'!A569,\"\")","v":""},{"$f":"IF($C373=1,'Sjekkliste noter'!B569,\"\")","v":""},null,{"$f":"IF($C373=1,'Sjekkliste noter'!H569,\"\")","v":""}]
[{"$f":"+'Sjekkliste noter'!A570","v":373},{"$f":"IF('Sjekkliste noter'!F570<>\"\",1,0)","v":0},0,{"$f":"IF($C374=1,'Sjekkliste noter'!A570,\"\")","v":""},{"$f":"IF($C374=1,'Sjekkliste noter'!B570,\"\")","v":""},null,{"$f":"IF($C374=1,'Sjekkliste noter'!H570,\"\")","v":""}]
[{"$f":"+'Sjekkliste noter'!A573","v":374},{"$f":"IF('Sjekkliste noter'!F573<>\"\",1,0)","v":0},0,{"$f":"IF($C375=1,'Sjekkliste noter'!A573,\"\")","v":""},{"$f":"IF($C375=1,'Sjekkliste noter'!B573,\"\")","v":""},null,{"$f":"IF($C375=1,'Sjekkliste noter'!H573,\"\")","v":""}]
[{"$f":"+'Sjekkliste noter'!A574","v":375},{"$f":"IF('Sjekkliste noter'!F574<>\"\",1,0)","v":0},0,{"$f":"IF($C376=1,'Sjekkliste noter'!A574,\"\")","v":""},{"$f":"IF($C376=1,'Sjekkliste noter'!B574,\"\")","v":""},null,{"$f":"IF($C376=1,'Sjekkliste noter'!H574,\"\")","v":""}]
[{"$f":"+'Sjekkliste noter'!A577","v":376},{"$f":"IF('Sjekkliste noter'!F577<>\"\",1,0)","v":0},0,{"$f":"IF($C377=1,'Sjekkliste noter'!A577,\"\")","v":""},{"$f":"IF($C377=1,'Sjekkliste noter'!B577,\"\")","v":""},null,{"$f":"IF($C377=1,'Sjekkliste noter'!H577,\"\")","v":""}]
[{"$f":"+'Sjekkliste noter'!A578","v":377},{"$f":"IF('Sjekkliste noter'!F578<>\"\",1,0)","v":0},0,{"$f":"IF($C378=1,'Sjekkliste noter'!A578,\"\")","v":""},{"$f":"IF($C378=1,'Sjekkliste noter'!B578,\"\")","v":""},null,{"$f":"IF($C378=1,'Sjekkliste noter'!H578,\"\")","v":""}]
[{"$f":"+'Sjekkliste noter'!A579","v":378},{"$f":"IF('Sjekkliste noter'!F579<>\"\",1,0)","v":0},0,{"$f":"IF($C379=1,'Sjekkliste noter'!A579,\"\")","v":""},{"$f":"IF($C379=1,'Sjekkliste noter'!B579,\"\")","v":""},null,{"$f":"IF($C379=1,'Sjekkliste noter'!H579,\"\")","v":""}]
[{"$f":"+'Sjekkliste noter'!A584","v":379},{"$f":"IF('Sjekkliste noter'!F584<>\"\",1,0)","v":0},0,{"$f":"IF($C380=1,'Sjekkliste noter'!A584,\"\")","v":""},{"$f":"IF($C380=1,'Sjekkliste noter'!B584,\"\")","v":""},null,{"$f":"IF($C380=1,'Sjekkliste noter'!H584,\"\")","v":""}]
[{"$f":"+'Sjekkliste noter'!A585","v":380},{"$f":"IF('Sjekkliste noter'!F585<>\"\",1,0)","v":0},0,{"$f":"IF($C381=1,'Sjekkliste noter'!A585,\"\")","v":""},{"$f":"IF($C381=1,'Sjekkliste noter'!B585,\"\")","v":""},null,{"$f":"IF($C381=1,'Sjekkliste noter'!H585,\"\")","v":""}]
[{"$f":"+'Sjekkliste noter'!A586","v":381},{"$f":"IF('Sjekkliste noter'!F586<>\"\",1,0)","v":0},0,{"$f":"IF($C382=1,'Sjekkliste noter'!A586,\"\")","v":""},{"$f":"IF($C382=1,'Sjekkliste noter'!B586,\"\")","v":""},null,{"$f":"IF($C382=1,'Sjekkliste noter'!H586,\"\")","v":""}]
[{"$f":"+'Sjekkliste noter'!A587","v":382},{"$f":"IF('Sjekkliste noter'!F587<>\"\",1,0)","v":0},0,{"$f":"IF($C383=1,'Sjekkliste noter'!A587,\"\")","v":""},{"$f":"IF($C383=1,'Sjekkliste noter'!B587,\"\")","v":""},null,{"$f":"IF($C383=1,'Sjekkliste noter'!H587,\"\")","v":""}]
[{"$f":"+'Sjekkliste noter'!A588","v":383},{"$f":"IF('Sjekkliste noter'!F588<>\"\",1,0)","v":0},0,{"$f":"IF($C384=1,'Sjekkliste noter'!A588,\"\")","v":""},{"$f":"IF($C384=1,'Sjekkliste noter'!B588,\"\")","v":""},null,{"$f":"IF($C384=1,'Sjekkliste noter'!H588,\"\")","v":""}]
[{"$f":"+'Sjekkliste noter'!A589","v":384},{"$f":"IF('Sjekkliste noter'!F589<>\"\",1,0)","v":0},0,{"$f":"IF($C385=1,'Sjekkliste noter'!A589,\"\")","v":""},{"$f":"IF($C385=1,'Sjekkliste noter'!B589,\"\")","v":""},null,{"$f":"IF($C385=1,'Sjekkliste noter'!H589,\"\")","v":""}]
[{"$f":"+'Sjekkliste noter'!A591","v":385},{"$f":"IF('Sjekkliste noter'!F591<>\"\",1,0)","v":0},{"$f":"SUM(B386:B386)","v":0},{"$f":"IF($C386=1,'Sjekkliste noter'!A591,\"\")","v":""},{"$f":"IF($C386=1,'Sjekkliste noter'!B591,\"\")","v":""},null,{"$f":"IF($C386=1,'Sjekkliste noter'!H591,\"\")","v":""}]
[{"$f":"+'Sjekkliste noter'!A592","v":386},{"$f":"IF('Sjekkliste noter'!F592<>\"\",1,0)","v":0},0,{"$f":"IF($C387=1,'Sjekkliste noter'!A592,\"\")","v":""},{"$f":"IF($C387=1,'Sjekkliste noter'!B592,\"\")","v":""},null,{"$f":"IF($C387=1,'Sjekkliste noter'!H592,\"\")","v":""}]
[{"$f":"+'Sjekkliste noter'!A593","v":387},{"$f":"IF('Sjekkliste noter'!F593<>\"\",1,0)","v":0},0,{"$f":"IF($C388=1,'Sjekkliste noter'!A593,\"\")","v":""},{"$f":"IF($C388=1,'Sjekkliste noter'!B593,\"\")","v":""},null,{"$f":"IF($C388=1,'Sjekkliste noter'!H593,\"\")","v":""}]
[{"$f":"+'Sjekkliste noter'!A594","v":388},{"$f":"IF('Sjekkliste noter'!F594<>\"\",1,0)","v":0},0,{"$f":"IF($C389=1,'Sjekkliste noter'!A594,\"\")","v":""},{"$f":"IF($C389=1,'Sjekkliste noter'!B594,\"\")","v":""},null,{"$f":"IF($C389=1,'Sjekkliste noter'!H594,\"\")","v":""}]
[{"$f":"+'Sjekkliste noter'!A595","v":389},{"$f":"IF('Sjekkliste noter'!F595<>\"\",1,0)","v":0},0,{"$f":"IF($C390=1,'Sjekkliste noter'!A595,\"\")","v":""},{"$f":"IF($C390=1,'Sjekkliste noter'!B595,\"\")","v":""},null,{"$f":"IF($C390=1,'Sjekkliste noter'!H595,\"\")","v":""}]
[{"$f":"+'Sjekkliste noter'!A596","v":390},{"$f":"IF('Sjekkliste noter'!F596<>\"\",1,0)","v":0},0,{"$f":"IF($C391=1,'Sjekkliste noter'!A596,\"\")","v":""},{"$f":"IF($C391=1,'Sjekkliste noter'!B596,\"\")","v":""},null,{"$f":"IF($C391=1,'Sjekkliste noter'!H596,\"\")","v":""}]
[{"$f":"+'Sjekkliste noter'!A597","v":391},{"$f":"IF('Sjekkliste noter'!F597<>\"\",1,0)","v":0},0,{"$f":"IF($C392=1,'Sjekkliste noter'!A597,\"\")","v":""},{"$f":"IF($C392=1,'Sjekkliste noter'!B597,\"\")","v":""},null,{"$f":"IF($C392=1,'Sjekkliste noter'!H597,\"\")","v":""}]
[{"$f":"+'Sjekkliste noter'!A598","v":392},{"$f":"IF('Sjekkliste noter'!F598<>\"\",1,0)","v":0},0,{"$f":"IF($C393=1,'Sjekkliste noter'!A598,\"\")","v":""},{"$f":"IF($C393=1,'Sjekkliste noter'!B598,\"\")","v":""},null,{"$f":"IF($C393=1,'Sjekkliste noter'!H598,\"\")","v":""}]
[{"$f":"+'Sjekkliste noter'!A599","v":393},{"$f":"IF('Sjekkliste noter'!F599<>\"\",1,0)","v":0},0,{"$f":"IF($C394=1,'Sjekkliste noter'!A599,\"\")","v":""},{"$f":"IF($C394=1,'Sjekkliste noter'!B599,\"\")","v":""},null,{"$f":"IF($C394=1,'Sjekkliste noter'!H599,\"\")","v":""}]
[{"$f":"+'Sjekkliste noter'!A600","v":394},{"$f":"IF('Sjekkliste noter'!F600<>\"\",1,0)","v":0},0,{"$f":"IF($C395=1,'Sjekkliste noter'!A600,\"\")","v":""},{"$f":"IF($C395=1,'Sjekkliste noter'!B600,\"\")","v":""},null,{"$f":"IF($C395=1,'Sjekkliste noter'!H600,\"\")","v":""}]
[{"$f":"+'Sjekkliste noter'!A604","v":396},{"$f":"IF('Sjekkliste noter'!F604<>\"\",1,0)","v":0},0,{"$f":"IF($C396=1,'Sjekkliste noter'!A604,\"\")","v":""},{"$f":"IF($C396=1,'Sjekkliste noter'!B604,\"\")","v":""},null,{"$f":"IF($C396=1,'Sjekkliste noter'!H604,\"\")","v":""}]
[{"$f":"+'Sjekkliste noter'!A605","v":397},{"$f":"IF('Sjekkliste noter'!F605<>\"\",1,0)","v":0},0,{"$f":"IF($C397=1,'Sjekkliste noter'!A605,\"\")","v":""},{"$f":"IF($C397=1,'Sjekkliste noter'!B605,\"\")","v":""},null,{"$f":"IF($C397=1,'Sjekkliste noter'!H605,\"\")","v":""}]
[{"$f":"+'Sjekkliste noter'!A606","v":398},{"$f":"IF('Sjekkliste noter'!F606<>\"\",1,0)","v":0},0,{"$f":"IF($C398=1,'Sjekkliste noter'!A606,\"\")","v":""},{"$f":"IF($C398=1,'Sjekkliste noter'!B606,\"\")","v":""},null,{"$f":"IF($C398=1,'Sjekkliste noter'!H606,\"\")","v":""}]
[{"$f":"+'Sjekkliste noter'!A607","v":399},{"$f":"IF('Sjekkliste noter'!F607<>\"\",1,0)","v":0},0,{"$f":"IF($C399=1,'Sjekkliste noter'!A607,\"\")","v":""},{"$f":"IF($C399=1,'Sjekkliste noter'!B607,\"\")","v":""},null,{"$f":"IF($C399=1,'Sjekkliste noter'!H607,\"\")","v":""}]
[{"$f":"+'Sjekkliste noter'!A608","v":400},{"$f":"IF('Sjekkliste noter'!F608<>\"\",1,0)","v":0},0,{"$f":"IF($C400=1,'Sjekkliste noter'!A608,\"\")","v":""},{"$f":"IF($C400=1,'Sjekkliste noter'!B608,\"\")","v":""},null,{"$f":"IF($C400=1,'Sjekkliste noter'!H608,\"\")","v":""}]
[{"$f":"+'Sjekkliste noter'!A609","v":401},{"$f":"IF('Sjekkliste noter'!F609<>\"\",1,0)","v":0},0,{"$f":"IF($C401=1,'Sjekkliste noter'!A609,\"\")","v":""},{"$f":"IF($C401=1,'Sjekkliste noter'!B609,\"\")","v":""},null,{"$f":"IF($C401=1,'Sjekkliste noter'!H609,\"\")","v":""}]
[{"$f":"+'Sjekkliste noter'!A610","v":402},{"$f":"IF('Sjekkliste noter'!F610<>\"\",1,0)","v":0},0,{"$f":"IF($C402=1,'Sjekkliste noter'!A610,\"\")","v":""},{"$f":"IF($C402=1,'Sjekkliste noter'!B610,\"\")","v":""},null,{"$f":"IF($C402=1,'Sjekkliste noter'!H610,\"\")","v":""}]
[{"$f":"+'Sjekkliste noter'!A611","v":403},{"$f":"IF('Sjekkliste noter'!F611<>\"\",1,0)","v":0},0,{"$f":"IF($C403=1,'Sjekkliste noter'!A611,\"\")","v":""},{"$f":"IF($C403=1,'Sjekkliste noter'!B611,\"\")","v":""},null,{"$f":"IF($C403=1,'Sjekkliste noter'!H611,\"\")","v":""}]
[{"$f":"+'Sjekkliste noter'!A612","v":404},{"$f":"IF('Sjekkliste noter'!F612<>\"\",1,0)","v":0},0,{"$f":"IF($C404=1,'Sjekkliste noter'!A612,\"\")","v":""},{"$f":"IF($C404=1,'Sjekkliste noter'!B612,\"\")","v":""},null,{"$f":"IF($C404=1,'Sjekkliste noter'!H612,\"\")","v":""}]
[{"$f":"+'Sjekkliste noter'!A613","v":405},{"$f":"IF('Sjekkliste noter'!F613<>\"\",1,0)","v":0},0,{"$f":"IF($C405=1,'Sjekkliste noter'!A613,\"\")","v":""},{"$f":"IF($C405=1,'Sjekkliste noter'!B613,\"\")","v":""},null,{"$f":"IF($C405=1,'Sjekkliste noter'!H613,\"\")","v":""}]
[{"$f":"+'Sjekkliste noter'!A614","v":406},{"$f":"IF('Sjekkliste noter'!F614<>\"\",1,0)","v":0},0,{"$f":"IF($C406=1,'Sjekkliste noter'!A614,\"\")","v":""},{"$f":"IF($C406=1,'Sjekkliste noter'!B614,\"\")","v":""},null,{"$f":"IF($C406=1,'Sjekkliste noter'!H614,\"\")","v":""}]
[{"$f":"+'Sjekkliste noter'!A615","v":407},{"$f":"IF('Sjekkliste noter'!F615<>\"\",1,0)","v":0},0,{"$f":"IF($C407=1,'Sjekkliste noter'!A615,\"\")","v":""},{"$f":"IF($C407=1,'Sjekkliste noter'!B615,\"\")","v":""},null,{"$f":"IF($C407=1,'Sjekkliste noter'!H615,\"\")","v":""}]
[{"$f":"+'Sjekkliste noter'!A616","v":408},{"$f":"IF('Sjekkliste noter'!F616<>\"\",1,0)","v":0},0,{"$f":"IF($C408=1,'Sjekkliste noter'!A616,\"\")","v":""},{"$f":"IF($C408=1,'Sjekkliste noter'!B616,\"\")","v":""},null,{"$f":"IF($C408=1,'Sjekkliste noter'!H616,\"\")","v":""}]
[{"$f":"+'Sjekkliste noter'!A617","v":409},{"$f":"IF('Sjekkliste noter'!F617<>\"\",1,0)","v":0},0,{"$f":"IF($C409=1,'Sjekkliste noter'!A617,\"\")","v":""},{"$f":"IF($C409=1,'Sjekkliste noter'!B617,\"\")","v":""},null,{"$f":"IF($C409=1,'Sjekkliste noter'!H617,\"\")","v":""}]
[{"$f":"+'Sjekkliste noter'!A618","v":410},{"$f":"IF('Sjekkliste noter'!F618<>\"\",1,0)","v":0},0,{"$f":"IF($C410=1,'Sjekkliste noter'!A618,\"\")","v":""},{"$f":"IF($C410=1,'Sjekkliste noter'!B618,\"\")","v":""},null,{"$f":"IF($C410=1,'Sjekkliste noter'!H618,\"\")","v":""}]
[{"$f":"+'Sjekkliste noter'!A619","v":411},{"$f":"IF('Sjekkliste noter'!F619<>\"\",1,0)","v":0},0,{"$f":"IF($C411=1,'Sjekkliste noter'!A619,\"\")","v":""},{"$f":"IF($C411=1,'Sjekkliste noter'!B619,\"\")","v":""},null,{"$f":"IF($C411=1,'Sjekkliste noter'!H619,\"\")","v":""}]
[{"$f":"+'Sjekkliste noter'!A620","v":412},{"$f":"IF('Sjekkliste noter'!F620<>\"\",1,0)","v":0},0,{"$f":"IF($C412=1,'Sjekkliste noter'!A620,\"\")","v":""},{"$f":"IF($C412=1,'Sjekkliste noter'!B620,\"\")","v":""},null,{"$f":"IF($C412=1,'Sjekkliste noter'!H620,\"\")","v":""}]
[{"$f":"+'Sjekkliste noter'!A621","v":413},{"$f":"IF('Sjekkliste noter'!F621<>\"\",1,0)","v":0},0,{"$f":"IF($C413=1,'Sjekkliste noter'!A621,\"\")","v":""},{"$f":"IF($C413=1,'Sjekkliste noter'!B621,\"\")","v":""},null,{"$f":"IF($C413=1,'Sjekkliste noter'!H621,\"\")","v":""}]
[{"$f":"+'Sjekkliste noter'!A622","v":414},{"$f":"IF('Sjekkliste noter'!F622<>\"\",1,0)","v":0},0,{"$f":"IF($C414=1,'Sjekkliste noter'!A622,\"\")","v":""},{"$f":"IF($C414=1,'Sjekkliste noter'!B622,\"\")","v":""},null,{"$f":"IF($C414=1,'Sjekkliste noter'!H622,\"\")","v":""}]
[{"$f":"+'Sjekkliste noter'!A623","v":415},{"$f":"IF('Sjekkliste noter'!F623<>\"\",1,0)","v":0},0,{"$f":"IF($C415=1,'Sjekkliste noter'!A623,\"\")","v":""},{"$f":"IF($C415=1,'Sjekkliste noter'!B623,\"\")","v":""},null,{"$f":"IF($C415=1,'Sjekkliste noter'!H623,\"\")","v":""}]
[{"$f":"+'Sjekkliste noter'!A624","v":416},{"$f":"IF('Sjekkliste noter'!F624<>\"\",1,0)","v":0},0,{"$f":"IF($C416=1,'Sjekkliste noter'!A624,\"\")","v":""},{"$f":"IF($C416=1,'Sjekkliste noter'!B624,\"\")","v":""},null,{"$f":"IF($C416=1,'Sjekkliste noter'!H624,\"\")","v":""}]
[{"$f":"+'Sjekkliste noter'!A625","v":417},{"$f":"IF('Sjekkliste noter'!F625<>\"\",1,0)","v":0},0,{"$f":"IF($C417=1,'Sjekkliste noter'!A625,\"\")","v":""},{"$f":"IF($C417=1,'Sjekkliste noter'!B625,\"\")","v":""},null,{"$f":"IF($C417=1,'Sjekkliste noter'!H625,\"\")","v":""}]
[{"$f":"+'Sjekkliste noter'!A626","v":418},{"$f":"IF('Sjekkliste noter'!F626<>\"\",1,0)","v":0},0,{"$f":"IF($C418=1,'Sjekkliste noter'!A626,\"\")","v":""},{"$f":"IF($C418=1,'Sjekkliste noter'!B626,\"\")","v":""},null,{"$f":"IF($C418=1,'Sjekkliste noter'!H626,\"\")","v":""}]
[{"$f":"+'Sjekkliste noter'!A627","v":419},{"$f":"IF('Sjekkliste noter'!F627<>\"\",1,0)","v":0},0,{"$f":"IF($C419=1,'Sjekkliste noter'!A627,\"\")","v":""},{"$f":"IF($C419=1,'Sjekkliste noter'!B627,\"\")","v":""},null,{"$f":"IF($C419=1,'Sjekkliste noter'!H627,\"\")","v":""}]
[{"$f":"+'Sjekkliste noter'!A628","v":420},{"$f":"IF('Sjekkliste noter'!F628<>\"\",1,0)","v":0},0,{"$f":"IF($C420=1,'Sjekkliste noter'!A628,\"\")","v":""},{"$f":"IF($C420=1,'Sjekkliste noter'!B628,\"\")","v":""},null,{"$f":"IF($C420=1,'Sjekkliste noter'!H628,\"\")","v":""}]
[{"$f":"+'Sjekkliste noter'!A631","v":421},{"$f":"IF('Sjekkliste noter'!F631<>\"\",1,0)","v":0},0,{"$f":"IF($C421=1,'Sjekkliste noter'!A631,\"\")","v":""},{"$f":"IF($C421=1,'Sjekkliste noter'!B631,\"\")","v":""},null,{"$f":"IF($C421=1,'Sjekkliste noter'!H631,\"\")","v":""}]
[{"$f":"+'Sjekkliste noter'!A632","v":422},{"$f":"IF('Sjekkliste noter'!F632<>\"\",1,0)","v":0},0,{"$f":"IF($C422=1,'Sjekkliste noter'!A632,\"\")","v":""},{"$f":"IF($C422=1,'Sjekkliste noter'!B632,\"\")","v":""},null,{"$f":"IF($C422=1,'Sjekkliste noter'!H632,\"\")","v":""}]
[{"$f":"+'Sjekkliste noter'!A633","v":423},{"$f":"IF('Sjekkliste noter'!F633<>\"\",1,0)","v":0},0,{"$f":"IF($C423=1,'Sjekkliste noter'!A633,\"\")","v":""},{"$f":"IF($C423=1,'Sjekkliste noter'!B633,\"\")","v":""},null,{"$f":"IF($C423=1,'Sjekkliste noter'!H633,\"\")","v":""}]
[{"$f":"+'Sjekkliste noter'!A635","v":424},{"$f":"IF('Sjekkliste noter'!F635<>\"\",1,0)","v":0},0,{"$f":"IF($C424=1,'Sjekkliste noter'!A635,\"\")","v":""},{"$f":"IF($C424=1,'Sjekkliste noter'!B635,\"\")","v":""},null,{"$f":"IF($C424=1,'Sjekkliste noter'!H635,\"\")","v":""}]
[{"$f":"+'Sjekkliste noter'!A636","v":425},{"$f":"IF('Sjekkliste noter'!F636<>\"\",1,0)","v":0},0,{"$f":"IF($C425=1,'Sjekkliste noter'!A636,\"\")","v":""},{"$f":"IF($C425=1,'Sjekkliste noter'!B636,\"\")","v":""},null,{"$f":"IF($C425=1,'Sjekkliste noter'!H636,\"\")","v":""}]
[{"$f":"+'Sjekkliste noter'!A637","v":426},{"$f":"IF('Sjekkliste noter'!F637<>\"\",1,0)","v":0},0,{"$f":"IF($C426=1,'Sjekkliste noter'!A637,\"\")","v":""},{"$f":"IF($C426=1,'Sjekkliste noter'!B637,\"\")","v":""},null,{"$f":"IF($C426=1,'Sjekkliste noter'!H637,\"\")","v":""}]
[{"$f":"+'Sjekkliste noter'!A638","v":427},{"$f":"IF('Sjekkliste noter'!F638<>\"\",1,0)","v":0},0,{"$f":"IF($C427=1,'Sjekkliste noter'!A638,\"\")","v":""},{"$f":"IF($C427=1,'Sjekkliste noter'!B638,\"\")","v":""},null,{"$f":"IF($C427=1,'Sjekkliste noter'!H638,\"\")","v":""}]
[{"$f":"+'Sjekkliste noter'!A640","v":428},{"$f":"IF('Sjekkliste noter'!F640<>\"\",1,0)","v":0},0,{"$f":"IF($C428=1,'Sjekkliste noter'!A640,\"\")","v":""},{"$f":"IF($C428=1,'Sjekkliste noter'!B640,\"\")","v":""},null,{"$f":"IF($C428=1,'Sjekkliste noter'!H640,\"\")","v":""}]
[{"$f":"+'Sjekkliste noter'!A641","v":429},{"$f":"IF('Sjekkliste noter'!F641<>\"\",1,0)","v":0},0,{"$f":"IF($C429=1,'Sjekkliste noter'!A641,\"\")","v":""},{"$f":"IF($C429=1,'Sjekkliste noter'!B641,\"\")","v":""},null,{"$f":"IF($C429=1,'Sjekkliste noter'!H641,\"\")","v":""}]
[{"$f":"+'Sjekkliste noter'!A642","v":430},{"$f":"IF('Sjekkliste noter'!F642<>\"\",1,0)","v":0},0,{"$f":"IF($C430=1,'Sjekkliste noter'!A642,\"\")","v":""},{"$f":"IF($C430=1,'Sjekkliste noter'!B642,\"\")","v":""},null,{"$f":"IF($C430=1,'Sjekkliste noter'!H642,\"\")","v":""}]
[{"$f":"+'Sjekkliste noter'!A643","v":431},{"$f":"IF('Sjekkliste noter'!F643<>\"\",1,0)","v":0},0,{"$f":"IF($C431=1,'Sjekkliste noter'!A643,\"\")","v":""},{"$f":"IF($C431=1,'Sjekkliste noter'!B643,\"\")","v":""},null,{"$f":"IF($C431=1,'Sjekkliste noter'!H643,\"\")","v":""}]
[{"$f":"+'Sjekkliste noter'!A644","v":432},{"$f":"IF('Sjekkliste noter'!F644<>\"\",1,0)","v":0},0,{"$f":"IF($C432=1,'Sjekkliste noter'!A644,\"\")","v":""},{"$f":"IF($C432=1,'Sjekkliste noter'!B644,\"\")","v":""},null,{"$f":"IF($C432=1,'Sjekkliste noter'!H644,\"\")","v":""}]
[{"$f":"+'Sjekkliste noter'!A645","v":433},{"$f":"IF('Sjekkliste noter'!F645<>\"\",1,0)","v":0},0,{"$f":"IF($C433=1,'Sjekkliste noter'!A645,\"\")","v":""},{"$f":"IF($C433=1,'Sjekkliste noter'!B645,\"\")","v":""},null,{"$f":"IF($C433=1,'Sjekkliste noter'!H645,\"\")","v":""}]

{"sheet":"N_IA","index":8,"n_rows":433,"n_cols":7,"rows_kept":433,"cut":false,"hidden":true,"merged":[]}
[null,null,{"$f":"COUNTIF(C2:C267,\"=1\")","v":0},"IA-svar",{"$f":"+Forside!B2","v":0},{"$f":"+Forside!B3","v":2021},"Kommentarer"]
[{"$f":"+'Sjekkliste noter'!A17","v":1},{"$f":"IF('Sjekkliste noter'!G17<>\"\",1,0)","v":0},{"$f":"SUM(B2:B2)","v":0},{"$f":"IF($C2=1,'Sjekkliste noter'!A17,\"\")","v":""},{"$f":"IF($C2=1,'Sjekkliste noter'!B17,\"\")","v":""},null,{"$f":"IF($C2=1,'Sjekkliste noter'!H17,\"\")","v":""}]
[{"$f":"+'Sjekkliste noter'!A19","v":2},{"$f":"IF('Sjekkliste noter'!G19<>\"\",1,0)","v":0},0,{"$f":"IF($C3=1,'Sjekkliste noter'!A19,\"\")","v":""},{"$f":"IF($C3=1,'Sjekkliste noter'!B19,\"\")","v":""},null,{"$f":"IF($C3=1,'Sjekkliste noter'!H19,\"\")","v":""}]
[{"$f":"+'Sjekkliste noter'!A20","v":3},{"$f":"IF('Sjekkliste noter'!G20<>\"\",1,0)","v":0},0,{"$f":"IF($C4=1,'Sjekkliste noter'!A20,\"\")","v":""},{"$f":"IF($C4=1,'Sjekkliste noter'!B20,\"\")","v":""},null,{"$f":"IF($C4=1,'Sjekkliste noter'!H20,\"\")","v":""}]
[{"$f":"+'Sjekkliste noter'!A21","v":4},{"$f":"IF('Sjekkliste noter'!G21<>\"\",1,0)","v":0},0,{"$f":"IF($C5=1,'Sjekkliste noter'!A21,\"\")","v":""},{"$f":"IF($C5=1,'Sjekkliste noter'!B21,\"\")","v":""},null,{"$f":"IF($C5=1,'Sjekkliste noter'!H21,\"\")","v":""}]
[{"$f":"+'Sjekkliste noter'!A22","v":5},{"$f":"IF('Sjekkliste noter'!G22<>\"\",1,0)","v":0},0,{"$f":"IF($C6=1,'Sjekkliste noter'!A22,\"\")","v":""},{"$f":"IF($C6=1,'Sjekkliste noter'!B22,\"\")","v":""},null,{"$f":"IF($C6=1,'Sjekkliste noter'!H22,\"\")","v":""}]
[{"$f":"+'Sjekkliste noter'!A23","v":6},{"$f":"IF('Sjekkliste noter'!G23<>\"\",1,0)","v":0},0,{"$f":"IF($C7=1,'Sjekkliste noter'!A23,\"\")","v":""},{"$f":"IF($C7=1,'Sjekkliste noter'!B23,\"\")","v":""},null,{"$f":"IF($C7=1,'Sjekkliste noter'!H23,\"\")","v":""}]
[{"$f":"+'Sjekkliste noter'!A24","v":7},{"$f":"IF('Sjekkliste noter'!G24<>\"\",1,0)","v":0},0,{"$f":"IF($C8=1,'Sjekkliste noter'!A24,\"\")","v":""},{"$f":"IF($C8=1,'Sjekkliste noter'!B24,\"\")","v":""},null,{"$f":"IF($C8=1,'Sjekkliste noter'!H24,\"\")","v":""}]
[{"$f":"+'Sjekkliste noter'!A26","v":8},{"$f":"IF('Sjekkliste noter'!G26<>\"\",1,0)","v":0},0,{"$f":"IF($C9=1,'Sjekkliste noter'!A26,\"\")","v":""},{"$f":"IF($C9=1,'Sjekkliste noter'!B26,\"\")","v":""},null,{"$f":"IF($C9=1,'Sjekkliste noter'!H26,\"\")","v":""}]
[{"$f":"+'Sjekkliste noter'!A28","v":9},{"$f":"IF('Sjekkliste noter'!G28<>\"\",1,0)","v":0},0,{"$f":"IF($C10=1,'Sjekkliste noter'!A28,\"\")","v":""},{"$f":"IF($C10=1,'Sjekkliste noter'!B28,\"\")","v":""},null,{"$f":"IF($C10=1,'Sjekkliste noter'!H28,\"\")","v":""}]
[{"$f":"+'Sjekkliste noter'!A29","v":10},{"$f":"IF('Sjekkliste noter'!G29<>\"\",1,0)","v":0},0,{"$f":"IF($C11=1,'Sjekkliste noter'!A29,\"\")","v":""},{"$f":"IF($C11=1,'Sjekkliste noter'!B29,\"\")","v":""},null,{"$f":"IF($C11=1,'Sjekkliste noter'!H29,\"\")","v":""}]
[{"$f":"+'Sjekkliste noter'!A30","v":11},{"$f":"IF('Sjekkliste noter'!G30<>\"\",1,0)","v":0},0,{"$f":"IF($C12=1,'Sjekkliste noter'!A30,\"\")","v":""},{"$f":"IF($C12=1,'Sjekkliste noter'!B30,\"\")","v":""},null,{"$f":"IF($C12=1,'Sjekkliste noter'!H30,\"\")","v":""}]
[{"$f":"+'Sjekkliste noter'!A31","v":12},{"$f":"IF('Sjekkliste noter'!G31<>\"\",1,0)","v":0},0,{"$f":"IF($C13=1,'Sjekkliste noter'!A31,\"\")","v":""},{"$f":"IF($C13=1,'Sjekkliste noter'!B31,\"\")","v":""},null,{"$f":"IF($C13=1,'Sjekkliste noter'!H31,\"\")","v":""}]
[{"$f":"+'Sjekkliste noter'!A32","v":13},{"$f":"IF('Sjekkliste noter'!G32<>\"\",1,0)","v":0},0,{"$f":"IF($C14=1,'Sjekkliste noter'!A32,\"\")","v":""},{"$f":"IF($C14=1,'Sjekkliste noter'!B32,\"\")","v":""},null,{"$f":"IF($C14=1,'Sjekkliste noter'!H32,\"\")","v":""}]
[{"$f":"+'Sjekkliste noter'!A33","v":14},{"$f":"IF('Sjekkliste noter'!G33<>\"\",1,0)","v":0},0,{"$f":"IF($C15=1,'Sjekkliste noter'!A33,\"\")","v":""},{"$f":"IF($C15=1,'Sjekkliste noter'!B33,\"\")","v":""},null,{"$f":"IF($C15=1,'Sjekkliste noter'!H33,\"\")","v":""}]
[{"$f":"+'Sjekkliste noter'!A34","v":15},{"$f":"IF('Sjekkliste noter'!G34<>\"\",1,0)","v":0},0,{"$f":"IF($C16=1,'Sjekkliste noter'!A34,\"\")","v":""},{"$f":"IF($C16=1,'Sjekkliste noter'!B34,\"\")","v":""},null,{"$f":"IF($C16=1,'Sjekkliste noter'!H34,\"\")","v":""}]
[{"$f":"+'Sjekkliste noter'!A35","v":16},{"$f":"IF('Sjekkliste noter'!G35<>\"\",1,0)","v":0},0,{"$f":"IF($C17=1,'Sjekkliste noter'!A35,\"\")","v":""},{"$f":"IF($C17=1,'Sjekkliste noter'!B35,\"\")","v":""},null,{"$f":"IF($C17=1,'Sjekkliste noter'!H35,\"\")","v":""}]
[{"$f":"+'Sjekkliste noter'!A38","v":17},{"$f":"IF('Sjekkliste noter'!G38<>\"\",1,0)","v":0},0,{"$f":"IF($C18=1,'Sjekkliste noter'!A38,\"\")","v":""},{"$f":"IF($C18=1,'Sjekkliste noter'!B38,\"\")","v":""},null,{"$f":"IF($C18=1,'Sjekkliste noter'!H38,\"\")","v":""}]
[{"$f":"+'Sjekkliste noter'!A39","v":18},{"$f":"IF('Sjekkliste noter'!G39<>\"\",1,0)","v":0},0,{"$f":"IF($C19=1,'Sjekkliste noter'!A39,\"\")","v":""},{"$f":"IF($C19=1,'Sjekkliste noter'!B39,\"\")","v":""},null,{"$f":"IF($C19=1,'Sjekkliste noter'!H39,\"\")","v":""}]
[{"$f":"+'Sjekkliste noter'!A40","v":19},{"$f":"IF('Sjekkliste noter'!G40<>\"\",1,0)","v":0},0,{"$f":"IF($C20=1,'Sjekkliste noter'!A40,\"\")","v":""},{"$f":"IF($C20=1,'Sjekkliste noter'!B40,\"\")","v":""},null,{"$f":"IF($C20=1,'Sjekkliste noter'!H40,\"\")","v":""}]
[{"$f":"+'Sjekkliste noter'!A41","v":20},{"$f":"IF('Sjekkliste noter'!G41<>\"\",1,0)","v":0},0,{"$f":"IF($C21=1,'Sjekkliste noter'!A41,\"\")","v":""},{"$f":"IF($C21=1,'Sjekkliste noter'!B41,\"\")","v":""},null,{"$f":"IF($C21=1,'Sjekkliste noter'!H41,\"\")","v":""}]
[{"$f":"+'Sjekkliste noter'!A42","v":21},{"$f":"IF('Sjekkliste noter'!G42<>\"\",1,0)","v":0},0,{"$f":"IF($C22=1,'Sjekkliste noter'!A42,\"\")","v":""},{"$f":"IF($C22=1,'Sjekkliste noter'!B42,\"\")","v":""},null,{"$f":"IF($C22=1,'Sjekkliste noter'!H42,\"\")","v":""}]
[{"$f":"+'Sjekkliste noter'!A43","v":22},{"$f":"IF('Sjekkliste noter'!G43<>\"\",1,0)","v":0},0,{"$f":"IF($C23=1,'Sjekkliste noter'!A43,\"\")","v":""},{"$f":"IF($C23=1,'Sjekkliste noter'!B43,\"\")","v":""},null,{"$f":"IF($C23=1,'Sjekkliste noter'!H43,\"\")","v":""}]
[{"$f":"+'Sjekkliste noter'!A45","v":23},{"$f":"IF('Sjekkliste noter'!G45<>\"\",1,0)","v":0},0,{"$f":"IF($C24=1,'Sjekkliste noter'!A45,\"\")","v":""},{"$f":"IF($C24=1,'Sjekkliste noter'!B45,\"\")","v":""},null,{"$f":"IF($C24=1,'Sjekkliste noter'!H45,\"\")","v":""}]
[{"$f":"+'Sjekkliste noter'!A46","v":24},{"$f":"IF('Sjekkliste noter'!G46<>\"\",1,0)","v":0},0,{"$f":"IF($C25=1,'Sjekkliste noter'!A46,\"\")","v":""},{"$f":"IF($C25=1,'Sjekkliste noter'!B46,\"\")","v":""},null,{"$f":"IF($C25=1,'Sjekkliste noter'!H46,\"\")","v":""}]
[{"$f":"+'Sjekkliste noter'!A48","v":25},{"$f":"IF('Sjekkliste noter'!G48<>\"\",1,0)","v":0},0,{"$f":"IF($C26=1,'Sjekkliste noter'!A48,\"\")","v":""},{"$f":"IF($C26=1,'Sjekkliste noter'!B48,\"\")","v":""},null,{"$f":"IF($C26=1,'Sjekkliste noter'!H48,\"\")","v":""}]
[{"$f":"+'Sjekkliste noter'!A49","v":26},{"$f":"IF('Sjekkliste noter'!G49<>\"\",1,0)","v":0},0,{"$f":"IF($C27=1,'Sjekkliste noter'!A49,\"\")","v":""},{"$f":"IF($C27=1,'Sjekkliste noter'!B49,\"\")","v":""},null,{"$f":"IF($C27=1,'Sjekkliste noter'!H49,\"\")","v":""}]
[{"$f":"+'Sjekkliste noter'!A53","v":27},{"$f":"IF('Sjekkliste noter'!G53<>\"\",1,0)","v":0},0,{"$f":"IF($C28=1,'Sjekkliste noter'!A53,\"\")","v":""},{"$f":"IF($C28=1,'Sjekkliste noter'!B53,\"\")","v":""},null,{"$f":"IF($C28=1,'Sjekkliste noter'!H53,\"\")","v":""}]
[{"$f":"+'Sjekkliste noter'!A55","v":28},{"$f":"IF('Sjekkliste noter'!G55<>\"\",1,0)","v":0},0,{"$f":"IF($C29=1,'Sjekkliste noter'!A55,\"\")","v":""},{"$f":"IF($C29=1,'Sjekkliste noter'!B55,\"\")","v":""},null,{"$f":"IF($C29=1,'Sjekkliste noter'!H55,\"\")","v":""}]
[{"$f":"+'Sjekkliste noter'!A56","v":29},{"$f":"IF('Sjekkliste noter'!G56<>\"\",1,0)","v":0},0,{"$f":"IF($C30=1,'Sjekkliste noter'!A56,\"\")","v":""},{"$f":"IF($C30=1,'Sjekkliste noter'!B56,\"\")","v":""},null,{"$f":"IF($C30=1,'Sjekkliste noter'!H56,\"\")","v":""}]
[{"$f":"+'Sjekkliste noter'!A57","v":30},{"$f":"IF('Sjekkliste noter'!G57<>\"\",1,0)","v":0},0,{"$f":"IF($C31=1,'Sjekkliste noter'!A57,\"\")","v":""},{"$f":"IF($C31=1,'Sjekkliste noter'!B57,\"\")","v":""},null,{"$f":"IF($C31=1,'Sjekkliste noter'!H57,\"\")","v":""}]
[{"$f":"+'Sjekkliste noter'!A58","v":31},{"$f":"IF('Sjekkliste noter'!G58<>\"\",1,0)","v":0},0,{"$f":"IF($C32=1,'Sjekkliste noter'!A58,\"\")","v":""},{"$f":"IF($C32=1,'Sjekkliste noter'!B58,\"\")","v":""},null,{"$f":"IF($C32=1,'Sjekkliste noter'!H58,\"\")","v":""}]
[{"$f":"+'Sjekkliste noter'!A59","v":32},{"$f":"IF('Sjekkliste noter'!G59<>\"\",1,0)","v":0},0,{"$f":"IF($C33=1,'Sjekkliste noter'!A59,\"\")","v":""},{"$f":"IF($C33=1,'Sjekkliste noter'!B59,\"\")","v":""},null,{"$f":"IF($C33=1,'Sjekkliste noter'!H59,\"\")","v":""}]
[{"$f":"+'Sjekkliste noter'!A65","v":33},{"$f":"IF('Sjekkliste noter'!G65<>\"\",1,0)","v":0},0,{"$f":"IF($C34=1,'Sjekkliste noter'!A65,\"\")","v":""},{"$f":"IF($C34=1,'Sjekkliste noter'!B65,\"\")","v":""},null,{"$f":"IF($C34=1,'Sjekkliste noter'!H65,\"\")","v":""}]
[{"$f":"+'Sjekkliste noter'!A66","v":34},{"$f":"IF('Sjekkliste noter'!G66<>\"\",1,0)","v":0},0,{"$f":"IF($C35=1,'Sjekkliste noter'!A66,\"\")","v":""},{"$f":"IF($C35=1,'Sjekkliste noter'!B66,\"\")","v":""},null,{"$f":"IF($C35=1,'Sjekkliste noter'!H66,\"\")","v":""}]
[{"$f":"+'Sjekkliste noter'!A67","v":35},{"$f":"IF('Sjekkliste noter'!G67<>\"\",1,0)","v":0},0,{"$f":"IF($C36=1,'Sjekkliste noter'!A67,\"\")","v":""},{"$f":"IF($C36=1,'Sjekkliste noter'!B67,\"\")","v":""},null,{"$f":"IF($C36=1,'Sjekkliste noter'!H67,\"\")","v":""}]
[{"$f":"+'Sjekkliste noter'!A68","v":36},{"$f":"IF('Sjekkliste noter'!G68<>\"\",1,0)","v":0},0,{"$f":"IF($C37=1,'Sjekkliste noter'!A68,\"\")","v":""},{"$f":"IF($C37=1,'Sjekkliste noter'!B68,\"\")","v":""},null,{"$f":"IF($C37=1,'Sjekkliste noter'!H68,\"\")","v":""}]
[{"$f":"+'Sjekkliste noter'!A69","v":37},{"$f":"IF('Sjekkliste noter'!G69<>\"\",1,0)","v":0},0,{"$f":"IF($C38=1,'Sjekkliste noter'!A69,\"\")","v":""},{"$f":"IF($C38=1,'Sjekkliste noter'!B69,\"\")","v":""},null,{"$f":"IF($C38=1,'Sjekkliste noter'!H69,\"\")","v":""}]
[{"$f":"+'Sjekkliste noter'!A70","v":38},{"$f":"IF('Sjekkliste noter'!G70<>\"\",1,0)","v":0},0,{"$f":"IF($C39=1,'Sjekkliste noter'!A70,\"\")","v":""},{"$f":"IF($C39=1,'Sjekkliste noter'!B70,\"\")","v":""},null,{"$f":"IF($C39=1,'Sjekkliste noter'!H70,\"\")","v":""}]
[{"$f":"+'Sjekkliste noter'!A71","v":39},{"$f":"IF('Sjekkliste noter'!G71<>\"\",1,0)","v":0},0,{"$f":"IF($C40=1,'Sjekkliste noter'!A71,\"\")","v":""},{"$f":"IF($C40=1,'Sjekkliste noter'!B71,\"\")","v":""},null,{"$f":"IF($C40=1,'Sjekkliste noter'!H71,\"\")","v":""}]
[{"$f":"+'Sjekkliste noter'!A72","v":40},{"$f":"IF('Sjekkliste noter'!G72<>\"\",1,0)","v":0},0,{"$f":"IF($C41=1,'Sjekkliste noter'!A72,\"\")","v":""},{"$f":"IF($C41=1,'Sjekkliste noter'!B72,\"\")","v":""},null,{"$f":"IF($C41=1,'Sjekkliste noter'!H72,\"\")","v":""}]
[{"$f":"+'Sjekkliste noter'!A74","v":41},{"$f":"IF('Sjekkliste noter'!G74<>\"\",1,0)","v":0},0,{"$f":"IF($C42=1,'Sjekkliste noter'!A74,\"\")","v":""},{"$f":"IF($C42=1,'Sjekkliste noter'!B74,\"\")","v":""},null,{"$f":"IF($C42=1,'Sjekkliste noter'!H74,\"\")","v":""}]
[{"$f":"+'Sjekkliste noter'!A77","v":42},{"$f":"IF('Sjekkliste noter'!G77<>\"\",1,0)","v":0},0,{"$f":"IF($C43=1,'Sjekkliste noter'!A77,\"\")","v":""},{"$f":"IF($C43=1,'Sjekkliste noter'!B77,\"\")","v":""},null,{"$f":"IF($C43=1,'Sjekkliste noter'!H77,\"\")","v":""}]
[{"$f":"+'Sjekkliste noter'!A78","v":43},{"$f":"IF('Sjekkliste noter'!G78<>\"\",1,0)","v":0},0,{"$f":"IF($C44=1,'Sjekkliste noter'!A78,\"\")","v":""},{"$f":"IF($C44=1,'Sjekkliste noter'!B78,\"\")","v":""},null,{"$f":"IF($C44=1,'Sjekkliste noter'!H78,\"\")","v":""}]
[{"$f":"+'Sjekkliste noter'!A79","v":44},{"$f":"IF('Sjekkliste noter'!G79<>\"\",1,0)","v":0},0,{"$f":"IF($C45=1,'Sjekkliste noter'!A79,\"\")","v":""},{"$f":"IF($C45=1,'Sjekkliste noter'!B79,\"\")","v":""},null,{"$f":"IF($C45=1,'Sjekkliste noter'!H79,\"\")","v":""}]
[{"$f":"+'Sjekkliste noter'!A81","v":45},{"$f":"IF('Sjekkliste noter'!G81<>\"\",1,0)","v":0},0,{"$f":"IF($C46=1,'Sjekkliste noter'!A81,\"\")","v":""},{"$f":"IF($C46=1,'Sjekkliste noter'!B81,\"\")","v":""},null,{"$f":"IF($C46=1,'Sjekkliste noter'!H81,\"\")","v":""}]
[{"$f":"+'Sjekkliste noter'!A82","v":46},{"$f":"IF('Sjekkliste noter'!G82<>\"\",1,0)","v":0},0,{"$f":"IF($C47=1,'Sjekkliste noter'!A82,\"\")","v":""},{"$f":"IF($C47=1,'Sjekkliste noter'!B82,\"\")","v":""},null,{"$f":"IF($C47=1,'Sjekkliste noter'!H82,\"\")","v":""}]
[{"$f":"+'Sjekkliste noter'!A84","v":47},{"$f":"IF('Sjekkliste noter'!G84<>\"\",1,0)","v":0},0,{"$f":"IF($C48=1,'Sjekkliste noter'!A84,\"\")","v":""},{"$f":"IF($C48=1,'Sjekkliste noter'!B84,\"\")","v":""},null,{"$f":"IF($C48=1,'Sjekkliste noter'!H84,\"\")","v":""}]
[{"$f":"+'Sjekkliste noter'!A86","v":48},{"$f":"IF('Sjekkliste noter'!G86<>\"\",1,0)","v":0},0,{"$f":"IF($C49=1,'Sjekkliste noter'!A86,\"\")","v":""},{"$f":"IF($C49=1,'Sjekkliste noter'!B86,\"\")","v":""},null,{"$f":"IF($C49=1,'Sjekkliste noter'!H86,\"\")","v":""}]
[{"$f":"+'Sjekkliste noter'!A87","v":49},{"$f":"IF('Sjekkliste noter'!G87<>\"\",1,0)","v":0},0,{"$f":"IF($C50=1,'Sjekkliste noter'!A87,\"\")","v":""},{"$f":"IF($C50=1,'Sjekkliste noter'!B87,\"\")","v":""},null,{"$f":"IF($C50=1,'Sjekkliste noter'!H87,\"\")","v":""}]
[{"$f":"+'Sjekkliste noter'!A88","v":50},{"$f":"IF('Sjekkliste noter'!G88<>\"\",1,0)","v":0},0,{"$f":"IF($C51=1,'Sjekkliste noter'!A88,\"\")","v":""},{"$f":"IF($C51=1,'Sjekkliste noter'!B88,\"\")","v":""},null,{"$f":"IF($C51=1,'Sjekkliste noter'!H88,\"\")","v":""}]
[{"$f":"+'Sjekkliste noter'!A94","v":51},{"$f":"IF('Sjekkliste noter'!G94<>\"\",1,0)","v":0},0,{"$f":"IF($C52=1,'Sjekkliste noter'!A94,\"\")","v":""},{"$f":"IF($C52=1,'Sjekkliste noter'!B94,\"\")","v":""},null,{"$f":"IF($C52=1,'Sjekkliste noter'!H94,\"\")","v":""}]
[{"$f":"+'Sjekkliste noter'!A95","v":52},{"$f":"IF('Sjekkliste noter'!G95<>\"\",1,0)","v":0},0,{"$f":"IF($C53=1,'Sjekkliste noter'!A95,\"\")","v":""},{"$f":"IF($C53=1,'Sjekkliste noter'!B95,\"\")","v":""},null,{"$f":"IF($C53=1,'Sjekkliste noter'!H95,\"\")","v":""}]
[{"$f":"+'Sjekkliste noter'!A96","v":53},{"$f":"IF('Sjekkliste noter'!G96<>\"\",1,0)","v":0},0,{"$f":"IF($C54=1,'Sjekkliste noter'!A96,\"\")","v":""},{"$f":"IF($C54=1,'Sjekkliste noter'!B96,\"\")","v":""},null,{"$f":"IF($C54=1,'Sjekkliste noter'!H96,\"\")","v":""}]
[{"$f":"+'Sjekkliste noter'!A97","v":54},{"$f":"IF('Sjekkliste noter'!G97<>\"\",1,0)","v":0},0,{"$f":"IF($C55=1,'Sjekkliste noter'!A97,\"\")","v":""},{"$f":"IF($C55=1,'Sjekkliste noter'!B97,\"\")","v":""},null,{"$f":"IF($C55=1,'Sjekkliste noter'!H97,\"\")","v":""}]
[{"$f":"+'Sjekkliste noter'!A98","v":55},{"$f":"IF('Sjekkliste noter'!G98<>\"\",1,0)","v":0},0,{"$f":"IF($C56=1,'Sjekkliste noter'!A98,\"\")","v":""},{"$f":"IF($C56=1,'Sjekkliste noter'!B98,\"\")","v":""},null,{"$f":"IF($C56=1,'Sjekkliste noter'!H98,\"\")","v":""}]
[{"$f":"+'Sjekkliste noter'!A99","v":56},{"$f":"IF('Sjekkliste noter'!G99<>\"\",1,0)","v":0},0,{"$f":"IF($C57=1,'Sjekkliste noter'!A99,\"\")","v":""},{"$f":"IF($C57=1,'Sjekkliste noter'!B99,\"\")","v":""},null,{"$f":"IF($C57=1,'Sjekkliste noter'!H99,\"\")","v":""}]
[{"$f":"+'Sjekkliste noter'!A101","v":57},{"$f":"IF('Sjekkliste noter'!G101<>\"\",1,0)","v":0},0,{"$f":"IF($C58=1,'Sjekkliste noter'!A101,\"\")","v":""},{"$f":"IF($C58=1,'Sjekkliste noter'!B101,\"\")","v":""},null,{"$f":"IF($C58=1,'Sjekkliste noter'!H101,\"\")","v":""}]
[{"$f":"+'Sjekkliste noter'!A102","v":58},{"$f":"IF('Sjekkliste noter'!G102<>\"\",1,0)","v":0},0,{"$f":"IF($C59=1,'Sjekkliste noter'!A102,\"\")","v":""},{"$f":"IF($C59=1,'Sjekkliste noter'!B102,\"\")","v":""},null,{"$f":"IF($C59=1,'Sjekkliste noter'!H102,\"\")","v":""}]
[{"$f":"+'Sjekkliste noter'!A104","v":59},{"$f":"IF('Sjekkliste noter'!G104<>\"\",1,0)","v":0},0,{"$f":"IF($C60=1,'Sjekkliste noter'!A104,\"\")","v":""},{"$f":"IF($C60=1,'Sjekkliste noter'!B104,\"\")","v":""},null,{"$f":"IF($C60=1,'Sjekkliste noter'!H104,\"\")","v":""}]
[{"$f":"+'Sjekkliste noter'!A105","v":60},{"$f":"IF('Sjekkliste noter'!G105<>\"\",1,0)","v":0},0,{"$f":"IF($C61=1,'Sjekkliste noter'!A105,\"\")","v":""},{"$f":"IF($C61=1,'Sjekkliste noter'!B105,\"\")","v":""},null,{"$f":"IF($C61=1,'Sjekkliste noter'!H105,\"\")","v":""}]
[{"$f":"+'Sjekkliste noter'!A107","v":61},{"$f":"IF('Sjekkliste noter'!G107<>\"\",1,0)","v":0},0,{"$f":"IF($C62=1,'Sjekkliste noter'!A107,\"\")","v":""},{"$f":"IF($C62=1,'Sjekkliste noter'!B107,\"\")","v":""},null,{"$f":"IF($C62=1,'Sjekkliste noter'!H107,\"\")","v":""}]
[{"$f":"+'Sjekkliste noter'!A109","v":62},{"$f":"IF('Sjekkliste noter'!G109<>\"\",1,0)","v":0},0,{"$f":"IF($C63=1,'Sjekkliste noter'!A109,\"\")","v":""},{"$f":"IF($C63=1,'Sjekkliste noter'!B109,\"\")","v":""},null,{"$f":"IF($C63=1,'Sjekkliste noter'!H109,\"\")","v":""}]
[{"$f":"+'Sjekkliste noter'!A111","v":63},{"$f":"IF('Sjekkliste noter'!G111<>\"\",1,0)","v":0},0,{"$f":"IF($C64=1,'Sjekkliste noter'!A111,\"\")","v":""},{"$f":"IF($C64=1,'Sjekkliste noter'!B111,\"\")","v":""},null,{"$f":"IF($C64=1,'Sjekkliste noter'!H111,\"\")","v":""}]
[{"$f":"+'Sjekkliste noter'!A113","v":64},{"$f":"IF('Sjekkliste noter'!G113<>\"\",1,0)","v":0},0,{"$f":"IF($C65=1,'Sjekkliste noter'!A113,\"\")","v":""},{"$f":"IF($C65=1,'Sjekkliste noter'!B113,\"\")","v":""},null,{"$f":"IF($C65=1,'Sjekkliste noter'!H113,\"\")","v":""}]
[{"$f":"+'Sjekkliste noter'!A115","v":65},{"$f":"IF('Sjekkliste noter'!G115<>\"\",1,0)","v":0},{"$f":"SUM(B66:B66)","v":0},{"$f":"IF($C66=1,'Sjekkliste noter'!A115,\"\")","v":""},{"$f":"IF($C66=1,'Sjekkliste noter'!B115,\"\")","v":""},null,{"$f":"IF($C66=1,'Sjekkliste noter'!H115,\"\")","v":""}]
[{"$f":"+'Sjekkliste noter'!A118","v":66},{"$f":"IF('Sjekkliste noter'!G118<>\"\",1,0)","v":0},0,{"$f":"IF($C67=1,'Sjekkliste noter'!A118,\"\")","v":""},{"$f":"IF($C67=1,'Sjekkliste noter'!B118,\"\")","v":""},null,{"$f":"IF($C67=1,'Sjekkliste noter'!H118,\"\")","v":""}]
[{"$f":"+'Sjekkliste noter'!A120","v":67},{"$f":"IF('Sjekkliste noter'!G120<>\"\",1,0)","v":0},0,{"$f":"IF($C68=1,'Sjekkliste noter'!A120,\"\")","v":""},{"$f":"IF($C68=1,'Sjekkliste noter'!B120,\"\")","v":""},null,{"$f":"IF($C68=1,'Sjekkliste noter'!H120,\"\")","v":""}]
[{"$f":"+'Sjekkliste noter'!A121","v":68},{"$f":"IF('Sjekkliste noter'!G121<>\"\",1,0)","v":0},0,{"$f":"IF($C69=1,'Sjekkliste noter'!A121,\"\")","v":""},{"$f":"IF($C69=1,'Sjekkliste noter'!B121,\"\")","v":""},null,{"$f":"IF($C69=1,'Sjekkliste noter'!H121,\"\")","v":""}]
[{"$f":"+'Sjekkliste noter'!A122","v":69},{"$f":"IF('Sjekkliste noter'!G122<>\"\",1,0)","v":0},0,{"$f":"IF($C70=1,'Sjekkliste noter'!A122,\"\")","v":""},{"$f":"IF($C70=1,'Sjekkliste noter'!B122,\"\")","v":""},null,{"$f":"IF($C70=1,'Sjekkliste noter'!H122,\"\")","v":""}]
[{"$f":"+'Sjekkliste noter'!A124","v":70},{"$f":"IF('Sjekkliste noter'!G124<>\"\",1,0)","v":0},0,{"$f":"IF($C71=1,'Sjekkliste noter'!A124,\"\")","v":""},{"$f":"IF($C71=1,'Sjekkliste noter'!B124,\"\")","v":""},null,{"$f":"IF($C71=1,'Sjekkliste noter'!H124,\"\")","v":""}]
[{"$f":"+'Sjekkliste noter'!A129","v":71},{"$f":"IF('Sjekkliste noter'!G129<>\"\",1,0)","v":0},0,{"$f":"IF($C72=1,'Sjekkliste noter'!A129,\"\")","v":""},{"$f":"IF($C72=1,'Sjekkliste noter'!B129,\"\")","v":""},null,{"$f":"IF($C72=1,'Sjekkliste noter'!H129,\"\")","v":""}]
[{"$f":"+'Sjekkliste noter'!A130","v":72},{"$f":"IF('Sjekkliste noter'!G130<>\"\",1,0)","v":0},0,{"$f":"IF($C73=1,'Sjekkliste noter'!A130,\"\")","v":""},{"$f":"IF($C73=1,'Sjekkliste noter'!B130,\"\")","v":""},null,{"$f":"IF($C73=1,'Sjekkliste noter'!H130,\"\")","v":""}]
[{"$f":"+'Sjekkliste noter'!A131","v":73},{"$f":"IF('Sjekkliste noter'!G131<>\"\",1,0)","v":0},0,{"$f":"IF($C74=1,'Sjekkliste noter'!A131,\"\")","v":""},{"$f":"IF($C74=1,'Sjekkliste noter'!B131,\"\")","v":""},null,{"$f":"IF($C74=1,'Sjekkliste noter'!H131,\"\")","v":""}]
[{"$f":"+'Sjekkliste noter'!A132","v":74},{"$f":"IF('Sjekkliste noter'!G132<>\"\",1,0)","v":0},0,{"$f":"IF($C75=1,'Sjekkliste noter'!A132,\"\")","v":""},{"$f":"IF($C75=1,'Sjekkliste noter'!B132,\"\")","v":""},null,{"$f":"IF($C75=1,'Sjekkliste noter'!H132,\"\")","v":""}]
[{"$f":"+'Sjekkliste noter'!A133","v":75},{"$f":"IF('Sjekkliste noter'!G133<>\"\",1,0)","v":0},0,{"$f":"IF($C76=1,'Sjekkliste noter'!A133,\"\")","v":""},{"$f":"IF($C76=1,'Sjekkliste noter'!B133,\"\")","v":""},null,{"$f":"IF($C76=1,'Sjekkliste noter'!H133,\"\")","v":""}]
[{"$f":"+'Sjekkliste noter'!A135","v":76},{"$f":"IF('Sjekkliste noter'!G135<>\"\",1,0)","v":0},0,{"$f":"IF($C77=1,'Sjekkliste noter'!A135,\"\")","v":""},{"$f":"IF($C77=1,'Sjekkliste noter'!B135,\"\")","v":""},null,{"$f":"IF($C77=1,'Sjekkliste noter'!H135,\"\")","v":""}]
[{"$f":"+'Sjekkliste noter'!A137","v":77},{"$f":"IF('Sjekkliste noter'!G137<>\"\",1,0)","v":0},0,{"$f":"IF($C78=1,'Sjekkliste noter'!A137,\"\")","v":""},{"$f":"IF($C78=1,'Sjekkliste noter'!B137,\"\")","v":""},null,{"$f":"IF($C78=1,'Sjekkliste noter'!H137,\"\")","v":""}]
[{"$f":"+'Sjekkliste noter'!A139","v":78},{"$f":"IF('Sjekkliste noter'!G139<>\"\",1,0)","v":0},0,{"$f":"IF($C79=1,'Sjekkliste noter'!A139,\"\")","v":""},{"$f":"IF($C79=1,'Sjekkliste noter'!B139,\"\")","v":""},null,{"$f":"IF($C79=1,'Sjekkliste noter'!H139,\"\")","v":""}]
[{"$f":"+'Sjekkliste noter'!A141","v":79},{"$f":"IF('Sjekkliste noter'!G141<>\"\",1,0)","v":0},0,{"$f":"IF($C80=1,'Sjekkliste noter'!A141,\"\")","v":""},{"$f":"IF($C80=1,'Sjekkliste noter'!B141,\"\")","v":""},null,{"$f":"IF($C80=1,'Sjekkliste noter'!H141,\"\")","v":""}]
[{"$f":"+'Sjekkliste noter'!A142","v":80},{"$f":"IF('Sjekkliste noter'!G142<>\"\",1,0)","v":0},0,{"$f":"IF($C81=1,'Sjekkliste noter'!A142,\"\")","v":""},{"$f":"IF($C81=1,'Sjekkliste noter'!B142,\"\")","v":""},null,{"$f":"IF($C81=1,'Sjekkliste noter'!H142,\"\")","v":""}]
[{"$f":"+'Sjekkliste noter'!A144","v":81},{"$f":"IF('Sjekkliste noter'!G144<>\"\",1,0)","v":0},0,{"$f":"IF($C82=1,'Sjekkliste noter'!A144,\"\")","v":""},{"$f":"IF($C82=1,'Sjekkliste noter'!B144,\"\")","v":""},null,{"$f":"IF($C82=1,'Sjekkliste noter'!H144,\"\")","v":""}]
[{"$f":"+'Sjekkliste noter'!A146","v":82},{"$f":"IF('Sjekkliste noter'!G146<>\"\",1,0)","v":0},0,{"$f":"IF($C83=1,'Sjekkliste noter'!A146,\"\")","v":""},{"$f":"IF($C83=1,'Sjekkliste noter'!B146,\"\")","v":""},null,{"$f":"IF($C83=1,'Sjekkliste noter'!H146,\"\")","v":""}]
[{"$f":"+'Sjekkliste noter'!A147","v":83},{"$f":"IF('Sjekkliste noter'!G147<>\"\",1,0)","v":0},0,{"$f":"IF($C84=1,'Sjekkliste noter'!A147,\"\")","v":""},{"$f":"IF($C84=1,'Sjekkliste noter'!B147,\"\")","v":""},null,{"$f":"IF($C84=1,'Sjekkliste noter'!H147,\"\")","v":""}]
[{"$f":"+'Sjekkliste noter'!A149","v":84},{"$f":"IF('Sjekkliste noter'!G149<>\"\",1,0)","v":0},0,{"$f":"IF($C85=1,'Sjekkliste noter'!A149,\"\")","v":""},{"$f":"IF($C85=1,'Sjekkliste noter'!B149,\"\")","v":""},null,{"$f":"IF($C85=1,'Sjekkliste noter'!H149,\"\")","v":""}]
[{"$f":"+'Sjekkliste noter'!A150","v":85},{"$f":"IF('Sjekkliste noter'!G150<>\"\",1,0)","v":0},0,{"$f":"IF($C86=1,'Sjekkliste noter'!A150,\"\")","v":""},{"$f":"IF($C86=1,'Sjekkliste noter'!B150,\"\")","v":""},null,{"$f":"IF($C86=1,'Sjekkliste noter'!H150,\"\")","v":""}]
[{"$f":"+'Sjekkliste noter'!A152","v":86},{"$f":"IF('Sjekkliste noter'!G152<>\"\",1,0)","v":0},0,{"$f":"IF($C87=1,'Sjekkliste noter'!A152,\"\")","v":""},{"$f":"IF($C87=1,'Sjekkliste noter'!B152,\"\")","v":""},null,{"$f":"IF($C87=1,'Sjekkliste noter'!H152,\"\")","v":""}]
[{"$f":"+'Sjekkliste noter'!A153","v":87},{"$f":"IF('Sjekkliste noter'!G153<>\"\",1,0)","v":0},0,{"$f":"IF($C88=1,'Sjekkliste noter'!A153,\"\")","v":""},{"$f":"IF($C88=1,'Sjekkliste noter'!B153,\"\")","v":""},null,{"$f":"IF($C88=1,'Sjekkliste noter'!H153,\"\")","v":""}]
[{"$f":"+'Sjekkliste noter'!A155","v":88},{"$f":"IF('Sjekkliste noter'!G155<>\"\",1,0)","v":0},0,{"$f":"IF($C89=1,'Sjekkliste noter'!A155,\"\")","v":""},{"$f":"IF($C89=1,'Sjekkliste noter'!B155,\"\")","v":""},null,{"$f":"IF($C89=1,'Sjekkliste noter'!H155,\"\")","v":""}]
[{"$f":"+'Sjekkliste noter'!A156","v":89},{"$f":"IF('Sjekkliste noter'!G156<>\"\",1,0)","v":0},0,{"$f":"IF($C90=1,'Sjekkliste noter'!A156,\"\")","v":""},{"$f":"IF($C90=1,'Sjekkliste noter'!B156,\"\")","v":""},null,{"$f":"IF($C90=1,'Sjekkliste noter'!H156,\"\")","v":""}]
[{"$f":"+'Sjekkliste noter'!A158","v":90},{"$f":"IF('Sjekkliste noter'!G158<>\"\",1,0)","v":0},0,{"$f":"IF($C91=1,'Sjekkliste noter'!A158,\"\")","v":""},{"$f":"IF($C91=1,'Sjekkliste noter'!B158,\"\")","v":""},null,{"$f":"IF($C91=1,'Sjekkliste noter'!H158,\"\")","v":""}]
[{"$f":"+'Sjekkliste noter'!A160","v":91},{"$f":"IF('Sjekkliste noter'!G160<>\"\",1,0)","v":0},0,{"$f":"IF($C92=1,'Sjekkliste noter'!A160,\"\")","v":""},{"$f":"IF($C92=1,'Sjekkliste noter'!B160,\"\")","v":""},null,{"$f":"IF($C92=1,'Sjekkliste noter'!H160,\"\")","v":""}]
[{"$f":"+'Sjekkliste noter'!A162","v":92},{"$f":"IF('Sjekkliste noter'!G162<>\"\",1,0)","v":0},0,{"$f":"IF($C93=1,'Sjekkliste noter'!A162,\"\")","v":""},{"$f":"IF($C93=1,'Sjekkliste noter'!B162,\"\")","v":""},null,{"$f":"IF($C93=1,'Sjekkliste noter'!H162,\"\")","v":""}]
[{"$f":"+'Sjekkliste noter'!A164","v":93},{"$f":"IF('Sjekkliste noter'!G164<>\"\",1,0)","v":0},0,{"$f":"IF($C94=1,'Sjekkliste noter'!A164,\"\")","v":""},{"$f":"IF($C94=1,'Sjekkliste noter'!B164,\"\")","v":""},null,{"$f":"IF($C94=1,'Sjekkliste noter'!H164,\"\")","v":""}]
[{"$f":"+'Sjekkliste noter'!A166","v":94},{"$f":"IF('Sjekkliste noter'!G166<>\"\",1,0)","v":0},0,{"$f":"IF($C95=1,'Sjekkliste noter'!A166,\"\")","v":""},{"$f":"IF($C95=1,'Sjekkliste noter'!B166,\"\")","v":""},null,{"$f":"IF($C95=1,'Sjekkliste noter'!H166,\"\")","v":""}]
[{"$f":"+'Sjekkliste noter'!A167","v":95},{"$f":"IF('Sjekkliste noter'!G167<>\"\",1,0)","v":0},0,{"$f":"IF($C96=1,'Sjekkliste noter'!A167,\"\")","v":""},{"$f":"IF($C96=1,'Sjekkliste noter'!B167,\"\")","v":""},null,{"$f":"IF($C96=1,'Sjekkliste noter'!H167,\"\")","v":""}]
[{"$f":"+'Sjekkliste noter'!A170","v":96},{"$f":"IF('Sjekkliste noter'!G170<>\"\",1,0)","v":0},0,{"$f":"IF($C97=1,'Sjekkliste noter'!A170,\"\")","v":""},{"$f":"IF($C97=1,'Sjekkliste noter'!B170,\"\")","v":""},null,{"$f":"IF($C97=1,'Sjekkliste noter'!H170,\"\")","v":""}]
[{"$f":"+'Sjekkliste noter'!A171","v":97},{"$f":"IF('Sjekkliste noter'!G171<>\"\",1,0)","v":0},0,{"$f":"IF($C98=1,'Sjekkliste noter'!A171,\"\")","v":""},{"$f":"IF($C98=1,'Sjekkliste noter'!B171,\"\")","v":""},null,{"$f":"IF($C98=1,'Sjekkliste noter'!H171,\"\")","v":""}]
[{"$f":"+'Sjekkliste noter'!A172","v":98},{"$f":"IF('Sjekkliste noter'!G172<>\"\",1,0)","v":0},0,{"$f":"IF($C99=1,'Sjekkliste noter'!A172,\"\")","v":""},{"$f":"IF($C99=1,'Sjekkliste noter'!B172,\"\")","v":""},null,{"$f":"IF($C99=1,'Sjekkliste noter'!H172,\"\")","v":""}]
[{"$f":"+'Sjekkliste noter'!A173","v":99},{"$f":"IF('Sjekkliste noter'!G173<>\"\",1,0)","v":0},0,{"$f":"IF($C100=1,'Sjekkliste noter'!A173,\"\")","v":""},{"$f":"IF($C100=1,'Sjekkliste noter'!B173,\"\")","v":""},null,{"$f":"IF($C100=1,'Sjekkliste noter'!H173,\"\")","v":""}]
[{"$f":"+'Sjekkliste noter'!A174","v":100},{"$f":"IF('Sjekkliste noter'!G174<>\"\",1,0)","v":0},0,{"$f":"IF($C101=1,'Sjekkliste noter'!A174,\"\")","v":""},{"$f":"IF($C101=1,'Sjekkliste noter'!B174,\"\")","v":""},null,{"$f":"IF($C101=1,'Sjekkliste noter'!H174,\"\")","v":""}]
[{"$f":"+'Sjekkliste noter'!A175","v":101},{"$f":"IF('Sjekkliste noter'!G175<>\"\",1,0)","v":0},0,{"$f":"IF($C102=1,'Sjekkliste noter'!A175,\"\")","v":""},{"$f":"IF($C102=1,'Sjekkliste noter'!B175,\"\")","v":""},null,{"$f":"IF($C102=1,'Sjekkliste noter'!H175,\"\")","v":""}]
[{"$f":"+'Sjekkliste noter'!A178","v":102},{"$f":"IF('Sjekkliste noter'!G178<>\"\",1,0)","v":0},0,{"$f":"IF($C103=1,'Sjekkliste noter'!A178,\"\")","v":""},{"$f":"IF($C103=1,'Sjekkliste noter'!B178,\"\")","v":""},null,{"$f":"IF($C103=1,'Sjekkliste noter'!H178,\"\")","v":""}]
[{"$f":"+'Sjekkliste noter'!A179","v":103},{"$f":"IF('Sjekkliste noter'!G179<>\"\",1,0)","v":0},0,{"$f":"IF($C104=1,'Sjekkliste noter'!A179,\"\")","v":""},{"$f":"IF($C104=1,'Sjekkliste noter'!B179,\"\")","v":""},null,{"$f":"IF($C104=1,'Sjekkliste noter'!H179,\"\")","v":""}]
[{"$f":"+'Sjekkliste noter'!A180","v":104},{"$f":"IF('Sjekkliste noter'!G180<>\"\",1,0)","v":0},0,{"$f":"IF($C105=1,'Sjekkliste noter'!A180,\"\")","v":""},{"$f":"IF($C105=1,'Sjekkliste noter'!B180,\"\")","v":""},null,{"$f":"IF($C105=1,'Sjekkliste noter'!H180,\"\")","v":""}]
[{"$f":"+'Sjekkliste noter'!A181","v":105},{"$f":"IF('Sjekkliste noter'!G181<>\"\",1,0)","v":0},0,{"$f":"IF($C106=1,'Sjekkliste noter'!A181,\"\")","v":""},{"$f":"IF($C106=1,'Sjekkliste noter'!B181,\"\")","v":""},null,{"$f":"IF($C106=1,'Sjekkliste noter'!H181,\"\")","v":""}]
[{"$f":"+'Sjekkliste noter'!A182","v":106},{"$f":"IF('Sjekkliste noter'!G182<>\"\",1,0)","v":0},0,{"$f":"IF($C107=1,'Sjekkliste noter'!A182,\"\")","v":""},{"$f":"IF($C107=1,'Sjekkliste noter'!B182,\"\")","v":""},null,{"$f":"IF($C107=1,'Sjekkliste noter'!H182,\"\")","v":""}]
[{"$f":"+'Sjekkliste noter'!A183","v":107},{"$f":"IF('Sjekkliste noter'!G183<>\"\",1,0)","v":0},0,{"$f":"IF($C108=1,'Sjekkliste noter'!A183,\"\")","v":""},{"$f":"IF($C108=1,'Sjekkliste noter'!B183,\"\")","v":""},null,{"$f":"IF($C108=1,'Sjekkliste noter'!H183,\"\")","v":""}]
[{"$f":"+'Sjekkliste noter'!A184","v":108},{"$f":"IF('Sjekkliste noter'!G184<>\"\",1,0)","v":0},0,{"$f":"IF($C109=1,'Sjekkliste noter'!A184,\"\")","v":""},{"$f":"IF($C109=1,'Sjekkliste noter'!B184,\"\")","v":""},null,{"$f":"IF($C109=1,'Sjekkliste noter'!H184,\"\")","v":""}]
[{"$f":"+'Sjekkliste noter'!A185","v":109},{"$f":"IF('Sjekkliste noter'!G185<>\"\",1,0)","v":0},0,{"$f":"IF($C110=1,'Sjekkliste noter'!A185,\"\")","v":""},{"$f":"IF($C110=1,'Sjekkliste noter'!B185,\"\")","v":""},null,{"$f":"IF($C110=1,'Sjekkliste noter'!H185,\"\")","v":""}]
[{"$f":"+'Sjekkliste noter'!A186","v":110},{"$f":"IF('Sjekkliste noter'!G186<>\"\",1,0)","v":0},0,{"$f":"IF($C111=1,'Sjekkliste noter'!A186,\"\")","v":""},{"$f":"IF($C111=1,'Sjekkliste noter'!B186,\"\")","v":""},null,{"$f":"IF($C111=1,'Sjekkliste noter'!H186,\"\")","v":""}]
[{"$f":"+'Sjekkliste noter'!A188","v":111},{"$f":"IF('Sjekkliste noter'!G188<>\"\",1,0)","v":0},0,{"$f":"IF($C112=1,'Sjekkliste noter'!A188,\"\")","v":""},{"$f":"IF($C112=1,'Sjekkliste noter'!B188,\"\")","v":""},null,{"$f":"IF($C112=1,'Sjekkliste noter'!H188,\"\")","v":""}]
[{"$f":"+'Sjekkliste noter'!A189","v":112},{"$f":"IF('Sjekkliste noter'!G189<>\"\",1,0)","v":0},0,{"$f":"IF($C113=1,'Sjekkliste noter'!A189,\"\")","v":""},{"$f":"IF($C113=1,'Sjekkliste noter'!B189,\"\")","v":""},null,{"$f":"IF($C113=1,'Sjekkliste noter'!H189,\"\")","v":""}]
[{"$f":"+'Sjekkliste noter'!A191","v":113},{"$f":"IF('Sjekkliste noter'!G191<>\"\",1,0)","v":0},0,{"$f":"IF($C114=1,'Sjekkliste noter'!A191,\"\")","v":""},{"$f":"IF($C114=1,'Sjekkliste noter'!B191,\"\")","v":""},null,{"$f":"IF($C114=1,'Sjekkliste noter'!H191,\"\")","v":""}]
[{"$f":"+'Sjekkliste noter'!A192","v":114},{"$f":"IF('Sjekkliste noter'!G192<>\"\",1,0)","v":0},0,{"$f":"IF($C115=1,'Sjekkliste noter'!A192,\"\")","v":""},{"$f":"IF($C115=1,'Sjekkliste noter'!B192,\"\")","v":""},null,{"$f":"IF($C115=1,'Sjekkliste noter'!H192,\"\")","v":""}]
[{"$f":"+'Sjekkliste noter'!A194","v":115},{"$f":"IF('Sjekkliste noter'!G194<>\"\",1,0)","v":0},0,{"$f":"IF($C116=1,'Sjekkliste noter'!A194,\"\")","v":""},{"$f":"IF($C116=1,'Sjekkliste noter'!B194,\"\")","v":""},null,{"$f":"IF($C116=1,'Sjekkliste noter'!H194,\"\")","v":""}]
[{"$f":"+'Sjekkliste noter'!A195","v":116},{"$f":"IF('Sjekkliste noter'!G195<>\"\",1,0)","v":0},0,{"$f":"IF($C117=1,'Sjekkliste noter'!A195,\"\")","v":""},{"$f":"IF($C117=1,'Sjekkliste noter'!B195,\"\")","v":""},null,{"$f":"IF($C117=1,'Sjekkliste noter'!H195,\"\")","v":""}]
[{"$f":"+'Sjekkliste noter'!A196","v":117},{"$f":"IF('Sjekkliste noter'!G196<>\"\",1,0)","v":0},0,{"$f":"IF($C118=1,'Sjekkliste noter'!A196,\"\")","v":""},{"$f":"IF($C118=1,'Sjekkliste noter'!B196,\"\")","v":""},null,{"$f":"IF($C118=1,'Sjekkliste noter'!H196,\"\")","v":""}]
[{"$f":"+'Sjekkliste noter'!A197","v":118},{"$f":"IF('Sjekkliste noter'!G197<>\"\",1,0)","v":0},0,{"$f":"IF($C119=1,'Sjekkliste noter'!A197,\"\")","v":""},{"$f":"IF($C119=1,'Sjekkliste noter'!B197,\"\")","v":""},null,{"$f":"IF($C119=1,'Sjekkliste noter'!H197,\"\")","v":""}]
[{"$f":"+'Sjekkliste noter'!A198","v":119},{"$f":"IF('Sjekkliste noter'!G198<>\"\",1,0)","v":0},0,{"$f":"IF($C120=1,'Sjekkliste noter'!A198,\"\")","v":""},{"$f":"IF($C120=1,'Sjekkliste noter'!B198,\"\")","v":""},null,{"$f":"IF($C120=1,'Sjekkliste noter'!H198,\"\")","v":""}]
[{"$f":"+'Sjekkliste noter'!A199","v":120},{"$f":"IF('Sjekkliste noter'!G199<>\"\",1,0)","v":0},0,{"$f":"IF($C121=1,'Sjekkliste noter'!A199,\"\")","v":""},{"$f":"IF($C121=1,'Sjekkliste noter'!B199,\"\")","v":""},null,{"$f":"IF($C121=1,'Sjekkliste noter'!H199,\"\")","v":""}]
[{"$f":"+'Sjekkliste noter'!A203","v":121},{"$f":"IF('Sjekkliste noter'!G203<>\"\",1,0)","v":0},0,{"$f":"IF($C122=1,'Sjekkliste noter'!A203,\"\")","v":""},{"$f":"IF($C122=1,'Sjekkliste noter'!B203,\"\")","v":""},null,{"$f":"IF($C122=1,'Sjekkliste noter'!H203,\"\")","v":""}]
[{"$f":"+'Sjekkliste noter'!A204","v":122},{"$f":"IF('Sjekkliste noter'!G204<>\"\",1,0)","v":0},0,{"$f":"IF($C123=1,'Sjekkliste noter'!A204,\"\")","v":""},{"$f":"IF($C123=1,'Sjekkliste noter'!B204,\"\")","v":""},null,{"$f":"IF($C123=1,'Sjekkliste noter'!H204,\"\")","v":""}]
[{"$f":"+'Sjekkliste noter'!A205","v":123},{"$f":"IF('Sjekkliste noter'!G205<>\"\",1,0)","v":0},0,{"$f":"IF($C124=1,'Sjekkliste noter'!A205,\"\")","v":""},{"$f":"IF($C124=1,'Sjekkliste noter'!B205,\"\")","v":""},null,{"$f":"IF($C124=1,'Sjekkliste noter'!H205,\"\")","v":""}]
[{"$f":"+'Sjekkliste noter'!A206","v":124},{"$f":"IF('Sjekkliste noter'!G206<>\"\",1,0)","v":0},0,{"$f":"IF($C125=1,'Sjekkliste noter'!A206,\"\")","v":""},{"$f":"IF($C125=1,'Sjekkliste noter'!B206,\"\")","v":""},null,{"$f":"IF($C125=1,'Sjekkliste noter'!H206,\"\")","v":""}]
[{"$f":"+'Sjekkliste noter'!A208","v":125},{"$f":"IF('Sjekkliste noter'!G208<>\"\",1,0)","v":0},0,{"$f":"IF($C126=1,'Sjekkliste noter'!A208,\"\")","v":""},{"$f":"IF($C126=1,'Sjekkliste noter'!B208,\"\")","v":""},null,{"$f":"IF($C126=1,'Sjekkliste noter'!H208,\"\")","v":""}]
[{"$f":"+'Sjekkliste noter'!A209","v":126},{"$f":"IF('Sjekkliste noter'!G209<>\"\",1,0)","v":0},0,{"$f":"IF($C127=1,'Sjekkliste noter'!A209,\"\")","v":""},{"$f":"IF($C127=1,'Sjekkliste noter'!B209,\"\")","v":""},null,{"$f":"IF($C127=1,'Sjekkliste noter'!H209,\"\")","v":""}]
[{"$f":"+'Sjekkliste noter'!A210","v":127},{"$f":"IF('Sjekkliste noter'!G210<>\"\",1,0)","v":0},0,{"$f":"IF($C128=1,'Sjekkliste noter'!A210,\"\")","v":""},{"$f":"IF($C128=1,'Sjekkliste noter'!B210,\"\")","v":""},null,{"$f":"IF($C128=1,'Sjekkliste noter'!H210,\"\")","v":""}]
[{"$f":"+'Sjekkliste noter'!A212","v":128},{"$f":"IF('Sjekkliste noter'!G212<>\"\",1,0)","v":0},0,{"$f":"IF($C129=1,'Sjekkliste noter'!A212,\"\")","v":""},{"$f":"IF($C129=1,'Sjekkliste noter'!B212,\"\")","v":""},null,{"$f":"IF($C129=1,'Sjekkliste noter'!H212,\"\")","v":""}]
[{"$f":"+'Sjekkliste noter'!A213","v":129},{"$f":"IF('Sjekkliste noter'!G213<>\"\",1,0)","v":0},{"$f":"SUM(B130:B130)","v":0},{"$f":"IF($C130=1,'Sjekkliste noter'!A213,\"\")","v":""},{"$f":"IF($C130=1,'Sjekkliste noter'!B213,\"\")","v":""},null,{"$f":"IF($C130=1,'Sjekkliste noter'!H213,\"\")","v":""}]
[{"$f":"+'Sjekkliste noter'!A214","v":130},{"$f":"IF('Sjekkliste noter'!G214<>\"\",1,0)","v":0},0,{"$f":"IF($C131=1,'Sjekkliste noter'!A214,\"\")","v":""},{"$f":"IF($C131=1,'Sjekkliste noter'!B214,\"\")","v":""},null,{"$f":"IF($C131=1,'Sjekkliste noter'!H214,\"\")","v":""}]
[{"$f":"+'Sjekkliste noter'!A217","v":131},{"$f":"IF('Sjekkliste noter'!G217<>\"\",1,0)","v":0},0,{"$f":"IF($C132=1,'Sjekkliste noter'!A217,\"\")","v":""},{"$f":"IF($C132=1,'Sjekkliste noter'!B217,\"\")","v":""},null,{"$f":"IF($C132=1,'Sjekkliste noter'!H217,\"\")","v":""}]
[{"$f":"+'Sjekkliste noter'!A218","v":132},{"$f":"IF('Sjekkliste noter'!G218<>\"\",1,0)","v":0},0,{"$f":"IF($C133=1,'Sjekkliste noter'!A218,\"\")","v":""},{"$f":"IF($C133=1,'Sjekkliste noter'!B218,\"\")","v":""},null,{"$f":"IF($C133=1,'Sjekkliste noter'!H218,\"\")","v":""}]
[{"$f":"+'Sjekkliste noter'!A220","v":133},{"$f":"IF('Sjekkliste noter'!G220<>\"\",1,0)","v":0},0,{"$f":"IF($C134=1,'Sjekkliste noter'!A220,\"\")","v":""},{"$f":"IF($C134=1,'Sjekkliste noter'!B220,\"\")","v":""},null,{"$f":"IF($C134=1,'Sjekkliste noter'!H220,\"\")","v":""}]
[{"$f":"+'Sjekkliste noter'!A221","v":134},{"$f":"IF('Sjekkliste noter'!G221<>\"\",1,0)","v":0},0,{"$f":"IF($C135=1,'Sjekkliste noter'!A221,\"\")","v":""},{"$f":"IF($C135=1,'Sjekkliste noter'!B221,\"\")","v":""},null,{"$f":"IF($C135=1,'Sjekkliste noter'!H221,\"\")","v":""}]
[{"$f":"+'Sjekkliste noter'!A224","v":135},{"$f":"IF('Sjekkliste noter'!G224<>\"\",1,0)","v":0},0,{"$f":"IF($C136=1,'Sjekkliste noter'!A224,\"\")","v":""},{"$f":"IF($C136=1,'Sjekkliste noter'!B224,\"\")","v":""},null,{"$f":"IF($C136=1,'Sjekkliste noter'!H224,\"\")","v":""}]
[{"$f":"+'Sjekkliste noter'!A225","v":136},{"$f":"IF('Sjekkliste noter'!G225<>\"\",1,0)","v":0},0,{"$f":"IF($C137=1,'Sjekkliste noter'!A225,\"\")","v":""},{"$f":"IF($C137=1,'Sjekkliste noter'!B225,\"\")","v":""},null,{"$f":"IF($C137=1,'Sjekkliste noter'!H225,\"\")","v":""}]
[{"$f":"+'Sjekkliste noter'!A227","v":137},{"$f":"IF('Sjekkliste noter'!G227<>\"\",1,0)","v":0},0,{"$f":"IF($C138=1,'Sjekkliste noter'!A227,\"\")","v":""},{"$f":"IF($C138=1,'Sjekkliste noter'!B227,\"\")","v":""},null,{"$f":"IF($C138=1,'Sjekkliste noter'!H227,\"\")","v":""}]
[{"$f":"+'Sjekkliste noter'!A228","v":138},{"$f":"IF('Sjekkliste noter'!G228<>\"\",1,0)","v":0},0,{"$f":"IF($C139=1,'Sjekkliste noter'!A228,\"\")","v":""},{"$f":"IF($C139=1,'Sjekkliste noter'!B228,\"\")","v":""},null,{"$f":"IF($C139=1,'Sjekkliste noter'!H228,\"\")","v":""}]
[{"$f":"+'Sjekkliste noter'!A230","v":139},{"$f":"IF('Sjekkliste noter'!G230<>\"\",1,0)","v":0},0,{"$f":"IF($C140=1,'Sjekkliste noter'!A230,\"\")","v":""},{"$f":"IF($C140=1,'Sjekkliste noter'!B230,\"\")","v":""},null,{"$f":"IF($C140=1,'Sjekkliste noter'!H230,\"\")","v":""}]
[{"$f":"+'Sjekkliste noter'!A232","v":140},{"$f":"IF('Sjekkliste noter'!G232<>\"\",1,0)","v":0},0,{"$f":"IF($C141=1,'Sjekkliste noter'!A232,\"\")","v":""},{"$f":"IF($C141=1,'Sjekkliste noter'!B232,\"\")","v":""},null,{"$f":"IF($C141=1,'Sjekkliste noter'!H232,\"\")","v":""}]
[{"$f":"+'Sjekkliste noter'!A235","v":141},{"$f":"IF('Sjekkliste noter'!G235<>\"\",1,0)","v":0},0,{"$f":"IF($C142=1,'Sjekkliste noter'!A235,\"\")","v":""},{"$f":"IF($C142=1,'Sjekkliste noter'!B235,\"\")","v":""},null,{"$f":"IF($C142=1,'Sjekkliste noter'!H235,\"\")","v":""}]
[{"$f":"+'Sjekkliste noter'!A236","v":142},{"$f":"IF('Sjekkliste noter'!G236<>\"\",1,0)","v":0},0,{"$f":"IF($C143=1,'Sjekkliste noter'!A236,\"\")","v":""},{"$f":"IF($C143=1,'Sjekkliste noter'!B236,\"\")","v":""},null,{"$f":"IF($C143=1,'Sjekkliste noter'!H236,\"\")","v":""}]
[{"$f":"+'Sjekkliste noter'!A237","v":143},{"$f":"IF('Sjekkliste noter'!G237<>\"\",1,0)","v":0},0,{"$f":"IF($C144=1,'Sjekkliste noter'!A237,\"\")","v":""},{"$f":"IF($C144=1,'Sjekkliste noter'!B237,\"\")","v":""},null,{"$f":"IF($C144=1,'Sjekkliste noter'!H237,\"\")","v":""}]
[{"$f":"+'Sjekkliste noter'!A239","v":144},{"$f":"IF('Sjekkliste noter'!G239<>\"\",1,0)","v":0},0,{"$f":"IF($C145=1,'Sjekkliste noter'!A239,\"\")","v":""},{"$f":"IF($C145=1,'Sjekkliste noter'!B239,\"\")","v":""},null,{"$f":"IF($C145=1,'Sjekkliste noter'!H239,\"\")","v":""}]
[{"$f":"+'Sjekkliste noter'!A240","v":145},{"$f":"IF('Sjekkliste noter'!G240<>\"\",1,0)","v":0},0,{"$f":"IF($C146=1,'Sjekkliste noter'!A240,\"\")","v":""},{"$f":"IF($C146=1,'Sjekkliste noter'!B240,\"\")","v":""},null,{"$f":"IF($C146=1,'Sjekkliste noter'!H240,\"\")","v":""}]
[{"$f":"+'Sjekkliste noter'!A242","v":146},{"$f":"IF('Sjekkliste noter'!G242<>\"\",1,0)","v":0},0,{"$f":"IF($C147=1,'Sjekkliste noter'!A242,\"\")","v":""},{"$f":"IF($C147=1,'Sjekkliste noter'!B242,\"\")","v":""},null,{"$f":"IF($C147=1,'Sjekkliste noter'!H242,\"\")","v":""}]
[{"$f":"+'Sjekkliste noter'!A243","v":147},{"$f":"IF('Sjekkliste noter'!G243<>\"\",1,0)","v":0},0,{"$f":"IF($C148=1,'Sjekkliste noter'!A243,\"\")","v":""},{"$f":"IF($C148=1,'Sjekkliste noter'!B243,\"\")","v":""},null,{"$f":"IF($C148=1,'Sjekkliste noter'!H243,\"\")","v":""}]
[{"$f":"+'Sjekkliste noter'!A244","v":148},{"$f":"IF('Sjekkliste noter'!G244<>\"\",1,0)","v":0},0,{"$f":"IF($C149=1,'Sjekkliste noter'!A244,\"\")","v":""},{"$f":"IF($C149=1,'Sjekkliste noter'!B244,\"\")","v":""},null,{"$f":"IF($C149=1,'Sjekkliste noter'!H244,\"\")","v":""}]
[{"$f":"+'Sjekkliste noter'!A246","v":149},{"$f":"IF('Sjekkliste noter'!G246<>\"\",1,0)","v":0},0,{"$f":"IF($C150=1,'Sjekkliste noter'!A246,\"\")","v":""},{"$f":"IF($C150=1,'Sjekkliste noter'!B246,\"\")","v":""},null,{"$f":"IF($C150=1,'Sjekkliste noter'!H246,\"\")","v":""}]
[{"$f":"+'Sjekkliste noter'!A247","v":150},{"$f":"IF('Sjekkliste noter'!G247<>\"\",1,0)","v":0},0,{"$f":"IF($C151=1,'Sjekkliste noter'!A247,\"\")","v":""},{"$f":"IF($C151=1,'Sjekkliste noter'!B247,\"\")","v":""},null,{"$f":"IF($C151=1,'Sjekkliste noter'!H247,\"\")","v":""}]
[{"$f":"+'Sjekkliste noter'!A248","v":151},{"$f":"IF('Sjekkliste noter'!G248<>\"\",1,0)","v":0},0,{"$f":"IF($C152=1,'Sjekkliste noter'!A248,\"\")","v":""},{"$f":"IF($C152=1,'Sjekkliste noter'!B248,\"\")","v":""},null,{"$f":"IF($C152=1,'Sjekkliste noter'!H248,\"\")","v":""}]
[{"$f":"+'Sjekkliste noter'!A249","v":152},{"$f":"IF('Sjekkliste noter'!G249<>\"\",1,0)","v":0},0,{"$f":"IF($C153=1,'Sjekkliste noter'!A249,\"\")","v":""},{"$f":"IF($C153=1,'Sjekkliste noter'!B249,\"\")","v":""},null,{"$f":"IF($C153=1,'Sjekkliste noter'!H249,\"\")","v":""}]
[{"$f":"+'Sjekkliste noter'!A250","v":153},{"$f":"IF('Sjekkliste noter'!G250<>\"\",1,0)","v":0},0,{"$f":"IF($C154=1,'Sjekkliste noter'!A250,\"\")","v":""},{"$f":"IF($C154=1,'Sjekkliste noter'!B250,\"\")","v":""},null,{"$f":"IF($C154=1,'Sjekkliste noter'!H250,\"\")","v":""}]
[{"$f":"+'Sjekkliste noter'!A251","v":154},{"$f":"IF('Sjekkliste noter'!G251<>\"\",1,0)","v":0},0,{"$f":"IF($C155=1,'Sjekkliste noter'!A251,\"\")","v":""},{"$f":"IF($C155=1,'Sjekkliste noter'!B251,\"\")","v":""},null,{"$f":"IF($C155=1,'Sjekkliste noter'!H251,\"\")","v":""}]
[{"$f":"+'Sjekkliste noter'!A252","v":155},{"$f":"IF('Sjekkliste noter'!G252<>\"\",1,0)","v":0},0,{"$f":"IF($C156=1,'Sjekkliste noter'!A252,\"\")","v":""},{"$f":"IF($C156=1,'Sjekkliste noter'!B252,\"\")","v":""},null,{"$f":"IF($C156=1,'Sjekkliste noter'!H252,\"\")","v":""}]
[{"$f":"+'Sjekkliste noter'!A254","v":156},{"$f":"IF('Sjekkliste noter'!G254<>\"\",1,0)","v":0},0,{"$f":"IF($C157=1,'Sjekkliste noter'!A254,\"\")","v":""},{"$f":"IF($C157=1,'Sjekkliste noter'!B254,\"\")","v":""},null,{"$f":"IF($C157=1,'Sjekkliste noter'!H254,\"\")","v":""}]
[{"$f":"+'Sjekkliste noter'!A255","v":157},{"$f":"IF('Sjekkliste noter'!G255<>\"\",1,0)","v":0},0,{"$f":"IF($C158=1,'Sjekkliste noter'!A255,\"\")","v":""},{"$f":"IF($C158=1,'Sjekkliste noter'!B255,\"\")","v":""},null,{"$f":"IF($C158=1,'Sjekkliste noter'!H255,\"\")","v":""}]
[{"$f":"+'Sjekkliste noter'!A256","v":158},{"$f":"IF('Sjekkliste noter'!G256<>\"\",1,0)","v":0},0,{"$f":"IF($C159=1,'Sjekkliste noter'!A256,\"\")","v":""},{"$f":"IF($C159=1,'Sjekkliste noter'!B256,\"\")","v":""},null,{"$f":"IF($C159=1,'Sjekkliste noter'!H256,\"\")","v":""}]
[{"$f":"+'Sjekkliste noter'!A258","v":159},{"$f":"IF('Sjekkliste noter'!G258<>\"\",1,0)","v":0},0,{"$f":"IF($C160=1,'Sjekkliste noter'!A258,\"\")","v":""},{"$f":"IF($C160=1,'Sjekkliste noter'!B258,\"\")","v":""},null,{"$f":"IF($C160=1,'Sjekkliste noter'!H258,\"\")","v":""}]
[{"$f":"+'Sjekkliste noter'!A259","v":160},{"$f":"IF('Sjekkliste noter'!G259<>\"\",1,0)","v":0},0,{"$f":"IF($C161=1,'Sjekkliste noter'!A259,\"\")","v":""},{"$f":"IF($C161=1,'Sjekkliste noter'!B259,\"\")","v":""},null,{"$f":"IF($C161=1,'Sjekkliste noter'!H259,\"\")","v":""}]
[{"$f":"+'Sjekkliste noter'!A260","v":161},{"$f":"IF('Sjekkliste noter'!G260<>\"\",1,0)","v":0},0,{"$f":"IF($C162=1,'Sjekkliste noter'!A260,\"\")","v":""},{"$f":"IF($C162=1,'Sjekkliste noter'!B260,\"\")","v":""},null,{"$f":"IF($C162=1,'Sjekkliste noter'!H260,\"\")","v":""}]
[{"$f":"+'Sjekkliste noter'!A261","v":162},{"$f":"IF('Sjekkliste noter'!G261<>\"\",1,0)","v":0},0,{"$f":"IF($C163=1,'Sjekkliste noter'!A261,\"\")","v":""},{"$f":"IF($C163=1,'Sjekkliste noter'!B261,\"\")","v":""},null,{"$f":"IF($C163=1,'Sjekkliste noter'!H261,\"\")","v":""}]
[{"$f":"+'Sjekkliste noter'!A262","v":163},{"$f":"IF('Sjekkliste noter'!G262<>\"\",1,0)","v":0},0,{"$f":"IF($C164=1,'Sjekkliste noter'!A262,\"\")","v":""},{"$f":"IF($C164=1,'Sjekkliste noter'!B262,\"\")","v":""},null,{"$f":"IF($C164=1,'Sjekkliste noter'!H262,\"\")","v":""}]
[{"$f":"+'Sjekkliste noter'!A263","v":164},{"$f":"IF('Sjekkliste noter'!G263<>\"\",1,0)","v":0},0,{"$f":"IF($C165=1,'Sjekkliste noter'!A263,\"\")","v":""},{"$f":"IF($C165=1,'Sjekkliste noter'!B263,\"\")","v":""},null,{"$f":"IF($C165=1,'Sjekkliste noter'!H263,\"\")","v":""}]
[{"$f":"+'Sjekkliste noter'!A264","v":165},{"$f":"IF('Sjekkliste noter'!G264<>\"\",1,0)","v":0},0,{"$f":"IF($C166=1,'Sjekkliste noter'!A264,\"\")","v":""},{"$f":"IF($C166=1,'Sjekkliste noter'!B264,\"\")","v":""},null,{"$f":"IF($C166=1,'Sjekkliste noter'!H264,\"\")","v":""}]
[{"$f":"+'Sjekkliste noter'!A265","v":166},{"$f":"IF('Sjekkliste noter'!G265<>\"\",1,0)","v":0},0,{"$f":"IF($C167=1,'Sjekkliste noter'!A265,\"\")","v":""},{"$f":"IF($C167=1,'Sjekkliste noter'!B265,\"\")","v":""},null,{"$f":"IF($C167=1,'Sjekkliste noter'!H265,\"\")","v":""}]
[{"$f":"+'Sjekkliste noter'!A266","v":167},{"$f":"IF('Sjekkliste noter'!G266<>\"\",1,0)","v":0},0,{"$f":"IF($C168=1,'Sjekkliste noter'!A266,\"\")","v":""},{"$f":"IF($C168=1,'Sjekkliste noter'!B266,\"\")","v":""},null,{"$f":"IF($C168=1,'Sjekkliste noter'!H266,\"\")","v":""}]
[{"$f":"+'Sjekkliste noter'!A268","v":168},{"$f":"IF('Sjekkliste noter'!G268<>\"\",1,0)","v":0},0,{"$f":"IF($C169=1,'Sjekkliste noter'!A268,\"\")","v":""},{"$f":"IF($C169=1,'Sjekkliste noter'!B268,\"\")","v":""},null,{"$f":"IF($C169=1,'Sjekkliste noter'!H268,\"\")","v":""}]
[{"$f":"+'Sjekkliste noter'!A269","v":169},{"$f":"IF('Sjekkliste noter'!G269<>\"\",1,0)","v":0},0,{"$f":"IF($C170=1,'Sjekkliste noter'!A269,\"\")","v":""},{"$f":"IF($C170=1,'Sjekkliste noter'!B269,\"\")","v":""},null,{"$f":"IF($C170=1,'Sjekkliste noter'!H269,\"\")","v":""}]
[{"$f":"+'Sjekkliste noter'!A271","v":170},{"$f":"IF('Sjekkliste noter'!G271<>\"\",1,0)","v":0},0,{"$f":"IF($C171=1,'Sjekkliste noter'!A271,\"\")","v":""},{"$f":"IF($C171=1,'Sjekkliste noter'!B271,\"\")","v":""},null,{"$f":"IF($C171=1,'Sjekkliste noter'!H271,\"\")","v":""}]
[{"$f":"+'Sjekkliste noter'!A272","v":171},{"$f":"IF('Sjekkliste noter'!G272<>\"\",1,0)","v":0},0,{"$f":"IF($C172=1,'Sjekkliste noter'!A272,\"\")","v":""},{"$f":"IF($C172=1,'Sjekkliste noter'!B272,\"\")","v":""},null,{"$f":"IF($C172=1,'Sjekkliste noter'!H272,\"\")","v":""}]
[{"$f":"+'Sjekkliste noter'!A275","v":172},{"$f":"IF('Sjekkliste noter'!G275<>\"\",1,0)","v":0},0,{"$f":"IF($C173=1,'Sjekkliste noter'!A275,\"\")","v":""},{"$f":"IF($C173=1,'Sjekkliste noter'!B275,\"\")","v":""},null,{"$f":"IF($C173=1,'Sjekkliste noter'!H275,\"\")","v":""}]
[{"$f":"+'Sjekkliste noter'!A276","v":173},{"$f":"IF('Sjekkliste noter'!G276<>\"\",1,0)","v":0},0,{"$f":"IF($C174=1,'Sjekkliste noter'!A276,\"\")","v":""},{"$f":"IF($C174=1,'Sjekkliste noter'!B276,\"\")","v":""},null,{"$f":"IF($C174=1,'Sjekkliste noter'!H276,\"\")","v":""}]
[{"$f":"+'Sjekkliste noter'!A278","v":174},{"$f":"IF('Sjekkliste noter'!G278<>\"\",1,0)","v":0},0,{"$f":"IF($C175=1,'Sjekkliste noter'!A278,\"\")","v":""},{"$f":"IF($C175=1,'Sjekkliste noter'!B278,\"\")","v":""},null,{"$f":"IF($C175=1,'Sjekkliste noter'!H278,\"\")","v":""}]
[{"$f":"+'Sjekkliste noter'!A280","v":175},{"$f":"IF('Sjekkliste noter'!G280<>\"\",1,0)","v":0},0,{"$f":"IF($C176=1,'Sjekkliste noter'!A280,\"\")","v":""},{"$f":"IF($C176=1,'Sjekkliste noter'!B280,\"\")","v":""},null,{"$f":"IF($C176=1,'Sjekkliste noter'!H280,\"\")","v":""}]
[{"$f":"+'Sjekkliste noter'!A281","v":176},{"$f":"IF('Sjekkliste noter'!G281<>\"\",1,0)","v":0},0,{"$f":"IF($C177=1,'Sjekkliste noter'!A281,\"\")","v":""},{"$f":"IF($C177=1,'Sjekkliste noter'!B281,\"\")","v":""},null,{"$f":"IF($C177=1,'Sjekkliste noter'!H281,\"\")","v":""}]
[{"$f":"+'Sjekkliste noter'!A282","v":177},{"$f":"IF('Sjekkliste noter'!G282<>\"\",1,0)","v":0},0,{"$f":"IF($C178=1,'Sjekkliste noter'!A282,\"\")","v":""},{"$f":"IF($C178=1,'Sjekkliste noter'!B282,\"\")","v":""},null,{"$f":"IF($C178=1,'Sjekkliste noter'!H282,\"\")","v":""}]
[{"$f":"+'Sjekkliste noter'!A283","v":178},{"$f":"IF('Sjekkliste noter'!G283<>\"\",1,0)","v":0},0,{"$f":"IF($C179=1,'Sjekkliste noter'!A283,\"\")","v":""},{"$f":"IF($C179=1,'Sjekkliste noter'!B283,\"\")","v":""},null,{"$f":"IF($C179=1,'Sjekkliste noter'!H283,\"\")","v":""}]
[{"$f":"+'Sjekkliste noter'!A284","v":179},{"$f":"IF('Sjekkliste noter'!G284<>\"\",1,0)","v":0},0,{"$f":"IF($C180=1,'Sjekkliste noter'!A284,\"\")","v":""},{"$f":"IF($C180=1,'Sjekkliste noter'!B284,\"\")","v":""},null,{"$f":"IF($C180=1,'Sjekkliste noter'!H284,\"\")","v":""}]
[{"$f":"+'Sjekkliste noter'!A285","v":180},{"$f":"IF('Sjekkliste noter'!G285<>\"\",1,0)","v":0},0,{"$f":"IF($C181=1,'Sjekkliste noter'!A285,\"\")","v":""},{"$f":"IF($C181=1,'Sjekkliste noter'!B285,\"\")","v":""},null,{"$f":"IF($C181=1,'Sjekkliste noter'!H285,\"\")","v":""}]
[{"$f":"+'Sjekkliste noter'!A286","v":181},{"$f":"IF('Sjekkliste noter'!G286<>\"\",1,0)","v":0},0,{"$f":"IF($C182=1,'Sjekkliste noter'!A286,\"\")","v":""},{"$f":"IF($C182=1,'Sjekkliste noter'!B286,\"\")","v":""},null,{"$f":"IF($C182=1,'Sjekkliste noter'!H286,\"\")","v":""}]
[{"$f":"+'Sjekkliste noter'!A287","v":182},{"$f":"IF('Sjekkliste noter'!G287<>\"\",1,0)","v":0},0,{"$f":"IF($C183=1,'Sjekkliste noter'!A287,\"\")","v":""},{"$f":"IF($C183=1,'Sjekkliste noter'!B287,\"\")","v":""},null,{"$f":"IF($C183=1,'Sjekkliste noter'!H287,\"\")","v":""}]
[{"$f":"+'Sjekkliste noter'!A290","v":183},{"$f":"IF('Sjekkliste noter'!G290<>\"\",1,0)","v":0},0,{"$f":"IF($C184=1,'Sjekkliste noter'!A290,\"\")","v":""},{"$f":"IF($C184=1,'Sjekkliste noter'!B290,\"\")","v":""},null,{"$f":"IF($C184=1,'Sjekkliste noter'!H290,\"\")","v":""}]
[{"$f":"+'Sjekkliste noter'!A291","v":184},{"$f":"IF('Sjekkliste noter'!G291<>\"\",1,0)","v":0},0,{"$f":"IF($C185=1,'Sjekkliste noter'!A291,\"\")","v":""},{"$f":"IF($C185=1,'Sjekkliste noter'!B291,\"\")","v":""},null,{"$f":"IF($C185=1,'Sjekkliste noter'!H291,\"\")","v":""}]
[{"$f":"+'Sjekkliste noter'!A295","v":185},{"$f":"IF('Sjekkliste noter'!G295<>\"\",1,0)","v":0},0,{"$f":"IF($C186=1,'Sjekkliste noter'!A295,\"\")","v":""},{"$f":"IF($C186=1,'Sjekkliste noter'!B295,\"\")","v":""},null,{"$f":"IF($C186=1,'Sjekkliste noter'!H295,\"\")","v":""}]
[{"$f":"+'Sjekkliste noter'!A296","v":186},{"$f":"IF('Sjekkliste noter'!G296<>\"\",1,0)","v":0},0,{"$f":"IF($C187=1,'Sjekkliste noter'!A296,\"\")","v":""},{"$f":"IF($C187=1,'Sjekkliste noter'!B296,\"\")","v":""},null,{"$f":"IF($C187=1,'Sjekkliste noter'!H296,\"\")","v":""}]
[{"$f":"+'Sjekkliste noter'!A297","v":187},{"$f":"IF('Sjekkliste noter'!G297<>\"\",1,0)","v":0},0,{"$f":"IF($C188=1,'Sjekkliste noter'!A297,\"\")","v":""},{"$f":"IF($C188=1,'Sjekkliste noter'!B297,\"\")","v":""},null,{"$f":"IF($C188=1,'Sjekkliste noter'!H297,\"\")","v":""}]
[{"$f":"+'Sjekkliste noter'!A298","v":188},{"$f":"IF('Sjekkliste noter'!G298<>\"\",1,0)","v":0},0,{"$f":"IF($C189=1,'Sjekkliste noter'!A298,\"\")","v":""},{"$f":"IF($C189=1,'Sjekkliste noter'!B298,\"\")","v":""},null,{"$f":"IF($C189=1,'Sjekkliste noter'!H298,\"\")","v":""}]
[{"$f":"+'Sjekkliste noter'!A301","v":189},{"$f":"IF('Sjekkliste noter'!G301<>\"\",1,0)","v":0},0,{"$f":"IF($C190=1,'Sjekkliste noter'!A301,\"\")","v":""},{"$f":"IF($C190=1,'Sjekkliste noter'!B301,\"\")","v":""},null,{"$f":"IF($C190=1,'Sjekkliste noter'!H301,\"\")","v":""}]
[{"$f":"+'Sjekkliste noter'!A302","v":190},{"$f":"IF('Sjekkliste noter'!G302<>\"\",1,0)","v":0},0,{"$f":"IF($C191=1,'Sjekkliste noter'!A302,\"\")","v":""},{"$f":"IF($C191=1,'Sjekkliste noter'!B302,\"\")","v":""},null,{"$f":"IF($C191=1,'Sjekkliste noter'!H302,\"\")","v":""}]
[{"$f":"+'Sjekkliste noter'!A303","v":191},{"$f":"IF('Sjekkliste noter'!G303<>\"\",1,0)","v":0},0,{"$f":"IF($C192=1,'Sjekkliste noter'!A303,\"\")","v":""},{"$f":"IF($C192=1,'Sjekkliste noter'!B303,\"\")","v":""},null,{"$f":"IF($C192=1,'Sjekkliste noter'!H303,\"\")","v":""}]
[{"$f":"+'Sjekkliste noter'!A304","v":192},{"$f":"IF('Sjekkliste noter'!G304<>\"\",1,0)","v":0},0,{"$f":"IF($C193=1,'Sjekkliste noter'!A304,\"\")","v":""},{"$f":"IF($C193=1,'Sjekkliste noter'!B304,\"\")","v":""},null,{"$f":"IF($C193=1,'Sjekkliste noter'!H304,\"\")","v":""}]
[{"$f":"+'Sjekkliste noter'!A308","v":193},{"$f":"IF('Sjekkliste noter'!G308<>\"\",1,0)","v":0},{"$f":"SUM(B194:B194)","v":0},{"$f":"IF($C194=1,'Sjekkliste noter'!A308,\"\")","v":""},{"$f":"IF($C194=1,'Sjekkliste noter'!B308,\"\")","v":""},null,{"$f":"IF($C194=1,'Sjekkliste noter'!H308,\"\")","v":""}]
[{"$f":"+'Sjekkliste noter'!A309","v":194},{"$f":"IF('Sjekkliste noter'!G309<>\"\",1,0)","v":0},0,{"$f":"IF($C195=1,'Sjekkliste noter'!A309,\"\")","v":""},{"$f":"IF($C195=1,'Sjekkliste noter'!B309,\"\")","v":""},null,{"$f":"IF($C195=1,'Sjekkliste noter'!H309,\"\")","v":""}]
[{"$f":"+'Sjekkliste noter'!A310","v":195},{"$f":"IF('Sjekkliste noter'!G310<>\"\",1,0)","v":0},0,{"$f":"IF($C196=1,'Sjekkliste noter'!A310,\"\")","v":""},{"$f":"IF($C196=1,'Sjekkliste noter'!B310,\"\")","v":""},null,{"$f":"IF($C196=1,'Sjekkliste noter'!H310,\"\")","v":""}]
[{"$f":"+'Sjekkliste noter'!A311","v":196},{"$f":"IF('Sjekkliste noter'!G311<>\"\",1,0)","v":0},0,{"$f":"IF($C197=1,'Sjekkliste noter'!A311,\"\")","v":""},{"$f":"IF($C197=1,'Sjekkliste noter'!B311,\"\")","v":""},null,{"$f":"IF($C197=1,'Sjekkliste noter'!H311,\"\")","v":""}]
[{"$f":"+'Sjekkliste noter'!A313","v":197},{"$f":"IF('Sjekkliste noter'!G313<>\"\",1,0)","v":0},0,{"$f":"IF($C198=1,'Sjekkliste noter'!A313,\"\")","v":""},{"$f":"IF($C198=1,'Sjekkliste noter'!B313,\"\")","v":""},null,{"$f":"IF($C198=1,'Sjekkliste noter'!H313,\"\")","v":""}]
[{"$f":"+'Sjekkliste noter'!A315","v":198},{"$f":"IF('Sjekkliste noter'!G315<>\"\",1,0)","v":0},0,{"$f":"IF($C199=1,'Sjekkliste noter'!A315,\"\")","v":""},{"$f":"IF($C199=1,'Sjekkliste noter'!B315,\"\")","v":""},null,{"$f":"IF($C199=1,'Sjekkliste noter'!H315,\"\")","v":""}]
[{"$f":"+'Sjekkliste noter'!A316","v":199},{"$f":"IF('Sjekkliste noter'!G316<>\"\",1,0)","v":0},0,{"$f":"IF($C200=1,'Sjekkliste noter'!A316,\"\")","v":""},{"$f":"IF($C200=1,'Sjekkliste noter'!B316,\"\")","v":""},null,{"$f":"IF($C200=1,'Sjekkliste noter'!H316,\"\")","v":""}]
[{"$f":"+'Sjekkliste noter'!A319","v":200},{"$f":"IF('Sjekkliste noter'!G319<>\"\",1,0)","v":0},0,{"$f":"IF($C201=1,'Sjekkliste noter'!A319,\"\")","v":""},{"$f":"IF($C201=1,'Sjekkliste noter'!B319,\"\")","v":""},null,{"$f":"IF($C201=1,'Sjekkliste noter'!H319,\"\")","v":""}]
[{"$f":"+'Sjekkliste noter'!A320","v":201},{"$f":"IF('Sjekkliste noter'!G320<>\"\",1,0)","v":0},0,{"$f":"IF($C202=1,'Sjekkliste noter'!A320,\"\")","v":""},{"$f":"IF($C202=1,'Sjekkliste noter'!B320,\"\")","v":""},null,{"$f":"IF($C202=1,'Sjekkliste noter'!H320,\"\")","v":""}]
[{"$f":"+'Sjekkliste noter'!A322","v":202},{"$f":"IF('Sjekkliste noter'!G322<>\"\",1,0)","v":0},0,{"$f":"IF($C203=1,'Sjekkliste noter'!A322,\"\")","v":""},{"$f":"IF($C203=1,'Sjekkliste noter'!B322,\"\")","v":""},null,{"$f":"IF($C203=1,'Sjekkliste noter'!H322,\"\")","v":""}]
[{"$f":"+'Sjekkliste noter'!A323","v":203},{"$f":"IF('Sjekkliste noter'!G323<>\"\",1,0)","v":0},0,{"$f":"IF($C204=1,'Sjekkliste noter'!A323,\"\")","v":""},{"$f":"IF($C204=1,'Sjekkliste noter'!B323,\"\")","v":""},null,{"$f":"IF($C204=1,'Sjekkliste noter'!H323,\"\")","v":""}]
[{"$f":"+'Sjekkliste noter'!A324","v":204},{"$f":"IF('Sjekkliste noter'!G324<>\"\",1,0)","v":0},0,{"$f":"IF($C205=1,'Sjekkliste noter'!A324,\"\")","v":""},{"$f":"IF($C205=1,'Sjekkliste noter'!B324,\"\")","v":""},null,{"$f":"IF($C205=1,'Sjekkliste noter'!H324,\"\")","v":""}]
[{"$f":"+'Sjekkliste noter'!A325","v":205},{"$f":"IF('Sjekkliste noter'!G325<>\"\",1,0)","v":0},0,{"$f":"IF($C206=1,'Sjekkliste noter'!A325,\"\")","v":""},{"$f":"IF($C206=1,'Sjekkliste noter'!B325,\"\")","v":""},null,{"$f":"IF($C206=1,'Sjekkliste noter'!H325,\"\")","v":""}]
[{"$f":"+'Sjekkliste noter'!A327","v":206},{"$f":"IF('Sjekkliste noter'!G327<>\"\",1,0)","v":0},0,{"$f":"IF($C207=1,'Sjekkliste noter'!A327,\"\")","v":""},{"$f":"IF($C207=1,'Sjekkliste noter'!B327,\"\")","v":""},null,{"$f":"IF($C207=1,'Sjekkliste noter'!H327,\"\")","v":""}]
[{"$f":"+'Sjekkliste noter'!A328","v":207},{"$f":"IF('Sjekkliste noter'!G328<>\"\",1,0)","v":0},0,{"$f":"IF($C208=1,'Sjekkliste noter'!A328,\"\")","v":""},{"$f":"IF($C208=1,'Sjekkliste noter'!B328,\"\")","v":""},null,{"$f":"IF($C208=1,'Sjekkliste noter'!H328,\"\")","v":""}]
[{"$f":"+'Sjekkliste noter'!A329","v":208},{"$f":"IF('Sjekkliste noter'!G329<>\"\",1,0)","v":0},0,{"$f":"IF($C209=1,'Sjekkliste noter'!A329,\"\")","v":""},{"$f":"IF($C209=1,'Sjekkliste noter'!B329,\"\")","v":""},null,{"$f":"IF($C209=1,'Sjekkliste noter'!H329,\"\")","v":""}]
[{"$f":"+'Sjekkliste noter'!A330","v":209},{"$f":"IF('Sjekkliste noter'!G330<>\"\",1,0)","v":0},0,{"$f":"IF($C210=1,'Sjekkliste noter'!A330,\"\")","v":""},{"$f":"IF($C210=1,'Sjekkliste noter'!B330,\"\")","v":""},null,{"$f":"IF($C210=1,'Sjekkliste noter'!H330,\"\")","v":""}]
[{"$f":"+'Sjekkliste noter'!A331","v":210},{"$f":"IF('Sjekkliste noter'!G331<>\"\",1,0)","v":0},0,{"$f":"IF($C211=1,'Sjekkliste noter'!A331,\"\")","v":""},{"$f":"IF($C211=1,'Sjekkliste noter'!B331,\"\")","v":""},null,{"$f":"IF($C211=1,'Sjekkliste noter'!H331,\"\")","v":""}]
[{"$f":"+'Sjekkliste noter'!A333","v":211},{"$f":"IF('Sjekkliste noter'!G333<>\"\",1,0)","v":0},0,{"$f":"IF($C212=1,'Sjekkliste noter'!A333,\"\")","v":""},{"$f":"IF($C212=1,'Sjekkliste noter'!B333,\"\")","v":""},null,{"$f":"IF($C212=1,'Sjekkliste noter'!H333,\"\")","v":""}]
[{"$f":"+'Sjekkliste noter'!A334","v":212},{"$f":"IF('Sjekkliste noter'!G334<>\"\",1,0)","v":0},0,{"$f":"IF($C213=1,'Sjekkliste noter'!A334,\"\")","v":""},{"$f":"IF($C213=1,'Sjekkliste noter'!B334,\"\")","v":""},null,{"$f":"IF($C213=1,'Sjekkliste noter'!H334,\"\")","v":""}]
[{"$f":"+'Sjekkliste noter'!A335","v":213},{"$f":"IF('Sjekkliste noter'!G335<>\"\",1,0)","v":0},0,{"$f":"IF($C214=1,'Sjekkliste noter'!A335,\"\")","v":""},{"$f":"IF($C214=1,'Sjekkliste noter'!B335,\"\")","v":""},null,{"$f":"IF($C214=1,'Sjekkliste noter'!H335,\"\")","v":""}]
[{"$f":"+'Sjekkliste noter'!A336","v":214},{"$f":"IF('Sjekkliste noter'!G336<>\"\",1,0)","v":0},0,{"$f":"IF($C215=1,'Sjekkliste noter'!A336,\"\")","v":""},{"$f":"IF($C215=1,'Sjekkliste noter'!B336,\"\")","v":""},null,{"$f":"IF($C215=1,'Sjekkliste noter'!H336,\"\")","v":""}]
[{"$f":"+'Sjekkliste noter'!A337","v":215},{"$f":"IF('Sjekkliste noter'!G337<>\"\",1,0)","v":0},0,{"$f":"IF($C216=1,'Sjekkliste noter'!A337,\"\")","v":""},{"$f":"IF($C216=1,'Sjekkliste noter'!B337,\"\")","v":""},null,{"$f":"IF($C216=1,'Sjekkliste noter'!H337,\"\")","v":""}]
[{"$f":"+'Sjekkliste noter'!A338","v":216},{"$f":"IF('Sjekkliste noter'!G338<>\"\",1,0)","v":0},0,{"$f":"IF($C217=1,'Sjekkliste noter'!A338,\"\")","v":""},{"$f":"IF($C217=1,'Sjekkliste noter'!B338,\"\")","v":""},null,{"$f":"IF($C217=1,'Sjekkliste noter'!H338,\"\")","v":""}]
[{"$f":"+'Sjekkliste noter'!A340","v":217},{"$f":"IF('Sjekkliste noter'!G340<>\"\",1,0)","v":0},0,{"$f":"IF($C218=1,'Sjekkliste noter'!A340,\"\")","v":""},{"$f":"IF($C218=1,'Sjekkliste noter'!B340,\"\")","v":""},null,{"$f":"IF($C218=1,'Sjekkliste noter'!H340,\"\")","v":""}]
[{"$f":"+'Sjekkliste noter'!A341","v":218},{"$f":"IF('Sjekkliste noter'!G341<>\"\",1,0)","v":0},0,{"$f":"IF($C219=1,'Sjekkliste noter'!A341,\"\")","v":""},{"$f":"IF($C219=1,'Sjekkliste noter'!B341,\"\")","v":""},null,{"$f":"IF($C219=1,'Sjekkliste noter'!H341,\"\")","v":""}]
[{"$f":"+'Sjekkliste noter'!A342","v":219},{"$f":"IF('Sjekkliste noter'!G342<>\"\",1,0)","v":0},0,{"$f":"IF($C220=1,'Sjekkliste noter'!A342,\"\")","v":""},{"$f":"IF($C220=1,'Sjekkliste noter'!B342,\"\")","v":""},null,{"$f":"IF($C220=1,'Sjekkliste noter'!H342,\"\")","v":""}]
[{"$f":"+'Sjekkliste noter'!A344","v":220},{"$f":"IF('Sjekkliste noter'!G344<>\"\",1,0)","v":0},0,{"$f":"IF($C221=1,'Sjekkliste noter'!A344,\"\")","v":""},{"$f":"IF($C221=1,'Sjekkliste noter'!B344,\"\")","v":""},null,{"$f":"IF($C221=1,'Sjekkliste noter'!H344,\"\")","v":""}]
[{"$f":"+'Sjekkliste noter'!A345","v":221},{"$f":"IF('Sjekkliste noter'!G345<>\"\",1,0)","v":0},0,{"$f":"IF($C222=1,'Sjekkliste noter'!A345,\"\")","v":""},{"$f":"IF($C222=1,'Sjekkliste noter'!B345,\"\")","v":""},null,{"$f":"IF($C222=1,'Sjekkliste noter'!H345,\"\")","v":""}]
[{"$f":"+'Sjekkliste noter'!A346","v":222},{"$f":"IF('Sjekkliste noter'!G346<>\"\",1,0)","v":0},0,{"$f":"IF($C223=1,'Sjekkliste noter'!A346,\"\")","v":""},{"$f":"IF($C223=1,'Sjekkliste noter'!B346,\"\")","v":""},null,{"$f":"IF($C223=1,'Sjekkliste noter'!H346,\"\")","v":""}]
[{"$f":"+'Sjekkliste noter'!A347","v":223},{"$f":"IF('Sjekkliste noter'!G347<>\"\",1,0)","v":0},0,{"$f":"IF($C224=1,'Sjekkliste noter'!A347,\"\")","v":""},{"$f":"IF($C224=1,'Sjekkliste noter'!B347,\"\")","v":""},null,{"$f":"IF($C224=1,'Sjekkliste noter'!H347,\"\")","v":""}]
[{"$f":"+'Sjekkliste noter'!A349","v":224},{"$f":"IF('Sjekkliste noter'!G349<>\"\",1,0)","v":0},0,{"$f":"IF($C225=1,'Sjekkliste noter'!A349,\"\")","v":""},{"$f":"IF($C225=1,'Sjekkliste noter'!B349,\"\")","v":""},null,{"$f":"IF($C225=1,'Sjekkliste noter'!H349,\"\")","v":""}]
[{"$f":"+'Sjekkliste noter'!A352","v":225},{"$f":"IF('Sjekkliste noter'!G352<>\"\",1,0)","v":0},0,{"$f":"IF($C226=1,'Sjekkliste noter'!A352,\"\")","v":""},{"$f":"IF($C226=1,'Sjekkliste noter'!B352,\"\")","v":""},null,{"$f":"IF($C226=1,'Sjekkliste noter'!H352,\"\")","v":""}]
[{"$f":"+'Sjekkliste noter'!A353","v":226},{"$f":"IF('Sjekkliste noter'!G353<>\"\",1,0)","v":0},0,{"$f":"IF($C227=1,'Sjekkliste noter'!A353,\"\")","v":""},{"$f":"IF($C227=1,'Sjekkliste noter'!B353,\"\")","v":""},null,{"$f":"IF($C227=1,'Sjekkliste noter'!H353,\"\")","v":""}]
[{"$f":"+'Sjekkliste noter'!A354","v":227},{"$f":"IF('Sjekkliste noter'!G354<>\"\",1,0)","v":0},0,{"$f":"IF($C228=1,'Sjekkliste noter'!A354,\"\")","v":""},{"$f":"IF($C228=1,'Sjekkliste noter'!B354,\"\")","v":""},null,{"$f":"IF($C228=1,'Sjekkliste noter'!H354,\"\")","v":""}]
[{"$f":"+'Sjekkliste noter'!A355","v":228},{"$f":"IF('Sjekkliste noter'!G355<>\"\",1,0)","v":0},0,{"$f":"IF($C229=1,'Sjekkliste noter'!A355,\"\")","v":""},{"$f":"IF($C229=1,'Sjekkliste noter'!B355,\"\")","v":""},null,{"$f":"IF($C229=1,'Sjekkliste noter'!H355,\"\")","v":""}]
[{"$f":"+'Sjekkliste noter'!A357","v":229},{"$f":"IF('Sjekkliste noter'!G357<>\"\",1,0)","v":0},0,{"$f":"IF($C230=1,'Sjekkliste noter'!A357,\"\")","v":""},{"$f":"IF($C230=1,'Sjekkliste noter'!B357,\"\")","v":""},null,{"$f":"IF($C230=1,'Sjekkliste noter'!H357,\"\")","v":""}]
[{"$f":"+'Sjekkliste noter'!A358","v":230},{"$f":"IF('Sjekkliste noter'!G358<>\"\",1,0)","v":0},0,{"$f":"IF($C231=1,'Sjekkliste noter'!A358,\"\")","v":""},{"$f":"IF($C231=1,'Sjekkliste noter'!B358,\"\")","v":""},null,{"$f":"IF($C231=1,'Sjekkliste noter'!H358,\"\")","v":""}]
[{"$f":"+'Sjekkliste noter'!A362","v":231},{"$f":"IF('Sjekkliste noter'!G362<>\"\",1,0)","v":0},0,{"$f":"IF($C232=1,'Sjekkliste noter'!A362,\"\")","v":""},{"$f":"IF($C232=1,'Sjekkliste noter'!B362,\"\")","v":""},null,{"$f":"IF($C232=1,'Sjekkliste noter'!H362,\"\")","v":""}]
[{"$f":"+'Sjekkliste noter'!A363","v":232},{"$f":"IF('Sjekkliste noter'!G363<>\"\",1,0)","v":0},0,{"$f":"IF($C233=1,'Sjekkliste noter'!A363,\"\")","v":""},{"$f":"IF($C233=1,'Sjekkliste noter'!B363,\"\")","v":""},null,{"$f":"IF($C233=1,'Sjekkliste noter'!H363,\"\")","v":""}]
[{"$f":"+'Sjekkliste noter'!A364","v":233},{"$f":"IF('Sjekkliste noter'!G364<>\"\",1,0)","v":0},0,{"$f":"IF($C234=1,'Sjekkliste noter'!A364,\"\")","v":""},{"$f":"IF($C234=1,'Sjekkliste noter'!B364,\"\")","v":""},null,{"$f":"IF($C234=1,'Sjekkliste noter'!H364,\"\")","v":""}]
[{"$f":"+'Sjekkliste noter'!A366","v":234},{"$f":"IF('Sjekkliste noter'!G366<>\"\",1,0)","v":0},0,{"$f":"IF($C235=1,'Sjekkliste noter'!A366,\"\")","v":""},{"$f":"IF($C235=1,'Sjekkliste noter'!B366,\"\")","v":""},null,{"$f":"IF($C235=1,'Sjekkliste noter'!H366,\"\")","v":""}]
[{"$f":"+'Sjekkliste noter'!A367","v":235},{"$f":"IF('Sjekkliste noter'!G367<>\"\",1,0)","v":0},0,{"$f":"IF($C236=1,'Sjekkliste noter'!A367,\"\")","v":""},{"$f":"IF($C236=1,'Sjekkliste noter'!B367,\"\")","v":""},null,{"$f":"IF($C236=1,'Sjekkliste noter'!H367,\"\")","v":""}]
[{"$f":"+'Sjekkliste noter'!A368","v":236},{"$f":"IF('Sjekkliste noter'!G368<>\"\",1,0)","v":0},0,{"$f":"IF($C237=1,'Sjekkliste noter'!A368,\"\")","v":""},{"$f":"IF($C237=1,'Sjekkliste noter'!B368,\"\")","v":""},null,{"$f":"IF($C237=1,'Sjekkliste noter'!H368,\"\")","v":""}]
[{"$f":"+'Sjekkliste noter'!A369","v":237},{"$f":"IF('Sjekkliste noter'!G369<>\"\",1,0)","v":0},0,{"$f":"IF($C238=1,'Sjekkliste noter'!A369,\"\")","v":""},{"$f":"IF($C238=1,'Sjekkliste noter'!B369,\"\")","v":""},null,{"$f":"IF($C238=1,'Sjekkliste noter'!H369,\"\")","v":""}]
[{"$f":"+'Sjekkliste noter'!A370","v":238},{"$f":"IF('Sjekkliste noter'!G370<>\"\",1,0)","v":0},0,{"$f":"IF($C239=1,'Sjekkliste noter'!A370,\"\")","v":""},{"$f":"IF($C239=1,'Sjekkliste noter'!B370,\"\")","v":""},null,{"$f":"IF($C239=1,'Sjekkliste noter'!H370,\"\")","v":""}]
[{"$f":"+'Sjekkliste noter'!A371","v":239},{"$f":"IF('Sjekkliste noter'!G371<>\"\",1,0)","v":0},0,{"$f":"IF($C240=1,'Sjekkliste noter'!A371,\"\")","v":""},{"$f":"IF($C240=1,'Sjekkliste noter'!B371,\"\")","v":""},null,{"$f":"IF($C240=1,'Sjekkliste noter'!H371,\"\")","v":""}]
[{"$f":"+'Sjekkliste noter'!A375","v":240},{"$f":"IF('Sjekkliste noter'!G375<>\"\",1,0)","v":0},0,{"$f":"IF($C241=1,'Sjekkliste noter'!A375,\"\")","v":""},{"$f":"IF($C241=1,'Sjekkliste noter'!B375,\"\")","v":""},null,{"$f":"IF($C241=1,'Sjekkliste noter'!H375,\"\")","v":""}]
[{"$f":"+'Sjekkliste noter'!A376","v":241},{"$f":"IF('Sjekkliste noter'!G376<>\"\",1,0)","v":0},0,{"$f":"IF($C242=1,'Sjekkliste noter'!A376,\"\")","v":""},{"$f":"IF($C242=1,'Sjekkliste noter'!B376,\"\")","v":""},null,{"$f":"IF($C242=1,'Sjekkliste noter'!H376,\"\")","v":""}]
[{"$f":"+'Sjekkliste noter'!A377","v":242},{"$f":"IF('Sjekkliste noter'!G377<>\"\",1,0)","v":0},0,{"$f":"IF($C243=1,'Sjekkliste noter'!A377,\"\")","v":""},{"$f":"IF($C243=1,'Sjekkliste noter'!B377,\"\")","v":""},null,{"$f":"IF($C243=1,'Sjekkliste noter'!H377,\"\")","v":""}]
[{"$f":"+'Sjekkliste noter'!A378","v":243},{"$f":"IF('Sjekkliste noter'!G378<>\"\",1,0)","v":0},0,{"$f":"IF($C244=1,'Sjekkliste noter'!A378,\"\")","v":""},{"$f":"IF($C244=1,'Sjekkliste noter'!B378,\"\")","v":""},null,{"$f":"IF($C244=1,'Sjekkliste noter'!H378,\"\")","v":""}]
[{"$f":"+'Sjekkliste noter'!A380","v":244},{"$f":"IF('Sjekkliste noter'!G380<>\"\",1,0)","v":0},0,{"$f":"IF($C245=1,'Sjekkliste noter'!A380,\"\")","v":""},{"$f":"IF($C245=1,'Sjekkliste noter'!B380,\"\")","v":""},null,{"$f":"IF($C245=1,'Sjekkliste noter'!H380,\"\")","v":""}]
[{"$f":"+'Sjekkliste noter'!A381","v":245},{"$f":"IF('Sjekkliste noter'!G381<>\"\",1,0)","v":0},0,{"$f":"IF($C246=1,'Sjekkliste noter'!A381,\"\")","v":""},{"$f":"IF($C246=1,'Sjekkliste noter'!B381,\"\")","v":""},null,{"$f":"IF($C246=1,'Sjekkliste noter'!H381,\"\")","v":""}]
[{"$f":"+'Sjekkliste noter'!A382","v":246},{"$f":"IF('Sjekkliste noter'!G382<>\"\",1,0)","v":0},0,{"$f":"IF($C247=1,'Sjekkliste noter'!A382,\"\")","v":""},{"$f":"IF($C247=1,'Sjekkliste noter'!B382,\"\")","v":""},null,{"$f":"IF($C247=1,'Sjekkliste noter'!H382,\"\")","v":""}]
[{"$f":"+'Sjekkliste noter'!A384","v":247},{"$f":"IF('Sjekkliste noter'!G384<>\"\",1,0)","v":0},0,{"$f":"IF($C248=1,'Sjekkliste noter'!A384,\"\")","v":""},{"$f":"IF($C248=1,'Sjekkliste noter'!B384,\"\")","v":""},null,{"$f":"IF($C248=1,'Sjekkliste noter'!H384,\"\")","v":""}]
[{"$f":"+'Sjekkliste noter'!A385","v":248},{"$f":"IF('Sjekkliste noter'!G385<>\"\",1,0)","v":0},0,{"$f":"IF($C249=1,'Sjekkliste noter'!A385,\"\")","v":""},{"$f":"IF($C249=1,'Sjekkliste noter'!B385,\"\")","v":""},null,{"$f":"IF($C249=1,'Sjekkliste noter'!H385,\"\")","v":""}]
[{"$f":"+'Sjekkliste noter'!A386","v":249},{"$f":"IF('Sjekkliste noter'!G386<>\"\",1,0)","v":0},0,{"$f":"IF($C250=1,'Sjekkliste noter'!A386,\"\")","v":""},{"$f":"IF($C250=1,'Sjekkliste noter'!B386,\"\")","v":""},null,{"$f":"IF($C250=1,'Sjekkliste noter'!H386,\"\")","v":""}]
[{"$f":"+'Sjekkliste noter'!A387","v":250},{"$f":"IF('Sjekkliste noter'!G387<>\"\",1,0)","v":0},0,{"$f":"IF($C251=1,'Sjekkliste noter'!A387,\"\")","v":""},{"$f":"IF($C251=1,'Sjekkliste noter'!B387,\"\")","v":""},null,{"$f":"IF($C251=1,'Sjekkliste noter'!H387,\"\")","v":""}]
[{"$f":"+'Sjekkliste noter'!A388","v":251},{"$f":"IF('Sjekkliste noter'!G388<>\"\",1,0)","v":0},0,{"$f":"IF($C252=1,'Sjekkliste noter'!A388,\"\")","v":""},{"$f":"IF($C252=1,'Sjekkliste noter'!B388,\"\")","v":""},null,{"$f":"IF($C252=1,'Sjekkliste noter'!H388,\"\")","v":""}]
[{"$f":"+'Sjekkliste noter'!A389","v":252},{"$f":"IF('Sjekkliste noter'!G389<>\"\",1,0)","v":0},0,{"$f":"IF($C253=1,'Sjekkliste noter'!A389,\"\")","v":""},{"$f":"IF($C253=1,'Sjekkliste noter'!B389,\"\")","v":""},null,{"$f":"IF($C253=1,'Sjekkliste noter'!H389,\"\")","v":""}]
[{"$f":"+'Sjekkliste noter'!A391","v":253},{"$f":"IF('Sjekkliste noter'!G391<>\"\",1,0)","v":0},0,{"$f":"IF($C254=1,'Sjekkliste noter'!A391,\"\")","v":""},{"$f":"IF($C254=1,'Sjekkliste noter'!B391,\"\")","v":""},null,{"$f":"IF($C254=1,'Sjekkliste noter'!H391,\"\")","v":""}]
[{"$f":"+'Sjekkliste noter'!A392","v":254},{"$f":"IF('Sjekkliste noter'!G392<>\"\",1,0)","v":0},0,{"$f":"IF($C255=1,'Sjekkliste noter'!A392,\"\")","v":""},{"$f":"IF($C255=1,'Sjekkliste noter'!B392,\"\")","v":""},null,{"$f":"IF($C255=1,'Sjekkliste noter'!H392,\"\")","v":""}]
[{"$f":"+'Sjekkliste noter'!A394","v":255},{"$f":"IF('Sjekkliste noter'!G394<>\"\",1,0)","v":0},0,{"$f":"IF($C256=1,'Sjekkliste noter'!A394,\"\")","v":""},{"$f":"IF($C256=1,'Sjekkliste noter'!B394,\"\")","v":""},null,{"$f":"IF($C256=1,'Sjekkliste noter'!H394,\"\")","v":""}]
[{"$f":"+'Sjekkliste noter'!A396","v":256},{"$f":"IF('Sjekkliste noter'!G396<>\"\",1,0)","v":0},0,{"$f":"IF($C257=1,'Sjekkliste noter'!A396,\"\")","v":""},{"$f":"IF($C257=1,'Sjekkliste noter'!B396,\"\")","v":""},null,{"$f":"IF($C257=1,'Sjekkliste noter'!H396,\"\")","v":""}]
[{"$f":"+'Sjekkliste noter'!A397","v":257},{"$f":"IF('Sjekkliste noter'!G397<>\"\",1,0)","v":0},{"$f":"SUM(B258:B258)","v":0},{"$f":"IF($C258=1,'Sjekkliste noter'!A397,\"\")","v":""},{"$f":"IF($C258=1,'Sjekkliste noter'!B397,\"\")","v":""},null,{"$f":"IF($C258=1,'Sjekkliste noter'!H397,\"\")","v":""}]
[{"$f":"+'Sjekkliste noter'!A398","v":258},{"$f":"IF('Sjekkliste noter'!G398<>\"\",1,0)","v":0},0,{"$f":"IF($C259=1,'Sjekkliste noter'!A398,\"\")","v":""},{"$f":"IF($C259=1,'Sjekkliste noter'!B398,\"\")","v":""},null,{"$f":"IF($C259=1,'Sjekkliste noter'!H398,\"\")","v":""}]
[{"$f":"+'Sjekkliste noter'!A399","v":259},{"$f":"IF('Sjekkliste noter'!G399<>\"\",1,0)","v":0},0,{"$f":"IF($C260=1,'Sjekkliste noter'!A399,\"\")","v":""},{"$f":"IF($C260=1,'Sjekkliste noter'!B399,\"\")","v":""},null,{"$f":"IF($C260=1,'Sjekkliste noter'!H399,\"\")","v":""}]
[{"$f":"+'Sjekkliste noter'!A406","v":260},{"$f":"IF('Sjekkliste noter'!G406<>\"\",1,0)","v":0},0,{"$f":"IF($C261=1,'Sjekkliste noter'!A406,\"\")","v":""},{"$f":"IF($C261=1,'Sjekkliste noter'!B406,\"\")","v":""},null,{"$f":"IF($C261=1,'Sjekkliste noter'!H406,\"\")","v":""}]
[{"$f":"+'Sjekkliste noter'!A407","v":261},{"$f":"IF('Sjekkliste noter'!G407<>\"\",1,0)","v":0},0,{"$f":"IF($C262=1,'Sjekkliste noter'!A407,\"\")","v":""},{"$f":"IF($C262=1,'Sjekkliste noter'!B407,\"\")","v":""},null,{"$f":"IF($C262=1,'Sjekkliste noter'!H407,\"\")","v":""}]
[{"$f":"+'Sjekkliste noter'!A408","v":262},{"$f":"IF('Sjekkliste noter'!G408<>\"\",1,0)","v":0},0,{"$f":"IF($C263=1,'Sjekkliste noter'!A408,\"\")","v":""},{"$f":"IF($C263=1,'Sjekkliste noter'!B408,\"\")","v":""},null,{"$f":"IF($C263=1,'Sjekkliste noter'!H408,\"\")","v":""}]
[{"$f":"+'Sjekkliste noter'!A410","v":263},{"$f":"IF('Sjekkliste noter'!G410<>\"\",1,0)","v":0},0,{"$f":"IF($C264=1,'Sjekkliste noter'!A410,\"\")","v":""},{"$f":"IF($C264=1,'Sjekkliste noter'!B410,\"\")","v":""},null,{"$f":"IF($C264=1,'Sjekkliste noter'!H410,\"\")","v":""}]
[{"$f":"+'Sjekkliste noter'!A411","v":264},{"$f":"IF('Sjekkliste noter'!G411<>\"\",1,0)","v":0},0,{"$f":"IF($C265=1,'Sjekkliste noter'!A411,\"\")","v":""},{"$f":"IF($C265=1,'Sjekkliste noter'!B411,\"\")","v":""},null,{"$f":"IF($C265=1,'Sjekkliste noter'!H411,\"\")","v":""}]
[{"$f":"+'Sjekkliste noter'!A412","v":265},{"$f":"IF('Sjekkliste noter'!G412<>\"\",1,0)","v":0},0,{"$f":"IF($C266=1,'Sjekkliste noter'!A412,\"\")","v":""},{"$f":"IF($C266=1,'Sjekkliste noter'!B412,\"\")","v":""},null,{"$f":"IF($C266=1,'Sjekkliste noter'!H412,\"\")","v":""}]
[{"$f":"+'Sjekkliste noter'!A414","v":266},{"$f":"IF('Sjekkliste noter'!G414<>\"\",1,0)","v":0},0,{"$f":"IF($C267=1,'Sjekkliste noter'!A414,\"\")","v":""},{"$f":"IF($C267=1,'Sjekkliste noter'!B414,\"\")","v":""},null,{"$f":"IF($C267=1,'Sjekkliste noter'!H414,\"\")","v":""}]
[{"$f":"+'Sjekkliste noter'!A415","v":267},{"$f":"IF('Sjekkliste noter'!G415<>\"\",1,0)","v":0},0,{"$f":"IF($C268=1,'Sjekkliste noter'!A415,\"\")","v":""},{"$f":"IF($C268=1,'Sjekkliste noter'!B415,\"\")","v":""},null,{"$f":"IF($C268=1,'Sjekkliste noter'!H415,\"\")","v":""}]
[{"$f":"+'Sjekkliste noter'!A416","v":268},{"$f":"IF('Sjekkliste noter'!G416<>\"\",1,0)","v":0},0,{"$f":"IF($C269=1,'Sjekkliste noter'!A416,\"\")","v":""},{"$f":"IF($C269=1,'Sjekkliste noter'!B416,\"\")","v":""},null,{"$f":"IF($C269=1,'Sjekkliste noter'!H416,\"\")","v":""}]
[{"$f":"+'Sjekkliste noter'!A418","v":269},{"$f":"IF('Sjekkliste noter'!G418<>\"\",1,0)","v":0},0,{"$f":"IF($C270=1,'Sjekkliste noter'!A418,\"\")","v":""},{"$f":"IF($C270=1,'Sjekkliste noter'!B418,\"\")","v":""},null,{"$f":"IF($C270=1,'Sjekkliste noter'!H418,\"\")","v":""}]
[{"$f":"+'Sjekkliste noter'!A419","v":270},{"$f":"IF('Sjekkliste noter'!G419<>\"\",1,0)","v":0},0,{"$f":"IF($C271=1,'Sjekkliste noter'!A419,\"\")","v":""},{"$f":"IF($C271=1,'Sjekkliste noter'!B419,\"\")","v":""},null,{"$f":"IF($C271=1,'Sjekkliste noter'!H419,\"\")","v":""}]
[{"$f":"+'Sjekkliste noter'!A422","v":271},{"$f":"IF('Sjekkliste noter'!G422<>\"\",1,0)","v":0},0,{"$f":"IF($C272=1,'Sjekkliste noter'!A422,\"\")","v":""},{"$f":"IF($C272=1,'Sjekkliste noter'!B422,\"\")","v":""},null,{"$f":"IF($C272=1,'Sjekkliste noter'!H422,\"\")","v":""}]
[{"$f":"+'Sjekkliste noter'!A423","v":272},{"$f":"IF('Sjekkliste noter'!G423<>\"\",1,0)","v":0},0,{"$f":"IF($C273=1,'Sjekkliste noter'!A423,\"\")","v":""},{"$f":"IF($C273=1,'Sjekkliste noter'!B423,\"\")","v":""},null,{"$f":"IF($C273=1,'Sjekkliste noter'!H423,\"\")","v":""}]
[{"$f":"+'Sjekkliste noter'!A424","v":273},{"$f":"IF('Sjekkliste noter'!G424<>\"\",1,0)","v":0},0,{"$f":"IF($C274=1,'Sjekkliste noter'!A424,\"\")","v":""},{"$f":"IF($C274=1,'Sjekkliste noter'!B424,\"\")","v":""},null,{"$f":"IF($C274=1,'Sjekkliste noter'!H424,\"\")","v":""}]
[{"$f":"+'Sjekkliste noter'!A425","v":274},{"$f":"IF('Sjekkliste noter'!G425<>\"\",1,0)","v":0},0,{"$f":"IF($C275=1,'Sjekkliste noter'!A425,\"\")","v":""},{"$f":"IF($C275=1,'Sjekkliste noter'!B425,\"\")","v":""},null,{"$f":"IF($C275=1,'Sjekkliste noter'!H425,\"\")","v":""}]
[{"$f":"+'Sjekkliste noter'!A426","v":275},{"$f":"IF('Sjekkliste noter'!G426<>\"\",1,0)","v":0},0,{"$f":"IF($C276=1,'Sjekkliste noter'!A426,\"\")","v":""},{"$f":"IF($C276=1,'Sjekkliste noter'!B426,\"\")","v":""},null,{"$f":"IF($C276=1,'Sjekkliste noter'!H426,\"\")","v":""}]
[{"$f":"+'Sjekkliste noter'!A428","v":276},{"$f":"IF('Sjekkliste noter'!G428<>\"\",1,0)","v":0},0,{"$f":"IF($C277=1,'Sjekkliste noter'!A428,\"\")","v":""},{"$f":"IF($C277=1,'Sjekkliste noter'!B428,\"\")","v":""},null,{"$f":"IF($C277=1,'Sjekkliste noter'!H428,\"\")","v":""}]
[{"$f":"+'Sjekkliste noter'!A429","v":277},{"$f":"IF('Sjekkliste noter'!G429<>\"\",1,0)","v":0},0,{"$f":"IF($C278=1,'Sjekkliste noter'!A429,\"\")","v":""},{"$f":"IF($C278=1,'Sjekkliste noter'!B429,\"\")","v":""},null,{"$f":"IF($C278=1,'Sjekkliste noter'!H429,\"\")","v":""}]
[{"$f":"+'Sjekkliste noter'!A430","v":278},{"$f":"IF('Sjekkliste noter'!G430<>\"\",1,0)","v":0},0,{"$f":"IF($C279=1,'Sjekkliste noter'!A430,\"\")","v":""},{"$f":"IF($C279=1,'Sjekkliste noter'!B430,\"\")","v":""},null,{"$f":"IF($C279=1,'Sjekkliste noter'!H430,\"\")","v":""}]
[{"$f":"+'Sjekkliste noter'!A431","v":279},{"$f":"IF('Sjekkliste noter'!G431<>\"\",1,0)","v":0},0,{"$f":"IF($C280=1,'Sjekkliste noter'!A431,\"\")","v":""},{"$f":"IF($C280=1,'Sjekkliste noter'!B431,\"\")","v":""},null,{"$f":"IF($C280=1,'Sjekkliste noter'!H431,\"\")","v":""}]
[{"$f":"+'Sjekkliste noter'!A432","v":280},{"$f":"IF('Sjekkliste noter'!G432<>\"\",1,0)","v":0},0,{"$f":"IF($C281=1,'Sjekkliste noter'!A432,\"\")","v":""},{"$f":"IF($C281=1,'Sjekkliste noter'!B432,\"\")","v":""},null,{"$f":"IF($C281=1,'Sjekkliste noter'!H432,\"\")","v":""}]
[{"$f":"+'Sjekkliste noter'!A433","v":281},{"$f":"IF('Sjekkliste noter'!G433<>\"\",1,0)","v":0},0,{"$f":"IF($C282=1,'Sjekkliste noter'!A433,\"\")","v":""},{"$f":"IF($C282=1,'Sjekkliste noter'!B433,\"\")","v":""},null,{"$f":"IF($C282=1,'Sjekkliste noter'!H433,\"\")","v":""}]
[{"$f":"+'Sjekkliste noter'!A434","v":282},{"$f":"IF('Sjekkliste noter'!G434<>\"\",1,0)","v":0},0,{"$f":"IF($C283=1,'Sjekkliste noter'!A434,\"\")","v":""},{"$f":"IF($C283=1,'Sjekkliste noter'!B434,\"\")","v":""},null,{"$f":"IF($C283=1,'Sjekkliste noter'!H434,\"\")","v":""}]
[{"$f":"+'Sjekkliste noter'!A437","v":283},{"$f":"IF('Sjekkliste noter'!G437<>\"\",1,0)","v":0},0,{"$f":"IF($C284=1,'Sjekkliste noter'!A437,\"\")","v":""},{"$f":"IF($C284=1,'Sjekkliste noter'!B437,\"\")","v":""},null,{"$f":"IF($C284=1,'Sjekkliste noter'!H437,\"\")","v":""}]
[{"$f":"+'Sjekkliste noter'!A439","v":284},{"$f":"IF('Sjekkliste noter'!G439<>\"\",1,0)","v":0},0,{"$f":"IF($C285=1,'Sjekkliste noter'!A439,\"\")","v":""},{"$f":"IF($C285=1,'Sjekkliste noter'!B439,\"\")","v":""},null,{"$f":"IF($C285=1,'Sjekkliste noter'!H439,\"\")","v":""}]
[{"$f":"+'Sjekkliste noter'!A440","v":285},{"$f":"IF('Sjekkliste noter'!G440<>\"\",1,0)","v":0},0,{"$f":"IF($C286=1,'Sjekkliste noter'!A440,\"\")","v":""},{"$f":"IF($C286=1,'Sjekkliste noter'!B440,\"\")","v":""},null,{"$f":"IF($C286=1,'Sjekkliste noter'!H440,\"\")","v":""}]
[{"$f":"+'Sjekkliste noter'!A444","v":286},{"$f":"IF('Sjekkliste noter'!G444<>\"\",1,0)","v":0},0,{"$f":"IF($C287=1,'Sjekkliste noter'!A444,\"\")","v":""},{"$f":"IF($C287=1,'Sjekkliste noter'!B444,\"\")","v":""},null,{"$f":"IF($C287=1,'Sjekkliste noter'!H444,\"\")","v":""}]
[{"$f":"+'Sjekkliste noter'!A445","v":287},{"$f":"IF('Sjekkliste noter'!G445<>\"\",1,0)","v":0},0,{"$f":"IF($C288=1,'Sjekkliste noter'!A445,\"\")","v":""},{"$f":"IF($C288=1,'Sjekkliste noter'!B445,\"\")","v":""},null,{"$f":"IF($C288=1,'Sjekkliste noter'!H445,\"\")","v":""}]
[{"$f":"+'Sjekkliste noter'!A446","v":288},{"$f":"IF('Sjekkliste noter'!G446<>\"\",1,0)","v":0},0,{"$f":"IF($C289=1,'Sjekkliste noter'!A446,\"\")","v":""},{"$f":"IF($C289=1,'Sjekkliste noter'!B446,\"\")","v":""},null,{"$f":"IF($C289=1,'Sjekkliste noter'!H446,\"\")","v":""}]
[{"$f":"+'Sjekkliste noter'!A447","v":289},{"$f":"IF('Sjekkliste noter'!G447<>\"\",1,0)","v":0},0,{"$f":"IF($C290=1,'Sjekkliste noter'!A447,\"\")","v":""},{"$f":"IF($C290=1,'Sjekkliste noter'!B447,\"\")","v":""},null,{"$f":"IF($C290=1,'Sjekkliste noter'!H447,\"\")","v":""}]
[{"$f":"+'Sjekkliste noter'!A448","v":290},{"$f":"IF('Sjekkliste noter'!G448<>\"\",1,0)","v":0},0,{"$f":"IF($C291=1,'Sjekkliste noter'!A448,\"\")","v":""},{"$f":"IF($C291=1,'Sjekkliste noter'!B448,\"\")","v":""},null,{"$f":"IF($C291=1,'Sjekkliste noter'!H448,\"\")","v":""}]
[{"$f":"+'Sjekkliste noter'!A449","v":291},{"$f":"IF('Sjekkliste noter'!G449<>\"\",1,0)","v":0},0,{"$f":"IF($C292=1,'Sjekkliste noter'!A449,\"\")","v":""},{"$f":"IF($C292=1,'Sjekkliste noter'!B449,\"\")","v":""},null,{"$f":"IF($C292=1,'Sjekkliste noter'!H449,\"\")","v":""}]
[{"$f":"+'Sjekkliste noter'!A450","v":292},{"$f":"IF('Sjekkliste noter'!G450<>\"\",1,0)","v":0},0,{"$f":"IF($C293=1,'Sjekkliste noter'!A450,\"\")","v":""},{"$f":"IF($C293=1,'Sjekkliste noter'!B450,\"\")","v":""},null,{"$f":"IF($C293=1,'Sjekkliste noter'!H450,\"\")","v":""}]
[{"$f":"+'Sjekkliste noter'!A451","v":293},{"$f":"IF('Sjekkliste noter'!G451<>\"\",1,0)","v":0},0,{"$f":"IF($C294=1,'Sjekkliste noter'!A451,\"\")","v":""},{"$f":"IF($C294=1,'Sjekkliste noter'!B451,\"\")","v":""},null,{"$f":"IF($C294=1,'Sjekkliste noter'!H451,\"\")","v":""}]
[{"$f":"+'Sjekkliste noter'!A454","v":294},{"$f":"IF('Sjekkliste noter'!G454<>\"\",1,0)","v":0},0,{"$f":"IF($C295=1,'Sjekkliste noter'!A454,\"\")","v":""},{"$f":"IF($C295=1,'Sjekkliste noter'!B454,\"\")","v":""},null,{"$f":"IF($C295=1,'Sjekkliste noter'!H454,\"\")","v":""}]
[{"$f":"+'Sjekkliste noter'!A455","v":295},{"$f":"IF('Sjekkliste noter'!G455<>\"\",1,0)","v":0},0,{"$f":"IF($C296=1,'Sjekkliste noter'!A455,\"\")","v":""},{"$f":"IF($C296=1,'Sjekkliste noter'!B455,\"\")","v":""},null,{"$f":"IF($C296=1,'Sjekkliste noter'!H455,\"\")","v":""}]
[{"$f":"+'Sjekkliste noter'!A456","v":296},{"$f":"IF('Sjekkliste noter'!G456<>\"\",1,0)","v":0},0,{"$f":"IF($C297=1,'Sjekkliste noter'!A456,\"\")","v":""},{"$f":"IF($C297=1,'Sjekkliste noter'!B456,\"\")","v":""},null,{"$f":"IF($C297=1,'Sjekkliste noter'!H456,\"\")","v":""}]
[{"$f":"+'Sjekkliste noter'!A461","v":297},{"$f":"IF('Sjekkliste noter'!G461<>\"\",1,0)","v":0},0,{"$f":"IF($C298=1,'Sjekkliste noter'!A461,\"\")","v":""},{"$f":"IF($C298=1,'Sjekkliste noter'!B461,\"\")","v":""},null,{"$f":"IF($C298=1,'Sjekkliste noter'!H461,\"\")","v":""}]
[{"$f":"+'Sjekkliste noter'!A462","v":298},{"$f":"IF('Sjekkliste noter'!G462<>\"\",1,0)","v":0},0,{"$f":"IF($C299=1,'Sjekkliste noter'!A462,\"\")","v":""},{"$f":"IF($C299=1,'Sjekkliste noter'!B462,\"\")","v":""},null,{"$f":"IF($C299=1,'Sjekkliste noter'!H462,\"\")","v":""}]
[{"$f":"+'Sjekkliste noter'!A463","v":299},{"$f":"IF('Sjekkliste noter'!G463<>\"\",1,0)","v":0},0,{"$f":"IF($C300=1,'Sjekkliste noter'!A463,\"\")","v":""},{"$f":"IF($C300=1,'Sjekkliste noter'!B463,\"\")","v":""},null,{"$f":"IF($C300=1,'Sjekkliste noter'!H463,\"\")","v":""}]
[{"$f":"+'Sjekkliste noter'!A464","v":300},{"$f":"IF('Sjekkliste noter'!G464<>\"\",1,0)","v":0},0,{"$f":"IF($C301=1,'Sjekkliste noter'!A464,\"\")","v":""},{"$f":"IF($C301=1,'Sjekkliste noter'!B464,\"\")","v":""},null,{"$f":"IF($C301=1,'Sjekkliste noter'!H464,\"\")","v":""}]
[{"$f":"+'Sjekkliste noter'!A465","v":301},{"$f":"IF('Sjekkliste noter'!G465<>\"\",1,0)","v":0},0,{"$f":"IF($C302=1,'Sjekkliste noter'!A465,\"\")","v":""},{"$f":"IF($C302=1,'Sjekkliste noter'!B465,\"\")","v":""},null,{"$f":"IF($C302=1,'Sjekkliste noter'!H465,\"\")","v":""}]
[{"$f":"+'Sjekkliste noter'!A466","v":302},{"$f":"IF('Sjekkliste noter'!G466<>\"\",1,0)","v":0},0,{"$f":"IF($C303=1,'Sjekkliste noter'!A466,\"\")","v":""},{"$f":"IF($C303=1,'Sjekkliste noter'!B466,\"\")","v":""},null,{"$f":"IF($C303=1,'Sjekkliste noter'!H466,\"\")","v":""}]
[{"$f":"+'Sjekkliste noter'!A468","v":303},{"$f":"IF('Sjekkliste noter'!G468<>\"\",1,0)","v":0},0,{"$f":"IF($C304=1,'Sjekkliste noter'!A468,\"\")","v":""},{"$f":"IF($C304=1,'Sjekkliste noter'!B468,\"\")","v":""},null,{"$f":"IF($C304=1,'Sjekkliste noter'!H468,\"\")","v":""}]
[{"$f":"+'Sjekkliste noter'!A469","v":304},{"$f":"IF('Sjekkliste noter'!G469<>\"\",1,0)","v":0},0,{"$f":"IF($C305=1,'Sjekkliste noter'!A469,\"\")","v":""},{"$f":"IF($C305=1,'Sjekkliste noter'!B469,\"\")","v":""},null,{"$f":"IF($C305=1,'Sjekkliste noter'!H469,\"\")","v":""}]
[{"$f":"+'Sjekkliste noter'!A470","v":305},{"$f":"IF('Sjekkliste noter'!G470<>\"\",1,0)","v":0},0,{"$f":"IF($C306=1,'Sjekkliste noter'!A470,\"\")","v":""},{"$f":"IF($C306=1,'Sjekkliste noter'!B470,\"\")","v":""},null,{"$f":"IF($C306=1,'Sjekkliste noter'!H470,\"\")","v":""}]
[{"$f":"+'Sjekkliste noter'!A472","v":306},{"$f":"IF('Sjekkliste noter'!G472<>\"\",1,0)","v":0},0,{"$f":"IF($C307=1,'Sjekkliste noter'!A472,\"\")","v":""},{"$f":"IF($C307=1,'Sjekkliste noter'!B472,\"\")","v":""},null,{"$f":"IF($C307=1,'Sjekkliste noter'!H472,\"\")","v":""}]
[{"$f":"+'Sjekkliste noter'!A473","v":307},{"$f":"IF('Sjekkliste noter'!G473<>\"\",1,0)","v":0},0,{"$f":"IF($C308=1,'Sjekkliste noter'!A473,\"\")","v":""},{"$f":"IF($C308=1,'Sjekkliste noter'!B473,\"\")","v":""},null,{"$f":"IF($C308=1,'Sjekkliste noter'!H473,\"\")","v":""}]
[{"$f":"+'Sjekkliste noter'!A474","v":308},{"$f":"IF('Sjekkliste noter'!G474<>\"\",1,0)","v":0},0,{"$f":"IF($C309=1,'Sjekkliste noter'!A474,\"\")","v":""},{"$f":"IF($C309=1,'Sjekkliste noter'!B474,\"\")","v":""},null,{"$f":"IF($C309=1,'Sjekkliste noter'!H474,\"\")","v":""}]
[{"$f":"+'Sjekkliste noter'!A475","v":309},{"$f":"IF('Sjekkliste noter'!G475<>\"\",1,0)","v":0},0,{"$f":"IF($C310=1,'Sjekkliste noter'!A475,\"\")","v":""},{"$f":"IF($C310=1,'Sjekkliste noter'!B475,\"\")","v":""},null,{"$f":"IF($C310=1,'Sjekkliste noter'!H475,\"\")","v":""}]
[{"$f":"+'Sjekkliste noter'!A479","v":310},{"$f":"IF('Sjekkliste noter'!G479<>\"\",1,0)","v":0},0,{"$f":"IF($C311=1,'Sjekkliste noter'!A479,\"\")","v":""},{"$f":"IF($C311=1,'Sjekkliste noter'!B479,\"\")","v":""},null,{"$f":"IF($C311=1,'Sjekkliste noter'!H479,\"\")","v":""}]
[{"$f":"+'Sjekkliste noter'!A480","v":311},{"$f":"IF('Sjekkliste noter'!G480<>\"\",1,0)","v":0},0,{"$f":"IF($C312=1,'Sjekkliste noter'!A480,\"\")","v":""},{"$f":"IF($C312=1,'Sjekkliste noter'!B480,\"\")","v":""},null,{"$f":"IF($C312=1,'Sjekkliste noter'!H480,\"\")","v":""}]
[{"$f":"+'Sjekkliste noter'!A481","v":312},{"$f":"IF('Sjekkliste noter'!G481<>\"\",1,0)","v":0},0,{"$f":"IF($C313=1,'Sjekkliste noter'!A481,\"\")","v":""},{"$f":"IF($C313=1,'Sjekkliste noter'!B481,\"\")","v":""},null,{"$f":"IF($C313=1,'Sjekkliste noter'!H481,\"\")","v":""}]
[{"$f":"+'Sjekkliste noter'!A483","v":313},{"$f":"IF('Sjekkliste noter'!G483<>\"\",1,0)","v":0},0,{"$f":"IF($C314=1,'Sjekkliste noter'!A483,\"\")","v":""},{"$f":"IF($C314=1,'Sjekkliste noter'!B483,\"\")","v":""},null,{"$f":"IF($C314=1,'Sjekkliste noter'!H483,\"\")","v":""}]
[{"$f":"+'Sjekkliste noter'!A484","v":314},{"$f":"IF('Sjekkliste noter'!G484<>\"\",1,0)","v":0},0,{"$f":"IF($C315=1,'Sjekkliste noter'!A484,\"\")","v":""},{"$f":"IF($C315=1,'Sjekkliste noter'!B484,\"\")","v":""},null,{"$f":"IF($C315=1,'Sjekkliste noter'!H484,\"\")","v":""}]
[{"$f":"+'Sjekkliste noter'!A485","v":315},{"$f":"IF('Sjekkliste noter'!G485<>\"\",1,0)","v":0},0,{"$f":"IF($C316=1,'Sjekkliste noter'!A485,\"\")","v":""},{"$f":"IF($C316=1,'Sjekkliste noter'!B485,\"\")","v":""},null,{"$f":"IF($C316=1,'Sjekkliste noter'!H485,\"\")","v":""}]
[{"$f":"+'Sjekkliste noter'!A486","v":316},{"$f":"IF('Sjekkliste noter'!G486<>\"\",1,0)","v":0},0,{"$f":"IF($C317=1,'Sjekkliste noter'!A486,\"\")","v":""},{"$f":"IF($C317=1,'Sjekkliste noter'!B486,\"\")","v":""},null,{"$f":"IF($C317=1,'Sjekkliste noter'!H486,\"\")","v":""}]
[{"$f":"+'Sjekkliste noter'!A490","v":317},{"$f":"IF('Sjekkliste noter'!G490<>\"\",1,0)","v":0},0,{"$f":"IF($C318=1,'Sjekkliste noter'!A490,\"\")","v":""},{"$f":"IF($C318=1,'Sjekkliste noter'!B490,\"\")","v":""},null,{"$f":"IF($C318=1,'Sjekkliste noter'!H490,\"\")","v":""}]
[{"$f":"+'Sjekkliste noter'!A491","v":318},{"$f":"IF('Sjekkliste noter'!G491<>\"\",1,0)","v":0},0,{"$f":"IF($C319=1,'Sjekkliste noter'!A491,\"\")","v":""},{"$f":"IF($C319=1,'Sjekkliste noter'!B491,\"\")","v":""},null,{"$f":"IF($C319=1,'Sjekkliste noter'!H491,\"\")","v":""}]
[{"$f":"+'Sjekkliste noter'!A492","v":319},{"$f":"IF('Sjekkliste noter'!G492<>\"\",1,0)","v":0},0,{"$f":"IF($C320=1,'Sjekkliste noter'!A492,\"\")","v":""},{"$f":"IF($C320=1,'Sjekkliste noter'!B492,\"\")","v":""},null,{"$f":"IF($C320=1,'Sjekkliste noter'!H492,\"\")","v":""}]
[{"$f":"+'Sjekkliste noter'!A493","v":320},{"$f":"IF('Sjekkliste noter'!G493<>\"\",1,0)","v":0},0,{"$f":"IF($C321=1,'Sjekkliste noter'!A493,\"\")","v":""},{"$f":"IF($C321=1,'Sjekkliste noter'!B493,\"\")","v":""},null,{"$f":"IF($C321=1,'Sjekkliste noter'!H493,\"\")","v":""}]
[{"$f":"+'Sjekkliste noter'!A497","v":321},{"$f":"IF('Sjekkliste noter'!G497<>\"\",1,0)","v":0},{"$f":"SUM(B322:B322)","v":0},{"$f":"IF($C322=1,'Sjekkliste noter'!A497,\"\")","v":""},{"$f":"IF($C322=1,'Sjekkliste noter'!B497,\"\")","v":""},null,{"$f":"IF($C322=1,'Sjekkliste noter'!H497,\"\")","v":""}]
[{"$f":"+'Sjekkliste noter'!A498","v":322},{"$f":"IF('Sjekkliste noter'!G498<>\"\",1,0)","v":0},0,{"$f":"IF($C323=1,'Sjekkliste noter'!A498,\"\")","v":""},{"$f":"IF($C323=1,'Sjekkliste noter'!B498,\"\")","v":""},null,{"$f":"IF($C323=1,'Sjekkliste noter'!H498,\"\")","v":""}]
[{"$f":"+'Sjekkliste noter'!A500","v":323},{"$f":"IF('Sjekkliste noter'!G500<>\"\",1,0)","v":0},0,{"$f":"IF($C324=1,'Sjekkliste noter'!A500,\"\")","v":""},{"$f":"IF($C324=1,'Sjekkliste noter'!B500,\"\")","v":""},null,{"$f":"IF($C324=1,'Sjekkliste noter'!H500,\"\")","v":""}]
[{"$f":"+'Sjekkliste noter'!A502","v":324},{"$f":"IF('Sjekkliste noter'!G502<>\"\",1,0)","v":0},0,{"$f":"IF($C325=1,'Sjekkliste noter'!A502,\"\")","v":""},{"$f":"IF($C325=1,'Sjekkliste noter'!B502,\"\")","v":""},null,{"$f":"IF($C325=1,'Sjekkliste noter'!H502,\"\")","v":""}]
[{"$f":"+'Sjekkliste noter'!A503","v":325},{"$f":"IF('Sjekkliste noter'!G503<>\"\",1,0)","v":0},0,{"$f":"IF($C326=1,'Sjekkliste noter'!A503,\"\")","v":""},{"$f":"IF($C326=1,'Sjekkliste noter'!B503,\"\")","v":""},null,{"$f":"IF($C326=1,'Sjekkliste noter'!H503,\"\")","v":""}]
[{"$f":"+'Sjekkliste noter'!A504","v":326},{"$f":"IF('Sjekkliste noter'!G504<>\"\",1,0)","v":0},0,{"$f":"IF($C327=1,'Sjekkliste noter'!A504,\"\")","v":""},{"$f":"IF($C327=1,'Sjekkliste noter'!B504,\"\")","v":""},null,{"$f":"IF($C327=1,'Sjekkliste noter'!H504,\"\")","v":""}]
[{"$f":"+'Sjekkliste noter'!A505","v":327},{"$f":"IF('Sjekkliste noter'!G505<>\"\",1,0)","v":0},0,{"$f":"IF($C328=1,'Sjekkliste noter'!A505,\"\")","v":""},{"$f":"IF($C328=1,'Sjekkliste noter'!B505,\"\")","v":""},null,{"$f":"IF($C328=1,'Sjekkliste noter'!H505,\"\")","v":""}]
[{"$f":"+'Sjekkliste noter'!A506","v":328},{"$f":"IF('Sjekkliste noter'!G506<>\"\",1,0)","v":0},0,{"$f":"IF($C329=1,'Sjekkliste noter'!A506,\"\")","v":""},{"$f":"IF($C329=1,'Sjekkliste noter'!B506,\"\")","v":""},null,{"$f":"IF($C329=1,'Sjekkliste noter'!H506,\"\")","v":""}]
[{"$f":"+'Sjekkliste noter'!A507","v":329},{"$f":"IF('Sjekkliste noter'!G507<>\"\",1,0)","v":0},0,{"$f":"IF($C330=1,'Sjekkliste noter'!A507,\"\")","v":""},{"$f":"IF($C330=1,'Sjekkliste noter'!B507,\"\")","v":""},null,{"$f":"IF($C330=1,'Sjekkliste noter'!H507,\"\")","v":""}]
[{"$f":"+'Sjekkliste noter'!A508","v":330},{"$f":"IF('Sjekkliste noter'!G508<>\"\",1,0)","v":0},0,{"$f":"IF($C331=1,'Sjekkliste noter'!A508,\"\")","v":""},{"$f":"IF($C331=1,'Sjekkliste noter'!B508,\"\")","v":""},null,{"$f":"IF($C331=1,'Sjekkliste noter'!H508,\"\")","v":""}]
[{"$f":"+'Sjekkliste noter'!A509","v":331},{"$f":"IF('Sjekkliste noter'!G509<>\"\",1,0)","v":0},0,{"$f":"IF($C332=1,'Sjekkliste noter'!A509,\"\")","v":""},{"$f":"IF($C332=1,'Sjekkliste noter'!B509,\"\")","v":""},null,{"$f":"IF($C332=1,'Sjekkliste noter'!H509,\"\")","v":""}]
[{"$f":"+'Sjekkliste noter'!A510","v":332},{"$f":"IF('Sjekkliste noter'!G510<>\"\",1,0)","v":0},0,{"$f":"IF($C333=1,'Sjekkliste noter'!A510,\"\")","v":""},{"$f":"IF($C333=1,'Sjekkliste noter'!B510,\"\")","v":""},null,{"$f":"IF($C333=1,'Sjekkliste noter'!H510,\"\")","v":""}]
[{"$f":"+'Sjekkliste noter'!A512","v":333},{"$f":"IF('Sjekkliste noter'!G512<>\"\",1,0)","v":0},0,{"$f":"IF($C334=1,'Sjekkliste noter'!A512,\"\")","v":""},{"$f":"IF($C334=1,'Sjekkliste noter'!B512,\"\")","v":""},null,{"$f":"IF($C334=1,'Sjekkliste noter'!H512,\"\")","v":""}]
[{"$f":"+'Sjekkliste noter'!A513","v":334},{"$f":"IF('Sjekkliste noter'!G513<>\"\",1,0)","v":0},0,{"$f":"IF($C335=1,'Sjekkliste noter'!A513,\"\")","v":""},{"$f":"IF($C335=1,'Sjekkliste noter'!B513,\"\")","v":""},null,{"$f":"IF($C335=1,'Sjekkliste noter'!H513,\"\")","v":""}]
[{"$f":"+'Sjekkliste noter'!A514","v":335},{"$f":"IF('Sjekkliste noter'!G514<>\"\",1,0)","v":0},0,{"$f":"IF($C336=1,'Sjekkliste noter'!A514,\"\")","v":""},{"$f":"IF($C336=1,'Sjekkliste noter'!B514,\"\")","v":""},null,{"$f":"IF($C336=1,'Sjekkliste noter'!H514,\"\")","v":""}]
[{"$f":"+'Sjekkliste noter'!A515","v":336},{"$f":"IF('Sjekkliste noter'!G515<>\"\",1,0)","v":0},0,{"$f":"IF($C337=1,'Sjekkliste noter'!A515,\"\")","v":""},{"$f":"IF($C337=1,'Sjekkliste noter'!B515,\"\")","v":""},null,{"$f":"IF($C337=1,'Sjekkliste noter'!H515,\"\")","v":""}]
[{"$f":"+'Sjekkliste noter'!A516","v":337},{"$f":"IF('Sjekkliste noter'!G516<>\"\",1,0)","v":0},0,{"$f":"IF($C338=1,'Sjekkliste noter'!A516,\"\")","v":""},{"$f":"IF($C338=1,'Sjekkliste noter'!B516,\"\")","v":""},null,{"$f":"IF($C338=1,'Sjekkliste noter'!H516,\"\")","v":""}]
[{"$f":"+'Sjekkliste noter'!A517","v":338},{"$f":"IF('Sjekkliste noter'!G517<>\"\",1,0)","v":0},0,{"$f":"IF($C339=1,'Sjekkliste noter'!A517,\"\")","v":""},{"$f":"IF($C339=1,'Sjekkliste noter'!B517,\"\")","v":""},null,{"$f":"IF($C339=1,'Sjekkliste noter'!H517,\"\")","v":""}]
[{"$f":"+'Sjekkliste noter'!A518","v":339},{"$f":"IF('Sjekkliste noter'!G518<>\"\",1,0)","v":0},0,{"$f":"IF($C340=1,'Sjekkliste noter'!A518,\"\")","v":""},{"$f":"IF($C340=1,'Sjekkliste noter'!B518,\"\")","v":""},null,{"$f":"IF($C340=1,'Sjekkliste noter'!H518,\"\")","v":""}]
[{"$f":"+'Sjekkliste noter'!A520","v":340},{"$f":"IF('Sjekkliste noter'!G520<>\"\",1,0)","v":0},0,{"$f":"IF($C341=1,'Sjekkliste noter'!A520,\"\")","v":""},{"$f":"IF($C341=1,'Sjekkliste noter'!B520,\"\")","v":""},null,{"$f":"IF($C341=1,'Sjekkliste noter'!H520,\"\")","v":""}]
[{"$f":"+'Sjekkliste noter'!A521","v":341},{"$f":"IF('Sjekkliste noter'!G521<>\"\",1,0)","v":0},0,{"$f":"IF($C342=1,'Sjekkliste noter'!A521,\"\")","v":""},{"$f":"IF($C342=1,'Sjekkliste noter'!B521,\"\")","v":""},null,{"$f":"IF($C342=1,'Sjekkliste noter'!H521,\"\")","v":""}]
[{"$f":"+'Sjekkliste noter'!A522","v":342},{"$f":"IF('Sjekkliste noter'!G522<>\"\",1,0)","v":0},0,{"$f":"IF($C343=1,'Sjekkliste noter'!A522,\"\")","v":""},{"$f":"IF($C343=1,'Sjekkliste noter'!B522,\"\")","v":""},null,{"$f":"IF($C343=1,'Sjekkliste noter'!H522,\"\")","v":""}]
[{"$f":"+'Sjekkliste noter'!A526","v":343},{"$f":"IF('Sjekkliste noter'!G526<>\"\",1,0)","v":0},0,{"$f":"IF($C344=1,'Sjekkliste noter'!A526,\"\")","v":""},{"$f":"IF($C344=1,'Sjekkliste noter'!B526,\"\")","v":""},null,{"$f":"IF($C344=1,'Sjekkliste noter'!H526,\"\")","v":""}]
[{"$f":"+'Sjekkliste noter'!A527","v":344},{"$f":"IF('Sjekkliste noter'!G527<>\"\",1,0)","v":0},0,{"$f":"IF($C345=1,'Sjekkliste noter'!A527,\"\")","v":""},{"$f":"IF($C345=1,'Sjekkliste noter'!B527,\"\")","v":""},null,{"$f":"IF($C345=1,'Sjekkliste noter'!H527,\"\")","v":""}]
[{"$f":"+'Sjekkliste noter'!A528","v":345},{"$f":"IF('Sjekkliste noter'!G528<>\"\",1,0)","v":0},0,{"$f":"IF($C346=1,'Sjekkliste noter'!A528,\"\")","v":""},{"$f":"IF($C346=1,'Sjekkliste noter'!B528,\"\")","v":""},null,{"$f":"IF($C346=1,'Sjekkliste noter'!H528,\"\")","v":""}]
[{"$f":"+'Sjekkliste noter'!A529","v":346},{"$f":"IF('Sjekkliste noter'!G529<>\"\",1,0)","v":0},0,{"$f":"IF($C347=1,'Sjekkliste noter'!A529,\"\")","v":""},{"$f":"IF($C347=1,'Sjekkliste noter'!B529,\"\")","v":""},null,{"$f":"IF($C347=1,'Sjekkliste noter'!H529,\"\")","v":""}]
[{"$f":"+'Sjekkliste noter'!A531","v":347},{"$f":"IF('Sjekkliste noter'!G531<>\"\",1,0)","v":0},0,{"$f":"IF($C348=1,'Sjekkliste noter'!A531,\"\")","v":""},{"$f":"IF($C348=1,'Sjekkliste noter'!B531,\"\")","v":""},null,{"$f":"IF($C348=1,'Sjekkliste noter'!H531,\"\")","v":""}]
[{"$f":"+'Sjekkliste noter'!A535","v":348},{"$f":"IF('Sjekkliste noter'!G535<>\"\",1,0)","v":0},0,{"$f":"IF($C349=1,'Sjekkliste noter'!A535,\"\")","v":""},{"$f":"IF($C349=1,'Sjekkliste noter'!B535,\"\")","v":""},null,{"$f":"IF($C349=1,'Sjekkliste noter'!H535,\"\")","v":""}]
[{"$f":"+'Sjekkliste noter'!A536","v":349},{"$f":"IF('Sjekkliste noter'!G536<>\"\",1,0)","v":0},0,{"$f":"IF($C350=1,'Sjekkliste noter'!A536,\"\")","v":""},{"$f":"IF($C350=1,'Sjekkliste noter'!B536,\"\")","v":""},null,{"$f":"IF($C350=1,'Sjekkliste noter'!H536,\"\")","v":""}]
[{"$f":"+'Sjekkliste noter'!A537","v":350},{"$f":"IF('Sjekkliste noter'!G537<>\"\",1,0)","v":0},0,{"$f":"IF($C351=1,'Sjekkliste noter'!A537,\"\")","v":""},{"$f":"IF($C351=1,'Sjekkliste noter'!B537,\"\")","v":""},null,{"$f":"IF($C351=1,'Sjekkliste noter'!H537,\"\")","v":""}]
[{"$f":"+'Sjekkliste noter'!A538","v":351},{"$f":"IF('Sjekkliste noter'!G538<>\"\",1,0)","v":0},0,{"$f":"IF($C352=1,'Sjekkliste noter'!A538,\"\")","v":""},{"$f":"IF($C352=1,'Sjekkliste noter'!B538,\"\")","v":""},null,{"$f":"IF($C352=1,'Sjekkliste noter'!H538,\"\")","v":""}]
[{"$f":"+'Sjekkliste noter'!A539","v":352},{"$f":"IF('Sjekkliste noter'!G539<>\"\",1,0)","v":0},0,{"$f":"IF($C353=1,'Sjekkliste noter'!A539,\"\")","v":""},{"$f":"IF($C353=1,'Sjekkliste noter'!B539,\"\")","v":""},null,{"$f":"IF($C353=1,'Sjekkliste noter'!H539,\"\")","v":""}]
[{"$f":"+'Sjekkliste noter'!A546","v":353},{"$f":"IF('Sjekkliste noter'!G546<>\"\",1,0)","v":0},0,{"$f":"IF($C354=1,'Sjekkliste noter'!A546,\"\")","v":""},{"$f":"IF($C354=1,'Sjekkliste noter'!B546,\"\")","v":""},null,{"$f":"IF($C354=1,'Sjekkliste noter'!H546,\"\")","v":""}]
[{"$f":"+'Sjekkliste noter'!A548","v":354},{"$f":"IF('Sjekkliste noter'!G548<>\"\",1,0)","v":0},0,{"$f":"IF($C355=1,'Sjekkliste noter'!A548,\"\")","v":""},{"$f":"IF($C355=1,'Sjekkliste noter'!B548,\"\")","v":""},null,{"$f":"IF($C355=1,'Sjekkliste noter'!H548,\"\")","v":""}]
[{"$f":"+'Sjekkliste noter'!A549","v":355},{"$f":"IF('Sjekkliste noter'!G549<>\"\",1,0)","v":0},0,{"$f":"IF($C356=1,'Sjekkliste noter'!A549,\"\")","v":""},{"$f":"IF($C356=1,'Sjekkliste noter'!B549,\"\")","v":""},null,{"$f":"IF($C356=1,'Sjekkliste noter'!H549,\"\")","v":""}]
[{"$f":"+'Sjekkliste noter'!A551","v":356},{"$f":"IF('Sjekkliste noter'!G551<>\"\",1,0)","v":0},0,{"$f":"IF($C357=1,'Sjekkliste noter'!A551,\"\")","v":""},{"$f":"IF($C357=1,'Sjekkliste noter'!B551,\"\")","v":""},null,{"$f":"IF($C357=1,'Sjekkliste noter'!H551,\"\")","v":""}]
[{"$f":"+'Sjekkliste noter'!A552","v":357},{"$f":"IF('Sjekkliste noter'!G552<>\"\",1,0)","v":0},0,{"$f":"IF($C358=1,'Sjekkliste noter'!A552,\"\")","v":""},{"$f":"IF($C358=1,'Sjekkliste noter'!B552,\"\")","v":""},null,{"$f":"IF($C358=1,'Sjekkliste noter'!H552,\"\")","v":""}]
[{"$f":"+'Sjekkliste noter'!A553","v":358},{"$f":"IF('Sjekkliste noter'!G553<>\"\",1,0)","v":0},0,{"$f":"IF($C359=1,'Sjekkliste noter'!A553,\"\")","v":""},{"$f":"IF($C359=1,'Sjekkliste noter'!B553,\"\")","v":""},null,{"$f":"IF($C359=1,'Sjekkliste noter'!H553,\"\")","v":""}]
[{"$f":"+'Sjekkliste noter'!A554","v":359},{"$f":"IF('Sjekkliste noter'!G554<>\"\",1,0)","v":0},0,{"$f":"IF($C360=1,'Sjekkliste noter'!A554,\"\")","v":""},{"$f":"IF($C360=1,'Sjekkliste noter'!B554,\"\")","v":""},null,{"$f":"IF($C360=1,'Sjekkliste noter'!H554,\"\")","v":""}]
[{"$f":"+'Sjekkliste noter'!A555","v":360},{"$f":"IF('Sjekkliste noter'!G555<>\"\",1,0)","v":0},0,{"$f":"IF($C361=1,'Sjekkliste noter'!A555,\"\")","v":""},{"$f":"IF($C361=1,'Sjekkliste noter'!B555,\"\")","v":""},null,{"$f":"IF($C361=1,'Sjekkliste noter'!H555,\"\")","v":""}]
[{"$f":"+'Sjekkliste noter'!A558","v":361},{"$f":"IF('Sjekkliste noter'!G558<>\"\",1,0)","v":0},0,{"$f":"IF($C362=1,'Sjekkliste noter'!A558,\"\")","v":""},{"$f":"IF($C362=1,'Sjekkliste noter'!B558,\"\")","v":""},null,{"$f":"IF($C362=1,'Sjekkliste noter'!H558,\"\")","v":""}]
[{"$f":"+'Sjekkliste noter'!A559","v":362},{"$f":"IF('Sjekkliste noter'!G559<>\"\",1,0)","v":0},0,{"$f":"IF($C363=1,'Sjekkliste noter'!A559,\"\")","v":""},{"$f":"IF($C363=1,'Sjekkliste noter'!B559,\"\")","v":""},null,{"$f":"IF($C363=1,'Sjekkliste noter'!H559,\"\")","v":""}]
[{"$f":"+'Sjekkliste noter'!A560","v":363},{"$f":"IF('Sjekkliste noter'!G560<>\"\",1,0)","v":0},0,{"$f":"IF($C364=1,'Sjekkliste noter'!A560,\"\")","v":""},{"$f":"IF($C364=1,'Sjekkliste noter'!B560,\"\")","v":""},null,{"$f":"IF($C364=1,'Sjekkliste noter'!H560,\"\")","v":""}]
[{"$f":"+'Sjekkliste noter'!A561","v":364},{"$f":"IF('Sjekkliste noter'!G561<>\"\",1,0)","v":0},0,{"$f":"IF($C365=1,'Sjekkliste noter'!A561,\"\")","v":""},{"$f":"IF($C365=1,'Sjekkliste noter'!B561,\"\")","v":""},null,{"$f":"IF($C365=1,'Sjekkliste noter'!H561,\"\")","v":""}]
[{"$f":"+'Sjekkliste noter'!A562","v":365},{"$f":"IF('Sjekkliste noter'!G562<>\"\",1,0)","v":0},0,{"$f":"IF($C366=1,'Sjekkliste noter'!A562,\"\")","v":""},{"$f":"IF($C366=1,'Sjekkliste noter'!B562,\"\")","v":""},null,{"$f":"IF($C366=1,'Sjekkliste noter'!H562,\"\")","v":""}]
[{"$f":"+'Sjekkliste noter'!A563","v":366},{"$f":"IF('Sjekkliste noter'!G563<>\"\",1,0)","v":0},0,{"$f":"IF($C367=1,'Sjekkliste noter'!A563,\"\")","v":""},{"$f":"IF($C367=1,'Sjekkliste noter'!B563,\"\")","v":""},null,{"$f":"IF($C367=1,'Sjekkliste noter'!H563,\"\")","v":""}]
[{"$f":"+'Sjekkliste noter'!A564","v":367},{"$f":"IF('Sjekkliste noter'!G564<>\"\",1,0)","v":0},0,{"$f":"IF($C368=1,'Sjekkliste noter'!A564,\"\")","v":""},{"$f":"IF($C368=1,'Sjekkliste noter'!B564,\"\")","v":""},null,{"$f":"IF($C368=1,'Sjekkliste noter'!H564,\"\")","v":""}]
[{"$f":"+'Sjekkliste noter'!A565","v":368},{"$f":"IF('Sjekkliste noter'!G565<>\"\",1,0)","v":0},0,{"$f":"IF($C369=1,'Sjekkliste noter'!A565,\"\")","v":""},{"$f":"IF($C369=1,'Sjekkliste noter'!B565,\"\")","v":""},null,{"$f":"IF($C369=1,'Sjekkliste noter'!H565,\"\")","v":""}]
[{"$f":"+'Sjekkliste noter'!A566","v":369},{"$f":"IF('Sjekkliste noter'!G566<>\"\",1,0)","v":0},0,{"$f":"IF($C370=1,'Sjekkliste noter'!A566,\"\")","v":""},{"$f":"IF($C370=1,'Sjekkliste noter'!B566,\"\")","v":""},null,{"$f":"IF($C370=1,'Sjekkliste noter'!H566,\"\")","v":""}]
[{"$f":"+'Sjekkliste noter'!A567","v":370},{"$f":"IF('Sjekkliste noter'!G567<>\"\",1,0)","v":0},0,{"$f":"IF($C371=1,'Sjekkliste noter'!A567,\"\")","v":""},{"$f":"IF($C371=1,'Sjekkliste noter'!B567,\"\")","v":""},null,{"$f":"IF($C371=1,'Sjekkliste noter'!H567,\"\")","v":""}]
[{"$f":"+'Sjekkliste noter'!A568","v":371},{"$f":"IF('Sjekkliste noter'!G568<>\"\",1,0)","v":0},0,{"$f":"IF($C372=1,'Sjekkliste noter'!A568,\"\")","v":""},{"$f":"IF($C372=1,'Sjekkliste noter'!B568,\"\")","v":""},null,{"$f":"IF($C372=1,'Sjekkliste noter'!H568,\"\")","v":""}]
[{"$f":"+'Sjekkliste noter'!A569","v":372},{"$f":"IF('Sjekkliste noter'!G569<>\"\",1,0)","v":0},0,{"$f":"IF($C373=1,'Sjekkliste noter'!A569,\"\")","v":""},{"$f":"IF($C373=1,'Sjekkliste noter'!B569,\"\")","v":""},null,{"$f":"IF($C373=1,'Sjekkliste noter'!H569,\"\")","v":""}]
[{"$f":"+'Sjekkliste noter'!A570","v":373},{"$f":"IF('Sjekkliste noter'!G570<>\"\",1,0)","v":0},0,{"$f":"IF($C374=1,'Sjekkliste noter'!A570,\"\")","v":""},{"$f":"IF($C374=1,'Sjekkliste noter'!B570,\"\")","v":""},null,{"$f":"IF($C374=1,'Sjekkliste noter'!H570,\"\")","v":""}]
[{"$f":"+'Sjekkliste noter'!A573","v":374},{"$f":"IF('Sjekkliste noter'!G573<>\"\",1,0)","v":0},0,{"$f":"IF($C375=1,'Sjekkliste noter'!A573,\"\")","v":""},{"$f":"IF($C375=1,'Sjekkliste noter'!B573,\"\")","v":""},null,{"$f":"IF($C375=1,'Sjekkliste noter'!H573,\"\")","v":""}]
[{"$f":"+'Sjekkliste noter'!A574","v":375},{"$f":"IF('Sjekkliste noter'!G574<>\"\",1,0)","v":0},0,{"$f":"IF($C376=1,'Sjekkliste noter'!A574,\"\")","v":""},{"$f":"IF($C376=1,'Sjekkliste noter'!B574,\"\")","v":""},null,{"$f":"IF($C376=1,'Sjekkliste noter'!H574,\"\")","v":""}]
[{"$f":"+'Sjekkliste noter'!A577","v":376},{"$f":"IF('Sjekkliste noter'!G577<>\"\",1,0)","v":0},0,{"$f":"IF($C377=1,'Sjekkliste noter'!A577,\"\")","v":""},{"$f":"IF($C377=1,'Sjekkliste noter'!B577,\"\")","v":""},null,{"$f":"IF($C377=1,'Sjekkliste noter'!H577,\"\")","v":""}]
[{"$f":"+'Sjekkliste noter'!A578","v":377},{"$f":"IF('Sjekkliste noter'!G578<>\"\",1,0)","v":0},0,{"$f":"IF($C378=1,'Sjekkliste noter'!A578,\"\")","v":""},{"$f":"IF($C378=1,'Sjekkliste noter'!B578,\"\")","v":""},null,{"$f":"IF($C378=1,'Sjekkliste noter'!H578,\"\")","v":""}]
[{"$f":"+'Sjekkliste noter'!A579","v":378},{"$f":"IF('Sjekkliste noter'!G579<>\"\",1,0)","v":0},0,{"$f":"IF($C379=1,'Sjekkliste noter'!A579,\"\")","v":""},{"$f":"IF($C379=1,'Sjekkliste noter'!B579,\"\")","v":""},null,{"$f":"IF($C379=1,'Sjekkliste noter'!H579,\"\")","v":""}]
[{"$f":"+'Sjekkliste noter'!A584","v":379},{"$f":"IF('Sjekkliste noter'!G584<>\"\",1,0)","v":0},0,{"$f":"IF($C380=1,'Sjekkliste noter'!A584,\"\")","v":""},{"$f":"IF($C380=1,'Sjekkliste noter'!B584,\"\")","v":""},null,{"$f":"IF($C380=1,'Sjekkliste noter'!H584,\"\")","v":""}]
[{"$f":"+'Sjekkliste noter'!A585","v":380},{"$f":"IF('Sjekkliste noter'!G585<>\"\",1,0)","v":0},0,{"$f":"IF($C381=1,'Sjekkliste noter'!A585,\"\")","v":""},{"$f":"IF($C381=1,'Sjekkliste noter'!B585,\"\")","v":""},null,{"$f":"IF($C381=1,'Sjekkliste noter'!H585,\"\")","v":""}]
[{"$f":"+'Sjekkliste noter'!A586","v":381},{"$f":"IF('Sjekkliste noter'!G586<>\"\",1,0)","v":0},0,{"$f":"IF($C382=1,'Sjekkliste noter'!A586,\"\")","v":""},{"$f":"IF($C382=1,'Sjekkliste noter'!B586,\"\")","v":""},null,{"$f":"IF($C382=1,'Sjekkliste noter'!H586,\"\")","v":""}]
[{"$f":"+'Sjekkliste noter'!A587","v":382},{"$f":"IF('Sjekkliste noter'!G587<>\"\",1,0)","v":0},0,{"$f":"IF($C383=1,'Sjekkliste noter'!A587,\"\")","v":""},{"$f":"IF($C383=1,'Sjekkliste noter'!B587,\"\")","v":""},null,{"$f":"IF($C383=1,'Sjekkliste noter'!H587,\"\")","v":""}]
[{"$f":"+'Sjekkliste noter'!A588","v":383},{"$f":"IF('Sjekkliste noter'!G588<>\"\",1,0)","v":0},0,{"$f":"IF($C384=1,'Sjekkliste noter'!A588,\"\")","v":""},{"$f":"IF($C384=1,'Sjekkliste noter'!B588,\"\")","v":""},null,{"$f":"IF($C384=1,'Sjekkliste noter'!H588,\"\")","v":""}]
[{"$f":"+'Sjekkliste noter'!A589","v":384},{"$f":"IF('Sjekkliste noter'!G589<>\"\",1,0)","v":0},0,{"$f":"IF($C385=1,'Sjekkliste noter'!A589,\"\")","v":""},{"$f":"IF($C385=1,'Sjekkliste noter'!B589,\"\")","v":""},null,{"$f":"IF($C385=1,'Sjekkliste noter'!H589,\"\")","v":""}]
[{"$f":"+'Sjekkliste noter'!A591","v":385},{"$f":"IF('Sjekkliste noter'!G591<>\"\",1,0)","v":0},{"$f":"SUM(B386:B386)","v":0},{"$f":"IF($C386=1,'Sjekkliste noter'!A591,\"\")","v":""},{"$f":"IF($C386=1,'Sjekkliste noter'!B591,\"\")","v":""},null,{"$f":"IF($C386=1,'Sjekkliste noter'!H591,\"\")","v":""}]
[{"$f":"+'Sjekkliste noter'!A592","v":386},{"$f":"IF('Sjekkliste noter'!G592<>\"\",1,0)","v":0},0,{"$f":"IF($C387=1,'Sjekkliste noter'!A592,\"\")","v":""},{"$f":"IF($C387=1,'Sjekkliste noter'!B592,\"\")","v":""},null,{"$f":"IF($C387=1,'Sjekkliste noter'!H592,\"\")","v":""}]
[{"$f":"+'Sjekkliste noter'!A593","v":387},{"$f":"IF('Sjekkliste noter'!G593<>\"\",1,0)","v":0},0,{"$f":"IF($C388=1,'Sjekkliste noter'!A593,\"\")","v":""},{"$f":"IF($C388=1,'Sjekkliste noter'!B593,\"\")","v":""},null,{"$f":"IF($C388=1,'Sjekkliste noter'!H593,\"\")","v":""}]
[{"$f":"+'Sjekkliste noter'!A594","v":388},{"$f":"IF('Sjekkliste noter'!G594<>\"\",1,0)","v":0},0,{"$f":"IF($C389=1,'Sjekkliste noter'!A594,\"\")","v":""},{"$f":"IF($C389=1,'Sjekkliste noter'!B594,\"\")","v":""},null,{"$f":"IF($C389=1,'Sjekkliste noter'!H594,\"\")","v":""}]
[{"$f":"+'Sjekkliste noter'!A595","v":389},{"$f":"IF('Sjekkliste noter'!G595<>\"\",1,0)","v":0},0,{"$f":"IF($C390=1,'Sjekkliste noter'!A595,\"\")","v":""},{"$f":"IF($C390=1,'Sjekkliste noter'!B595,\"\")","v":""},null,{"$f":"IF($C390=1,'Sjekkliste noter'!H595,\"\")","v":""}]
[{"$f":"+'Sjekkliste noter'!A596","v":390},{"$f":"IF('Sjekkliste noter'!G596<>\"\",1,0)","v":0},0,{"$f":"IF($C391=1,'Sjekkliste noter'!A596,\"\")","v":""},{"$f":"IF($C391=1,'Sjekkliste noter'!B596,\"\")","v":""},null,{"$f":"IF($C391=1,'Sjekkliste noter'!H596,\"\")","v":""}]
[{"$f":"+'Sjekkliste noter'!A597","v":391},{"$f":"IF('Sjekkliste noter'!G597<>\"\",1,0)","v":0},0,{"$f":"IF($C392=1,'Sjekkliste noter'!A597,\"\")","v":""},{"$f":"IF($C392=1,'Sjekkliste noter'!B597,\"\")","v":""},null,{"$f":"IF($C392=1,'Sjekkliste noter'!H597,\"\")","v":""}]
[{"$f":"+'Sjekkliste noter'!A598","v":392},{"$f":"IF('Sjekkliste noter'!G598<>\"\",1,0)","v":0},0,{"$f":"IF($C393=1,'Sjekkliste noter'!A598,\"\")","v":""},{"$f":"IF($C393=1,'Sjekkliste noter'!B598,\"\")","v":""},null,{"$f":"IF($C393=1,'Sjekkliste noter'!H598,\"\")","v":""}]
[{"$f":"+'Sjekkliste noter'!A599","v":393},{"$f":"IF('Sjekkliste noter'!G599<>\"\",1,0)","v":0},0,{"$f":"IF($C394=1,'Sjekkliste noter'!A599,\"\")","v":""},{"$f":"IF($C394=1,'Sjekkliste noter'!B599,\"\")","v":""},null,{"$f":"IF($C394=1,'Sjekkliste noter'!H599,\"\")","v":""}]
[{"$f":"+'Sjekkliste noter'!A600","v":394},{"$f":"IF('Sjekkliste noter'!G600<>\"\",1,0)","v":0},0,{"$f":"IF($C395=1,'Sjekkliste noter'!A600,\"\")","v":""},{"$f":"IF($C395=1,'Sjekkliste noter'!B600,\"\")","v":""},null,{"$f":"IF($C395=1,'Sjekkliste noter'!H600,\"\")","v":""}]
[{"$f":"+'Sjekkliste noter'!A604","v":396},{"$f":"IF('Sjekkliste noter'!G604<>\"\",1,0)","v":0},0,{"$f":"IF($C396=1,'Sjekkliste noter'!A604,\"\")","v":""},{"$f":"IF($C396=1,'Sjekkliste noter'!B604,\"\")","v":""},null,{"$f":"IF($C396=1,'Sjekkliste noter'!H604,\"\")","v":""}]
[{"$f":"+'Sjekkliste noter'!A605","v":397},{"$f":"IF('Sjekkliste noter'!G605<>\"\",1,0)","v":0},0,{"$f":"IF($C397=1,'Sjekkliste noter'!A605,\"\")","v":""},{"$f":"IF($C397=1,'Sjekkliste noter'!B605,\"\")","v":""},null,{"$f":"IF($C397=1,'Sjekkliste noter'!H605,\"\")","v":""}]
[{"$f":"+'Sjekkliste noter'!A606","v":398},{"$f":"IF('Sjekkliste noter'!G606<>\"\",1,0)","v":0},0,{"$f":"IF($C398=1,'Sjekkliste noter'!A606,\"\")","v":""},{"$f":"IF($C398=1,'Sjekkliste noter'!B606,\"\")","v":""},null,{"$f":"IF($C398=1,'Sjekkliste noter'!H606,\"\")","v":""}]
[{"$f":"+'Sjekkliste noter'!A607","v":399},{"$f":"IF('Sjekkliste noter'!G607<>\"\",1,0)","v":0},0,{"$f":"IF($C399=1,'Sjekkliste noter'!A607,\"\")","v":""},{"$f":"IF($C399=1,'Sjekkliste noter'!B607,\"\")","v":""},null,{"$f":"IF($C399=1,'Sjekkliste noter'!H607,\"\")","v":""}]
[{"$f":"+'Sjekkliste noter'!A608","v":400},{"$f":"IF('Sjekkliste noter'!G608<>\"\",1,0)","v":0},0,{"$f":"IF($C400=1,'Sjekkliste noter'!A608,\"\")","v":""},{"$f":"IF($C400=1,'Sjekkliste noter'!B608,\"\")","v":""},null,{"$f":"IF($C400=1,'Sjekkliste noter'!H608,\"\")","v":""}]
[{"$f":"+'Sjekkliste noter'!A609","v":401},{"$f":"IF('Sjekkliste noter'!G609<>\"\",1,0)","v":0},0,{"$f":"IF($C401=1,'Sjekkliste noter'!A609,\"\")","v":""},{"$f":"IF($C401=1,'Sjekkliste noter'!B609,\"\")","v":""},null,{"$f":"IF($C401=1,'Sjekkliste noter'!H609,\"\")","v":""}]
[{"$f":"+'Sjekkliste noter'!A610","v":402},{"$f":"IF('Sjekkliste noter'!G610<>\"\",1,0)","v":0},0,{"$f":"IF($C402=1,'Sjekkliste noter'!A610,\"\")","v":""},{"$f":"IF($C402=1,'Sjekkliste noter'!B610,\"\")","v":""},null,{"$f":"IF($C402=1,'Sjekkliste noter'!H610,\"\")","v":""}]
[{"$f":"+'Sjekkliste noter'!A611","v":403},{"$f":"IF('Sjekkliste noter'!G611<>\"\",1,0)","v":0},0,{"$f":"IF($C403=1,'Sjekkliste noter'!A611,\"\")","v":""},{"$f":"IF($C403=1,'Sjekkliste noter'!B611,\"\")","v":""},null,{"$f":"IF($C403=1,'Sjekkliste noter'!H611,\"\")","v":""}]
[{"$f":"+'Sjekkliste noter'!A612","v":404},{"$f":"IF('Sjekkliste noter'!G612<>\"\",1,0)","v":0},0,{"$f":"IF($C404=1,'Sjekkliste noter'!A612,\"\")","v":""},{"$f":"IF($C404=1,'Sjekkliste noter'!B612,\"\")","v":""},null,{"$f":"IF($C404=1,'Sjekkliste noter'!H612,\"\")","v":""}]
[{"$f":"+'Sjekkliste noter'!A613","v":405},{"$f":"IF('Sjekkliste noter'!G613<>\"\",1,0)","v":0},0,{"$f":"IF($C405=1,'Sjekkliste noter'!A613,\"\")","v":""},{"$f":"IF($C405=1,'Sjekkliste noter'!B613,\"\")","v":""},null,{"$f":"IF($C405=1,'Sjekkliste noter'!H613,\"\")","v":""}]
[{"$f":"+'Sjekkliste noter'!A614","v":406},{"$f":"IF('Sjekkliste noter'!G614<>\"\",1,0)","v":0},0,{"$f":"IF($C406=1,'Sjekkliste noter'!A614,\"\")","v":""},{"$f":"IF($C406=1,'Sjekkliste noter'!B614,\"\")","v":""},null,{"$f":"IF($C406=1,'Sjekkliste noter'!H614,\"\")","v":""}]
[{"$f":"+'Sjekkliste noter'!A615","v":407},{"$f":"IF('Sjekkliste noter'!G615<>\"\",1,0)","v":0},0,{"$f":"IF($C407=1,'Sjekkliste noter'!A615,\"\")","v":""},{"$f":"IF($C407=1,'Sjekkliste noter'!B615,\"\")","v":""},null,{"$f":"IF($C407=1,'Sjekkliste noter'!H615,\"\")","v":""}]
[{"$f":"+'Sjekkliste noter'!A616","v":408},{"$f":"IF('Sjekkliste noter'!G616<>\"\",1,0)","v":0},0,{"$f":"IF($C408=1,'Sjekkliste noter'!A616,\"\")","v":""},{"$f":"IF($C408=1,'Sjekkliste noter'!B616,\"\")","v":""},null,{"$f":"IF($C408=1,'Sjekkliste noter'!H616,\"\")","v":""}]
[{"$f":"+'Sjekkliste noter'!A617","v":409},{"$f":"IF('Sjekkliste noter'!G617<>\"\",1,0)","v":0},0,{"$f":"IF($C409=1,'Sjekkliste noter'!A617,\"\")","v":""},{"$f":"IF($C409=1,'Sjekkliste noter'!B617,\"\")","v":""},null,{"$f":"IF($C409=1,'Sjekkliste noter'!H617,\"\")","v":""}]
[{"$f":"+'Sjekkliste noter'!A618","v":410},{"$f":"IF('Sjekkliste noter'!G618<>\"\",1,0)","v":0},0,{"$f":"IF($C410=1,'Sjekkliste noter'!A618,\"\")","v":""},{"$f":"IF($C410=1,'Sjekkliste noter'!B618,\"\")","v":""},null,{"$f":"IF($C410=1,'Sjekkliste noter'!H618,\"\")","v":""}]
[{"$f":"+'Sjekkliste noter'!A619","v":411},{"$f":"IF('Sjekkliste noter'!G619<>\"\",1,0)","v":0},0,{"$f":"IF($C411=1,'Sjekkliste noter'!A619,\"\")","v":""},{"$f":"IF($C411=1,'Sjekkliste noter'!B619,\"\")","v":""},null,{"$f":"IF($C411=1,'Sjekkliste noter'!H619,\"\")","v":""}]
[{"$f":"+'Sjekkliste noter'!A620","v":412},{"$f":"IF('Sjekkliste noter'!G620<>\"\",1,0)","v":0},0,{"$f":"IF($C412=1,'Sjekkliste noter'!A620,\"\")","v":""},{"$f":"IF($C412=1,'Sjekkliste noter'!B620,\"\")","v":""},null,{"$f":"IF($C412=1,'Sjekkliste noter'!H620,\"\")","v":""}]
[{"$f":"+'Sjekkliste noter'!A621","v":413},{"$f":"IF('Sjekkliste noter'!G621<>\"\",1,0)","v":0},0,{"$f":"IF($C413=1,'Sjekkliste noter'!A621,\"\")","v":""},{"$f":"IF($C413=1,'Sjekkliste noter'!B621,\"\")","v":""},null,{"$f":"IF($C413=1,'Sjekkliste noter'!H621,\"\")","v":""}]
[{"$f":"+'Sjekkliste noter'!A622","v":414},{"$f":"IF('Sjekkliste noter'!G622<>\"\",1,0)","v":0},0,{"$f":"IF($C414=1,'Sjekkliste noter'!A622,\"\")","v":""},{"$f":"IF($C414=1,'Sjekkliste noter'!B622,\"\")","v":""},null,{"$f":"IF($C414=1,'Sjekkliste noter'!H622,\"\")","v":""}]
[{"$f":"+'Sjekkliste noter'!A623","v":415},{"$f":"IF('Sjekkliste noter'!G623<>\"\",1,0)","v":0},0,{"$f":"IF($C415=1,'Sjekkliste noter'!A623,\"\")","v":""},{"$f":"IF($C415=1,'Sjekkliste noter'!B623,\"\")","v":""},null,{"$f":"IF($C415=1,'Sjekkliste noter'!H623,\"\")","v":""}]
[{"$f":"+'Sjekkliste noter'!A624","v":416},{"$f":"IF('Sjekkliste noter'!G624<>\"\",1,0)","v":0},0,{"$f":"IF($C416=1,'Sjekkliste noter'!A624,\"\")","v":""},{"$f":"IF($C416=1,'Sjekkliste noter'!B624,\"\")","v":""},null,{"$f":"IF($C416=1,'Sjekkliste noter'!H624,\"\")","v":""}]
[{"$f":"+'Sjekkliste noter'!A625","v":417},{"$f":"IF('Sjekkliste noter'!G625<>\"\",1,0)","v":0},0,{"$f":"IF($C417=1,'Sjekkliste noter'!A625,\"\")","v":""},{"$f":"IF($C417=1,'Sjekkliste noter'!B625,\"\")","v":""},null,{"$f":"IF($C417=1,'Sjekkliste noter'!H625,\"\")","v":""}]
[{"$f":"+'Sjekkliste noter'!A626","v":418},{"$f":"IF('Sjekkliste noter'!G626<>\"\",1,0)","v":0},0,{"$f":"IF($C418=1,'Sjekkliste noter'!A626,\"\")","v":""},{"$f":"IF($C418=1,'Sjekkliste noter'!B626,\"\")","v":""},null,{"$f":"IF($C418=1,'Sjekkliste noter'!H626,\"\")","v":""}]
[{"$f":"+'Sjekkliste noter'!A627","v":419},{"$f":"IF('Sjekkliste noter'!G627<>\"\",1,0)","v":0},0,{"$f":"IF($C419=1,'Sjekkliste noter'!A627,\"\")","v":""},{"$f":"IF($C419=1,'Sjekkliste noter'!B627,\"\")","v":""},null,{"$f":"IF($C419=1,'Sjekkliste noter'!H627,\"\")","v":""}]
[{"$f":"+'Sjekkliste noter'!A628","v":420},{"$f":"IF('Sjekkliste noter'!G628<>\"\",1,0)","v":0},0,{"$f":"IF($C420=1,'Sjekkliste noter'!A628,\"\")","v":""},{"$f":"IF($C420=1,'Sjekkliste noter'!B628,\"\")","v":""},null,{"$f":"IF($C420=1,'Sjekkliste noter'!H628,\"\")","v":""}]
[{"$f":"+'Sjekkliste noter'!A631","v":421},{"$f":"IF('Sjekkliste noter'!G631<>\"\",1,0)","v":0},0,{"$f":"IF($C421=1,'Sjekkliste noter'!A631,\"\")","v":""},{"$f":"IF($C421=1,'Sjekkliste noter'!B631,\"\")","v":""},null,{"$f":"IF($C421=1,'Sjekkliste noter'!H631,\"\")","v":""}]
[{"$f":"+'Sjekkliste noter'!A632","v":422},{"$f":"IF('Sjekkliste noter'!G632<>\"\",1,0)","v":0},0,{"$f":"IF($C422=1,'Sjekkliste noter'!A632,\"\")","v":""},{"$f":"IF($C422=1,'Sjekkliste noter'!B632,\"\")","v":""},null,{"$f":"IF($C422=1,'Sjekkliste noter'!H632,\"\")","v":""}]
[{"$f":"+'Sjekkliste noter'!A633","v":423},{"$f":"IF('Sjekkliste noter'!G633<>\"\",1,0)","v":0},0,{"$f":"IF($C423=1,'Sjekkliste noter'!A633,\"\")","v":""},{"$f":"IF($C423=1,'Sjekkliste noter'!B633,\"\")","v":""},null,{"$f":"IF($C423=1,'Sjekkliste noter'!H633,\"\")","v":""}]
[{"$f":"+'Sjekkliste noter'!A635","v":424},{"$f":"IF('Sjekkliste noter'!G635<>\"\",1,0)","v":0},0,{"$f":"IF($C424=1,'Sjekkliste noter'!A635,\"\")","v":""},{"$f":"IF($C424=1,'Sjekkliste noter'!B635,\"\")","v":""},null,{"$f":"IF($C424=1,'Sjekkliste noter'!H635,\"\")","v":""}]
[{"$f":"+'Sjekkliste noter'!A636","v":425},{"$f":"IF('Sjekkliste noter'!G636<>\"\",1,0)","v":0},0,{"$f":"IF($C425=1,'Sjekkliste noter'!A636,\"\")","v":""},{"$f":"IF($C425=1,'Sjekkliste noter'!B636,\"\")","v":""},null,{"$f":"IF($C425=1,'Sjekkliste noter'!H636,\"\")","v":""}]
[{"$f":"+'Sjekkliste noter'!A637","v":426},{"$f":"IF('Sjekkliste noter'!G637<>\"\",1,0)","v":0},0,{"$f":"IF($C426=1,'Sjekkliste noter'!A637,\"\")","v":""},{"$f":"IF($C426=1,'Sjekkliste noter'!B637,\"\")","v":""},null,{"$f":"IF($C426=1,'Sjekkliste noter'!H637,\"\")","v":""}]
[{"$f":"+'Sjekkliste noter'!A638","v":427},{"$f":"IF('Sjekkliste noter'!G638<>\"\",1,0)","v":0},0,{"$f":"IF($C427=1,'Sjekkliste noter'!A638,\"\")","v":""},{"$f":"IF($C427=1,'Sjekkliste noter'!B638,\"\")","v":""},null,{"$f":"IF($C427=1,'Sjekkliste noter'!H638,\"\")","v":""}]
[{"$f":"+'Sjekkliste noter'!A640","v":428},{"$f":"IF('Sjekkliste noter'!G640<>\"\",1,0)","v":0},0,{"$f":"IF($C428=1,'Sjekkliste noter'!A640,\"\")","v":""},{"$f":"IF($C428=1,'Sjekkliste noter'!B640,\"\")","v":""},null,{"$f":"IF($C428=1,'Sjekkliste noter'!H640,\"\")","v":""}]
[{"$f":"+'Sjekkliste noter'!A641","v":429},{"$f":"IF('Sjekkliste noter'!G641<>\"\",1,0)","v":0},0,{"$f":"IF($C429=1,'Sjekkliste noter'!A641,\"\")","v":""},{"$f":"IF($C429=1,'Sjekkliste noter'!B641,\"\")","v":""},null,{"$f":"IF($C429=1,'Sjekkliste noter'!H641,\"\")","v":""}]
[{"$f":"+'Sjekkliste noter'!A642","v":430},{"$f":"IF('Sjekkliste noter'!G642<>\"\",1,0)","v":0},0,{"$f":"IF($C430=1,'Sjekkliste noter'!A642,\"\")","v":""},{"$f":"IF($C430=1,'Sjekkliste noter'!B642,\"\")","v":""},null,{"$f":"IF($C430=1,'Sjekkliste noter'!H642,\"\")","v":""}]
[{"$f":"+'Sjekkliste noter'!A643","v":431},{"$f":"IF('Sjekkliste noter'!G643<>\"\",1,0)","v":0},0,{"$f":"IF($C431=1,'Sjekkliste noter'!A643,\"\")","v":""},{"$f":"IF($C431=1,'Sjekkliste noter'!B643,\"\")","v":""},null,{"$f":"IF($C431=1,'Sjekkliste noter'!H643,\"\")","v":""}]
[{"$f":"+'Sjekkliste noter'!A644","v":432},{"$f":"IF('Sjekkliste noter'!G644<>\"\",1,0)","v":0},0,{"$f":"IF($C432=1,'Sjekkliste noter'!A644,\"\")","v":""},{"$f":"IF($C432=1,'Sjekkliste noter'!B644,\"\")","v":""},null,{"$f":"IF($C432=1,'Sjekkliste noter'!H644,\"\")","v":""}]
[{"$f":"+'Sjekkliste noter'!A645","v":433},{"$f":"IF('Sjekkliste noter'!G645<>\"\",1,0)","v":0},0,{"$f":"IF($C433=1,'Sjekkliste noter'!A645,\"\")","v":""},{"$f":"IF($C433=1,'Sjekkliste noter'!B645,\"\")","v":""},null,{"$f":"IF($C433=1,'Sjekkliste noter'!H645,\"\")","v":""}]

{"sheet":"Sjekkliste formelle forhold","index":9,"n_rows":110,"n_cols":11,"rows_kept":110,"cut":false,"hidden":false,"merged":[[4,0,5,7],[48,7,49,7],[51,0,52,0],[51,1,52,1],[51,4,52,4],[51,5,52,5],[51,6,52,6],[51,7,52,7],[48,0,49,0],[48,1,49,1],[48,4,49,4],[48,5,49,5],[48,6,49,6],[60,4,66,4],[60,5,66,5],[60,6,66,6],[60,7,66,7],[67,0,68,0],[67,1,68,1],[67,4,68,4],[67,5,68,5],[67,6,68,6],[67,7,68,7],[74,7,75,7],[69,0,70,0],[69,1,70,1],[69,4,70,4],[69,5,70,5],[69,6,70,6],[69,7,70,7],[74,0,75,0],[74,1,75,1],[74,4,75,4],[74,5,75,5],[74,6,75,6]]}
["Formelle forhold i årsregnskapet - øvrige foretak",null,null,"Utfylt:"]
["Klient:",null,null,"Review:",null,null,null,null,null,"Ikke besvart:",{"$f":"+Forside!B10","v":0}]
["År:",{"$f":"+Forside!B3","v":2021},null,null,null,null,null,null,null,"Ja-svar:",{"$f":"+Forside!C10","v":0}]
[null,"Spørsmål","Ref. ","Ekskludering:","Ja","Nei","I/A","Kommentar",null,"Nei-svar:",{"$f":"+Forside!D10","v":0}]
["Enkelte selskaper har tilleggskrav ihht regnskapsloven eller forskrifter til regnskapsloven, disse fremgår nederst i denne sjekklisten. \nVær oppmerksom på at denne sjekklisten ikke skal brukes på pensjonsforetak, bank og forsikring, det er utarbeidet separate sjekklister for disse bransjene. ",null,null,null,null,null,null,null,null,"IA-svar:",{"$f":"+Forside!E10","v":64}]
[null,null,null,null,null,null,null,null,null,"Sum:",{"$f":"SUM(K2:K5)","v":64}]
["Generelt"]
[null,"Inneholder årsregnskapet","rskl § 3-2"]
[1,"resultatregnskap",null,null,null,null,null,null,null,{"$f":"IF(F9<>\"\",\"Du har satt X for at forholdet ikke er avklart. Gi en nærmere foklaring i kommentarfeltet.\",\"\")","v":""}]
[{"$f":"1+A9","v":2},"balanse",null,null,null,null,null,null,null,{"$f":"IF(F10<>\"\",\"Du har satt X for at forholdet ikke er avklart. Gi en nærmere foklaring i kommentarfeltet.\",\"\")","v":""}]
[3,"noter",null,null,null,null,null,null,null,""]
[4,"kontantstrømoppstilling",null,null,null,null,null,null,null,""]
[5,"eventuelt konsernregnskap",null,null,null,null,null,null,null,""]
[6,"eventuelt en egen oppstilling over endringer i egenkapitalen",null,null,null,null,null,null,null,""]
[7,"Er det gitt referanser til noteopplysninger fra resultatregnskap og balanse?",null,null,null,null,null,null,null,""]
[null,"Regnskapspliktige som er utstedere med Norge som hjemstat etter verdipapirhandelloven § 5-4 og med verdipapirer notert på regulert marked, skal i årsberetningen eller i dokument som det er henvist til i årsberetningen, redegjøre for sine prinsipper og praksis vedrørende foretaksstyring. Plikten til å redegjøre for foretaksstyring gjelder tilsvarende dersom aksjene i et ASA er notert på en autorisert markedsplass utenfor EØS-området."]
[{"$f":"+A15+1","v":8},"For regnskapspliktige som er pliktige til å redegjøre for sine prinsipper og praksis vedrørende foretaksstyring, er det redegjort for dette i årsberetningen, evt henvist til eget dokument?\nFor krav til innhold i redegjørelsen, se sjekkliste for årsberetning.","rskl § 3-3b"]
[null,"Store foretak skal i årsberetningen eller i dokument som det er henvist til i årsberetningen, redegjøre for hva foretaket gjør for å integrere hensynet til menneskerettigheter, arbeidstakerrettigheter og sosiale forhold, det ytre miljø og bekjempelse av korrupsjon i sine forretningsstrategier, i sin daglige drift og i forholdet til sine interessenter (redegjørelse om samfunnsansvar).","rskl § 3-3c, 3. ledd\n"]
[{"$f":"+A17+1","v":9},"For regnskapspliktige som er pliktige til å redegjøre for hvordan foretaket ivaretar sitt samfunnsansvar, er det redegjort for dette i årsberetningen, evt henvist til eget dokument?\nFor krav til innhold i redegjørelsen, se sjekkliste for årsberetning.","rskl § 3-3c"]
["Valuta og språk"]
[{"$f":"+A19+1","v":10},"Er regnskapsvalutaen norske kroner, alternativt den funksjonelle valutaen?","rskl § 3-4",null,null,null,null,null,null,""]
[{"$f":"+A21+1","v":11},"Er årsregnskapet presentert i norske kroner, euro, eller den funksjonelle valutaen?",null,null,null,null,null,null,null,""]
[{"$f":"+A22+1","v":12},"Er årsregnskapet og årsberetningen på norsk?",null,null,null,null,null,null,null,""]
["Sammenligning med foregående årsregnskap"]
[null,"Etter hovedregelen i rskl skal tallene omarbeides for å bli sammenlignbare, med mindre annet følger av god regnskapsskikk. ","rskl § 6-6 "]
[{"$f":"+A23+1","v":13},"Er det vist tilsvarende tall fra foregående årsregnskap?","rskl § 6-6 ",null,null,null,null,null,null,{"$f":"IF(F26<>\"\",\"Du har satt X for at forholdet ikke er avklart. Gi en nærmere foklaring i kommentarfeltet.\",\"\")","v":""}]
[{"$f":"+A26+1","v":14},"Er sammenligningstallene omarbeidet i nødvendig grad for å bli sammenlignbare?","rskl § 6-6 ",null,null,null,null,null,null,{"$f":"IF(F27<>\"\",\"Du har satt X for at forholdet ikke er avklart. Gi en nærmere foklaring i kommentarfeltet.\",\"\")","v":""}]
[{"$f":"+A27+1","v":15},"Ved prinsippendring, er sammenligningstallene omarbeidet, såfremt det ikke er mulig å foreta omarbeidelse uten for store kostnader og det heller ikke er vesentlig i forhold til forståelsen av selskapets inntjeningsevne?","NRS 5 pkt 5"]
[{"$f":"+A28+1","v":16},"Dersom feil i tidligere årsregnskap er ført mot egenkapitalen, er sammenligningstallene omarbeidet?","NRS 5 pkt 6"]
["Oppdeling eller sammenslåing av poster"]
[null,"Regnskapsposter skal om nødvendig oppdeles eller tilføyes. ","rskl § 6-3"]
[null,"Dette kan for eksempel gjelde lån fra aksjonær."]
[{"$f":"+A29+1","v":17},"Er det foretatt en ytterligere oppdeling av resultatregnskap og balanse eller tilføyelse av poster der foretakets forhold tilsier det?","rskl § 6-3",null,null,null,null,null,null,""]
[null,"Poster skal slås sammen hvis sammenslåingen fører til et mer oversiktlig årsregnskap, med følgende unntak:","rskl § 6-3"]
[null,"Bare linjer innenfor hvert romertall kan slås sammen, og linjer kan ikke slås sammen på tvers av romertall"]
[null,"Egenkapitalposter kan ikke slås sammen"]
[{"$f":"+A33+1","v":18},"Er poster slått sammen i resultatregnskap og balanse hvis sammenslåingen fører til et mer oversiktlig årsregnskap?","rskl § 6-3",null,null,null,null,null,null,""]
[{"$f":"+A37+1","v":19},"Er poster i oppstillingsplanen for resultatregnskapet som er slått sammen spesifisert i note?","rskl § 7-38",null,null,null,null,null,null,""]
["Underskrift"]
[{"$f":"+A38+1","v":20},"Er årsregnskapet underskrevet av samtlige styremedlemmer og eventuelt av daglig leder, alternativt av deltakerne eller medlemmene hvis foretaket ikke har styre eller daglig leder?","rskl § 3-5",null,null,null,null,null,null,""]
[{"$f":"+A40+1","v":21},"Dersom den som skal underskrive har innvendinger mot årsregnskapet, har vedkommende underskrevet med påtegnet forbehold og gitt nærmere redegjørelse i årsberetningen?","rskl § 3-5",null,null,null,null,null,null,""]
[{"$f":"+A41+1","v":22},"Er årsregnskapet fastsatt senest seks måneder etter regnskapsårets utløp?","rskl § 3-1",null,null,null,null,null,null,""]
["Resultatregnskapet"]
[{"$f":"+A42+1","v":23},"Er resultatregnskapet satt opp i henhold til regnskapslovens oppstillingsplan, evt. egen oppstillingsplan etter særforskrifter?","rskl § 6-1",null,null,null,null,null,null,""]
[{"$f":"+A44+1","v":24},"Hvis driftskostnadene er inndelt etter funksjon, er da artsinndeling vist i note?","rskl § 7-8b",null,null,null,null,null,null,""]
[{"$f":"+A45+1","v":25},"Er det påsett at regnskapet ikke inneholder ekstraordinære poster?","NRS 5 pkt 3 Særlige poster"]
[{"$f":"+A46+1","v":26},"Dersom det foreligger særlige poster, er disse spesifisert og benevnt etter inntektens eller kostnadens innhold?","NRS 5 pkt 3 Særlige poster"]
[null,"Resultatdisponering"]
[{"$f":"+A47+1","v":27},"Står forslag til anvendelse av overskudd eller dekning av tap i tilknytning til resultatregnskapet, i eventuell oppstilling over endringer i egenkapitalen, i noter eller årsberetning?","rskl § 3-3a, 8. ledd",null,null,null,null,null,null,""]
[null,null,"og § 7-25"]
[{"$f":"+A49+1","v":28},"Hvis det er delt ut tilleggsutbytte eller ekstraordinært utbytte som er regnskapsført i uttaksåret, er det da gitt opplysning om dette utbyttet sammen med disponeringen av årets resultat?","NRS 8 pkt 5.3.1",null,null,null,null,null,null,""]
[{"$f":"+A51+1","v":29},"Er det gitt opplysning i årsregnskap eller årsberetning om konsernbidrag fra morselskap til datterselskap som er ført som investering i morselskapets regnskap?","asl. § 8-5",null,null,null,null,null,null,""]
[null,null,"og § 8-2"]
["Balansen"]
[{"$f":"+A52+1","v":30},"Er balansen spesifisert i henhold til regnskapslovens oppstillingsplan, evt.etter likviditet, dersom dette gir mer relevante og pålitelige opplysninger?","rskl § 6-2",null,null,null,null,null,null,""]
[{"$f":"+A55+1","v":31},"Er eiendeler bestemt til varig eie eller bruk, og fordringer som ikke skal tilbakebetales innen ett år, klassifisert som anleggsmidler, og øvrige eiendeler klassifisert som omløpsmidler?","rskl § 5-1",null,null,null,null,null,null,""]
[null,"Beholding av egne aksjer: Pålydende på egne aksjer skal enten føres på en egen linje under aksjekapital, eller trekkes ut av linjen for aksjekapital. Dersom man velger å trekke det ut av linjen for aksjekapital skal dette spesifiseres i note. Evt. overskytende beløp skal føres mot annen egenkapital. Dersom kjøpesummen er lavere enn pålydende skal differansen føres på linjen for annen innskutt egenkapital."]
[{"$f":"+A56+1","v":32},"Er eventuell beholdning av egne aksjer ført opp i samsvar med regnskapslovens krav?","rskl § 6-2, 2. ledd.",null,null,null,null,null,null,""]
[{"$f":"+A58+1","v":33},"Inngår tilleggsutbytte eller ekstraordinært utbytte som er besluttet før balansedagen, og som står ubetalt på balansedagen, i kortsiktig gjeld?","NRS 8 pkt 6.2.1.7.1"]
["Konsernregnskap",null,null,null,null,null,null,null,null,""]
[{"$f":"+A59+1","v":34},"Dersom konsernregnskap ikke er utarbeidet ihht rskl § 3-7, er alle krav oppfylt:","rskl § 3-7",null,null,null,null,null,null,""]
[null,"* morselskapet er datterselskap av selskap hjemmehørende i EØS-land, og",null,null,null,null,null,null,null,""]
[null,"* underkonsernet inngår i morselskapets konsernregskap, og",null,null,null,null,null,null,null,""]
[null,"* konsernregnskapet er utarbeidet og revidert i henhold til reglene i dette landet, og",null,null,null,null,null,null,null,""]
[null,"* konsernregnskapet er på norsk, svensk, dansk eller engelsk, og",null,null,null,null,null,null,null,""]
[null,"* minoriteter (mellom 0 og 10% av stemmene) ikke har bedt om konsernregnskap, og",null,null,null,null,null,null,null,""]
[null,"* selskapet ikke har aksjer, grunnfondsbevis eller obligasjoner notert på børs eller lignende?",null,null,null,null,null,null,null,""]
[{"$f":"+A61+1","v":35},"Er midlertidige investeringer som holdes i påvente av salg holdt utenfor konsolidering? \nMidlertidig eie foreligger når morselskapet allerede på oppkjøpstidspunktet har intensjoner om, eller er forpliktet til, å avhende datterselskapet innen kort tid.","rskl § 3-8",null,null,null,null,null,null,""]
[null,null,"NRS 17 Virksomhets-kjøp og konsern-regnskap"]
[{"$f":"+A68+1","v":36},"Dersom andre datterselskaper er holdt utenfor konsolideringen, er utelatelsen uten betydning for å vurdere konsernets resultat og stilling?","rskl § 3-8",null,null,null,null,null,null,""]
[null,null,"NRS 17 Virksomhets-kjøp og konsern-regnskap"]
[{"$f":"+A70+1","v":37},"Er eventuelle minoritetsinteresser ført opp under egenkapital i balansen og som fradrag i årsresultatet i resultatregnskapet; slik at regnskapet viser årsresultat før og etter minoritetsinteresser?","rskl § 6-5",null,null,null,null,null,null,""]
[{"$f":"+A72+1","v":38},"Bygger konsernregnskapet på de konsoliderte selskapenes selskapsregnskap? ","rskl § 3-6",null,null,null,null,null,null,""]
[{"$f":"+A73+1","v":39},"Dersom datterselskap ikke benytter samme prinsipper som konsernet, er disse regnskapene da omarbeidet for konsolideringsformål?","rskl § 3-6",null,null,null,null,null,null,""]
[{"$f":"+A74+1","v":40},"Dersom datterselskap har et annet regnskapsår enn morselskapet, bygger da konsernregnskapet på et delårsregnskap som er avgitt ved regnskapsårets slutt (eventuelt max 3 mnd +/- med tillegg for vesentlige transaksjoner)?","rskl § 3-7 ",null,null,null,null,null,null,""]
[null,null,"NRS 17 Virksomhets-kjøp og konsern-regnskap"]
["Tilleggskrav for borettslag"]
[null,"Borettslag kan opplyse om regnskapsårets og etterfølgende års budsjettall i tillegg til sammenligningstall og i oppstillingen over disponible midler."]
[{"$f":"+A75+1","v":41},"Er det utarbeidet en egen oppstilling over disponible midler og endringer i disse? (kan evt. gjøres i note)","Forskrift om årsregnskap og årsberetning for borettslag § 2"]
["Tilleggskrav for betalingsforetak"]
[{"$f":"+A79+1","v":42},"Dersom foretaket driver andre forretningsaktiviteter enn betalingstjenester, er regnskapet for betalingstjenestevirksomheten fremstilt separat?","Finansforetaksforskriften § 2-6"]
["Tilleggskrav for e-pengeforetak"]
[{"$f":"+A81+1","v":43},"Dersom foretaket driver andre forretningsaktiviteter enn betalingstjenester og e-pengevirksomhet, er regnskapet for betalingstjenestevirksomheten/e-pengevirksomheten fremstilt separat?","Finansforetaksforskriften § 2-10"]
["Tilleggskrav for eiendomsmeglere"]
[{"$f":"+A83+1","v":44},"Er det påsett at klientmidler ikke er oppført i selskapets balanse?","Forskrift om årsregnskap for eiendomsmeglere § 2"]
["Tilleggskrav for inkassovirksomhet"]
[{"$f":"+A85+1","v":45},"Er inntekter fra inkassosaker presentert på egen linje under salgsinntekter?","Forskrift om årsregnskap for inkassovirksomhet § 3-1"]
[{"$f":"+A87+1","v":46},"Er opptjente, ikke fakturerte inntekter fra inkassosaker presentert på egen linje i balansen under kundefordringer som opptjente, ikke fakturerte inkassosaker?","§ 3-2"]
[{"$f":"+A88+1","v":47},"Dersom mottatt betaling fra inkassosaken overstiger opptjent inntekt fra inkassosaken, er det overskytende presentert i balansen på egen linje som mottatte, ikke opptjente inkassoinntekter under kortsiktig gjeld?","§ 3-3"]
[48,"Er det påsett at klientmidler ikke er oppført i selskapets balanse?","§ 3-4"]
[49,"Er utlegg som inkassovirksomheten har på vegne av oppdragsgiver presentert på egen linje under andre fordringer?","§ 3-5"]
["Tilleggskrav for verdipapirforetak, forvaltningsselskap og AIF-forvaltere med tillatelse"]
[{"$f":"+A91+1","v":50},"Resultatregnskap etter art: Er annen driftskostnad oppdelt i tap på fordringer og annen driftskostnad?","F 23.08.1999 nr 957 kap 4"]
[{"$f":"+A93+1","v":51},"Resultatregnskap etter funksjon: Er kostnad solgte tjenester oppdelt i tap på fordringer og kostnad solgte tjenester?"]
[{"$f":"+A94+1","v":52},"Balanse: Er fordringer oppdelt i følgende poster:\n- Kundefordringer \n- Fordringer på verdipapirforetak\n- Andre fordringer\n- Krav på innbetaling av selskapskapital"]
[53,"Er beholdning av egne aksjer ført opp til pålydende på egen linje under poster selskapskapital?"]
[54,"Balanse: Er kortsiktig gjeld oppdelt i følgende poster:\n- Konvertible lån\n- Sertifikatlån\n- Gjeld til kredittinstitusjoner\n- Gjeld til verdipapirforetak\n- Gjeld til kunder\n- Leverandørgjeld\n- Betalbar skatt\n- Skyldige offentlige avgifter\n- Utbytte\n- Annen kortsiktig gjeld"]
[{"$f":"+A97+1","v":55},"Er det påsett at finansielle instrumenter og andre midler som oppbevares av verdipapirforetaket, men som tilhører investorene (klientmidler), ikke er oppført i verdipapirforetakets balanse?"]
[{"$f":"+A98+1","v":56},"Dersom klientmidlene overstiger klientansvaret (klientgjelden), er det overskytende oppført i verdipapirforetakets balanse som eiendel?"]
[57,"Dersom klientansvaret (klientgjelden) overstiger klientmidlene, er underdekningen oppført i verdipapirforetakets balanse som kortsiktig gjeld?"]
[{"$f":"+A100+1","v":58},"Er det påsett at eiendeler og gjeld ikke er nettoført, med mindre det foreligger en juridisk rett til å motregne postene?"]
["Tilleggskrav for verdipapirfond"]
[null,"Verdipapirfond er ikke pliktig til å utarbeide kontantstrømoppstilling.","F 28.05.1999 nr 654 kap 4"]
[null,"Regnskapslovens bestemmelser om oppstillingsplan i rskl § 6-1 gjelder ikke for verdipapirfond."]
[{"$f":"+A101+1","v":59},"Er resultatregnskapet satt opp etter oppstillingsplan i forskriftens § 4-1, 1. ledd?"]
[{"$f":"+A105+1","v":60},"Er det i tilknytning til resultatregnskapet gitt følgende opplysninger om anvendelse av årsresultat/dekning av tap:\n1. Netto utdelt til andelseiere i året\n2. Avsatt til utdeling til andelseiere\n3. Overført til/fra opptjent egenkapital"]
[{"$f":"+A106+1","v":61},"Er balansen satt opp etter oppstillingsplan i forskriftens § 4-2, 1. ledd?"]
[{"$f":"+A107+1","v":62},"Er verdipapirporteføljen spesifisert på de ulike kategorier finansielle instrumenter?"]
[{"$f":"+A108+1","v":63},"Er det i tilknytning til balansen opplyst om garantiforpliktelser?"]
[{"$f":"+A109+1","v":64},"Er posten Annen gjeld oppdelt dersom verdipapirfondets forhold tilsier det?"]

{"sheet":"F_Ubesv.","index":10,"n_rows":33,"n_cols":4,"rows_kept":33,"cut":false,"hidden":true,"merged":[]}
["Ubesvart",{"$f":"+Forside!B2","v":0},{"$f":"+Forside!B3","v":2021},"Kommentarer"]
[1,"resultatregnskap"]
[2,"balanse"]
[3,"noter"]
[4,"kontantstrømoppstilling"]
[5,"eventuelt konsernregnskap"]
[6,"eventuelt en egen oppstilling over endringer i egenkapitalen"]
[7,"Er det gitt referanser til noteopplysninger fra resultatregnskap og balanse?"]
[8,"For regnskapspliktige som er pliktige til å redegjøre for sine prinsipper og praksis vedrørende foretaksstyring, er det redegjort for dette i årsberetningen, evt henvist til eget dokument?\nFor krav til innhold i redegjørelsen, se sjekkliste for årsberetning."]
[10,"Er regnskapsvalutaen norske kroner, alternativt den funksjonelle valutaen?"]
[11,"Er årsregnskapet presentert i norske kroner, euro, eller den funksjonelle valutaen?"]
[12,"Er årsregnskapet og årsberetningen på norsk?"]
[13,"Er det vist tilsvarende tall fra foregående årsregnskap?"]
[14,"Er sammenligningstallene omarbeidet i nødvendig grad for å bli sammenlignbare?"]
[15,"Ved prinsippendring, er sammenligningstallene omarbeidet, såfremt det ikke er mulig å foreta omarbeidelse uten for store kostnader og det heller ikke er vesentlig i forhold til forståelsen av selskapets inntjeningsevne?"]
[16,"Dersom feil i tidligere årsregnskap er ført mot egenkapitalen, er sammenligningstallene omarbeidet?"]
[17,"Er det foretatt en ytterligere oppdeling av resultatregnskap og balanse eller tilføyelse av poster der foretakets forhold tilsier det?"]
[18,"Er poster slått sammen i resultatregnskap og balanse hvis sammenslåingen fører til et mer oversiktlig årsregnskap?"]
[19,"Er poster i oppstillingsplanen for resultatregnskapet som er slått sammen spesifisert i note?"]
[20,"Er årsregnskapet underskrevet av samtlige styremedlemmer og eventuelt av daglig leder, alternativt av deltakerne eller medlemmene hvis foretaket ikke har styre eller daglig leder?"]
[21,"Dersom den som skal underskrive har innvendinger mot årsregnskapet, har vedkommende underskrevet med påtegnet forbehold og gitt nærmere redegjørelse i årsberetningen?"]
[22,"Er årsregnskapet fastsatt senest seks måneder etter regnskapsårets utløp?"]
[23,"Er resultatregnskapet satt opp i henhold til regnskapslovens oppstillingsplan, evt. egen oppstillingsplan etter særforskrifter?"]
[24,"Hvis driftskostnadene er inndelt etter funksjon, er da artsinndeling vist i note?"]
[25,"Er det påsett at regnskapet ikke inneholder ekstraordinære poster?"]
[26,"Dersom det foreligger særlige poster, er disse spesifisert og benevnt etter inntektens eller kostnadens innhold?"]
[27,"Står forslag til anvendelse av overskudd eller dekning av tap i tilknytning til resultatregnskapet, i eventuell oppstilling over endringer i egenkapitalen, i noter eller årsberetning?"]
[28,"Hvis det er delt ut tilleggsutbytte eller ekstraordinært utbytte som er regnskapsført i uttaksåret, er det da gitt opplysning om dette utbyttet sammen med disponeringen av årets resultat?"]
[29,"Er det gitt opplysning i årsregnskap eller årsberetning om konsernbidrag fra morselskap til datterselskap som er ført som investering i morselskapets regnskap?"]
[30,"Er balansen spesifisert i henhold til regnskapslovens oppstillingsplan, evt.etter likviditet, dersom dette gir mer relevante og pålitelige opplysninger?"]
[31,"Er eiendeler bestemt til varig eie eller bruk, og fordringer som ikke skal tilbakebetales innen ett år, klassifisert som anleggsmidler, og øvrige eiendeler klassifisert som omløpsmidler?"]
[32,"Er eventuell beholdning av egne aksjer ført opp i samsvar med regnskapslovens krav?"]
[33,"Inngår tilleggsutbytte eller ekstraordinært utbytte som er besluttet før balansedagen, og som står ubetalt på balansedagen, i kortsiktig gjeld?"]

{"sheet":"F_Ja","index":11,"n_rows":65,"n_cols":7,"rows_kept":65,"cut":false,"hidden":true,"merged":[]}
[null,null,{"$f":"COUNTIF(C2:C7,\"=1\")","v":0},"Ja-svar",0,2018,"Kommentarer"]
[{"$f":"+'Sjekkliste formelle forhold'!A9","v":1},{"$f":"IF('Sjekkliste formelle forhold'!E9<>\"\",1,0)","v":0},{"$f":"SUM(B2:B2)","v":0},{"$f":"IF($C2=1,'Sjekkliste formelle forhold'!A9,\"\")","v":""},{"$f":"IF($C2=1,'Sjekkliste formelle forhold'!B9,\"\")","v":""},null,{"$f":"IF($C2=1,'Sjekkliste formelle forhold'!H9,\"\")","v":""}]
[{"$f":"+'Sjekkliste formelle forhold'!A10","v":2},{"$f":"IF('Sjekkliste formelle forhold'!E10<>\"\",1,0)","v":0},0,{"$f":"IF($C3=1,'Sjekkliste formelle forhold'!A10,\"\")","v":""},{"$f":"IF($C3=1,'Sjekkliste formelle forhold'!B10,\"\")","v":""},null,{"$f":"IF($C3=1,'Sjekkliste formelle forhold'!H10,\"\")","v":""}]
[{"$f":"+'Sjekkliste formelle forhold'!A11","v":3},{"$f":"IF('Sjekkliste formelle forhold'!E11<>\"\",1,0)","v":0},0,{"$f":"IF($C4=1,'Sjekkliste formelle forhold'!A11,\"\")","v":""},{"$f":"IF($C4=1,'Sjekkliste formelle forhold'!B11,\"\")","v":""},null,{"$f":"IF($C4=1,'Sjekkliste formelle forhold'!H11,\"\")","v":""}]
[{"$f":"+'Sjekkliste formelle forhold'!A12","v":4},{"$f":"IF('Sjekkliste formelle forhold'!E12<>\"\",1,0)","v":0},0,{"$f":"IF($C5=1,'Sjekkliste formelle forhold'!A12,\"\")","v":""},{"$f":"IF($C5=1,'Sjekkliste formelle forhold'!B12,\"\")","v":""},null,{"$f":"IF($C5=1,'Sjekkliste formelle forhold'!H12,\"\")","v":""}]
[{"$f":"+'Sjekkliste formelle forhold'!A13","v":5},{"$f":"IF('Sjekkliste formelle forhold'!E13<>\"\",1,0)","v":0},0,{"$f":"IF($C6=1,'Sjekkliste formelle forhold'!A13,\"\")","v":""},{"$f":"IF($C6=1,'Sjekkliste formelle forhold'!B13,\"\")","v":""},null,{"$f":"IF($C6=1,'Sjekkliste formelle forhold'!H13,\"\")","v":""}]
[{"$f":"+'Sjekkliste formelle forhold'!A14","v":6},{"$f":"IF('Sjekkliste formelle forhold'!E14<>\"\",1,0)","v":0},0,{"$f":"IF($C7=1,'Sjekkliste formelle forhold'!A14,\"\")","v":""},{"$f":"IF($C7=1,'Sjekkliste formelle forhold'!B14,\"\")","v":""},null,{"$f":"IF($C7=1,'Sjekkliste formelle forhold'!H14,\"\")","v":""}]
[{"$f":"+'Sjekkliste formelle forhold'!A15","v":7},{"$f":"IF('Sjekkliste formelle forhold'!E15<>\"\",1,0)","v":0},0,{"$f":"IF($C8=1,'Sjekkliste formelle forhold'!A15,\"\")","v":""},{"$f":"IF($C8=1,'Sjekkliste formelle forhold'!B15,\"\")","v":""},null,{"$f":"IF($C8=1,'Sjekkliste formelle forhold'!H15,\"\")","v":""}]
[{"$f":"+'Sjekkliste formelle forhold'!A17","v":8},{"$f":"IF('Sjekkliste formelle forhold'!E17<>\"\",1,0)","v":0},0,{"$f":"IF($C9=1,'Sjekkliste formelle forhold'!A17,\"\")","v":""},{"$f":"IF($C9=1,'Sjekkliste formelle forhold'!B17,\"\")","v":""},null,{"$f":"IF($C9=1,'Sjekkliste formelle forhold'!H17,\"\")","v":""}]
[{"$f":"+'Sjekkliste formelle forhold'!A19","v":9},{"$f":"IF('Sjekkliste formelle forhold'!E19<>\"\",1,0)","v":0},0,{"$f":"IF($C10=1,'Sjekkliste formelle forhold'!A19,\"\")","v":""},{"$f":"IF($C10=1,'Sjekkliste formelle forhold'!B19,\"\")","v":""},null,{"$f":"IF($C10=1,'Sjekkliste formelle forhold'!H19,\"\")","v":""}]
[{"$f":"+'Sjekkliste formelle forhold'!A21","v":10},{"$f":"IF('Sjekkliste formelle forhold'!E21<>\"\",1,0)","v":0},0,{"$f":"IF($C11=1,'Sjekkliste formelle forhold'!A21,\"\")","v":""},{"$f":"IF($C11=1,'Sjekkliste formelle forhold'!B21,\"\")","v":""},null,{"$f":"IF($C11=1,'Sjekkliste formelle forhold'!H21,\"\")","v":""}]
[{"$f":"+'Sjekkliste formelle forhold'!A22","v":11},{"$f":"IF('Sjekkliste formelle forhold'!E22<>\"\",1,0)","v":0},0,{"$f":"IF($C12=1,'Sjekkliste formelle forhold'!A22,\"\")","v":""},{"$f":"IF($C12=1,'Sjekkliste formelle forhold'!B22,\"\")","v":""},null,{"$f":"IF($C12=1,'Sjekkliste formelle forhold'!H22,\"\")","v":""}]
[{"$f":"+'Sjekkliste formelle forhold'!A23","v":12},{"$f":"IF('Sjekkliste formelle forhold'!E23<>\"\",1,0)","v":0},0,{"$f":"IF($C13=1,'Sjekkliste formelle forhold'!A23,\"\")","v":""},{"$f":"IF($C13=1,'Sjekkliste formelle forhold'!B23,\"\")","v":""},null,{"$f":"IF($C13=1,'Sjekkliste formelle forhold'!H23,\"\")","v":""}]
[{"$f":"+'Sjekkliste formelle forhold'!A26","v":13},{"$f":"IF('Sjekkliste formelle forhold'!E26<>\"\",1,0)","v":0},0,{"$f":"IF($C14=1,'Sjekkliste formelle forhold'!A26,\"\")","v":""},{"$f":"IF($C14=1,'Sjekkliste formelle forhold'!B26,\"\")","v":""},null,{"$f":"IF($C14=1,'Sjekkliste formelle forhold'!H26,\"\")","v":""}]
[{"$f":"+'Sjekkliste formelle forhold'!A27","v":14},{"$f":"IF('Sjekkliste formelle forhold'!E27<>\"\",1,0)","v":0},0,{"$f":"IF($C15=1,'Sjekkliste formelle forhold'!A27,\"\")","v":""},{"$f":"IF($C15=1,'Sjekkliste formelle forhold'!B27,\"\")","v":""},null,{"$f":"IF($C15=1,'Sjekkliste formelle forhold'!H27,\"\")","v":""}]
[{"$f":"+'Sjekkliste formelle forhold'!A28","v":15},{"$f":"IF('Sjekkliste formelle forhold'!E28<>\"\",1,0)","v":0},0,{"$f":"IF($C16=1,'Sjekkliste formelle forhold'!A28,\"\")","v":""},{"$f":"IF($C16=1,'Sjekkliste formelle forhold'!B28,\"\")","v":""},null,{"$f":"IF($C16=1,'Sjekkliste formelle forhold'!H28,\"\")","v":""}]
[{"$f":"+'Sjekkliste formelle forhold'!A29","v":16},{"$f":"IF('Sjekkliste formelle forhold'!E29<>\"\",1,0)","v":0},0,{"$f":"IF($C17=1,'Sjekkliste formelle forhold'!A29,\"\")","v":""},{"$f":"IF($C17=1,'Sjekkliste formelle forhold'!B29,\"\")","v":""},null,{"$f":"IF($C17=1,'Sjekkliste formelle forhold'!H29,\"\")","v":""}]
[{"$f":"+'Sjekkliste formelle forhold'!A33","v":17},{"$f":"IF('Sjekkliste formelle forhold'!E33<>\"\",1,0)","v":0},0,{"$f":"IF($C18=1,'Sjekkliste formelle forhold'!A33,\"\")","v":""},{"$f":"IF($C18=1,'Sjekkliste formelle forhold'!B33,\"\")","v":""},null,{"$f":"IF($C18=1,'Sjekkliste formelle forhold'!H33,\"\")","v":""}]
[{"$f":"+'Sjekkliste formelle forhold'!A37","v":18},{"$f":"IF('Sjekkliste formelle forhold'!E37<>\"\",1,0)","v":0},0,{"$f":"IF($C19=1,'Sjekkliste formelle forhold'!A37,\"\")","v":""},{"$f":"IF($C19=1,'Sjekkliste formelle forhold'!B37,\"\")","v":""},null,{"$f":"IF($C19=1,'Sjekkliste formelle forhold'!H37,\"\")","v":""}]
[{"$f":"+'Sjekkliste formelle forhold'!A38","v":19},{"$f":"IF('Sjekkliste formelle forhold'!E38<>\"\",1,0)","v":0},0,{"$f":"IF($C20=1,'Sjekkliste formelle forhold'!A38,\"\")","v":""},{"$f":"IF($C20=1,'Sjekkliste formelle forhold'!B38,\"\")","v":""},null,{"$f":"IF($C20=1,'Sjekkliste formelle forhold'!H38,\"\")","v":""}]
[{"$f":"+'Sjekkliste formelle forhold'!A40","v":20},{"$f":"IF('Sjekkliste formelle forhold'!E40<>\"\",1,0)","v":0},0,{"$f":"IF($C21=1,'Sjekkliste formelle forhold'!A40,\"\")","v":""},{"$f":"IF($C21=1,'Sjekkliste formelle forhold'!B40,\"\")","v":""},null,{"$f":"IF($C21=1,'Sjekkliste formelle forhold'!H40,\"\")","v":""}]
[{"$f":"+'Sjekkliste formelle forhold'!A41","v":21},{"$f":"IF('Sjekkliste formelle forhold'!E41<>\"\",1,0)","v":0},0,{"$f":"IF($C22=1,'Sjekkliste formelle forhold'!A41,\"\")","v":""},{"$f":"IF($C22=1,'Sjekkliste formelle forhold'!B41,\"\")","v":""},null,{"$f":"IF($C22=1,'Sjekkliste formelle forhold'!H41,\"\")","v":""}]
[{"$f":"+'Sjekkliste formelle forhold'!A42","v":22},{"$f":"IF('Sjekkliste formelle forhold'!E42<>\"\",1,0)","v":0},0,{"$f":"IF($C23=1,'Sjekkliste formelle forhold'!A42,\"\")","v":""},{"$f":"IF($C23=1,'Sjekkliste formelle forhold'!B42,\"\")","v":""},null,{"$f":"IF($C23=1,'Sjekkliste formelle forhold'!H42,\"\")","v":""}]
[{"$f":"+'Sjekkliste formelle forhold'!A44","v":23},{"$f":"IF('Sjekkliste formelle forhold'!E44<>\"\",1,0)","v":0},0,{"$f":"IF($C24=1,'Sjekkliste formelle forhold'!A44,\"\")","v":""},{"$f":"IF($C24=1,'Sjekkliste formelle forhold'!B44,\"\")","v":""},null,{"$f":"IF($C24=1,'Sjekkliste formelle forhold'!H44,\"\")","v":""}]
[{"$f":"+'Sjekkliste formelle forhold'!A45","v":24},{"$f":"IF('Sjekkliste formelle forhold'!E45<>\"\",1,0)","v":0},0,{"$f":"IF($C25=1,'Sjekkliste formelle forhold'!A45,\"\")","v":""},{"$f":"IF($C25=1,'Sjekkliste formelle forhold'!B45,\"\")","v":""},null,{"$f":"IF($C25=1,'Sjekkliste formelle forhold'!H45,\"\")","v":""}]
[{"$f":"+'Sjekkliste formelle forhold'!A46","v":25},{"$f":"IF('Sjekkliste formelle forhold'!E46<>\"\",1,0)","v":0},0,{"$f":"IF($C26=1,'Sjekkliste formelle forhold'!A46,\"\")","v":""},{"$f":"IF($C26=1,'Sjekkliste formelle forhold'!B46,\"\")","v":""},null,{"$f":"IF($C26=1,'Sjekkliste formelle forhold'!H46,\"\")","v":""}]
[{"$f":"+'Sjekkliste formelle forhold'!A47","v":26},{"$f":"IF('Sjekkliste formelle forhold'!E47<>\"\",1,0)","v":0},0,{"$f":"IF($C27=1,'Sjekkliste formelle forhold'!A47,\"\")","v":""},{"$f":"IF($C27=1,'Sjekkliste formelle forhold'!B47,\"\")","v":""},null,{"$f":"IF($C27=1,'Sjekkliste formelle forhold'!H47,\"\")","v":""}]
[{"$f":"+'Sjekkliste formelle forhold'!A49","v":27},{"$f":"IF('Sjekkliste formelle forhold'!E49<>\"\",1,0)","v":0},0,{"$f":"IF($C28=1,'Sjekkliste formelle forhold'!A49,\"\")","v":""},{"$f":"IF($C28=1,'Sjekkliste formelle forhold'!B49,\"\")","v":""},null,{"$f":"IF($C28=1,'Sjekkliste formelle forhold'!H49,\"\")","v":""}]
[{"$f":"+'Sjekkliste formelle forhold'!A51","v":28},{"$f":"IF('Sjekkliste formelle forhold'!E51<>\"\",1,0)","v":0},0,{"$f":"IF($C29=1,'Sjekkliste formelle forhold'!A51,\"\")","v":""},{"$f":"IF($C29=1,'Sjekkliste formelle forhold'!B51,\"\")","v":""},null,{"$f":"IF($C29=1,'Sjekkliste formelle forhold'!H51,\"\")","v":""}]
[{"$f":"+'Sjekkliste formelle forhold'!A52","v":29},{"$f":"IF('Sjekkliste formelle forhold'!E52<>\"\",1,0)","v":0},0,{"$f":"IF($C30=1,'Sjekkliste formelle forhold'!A52,\"\")","v":""},{"$f":"IF($C30=1,'Sjekkliste formelle forhold'!B52,\"\")","v":""},null,{"$f":"IF($C30=1,'Sjekkliste formelle forhold'!H52,\"\")","v":""}]
[{"$f":"+'Sjekkliste formelle forhold'!A55","v":30},{"$f":"IF('Sjekkliste formelle forhold'!E55<>\"\",1,0)","v":0},0,{"$f":"IF($C31=1,'Sjekkliste formelle forhold'!A55,\"\")","v":""},{"$f":"IF($C31=1,'Sjekkliste formelle forhold'!B55,\"\")","v":""},null,{"$f":"IF($C31=1,'Sjekkliste formelle forhold'!H55,\"\")","v":""}]
[{"$f":"+'Sjekkliste formelle forhold'!A56","v":31},{"$f":"IF('Sjekkliste formelle forhold'!E56<>\"\",1,0)","v":0},0,{"$f":"IF($C32=1,'Sjekkliste formelle forhold'!A56,\"\")","v":""},{"$f":"IF($C32=1,'Sjekkliste formelle forhold'!B56,\"\")","v":""},null,{"$f":"IF($C32=1,'Sjekkliste formelle forhold'!H56,\"\")","v":""}]
[{"$f":"+'Sjekkliste formelle forhold'!A58","v":32},{"$f":"IF('Sjekkliste formelle forhold'!E58<>\"\",1,0)","v":0},0,{"$f":"IF($C33=1,'Sjekkliste formelle forhold'!A58,\"\")","v":""},{"$f":"IF($C33=1,'Sjekkliste formelle forhold'!B58,\"\")","v":""},null,{"$f":"IF($C33=1,'Sjekkliste formelle forhold'!H58,\"\")","v":""}]
[{"$f":"+'Sjekkliste formelle forhold'!A59","v":33},{"$f":"IF('Sjekkliste formelle forhold'!E59<>\"\",1,0)","v":0},{"$f":"SUM(B34:B34)","v":0},{"$f":"IF($C34=1,'Sjekkliste formelle forhold'!A59,\"\")","v":""},{"$f":"IF($C34=1,'Sjekkliste formelle forhold'!B59,\"\")","v":""},null,{"$f":"IF($C34=1,'Sjekkliste formelle forhold'!H59,\"\")","v":""}]
[{"$f":"+'Sjekkliste formelle forhold'!A61","v":34},{"$f":"IF('Sjekkliste formelle forhold'!E61<>\"\",1,0)","v":0},0,{"$f":"IF($C35=1,'Sjekkliste formelle forhold'!A61,\"\")","v":""},{"$f":"IF($C35=1,'Sjekkliste formelle forhold'!B61,\"\")","v":""},null,{"$f":"IF($C35=1,'Sjekkliste formelle forhold'!H61,\"\")","v":""}]
[{"$f":"+'Sjekkliste formelle forhold'!A68","v":35},{"$f":"IF('Sjekkliste formelle forhold'!E68<>\"\",1,0)","v":0},0,{"$f":"IF($C36=1,'Sjekkliste formelle forhold'!A68,\"\")","v":""},{"$f":"IF($C36=1,'Sjekkliste formelle forhold'!B68,\"\")","v":""},null,{"$f":"IF($C36=1,'Sjekkliste formelle forhold'!H68,\"\")","v":""}]
[{"$f":"+'Sjekkliste formelle forhold'!A70","v":36},{"$f":"IF('Sjekkliste formelle forhold'!E70<>\"\",1,0)","v":0},0,{"$f":"IF($C37=1,'Sjekkliste formelle forhold'!A70,\"\")","v":""},{"$f":"IF($C37=1,'Sjekkliste formelle forhold'!B70,\"\")","v":""},null,{"$f":"IF($C37=1,'Sjekkliste formelle forhold'!H70,\"\")","v":""}]
[{"$f":"+'Sjekkliste formelle forhold'!A72","v":37},{"$f":"IF('Sjekkliste formelle forhold'!E72<>\"\",1,0)","v":0},0,{"$f":"IF($C38=1,'Sjekkliste formelle forhold'!A72,\"\")","v":""},{"$f":"IF($C38=1,'Sjekkliste formelle forhold'!B72,\"\")","v":""},null,{"$f":"IF($C38=1,'Sjekkliste formelle forhold'!H72,\"\")","v":""}]
[{"$f":"+'Sjekkliste formelle forhold'!A73","v":38},{"$f":"IF('Sjekkliste formelle forhold'!E73<>\"\",1,0)","v":0},0,{"$f":"IF($C39=1,'Sjekkliste formelle forhold'!A73,\"\")","v":""},{"$f":"IF($C39=1,'Sjekkliste formelle forhold'!B73,\"\")","v":""},null,{"$f":"IF($C39=1,'Sjekkliste formelle forhold'!H73,\"\")","v":""}]
[{"$f":"+'Sjekkliste formelle forhold'!A74","v":39},{"$f":"IF('Sjekkliste formelle forhold'!E74<>\"\",1,0)","v":0},0,{"$f":"IF($C40=1,'Sjekkliste formelle forhold'!A74,\"\")","v":""},{"$f":"IF($C40=1,'Sjekkliste formelle forhold'!B74,\"\")","v":""},null,{"$f":"IF($C40=1,'Sjekkliste formelle forhold'!H74,\"\")","v":""}]
[{"$f":"+'Sjekkliste formelle forhold'!A75","v":40},{"$f":"IF('Sjekkliste formelle forhold'!E75<>\"\",1,0)","v":0},0,{"$f":"IF($C41=1,'Sjekkliste formelle forhold'!A75,\"\")","v":""},{"$f":"IF($C41=1,'Sjekkliste formelle forhold'!B75,\"\")","v":""},null,{"$f":"IF($C41=1,'Sjekkliste formelle forhold'!H75,\"\")","v":""}]
[{"$f":"+'Sjekkliste formelle forhold'!A79","v":41},{"$f":"IF('Sjekkliste formelle forhold'!E79<>\"\",1,0)","v":0},0,{"$f":"IF($C42=1,'Sjekkliste formelle forhold'!A79,\"\")","v":""},{"$f":"IF($C42=1,'Sjekkliste formelle forhold'!B79,\"\")","v":""},null,{"$f":"IF($C42=1,'Sjekkliste formelle forhold'!H79,\"\")","v":""}]
[{"$f":"+'Sjekkliste formelle forhold'!A81","v":42},{"$f":"IF('Sjekkliste formelle forhold'!E81<>\"\",1,0)","v":0},0,{"$f":"IF($C43=1,'Sjekkliste formelle forhold'!A81,\"\")","v":""},{"$f":"IF($C43=1,'Sjekkliste formelle forhold'!B81,\"\")","v":""},null,{"$f":"IF($C43=1,'Sjekkliste formelle forhold'!H81,\"\")","v":""}]
[{"$f":"+'Sjekkliste formelle forhold'!A83","v":43},{"$f":"IF('Sjekkliste formelle forhold'!E83<>\"\",1,0)","v":0},0,{"$f":"IF($C44=1,'Sjekkliste formelle forhold'!A83,\"\")","v":""},{"$f":"IF($C44=1,'Sjekkliste formelle forhold'!B83,\"\")","v":""},null,{"$f":"IF($C44=1,'Sjekkliste formelle forhold'!H83,\"\")","v":""}]
[{"$f":"+'Sjekkliste formelle forhold'!A85","v":44},{"$f":"IF('Sjekkliste formelle forhold'!E85<>\"\",1,0)","v":0},0,{"$f":"IF($C45=1,'Sjekkliste formelle forhold'!A85,\"\")","v":""},{"$f":"IF($C45=1,'Sjekkliste formelle forhold'!B85,\"\")","v":""},null,{"$f":"IF($C45=1,'Sjekkliste formelle forhold'!H85,\"\")","v":""}]
[{"$f":"+'Sjekkliste formelle forhold'!A87","v":45},{"$f":"IF('Sjekkliste formelle forhold'!E87<>\"\",1,0)","v":0},0,{"$f":"IF($C46=1,'Sjekkliste formelle forhold'!A87,\"\")","v":""},{"$f":"IF($C46=1,'Sjekkliste formelle forhold'!B87,\"\")","v":""},null,{"$f":"IF($C46=1,'Sjekkliste formelle forhold'!H87,\"\")","v":""}]
[{"$f":"+'Sjekkliste formelle forhold'!A88","v":46},{"$f":"IF('Sjekkliste formelle forhold'!E88<>\"\",1,0)","v":0},0,{"$f":"IF($C47=1,'Sjekkliste formelle forhold'!A88,\"\")","v":""},{"$f":"IF($C47=1,'Sjekkliste formelle forhold'!B88,\"\")","v":""},null,{"$f":"IF($C47=1,'Sjekkliste formelle forhold'!H88,\"\")","v":""}]
[{"$f":"+'Sjekkliste formelle forhold'!A89","v":47},{"$f":"IF('Sjekkliste formelle forhold'!E89<>\"\",1,0)","v":0},0,{"$f":"IF($C48=1,'Sjekkliste formelle forhold'!A89,\"\")","v":""},{"$f":"IF($C48=1,'Sjekkliste formelle forhold'!B89,\"\")","v":""},null,{"$f":"IF($C48=1,'Sjekkliste formelle forhold'!H89,\"\")","v":""}]
[{"$f":"+'Sjekkliste formelle forhold'!A90","v":48},{"$f":"IF('Sjekkliste formelle forhold'!E90<>\"\",1,0)","v":0},0,{"$f":"IF($C49=1,'Sjekkliste formelle forhold'!A90,\"\")","v":""},{"$f":"IF($C49=1,'Sjekkliste formelle forhold'!B90,\"\")","v":""},null,{"$f":"IF($C49=1,'Sjekkliste formelle forhold'!H90,\"\")","v":""}]
[{"$f":"+'Sjekkliste formelle forhold'!A91","v":49},{"$f":"IF('Sjekkliste formelle forhold'!E91<>\"\",1,0)","v":0},0,{"$f":"IF($C50=1,'Sjekkliste formelle forhold'!A91,\"\")","v":""},{"$f":"IF($C50=1,'Sjekkliste formelle forhold'!B91,\"\")","v":""},null,{"$f":"IF($C50=1,'Sjekkliste formelle forhold'!H91,\"\")","v":""}]
[{"$f":"+'Sjekkliste formelle forhold'!A93","v":50},{"$f":"IF('Sjekkliste formelle forhold'!E93<>\"\",1,0)","v":0},0,{"$f":"IF($C51=1,'Sjekkliste formelle forhold'!A93,\"\")","v":""},{"$f":"IF($C51=1,'Sjekkliste formelle forhold'!B93,\"\")","v":""},null,{"$f":"IF($C51=1,'Sjekkliste formelle forhold'!H93,\"\")","v":""}]
[{"$f":"+'Sjekkliste formelle forhold'!A94","v":51},{"$f":"IF('Sjekkliste formelle forhold'!E94<>\"\",1,0)","v":0},0,{"$f":"IF($C52=1,'Sjekkliste formelle forhold'!A94,\"\")","v":""},{"$f":"IF($C52=1,'Sjekkliste formelle forhold'!B94,\"\")","v":""},null,{"$f":"IF($C52=1,'Sjekkliste formelle forhold'!H94,\"\")","v":""}]
[{"$f":"+'Sjekkliste formelle forhold'!A95","v":52},{"$f":"IF('Sjekkliste formelle forhold'!E95<>\"\",1,0)","v":0},0,{"$f":"IF($C53=1,'Sjekkliste formelle forhold'!A95,\"\")","v":""},{"$f":"IF($C53=1,'Sjekkliste formelle forhold'!B95,\"\")","v":""},null,{"$f":"IF($C53=1,'Sjekkliste formelle forhold'!H95,\"\")","v":""}]
[{"$f":"+'Sjekkliste formelle forhold'!A96","v":53},{"$f":"IF('Sjekkliste formelle forhold'!E96<>\"\",1,0)","v":0},0,{"$f":"IF($C54=1,'Sjekkliste formelle forhold'!A96,\"\")","v":""},{"$f":"IF($C54=1,'Sjekkliste formelle forhold'!B96,\"\")","v":""},null,{"$f":"IF($C54=1,'Sjekkliste formelle forhold'!H96,\"\")","v":""}]
[{"$f":"+'Sjekkliste formelle forhold'!A97","v":54},{"$f":"IF('Sjekkliste formelle forhold'!E97<>\"\",1,0)","v":0},0,{"$f":"IF($C55=1,'Sjekkliste formelle forhold'!A97,\"\")","v":""},{"$f":"IF($C55=1,'Sjekkliste formelle forhold'!B97,\"\")","v":""},null,{"$f":"IF($C55=1,'Sjekkliste formelle forhold'!H97,\"\")","v":""}]
[{"$f":"+'Sjekkliste formelle forhold'!A98","v":55},{"$f":"IF('Sjekkliste formelle forhold'!E98<>\"\",1,0)","v":0},0,{"$f":"IF($C56=1,'Sjekkliste formelle forhold'!A98,\"\")","v":""},{"$f":"IF($C56=1,'Sjekkliste formelle forhold'!B98,\"\")","v":""},null,{"$f":"IF($C56=1,'Sjekkliste formelle forhold'!H98,\"\")","v":""}]
[{"$f":"+'Sjekkliste formelle forhold'!A99","v":56},{"$f":"IF('Sjekkliste formelle forhold'!E99<>\"\",1,0)","v":0},0,{"$f":"IF($C57=1,'Sjekkliste formelle forhold'!A99,\"\")","v":""},{"$f":"IF($C57=1,'Sjekkliste formelle forhold'!B99,\"\")","v":""},null,{"$f":"IF($C57=1,'Sjekkliste formelle forhold'!H99,\"\")","v":""}]
[{"$f":"+'Sjekkliste formelle forhold'!A100","v":57},{"$f":"IF('Sjekkliste formelle forhold'!E100<>\"\",1,0)","v":0},0,{"$f":"IF($C58=1,'Sjekkliste formelle forhold'!A100,\"\")","v":""},{"$f":"IF($C58=1,'Sjekkliste formelle forhold'!B100,\"\")","v":""},null,{"$f":"IF($C58=1,'Sjekkliste formelle forhold'!H100,\"\")","v":""}]
[{"$f":"+'Sjekkliste formelle forhold'!A101","v":58},{"$f":"IF('Sjekkliste formelle forhold'!E101<>\"\",1,0)","v":0},0,{"$f":"IF($C59=1,'Sjekkliste formelle forhold'!A101,\"\")","v":""},{"$f":"IF($C59=1,'Sjekkliste formelle forhold'!B101,\"\")","v":""},null,{"$f":"IF($C59=1,'Sjekkliste formelle forhold'!H101,\"\")","v":""}]
[{"$f":"+'Sjekkliste formelle forhold'!A105","v":59},{"$f":"IF('Sjekkliste formelle forhold'!E105<>\"\",1,0)","v":0},0,{"$f":"IF($C60=1,'Sjekkliste formelle forhold'!A105,\"\")","v":""},{"$f":"IF($C60=1,'Sjekkliste formelle forhold'!B105,\"\")","v":""},null,{"$f":"IF($C60=1,'Sjekkliste formelle forhold'!H105,\"\")","v":""}]
[{"$f":"+'Sjekkliste formelle forhold'!A106","v":60},{"$f":"IF('Sjekkliste formelle forhold'!E106<>\"\",1,0)","v":0},0,{"$f":"IF($C61=1,'Sjekkliste formelle forhold'!A106,\"\")","v":""},{"$f":"IF($C61=1,'Sjekkliste formelle forhold'!B106,\"\")","v":""},null,{"$f":"IF($C61=1,'Sjekkliste formelle forhold'!H106,\"\")","v":""}]
[{"$f":"+'Sjekkliste formelle forhold'!A107","v":61},{"$f":"IF('Sjekkliste formelle forhold'!E107<>\"\",1,0)","v":0},0,{"$f":"IF($C62=1,'Sjekkliste formelle forhold'!A107,\"\")","v":""},{"$f":"IF($C62=1,'Sjekkliste formelle forhold'!B107,\"\")","v":""},null,{"$f":"IF($C62=1,'Sjekkliste formelle forhold'!H107,\"\")","v":""}]
[{"$f":"+'Sjekkliste formelle forhold'!A108","v":62},{"$f":"IF('Sjekkliste formelle forhold'!E108<>\"\",1,0)","v":0},0,{"$f":"IF($C63=1,'Sjekkliste formelle forhold'!A108,\"\")","v":""},{"$f":"IF($C63=1,'Sjekkliste formelle forhold'!B108,\"\")","v":""},null,{"$f":"IF($C63=1,'Sjekkliste formelle forhold'!H108,\"\")","v":""}]
[{"$f":"+'Sjekkliste formelle forhold'!A109","v":63},{"$f":"IF('Sjekkliste formelle forhold'!E109<>\"\",1,0)","v":0},0,{"$f":"IF($C64=1,'Sjekkliste formelle forhold'!A109,\"\")","v":""},{"$f":"IF($C64=1,'Sjekkliste formelle forhold'!B109,\"\")","v":""},null,{"$f":"IF($C64=1,'Sjekkliste formelle forhold'!H109,\"\")","v":""}]
[{"$f":"+'Sjekkliste formelle forhold'!A110","v":64},{"$f":"IF('Sjekkliste formelle forhold'!E110<>\"\",1,0)","v":0},0,{"$f":"IF($C65=1,'Sjekkliste formelle forhold'!A110,\"\")","v":""},{"$f":"IF($C65=1,'Sjekkliste formelle forhold'!B110,\"\")","v":""},null,{"$f":"IF($C65=1,'Sjekkliste formelle forhold'!H110,\"\")","v":""}]

{"sheet":"F_Nei","index":12,"n_rows":65,"n_cols":7,"rows_kept":65,"cut":false,"hidden":true,"merged":[]}
[null,null,{"$f":"COUNTIF(C2:C5,\"=1\")","v":0},"Nei-svar",{"$f":"+Forside!B2","v":0},{"$f":"+Forside!B3","v":2021},"Kommentarer"]
[{"$f":"+'Sjekkliste formelle forhold'!A10","v":2},{"$f":"IF('Sjekkliste formelle forhold'!F10<>\"\",1,0)","v":0},{"$f":"SUM(B2:B2)","v":0},{"$f":"IF($C2=1,'Sjekkliste formelle forhold'!A10,\"\")","v":""},{"$f":"IF($C2=1,'Sjekkliste formelle forhold'!B10,\"\")","v":""},null,{"$f":"IF($C2=1,'Sjekkliste formelle forhold'!H10,\"\")","v":""}]
[{"$f":"+'Sjekkliste formelle forhold'!A9","v":1},{"$f":"IF('Sjekkliste formelle forhold'!F9<>\"\",1,0)","v":0},0,{"$f":"IF($C3=1,'Sjekkliste formelle forhold'!A9,\"\")","v":""},{"$f":"IF($C3=1,'Sjekkliste formelle forhold'!B9,\"\")","v":""},null,{"$f":"IF($C3=1,'Sjekkliste formelle forhold'!H9,\"\")","v":""}]
[{"$f":"+'Sjekkliste formelle forhold'!A11","v":3},{"$f":"IF('Sjekkliste formelle forhold'!F11<>\"\",1,0)","v":0},0,{"$f":"IF($C4=1,'Sjekkliste formelle forhold'!A11,\"\")","v":""},{"$f":"IF($C4=1,'Sjekkliste formelle forhold'!B11,\"\")","v":""},null,{"$f":"IF($C4=1,'Sjekkliste formelle forhold'!H11,\"\")","v":""}]
[{"$f":"+'Sjekkliste formelle forhold'!A12","v":4},{"$f":"IF('Sjekkliste formelle forhold'!F12<>\"\",1,0)","v":0},0,{"$f":"IF($C5=1,'Sjekkliste formelle forhold'!A12,\"\")","v":""},{"$f":"IF($C5=1,'Sjekkliste formelle forhold'!B12,\"\")","v":""},null,{"$f":"IF($C5=1,'Sjekkliste formelle forhold'!H12,\"\")","v":""}]
[{"$f":"+'Sjekkliste formelle forhold'!A13","v":5},{"$f":"IF('Sjekkliste formelle forhold'!F13<>\"\",1,0)","v":0},0,{"$f":"IF($C6=1,'Sjekkliste formelle forhold'!A13,\"\")","v":""},{"$f":"IF($C6=1,'Sjekkliste formelle forhold'!B13,\"\")","v":""},null,{"$f":"IF($C6=1,'Sjekkliste formelle forhold'!H13,\"\")","v":""}]
[{"$f":"+'Sjekkliste formelle forhold'!A14","v":6},{"$f":"IF('Sjekkliste formelle forhold'!F14<>\"\",1,0)","v":0},0,{"$f":"IF($C7=1,'Sjekkliste formelle forhold'!A14,\"\")","v":""},{"$f":"IF($C7=1,'Sjekkliste formelle forhold'!B14,\"\")","v":""},null,{"$f":"IF($C7=1,'Sjekkliste formelle forhold'!H14,\"\")","v":""}]
[{"$f":"+'Sjekkliste formelle forhold'!A15","v":7},{"$f":"IF('Sjekkliste formelle forhold'!F15<>\"\",1,0)","v":0},0,{"$f":"IF($C8=1,'Sjekkliste formelle forhold'!A15,\"\")","v":""},{"$f":"IF($C8=1,'Sjekkliste formelle forhold'!B15,\"\")","v":""},null,{"$f":"IF($C8=1,'Sjekkliste formelle forhold'!H15,\"\")","v":""}]
[{"$f":"+'Sjekkliste formelle forhold'!A17","v":8},{"$f":"IF('Sjekkliste formelle forhold'!F17<>\"\",1,0)","v":0},0,{"$f":"IF($C9=1,'Sjekkliste formelle forhold'!A17,\"\")","v":""},{"$f":"IF($C9=1,'Sjekkliste formelle forhold'!B17,\"\")","v":""},null,{"$f":"IF($C9=1,'Sjekkliste formelle forhold'!H17,\"\")","v":""}]
[{"$f":"+'Sjekkliste formelle forhold'!A19","v":9},{"$f":"IF('Sjekkliste formelle forhold'!F19<>\"\",1,0)","v":0},0,{"$f":"IF($C10=1,'Sjekkliste formelle forhold'!A19,\"\")","v":""},{"$f":"IF($C10=1,'Sjekkliste formelle forhold'!B19,\"\")","v":""},null,{"$f":"IF($C10=1,'Sjekkliste formelle forhold'!H19,\"\")","v":""}]
[{"$f":"+'Sjekkliste formelle forhold'!A21","v":10},{"$f":"IF('Sjekkliste formelle forhold'!F21<>\"\",1,0)","v":0},0,{"$f":"IF($C11=1,'Sjekkliste formelle forhold'!A21,\"\")","v":""},{"$f":"IF($C11=1,'Sjekkliste formelle forhold'!B21,\"\")","v":""},null,{"$f":"IF($C11=1,'Sjekkliste formelle forhold'!H21,\"\")","v":""}]
[{"$f":"+'Sjekkliste formelle forhold'!A22","v":11},{"$f":"IF('Sjekkliste formelle forhold'!F22<>\"\",1,0)","v":0},0,{"$f":"IF($C12=1,'Sjekkliste formelle forhold'!A22,\"\")","v":""},{"$f":"IF($C12=1,'Sjekkliste formelle forhold'!B22,\"\")","v":""},null,{"$f":"IF($C12=1,'Sjekkliste formelle forhold'!H22,\"\")","v":""}]
[{"$f":"+'Sjekkliste formelle forhold'!A23","v":12},{"$f":"IF('Sjekkliste formelle forhold'!F23<>\"\",1,0)","v":0},0,{"$f":"IF($C13=1,'Sjekkliste formelle forhold'!A23,\"\")","v":""},{"$f":"IF($C13=1,'Sjekkliste formelle forhold'!B23,\"\")","v":""},null,{"$f":"IF($C13=1,'Sjekkliste formelle forhold'!H23,\"\")","v":""}]
[{"$f":"+'Sjekkliste formelle forhold'!A26","v":13},{"$f":"IF('Sjekkliste formelle forhold'!F26<>\"\",1,0)","v":0},0,{"$f":"IF($C14=1,'Sjekkliste formelle forhold'!A26,\"\")","v":""},{"$f":"IF($C14=1,'Sjekkliste formelle forhold'!B26,\"\")","v":""},null,{"$f":"IF($C14=1,'Sjekkliste formelle forhold'!H26,\"\")","v":""}]
[{"$f":"+'Sjekkliste formelle forhold'!A27","v":14},{"$f":"IF('Sjekkliste formelle forhold'!F27<>\"\",1,0)","v":0},0,{"$f":"IF($C15=1,'Sjekkliste formelle forhold'!A27,\"\")","v":""},{"$f":"IF($C15=1,'Sjekkliste formelle forhold'!B27,\"\")","v":""},null,{"$f":"IF($C15=1,'Sjekkliste formelle forhold'!H27,\"\")","v":""}]
[{"$f":"+'Sjekkliste formelle forhold'!A28","v":15},{"$f":"IF('Sjekkliste formelle forhold'!F28<>\"\",1,0)","v":0},0,{"$f":"IF($C16=1,'Sjekkliste formelle forhold'!A28,\"\")","v":""},{"$f":"IF($C16=1,'Sjekkliste formelle forhold'!B28,\"\")","v":""},null,{"$f":"IF($C16=1,'Sjekkliste formelle forhold'!H28,\"\")","v":""}]
[{"$f":"+'Sjekkliste formelle forhold'!A29","v":16},{"$f":"IF('Sjekkliste formelle forhold'!F29<>\"\",1,0)","v":0},0,{"$f":"IF($C17=1,'Sjekkliste formelle forhold'!A29,\"\")","v":""},{"$f":"IF($C17=1,'Sjekkliste formelle forhold'!B29,\"\")","v":""},null,{"$f":"IF($C17=1,'Sjekkliste formelle forhold'!H29,\"\")","v":""}]
[{"$f":"+'Sjekkliste formelle forhold'!A33","v":17},{"$f":"IF('Sjekkliste formelle forhold'!F33<>\"\",1,0)","v":0},0,{"$f":"IF($C18=1,'Sjekkliste formelle forhold'!A33,\"\")","v":""},{"$f":"IF($C18=1,'Sjekkliste formelle forhold'!B33,\"\")","v":""},null,{"$f":"IF($C18=1,'Sjekkliste formelle forhold'!H33,\"\")","v":""}]
[{"$f":"+'Sjekkliste formelle forhold'!A37","v":18},{"$f":"IF('Sjekkliste formelle forhold'!F37<>\"\",1,0)","v":0},0,{"$f":"IF($C19=1,'Sjekkliste formelle forhold'!A37,\"\")","v":""},{"$f":"IF($C19=1,'Sjekkliste formelle forhold'!B37,\"\")","v":""},null,{"$f":"IF($C19=1,'Sjekkliste formelle forhold'!H37,\"\")","v":""}]
[{"$f":"+'Sjekkliste formelle forhold'!A38","v":19},{"$f":"IF('Sjekkliste formelle forhold'!F38<>\"\",1,0)","v":0},0,{"$f":"IF($C20=1,'Sjekkliste formelle forhold'!A38,\"\")","v":""},{"$f":"IF($C20=1,'Sjekkliste formelle forhold'!B38,\"\")","v":""},null,{"$f":"IF($C20=1,'Sjekkliste formelle forhold'!H38,\"\")","v":""}]
[{"$f":"+'Sjekkliste formelle forhold'!A40","v":20},{"$f":"IF('Sjekkliste formelle forhold'!F40<>\"\",1,0)","v":0},0,{"$f":"IF($C21=1,'Sjekkliste formelle forhold'!A40,\"\")","v":""},{"$f":"IF($C21=1,'Sjekkliste formelle forhold'!B40,\"\")","v":""},null,{"$f":"IF($C21=1,'Sjekkliste formelle forhold'!H40,\"\")","v":""}]
[{"$f":"+'Sjekkliste formelle forhold'!A41","v":21},{"$f":"IF('Sjekkliste formelle forhold'!F41<>\"\",1,0)","v":0},0,{"$f":"IF($C22=1,'Sjekkliste formelle forhold'!A41,\"\")","v":""},{"$f":"IF($C22=1,'Sjekkliste formelle forhold'!B41,\"\")","v":""},null,{"$f":"IF($C22=1,'Sjekkliste formelle forhold'!H41,\"\")","v":""}]
[{"$f":"+'Sjekkliste formelle forhold'!A42","v":22},{"$f":"IF('Sjekkliste formelle forhold'!F42<>\"\",1,0)","v":0},0,{"$f":"IF($C23=1,'Sjekkliste formelle forhold'!A42,\"\")","v":""},{"$f":"IF($C23=1,'Sjekkliste formelle forhold'!B42,\"\")","v":""},null,{"$f":"IF($C23=1,'Sjekkliste formelle forhold'!H42,\"\")","v":""}]
[{"$f":"+'Sjekkliste formelle forhold'!A44","v":23},{"$f":"IF('Sjekkliste formelle forhold'!F44<>\"\",1,0)","v":0},0,{"$f":"IF($C24=1,'Sjekkliste formelle forhold'!A44,\"\")","v":""},{"$f":"IF($C24=1,'Sjekkliste formelle forhold'!B44,\"\")","v":""},null,{"$f":"IF($C24=1,'Sjekkliste formelle forhold'!H44,\"\")","v":""}]
[{"$f":"+'Sjekkliste formelle forhold'!A45","v":24},{"$f":"IF('Sjekkliste formelle forhold'!F45<>\"\",1,0)","v":0},0,{"$f":"IF($C25=1,'Sjekkliste formelle forhold'!A45,\"\")","v":""},{"$f":"IF($C25=1,'Sjekkliste formelle forhold'!B45,\"\")","v":""},null,{"$f":"IF($C25=1,'Sjekkliste formelle forhold'!H45,\"\")","v":""}]
[{"$f":"+'Sjekkliste formelle forhold'!A46","v":25},{"$f":"IF('Sjekkliste formelle forhold'!F46<>\"\",1,0)","v":0},0,{"$f":"IF($C26=1,'Sjekkliste formelle forhold'!A46,\"\")","v":""},{"$f":"IF($C26=1,'Sjekkliste formelle forhold'!B46,\"\")","v":""},null,{"$f":"IF($C26=1,'Sjekkliste formelle forhold'!H46,\"\")","v":""}]
[{"$f":"+'Sjekkliste formelle forhold'!A47","v":26},{"$f":"IF('Sjekkliste formelle forhold'!F47<>\"\",1,0)","v":0},0,{"$f":"IF($C27=1,'Sjekkliste formelle forhold'!A47,\"\")","v":""},{"$f":"IF($C27=1,'Sjekkliste formelle forhold'!B47,\"\")","v":""},null,{"$f":"IF($C27=1,'Sjekkliste formelle forhold'!H47,\"\")","v":""}]
[{"$f":"+'Sjekkliste formelle forhold'!A49","v":27},{"$f":"IF('Sjekkliste formelle forhold'!F49<>\"\",1,0)","v":0},0,{"$f":"IF($C28=1,'Sjekkliste formelle forhold'!A49,\"\")","v":""},{"$f":"IF($C28=1,'Sjekkliste formelle forhold'!B49,\"\")","v":""},null,{"$f":"IF($C28=1,'Sjekkliste formelle forhold'!H49,\"\")","v":""}]
[{"$f":"+'Sjekkliste formelle forhold'!A51","v":28},{"$f":"IF('Sjekkliste formelle forhold'!F51<>\"\",1,0)","v":0},0,{"$f":"IF($C29=1,'Sjekkliste formelle forhold'!A51,\"\")","v":""},{"$f":"IF($C29=1,'Sjekkliste formelle forhold'!B51,\"\")","v":""},null,{"$f":"IF($C29=1,'Sjekkliste formelle forhold'!H51,\"\")","v":""}]
[{"$f":"+'Sjekkliste formelle forhold'!A52","v":29},{"$f":"IF('Sjekkliste formelle forhold'!F52<>\"\",1,0)","v":0},0,{"$f":"IF($C30=1,'Sjekkliste formelle forhold'!A52,\"\")","v":""},{"$f":"IF($C30=1,'Sjekkliste formelle forhold'!B52,\"\")","v":""},null,{"$f":"IF($C30=1,'Sjekkliste formelle forhold'!H52,\"\")","v":""}]
[{"$f":"+'Sjekkliste formelle forhold'!A55","v":30},{"$f":"IF('Sjekkliste formelle forhold'!F55<>\"\",1,0)","v":0},0,{"$f":"IF($C31=1,'Sjekkliste formelle forhold'!A55,\"\")","v":""},{"$f":"IF($C31=1,'Sjekkliste formelle forhold'!B55,\"\")","v":""},null,{"$f":"IF($C31=1,'Sjekkliste formelle forhold'!H55,\"\")","v":""}]
[{"$f":"+'Sjekkliste formelle forhold'!A56","v":31},{"$f":"IF('Sjekkliste formelle forhold'!F56<>\"\",1,0)","v":0},0,{"$f":"IF($C32=1,'Sjekkliste formelle forhold'!A56,\"\")","v":""},{"$f":"IF($C32=1,'Sjekkliste formelle forhold'!B56,\"\")","v":""},null,{"$f":"IF($C32=1,'Sjekkliste formelle forhold'!H56,\"\")","v":""}]
[{"$f":"+'Sjekkliste formelle forhold'!A58","v":32},{"$f":"IF('Sjekkliste formelle forhold'!F58<>\"\",1,0)","v":0},0,{"$f":"IF($C33=1,'Sjekkliste formelle forhold'!A58,\"\")","v":""},{"$f":"IF($C33=1,'Sjekkliste formelle forhold'!B58,\"\")","v":""},null,{"$f":"IF($C33=1,'Sjekkliste formelle forhold'!H58,\"\")","v":""}]
[{"$f":"+'Sjekkliste formelle forhold'!A59","v":33},{"$f":"IF('Sjekkliste formelle forhold'!F59<>\"\",1,0)","v":0},{"$f":"SUM(B34:B34)","v":0},{"$f":"IF($C34=1,'Sjekkliste formelle forhold'!A59,\"\")","v":""},{"$f":"IF($C34=1,'Sjekkliste formelle forhold'!B59,\"\")","v":""},null,{"$f":"IF($C34=1,'Sjekkliste formelle forhold'!H59,\"\")","v":""}]
[{"$f":"+'Sjekkliste formelle forhold'!A61","v":34},{"$f":"IF('Sjekkliste formelle forhold'!F61<>\"\",1,0)","v":0},0,{"$f":"IF($C35=1,'Sjekkliste formelle forhold'!A61,\"\")","v":""},{"$f":"IF($C35=1,'Sjekkliste formelle forhold'!B61,\"\")","v":""},null,{"$f":"IF($C35=1,'Sjekkliste formelle forhold'!H61,\"\")","v":""}]
[{"$f":"+'Sjekkliste formelle forhold'!A68","v":35},{"$f":"IF('Sjekkliste formelle forhold'!F68<>\"\",1,0)","v":0},0,{"$f":"IF($C36=1,'Sjekkliste formelle forhold'!A68,\"\")","v":""},{"$f":"IF($C36=1,'Sjekkliste formelle forhold'!B68,\"\")","v":""},null,{"$f":"IF($C36=1,'Sjekkliste formelle forhold'!H68,\"\")","v":""}]
[{"$f":"+'Sjekkliste formelle forhold'!A70","v":36},{"$f":"IF('Sjekkliste formelle forhold'!F70<>\"\",1,0)","v":0},0,{"$f":"IF($C37=1,'Sjekkliste formelle forhold'!A70,\"\")","v":""},{"$f":"IF($C37=1,'Sjekkliste formelle forhold'!B70,\"\")","v":""},null,{"$f":"IF($C37=1,'Sjekkliste formelle forhold'!H70,\"\")","v":""}]
[{"$f":"+'Sjekkliste formelle forhold'!A72","v":37},{"$f":"IF('Sjekkliste formelle forhold'!F72<>\"\",1,0)","v":0},0,{"$f":"IF($C38=1,'Sjekkliste formelle forhold'!A72,\"\")","v":""},{"$f":"IF($C38=1,'Sjekkliste formelle forhold'!B72,\"\")","v":""},null,{"$f":"IF($C38=1,'Sjekkliste formelle forhold'!H72,\"\")","v":""}]
[{"$f":"+'Sjekkliste formelle forhold'!A73","v":38},{"$f":"IF('Sjekkliste formelle forhold'!F73<>\"\",1,0)","v":0},0,{"$f":"IF($C39=1,'Sjekkliste formelle forhold'!A73,\"\")","v":""},{"$f":"IF($C39=1,'Sjekkliste formelle forhold'!B73,\"\")","v":""},null,{"$f":"IF($C39=1,'Sjekkliste formelle forhold'!H73,\"\")","v":""}]
[{"$f":"+'Sjekkliste formelle forhold'!A74","v":39},{"$f":"IF('Sjekkliste formelle forhold'!F74<>\"\",1,0)","v":0},0,{"$f":"IF($C40=1,'Sjekkliste formelle forhold'!A74,\"\")","v":""},{"$f":"IF($C40=1,'Sjekkliste formelle forhold'!B74,\"\")","v":""},null,{"$f":"IF($C40=1,'Sjekkliste formelle forhold'!H74,\"\")","v":""}]
[{"$f":"+'Sjekkliste formelle forhold'!A75","v":40},{"$f":"IF('Sjekkliste formelle forhold'!F75<>\"\",1,0)","v":0},0,{"$f":"IF($C41=1,'Sjekkliste formelle forhold'!A75,\"\")","v":""},{"$f":"IF($C41=1,'Sjekkliste formelle forhold'!B75,\"\")","v":""},null,{"$f":"IF($C41=1,'Sjekkliste formelle forhold'!H75,\"\")","v":""}]
[{"$f":"+'Sjekkliste formelle forhold'!A79","v":41},{"$f":"IF('Sjekkliste formelle forhold'!F79<>\"\",1,0)","v":0},0,{"$f":"IF($C42=1,'Sjekkliste formelle forhold'!A79,\"\")","v":""},{"$f":"IF($C42=1,'Sjekkliste formelle forhold'!B79,\"\")","v":""},null,{"$f":"IF($C42=1,'Sjekkliste formelle forhold'!H79,\"\")","v":""}]
[{"$f":"+'Sjekkliste formelle forhold'!A81","v":42},{"$f":"IF('Sjekkliste formelle forhold'!F81<>\"\",1,0)","v":0},0,{"$f":"IF($C43=1,'Sjekkliste formelle forhold'!A81,\"\")","v":""},{"$f":"IF($C43=1,'Sjekkliste formelle forhold'!B81,\"\")","v":""},null,{"$f":"IF($C43=1,'Sjekkliste formelle forhold'!H81,\"\")","v":""}]
[{"$f":"+'Sjekkliste formelle forhold'!A83","v":43},{"$f":"IF('Sjekkliste formelle forhold'!F83<>\"\",1,0)","v":0},0,{"$f":"IF($C44=1,'Sjekkliste formelle forhold'!A83,\"\")","v":""},{"$f":"IF($C44=1,'Sjekkliste formelle forhold'!B83,\"\")","v":""},null,{"$f":"IF($C44=1,'Sjekkliste formelle forhold'!H83,\"\")","v":""}]
[{"$f":"+'Sjekkliste formelle forhold'!A85","v":44},{"$f":"IF('Sjekkliste formelle forhold'!F85<>\"\",1,0)","v":0},0,{"$f":"IF($C45=1,'Sjekkliste formelle forhold'!A85,\"\")","v":""},{"$f":"IF($C45=1,'Sjekkliste formelle forhold'!B85,\"\")","v":""},null,{"$f":"IF($C45=1,'Sjekkliste formelle forhold'!H85,\"\")","v":""}]
[{"$f":"+'Sjekkliste formelle forhold'!A87","v":45},{"$f":"IF('Sjekkliste formelle forhold'!F87<>\"\",1,0)","v":0},0,{"$f":"IF($C46=1,'Sjekkliste formelle forhold'!A87,\"\")","v":""},{"$f":"IF($C46=1,'Sjekkliste formelle forhold'!B87,\"\")","v":""},null,{"$f":"IF($C46=1,'Sjekkliste formelle forhold'!H87,\"\")","v":""}]
[{"$f":"+'Sjekkliste formelle forhold'!A88","v":46},{"$f":"IF('Sjekkliste formelle forhold'!F88<>\"\",1,0)","v":0},0,{"$f":"IF($C47=1,'Sjekkliste formelle forhold'!A88,\"\")","v":""},{"$f":"IF($C47=1,'Sjekkliste formelle forhold'!B88,\"\")","v":""},null,{"$f":"IF($C47=1,'Sjekkliste formelle forhold'!H88,\"\")","v":""}]
[{"$f":"+'Sjekkliste formelle forhold'!A89","v":47},{"$f":"IF('Sjekkliste formelle forhold'!F89<>\"\",1,0)","v":0},0,{"$f":"IF($C48=1,'Sjekkliste formelle forhold'!A89,\"\")","v":""},{"$f":"IF($C48=1,'Sjekkliste formelle forhold'!B89,\"\")","v":""},null,{"$f":"IF($C48=1,'Sjekkliste formelle forhold'!H89,\"\")","v":""}]
[{"$f":"+'Sjekkliste formelle forhold'!A90","v":48},{"$f":"IF('Sjekkliste formelle forhold'!F90<>\"\",1,0)","v":0},0,{"$f":"IF($C49=1,'Sjekkliste formelle forhold'!A90,\"\")","v":""},{"$f":"IF($C49=1,'Sjekkliste formelle forhold'!B90,\"\")","v":""},null,{"$f":"IF($C49=1,'Sjekkliste formelle forhold'!H90,\"\")","v":""}]
[{"$f":"+'Sjekkliste formelle forhold'!A91","v":49},{"$f":"IF('Sjekkliste formelle forhold'!F91<>\"\",1,0)","v":0},0,{"$f":"IF($C50=1,'Sjekkliste formelle forhold'!A91,\"\")","v":""},{"$f":"IF($C50=1,'Sjekkliste formelle forhold'!B91,\"\")","v":""},null,{"$f":"IF($C50=1,'Sjekkliste formelle forhold'!H91,\"\")","v":""}]
[{"$f":"+'Sjekkliste formelle forhold'!A93","v":50},{"$f":"IF('Sjekkliste formelle forhold'!F93<>\"\",1,0)","v":0},0,{"$f":"IF($C51=1,'Sjekkliste formelle forhold'!A93,\"\")","v":""},{"$f":"IF($C51=1,'Sjekkliste formelle forhold'!B93,\"\")","v":""},null,{"$f":"IF($C51=1,'Sjekkliste formelle forhold'!H93,\"\")","v":""}]
[{"$f":"+'Sjekkliste formelle forhold'!A94","v":51},{"$f":"IF('Sjekkliste formelle forhold'!F94<>\"\",1,0)","v":0},0,{"$f":"IF($C52=1,'Sjekkliste formelle forhold'!A94,\"\")","v":""},{"$f":"IF($C52=1,'Sjekkliste formelle forhold'!B94,\"\")","v":""},null,{"$f":"IF($C52=1,'Sjekkliste formelle forhold'!H94,\"\")","v":""}]
[{"$f":"+'Sjekkliste formelle forhold'!A95","v":52},{"$f":"IF('Sjekkliste formelle forhold'!F95<>\"\",1,0)","v":0},0,{"$f":"IF($C53=1,'Sjekkliste formelle forhold'!A95,\"\")","v":""},{"$f":"IF($C53=1,'Sjekkliste formelle forhold'!B95,\"\")","v":""},null,{"$f":"IF($C53=1,'Sjekkliste formelle forhold'!H95,\"\")","v":""}]
[{"$f":"+'Sjekkliste formelle forhold'!A96","v":53},{"$f":"IF('Sjekkliste formelle forhold'!F96<>\"\",1,0)","v":0},0,{"$f":"IF($C54=1,'Sjekkliste formelle forhold'!A96,\"\")","v":""},{"$f":"IF($C54=1,'Sjekkliste formelle forhold'!B96,\"\")","v":""},null,{"$f":"IF($C54=1,'Sjekkliste formelle forhold'!H96,\"\")","v":""}]
[{"$f":"+'Sjekkliste formelle forhold'!A97","v":54},{"$f":"IF('Sjekkliste formelle forhold'!F97<>\"\",1,0)","v":0},0,{"$f":"IF($C55=1,'Sjekkliste formelle forhold'!A97,\"\")","v":""},{"$f":"IF($C55=1,'Sjekkliste formelle forhold'!B97,\"\")","v":""},null,{"$f":"IF($C55=1,'Sjekkliste formelle forhold'!H97,\"\")","v":""}]
[{"$f":"+'Sjekkliste formelle forhold'!A98","v":55},{"$f":"IF('Sjekkliste formelle forhold'!F98<>\"\",1,0)","v":0},0,{"$f":"IF($C56=1,'Sjekkliste formelle forhold'!A98,\"\")","v":""},{"$f":"IF($C56=1,'Sjekkliste formelle forhold'!B98,\"\")","v":""},null,{"$f":"IF($C56=1,'Sjekkliste formelle forhold'!H98,\"\")","v":""}]
[{"$f":"+'Sjekkliste formelle forhold'!A99","v":56},{"$f":"IF('Sjekkliste formelle forhold'!F99<>\"\",1,0)","v":0},0,{"$f":"IF($C57=1,'Sjekkliste formelle forhold'!A99,\"\")","v":""},{"$f":"IF($C57=1,'Sjekkliste formelle forhold'!B99,\"\")","v":""},null,{"$f":"IF($C57=1,'Sjekkliste formelle forhold'!H99,\"\")","v":""}]
[{"$f":"+'Sjekkliste formelle forhold'!A100","v":57},{"$f":"IF('Sjekkliste formelle forhold'!F100<>\"\",1,0)","v":0},0,{"$f":"IF($C58=1,'Sjekkliste formelle forhold'!A100,\"\")","v":""},{"$f":"IF($C58=1,'Sjekkliste formelle forhold'!B100,\"\")","v":""},null,{"$f":"IF($C58=1,'Sjekkliste formelle forhold'!H100,\"\")","v":""}]
[{"$f":"+'Sjekkliste formelle forhold'!A101","v":58},{"$f":"IF('Sjekkliste formelle forhold'!F101<>\"\",1,0)","v":0},0,{"$f":"IF($C59=1,'Sjekkliste formelle forhold'!A101,\"\")","v":""},{"$f":"IF($C59=1,'Sjekkliste formelle forhold'!B101,\"\")","v":""},null,{"$f":"IF($C59=1,'Sjekkliste formelle forhold'!H101,\"\")","v":""}]
[{"$f":"+'Sjekkliste formelle forhold'!A105","v":59},{"$f":"IF('Sjekkliste formelle forhold'!F105<>\"\",1,0)","v":0},0,{"$f":"IF($C60=1,'Sjekkliste formelle forhold'!A105,\"\")","v":""},{"$f":"IF($C60=1,'Sjekkliste formelle forhold'!B105,\"\")","v":""},null,{"$f":"IF($C60=1,'Sjekkliste formelle forhold'!H105,\"\")","v":""}]
[{"$f":"+'Sjekkliste formelle forhold'!A106","v":60},{"$f":"IF('Sjekkliste formelle forhold'!F106<>\"\",1,0)","v":0},0,{"$f":"IF($C61=1,'Sjekkliste formelle forhold'!A106,\"\")","v":""},{"$f":"IF($C61=1,'Sjekkliste formelle forhold'!B106,\"\")","v":""},null,{"$f":"IF($C61=1,'Sjekkliste formelle forhold'!H106,\"\")","v":""}]
[{"$f":"+'Sjekkliste formelle forhold'!A107","v":61},{"$f":"IF('Sjekkliste formelle forhold'!F107<>\"\",1,0)","v":0},0,{"$f":"IF($C62=1,'Sjekkliste formelle forhold'!A107,\"\")","v":""},{"$f":"IF($C62=1,'Sjekkliste formelle forhold'!B107,\"\")","v":""},null,{"$f":"IF($C62=1,'Sjekkliste formelle forhold'!H107,\"\")","v":""}]
[{"$f":"+'Sjekkliste formelle forhold'!A108","v":62},{"$f":"IF('Sjekkliste formelle forhold'!F108<>\"\",1,0)","v":0},0,{"$f":"IF($C63=1,'Sjekkliste formelle forhold'!A108,\"\")","v":""},{"$f":"IF($C63=1,'Sjekkliste formelle forhold'!B108,\"\")","v":""},null,{"$f":"IF($C63=1,'Sjekkliste formelle forhold'!H108,\"\")","v":""}]
[{"$f":"+'Sjekkliste formelle forhold'!A109","v":63},{"$f":"IF('Sjekkliste formelle forhold'!F109<>\"\",1,0)","v":0},0,{"$f":"IF($C64=1,'Sjekkliste formelle forhold'!A109,\"\")","v":""},{"$f":"IF($C64=1,'Sjekkliste formelle forhold'!B109,\"\")","v":""},null,{"$f":"IF($C64=1,'Sjekkliste formelle forhold'!H109,\"\")","v":""}]
[{"$f":"+'Sjekkliste formelle forhold'!A110","v":64},{"$f":"IF('Sjekkliste formelle forhold'!F110<>\"\",1,0)","v":0},0,{"$f":"IF($C65=1,'Sjekkliste formelle forhold'!A110,\"\")","v":""},{"$f":"IF($C65=1,'Sjekkliste formelle forhold'!B110,\"\")","v":""},null,{"$f":"IF($C65=1,'Sjekkliste formelle forhold'!H110,\"\")","v":""}]

{"sheet":"F_IA","index":13,"n_rows":65,"n_cols":7,"rows_kept":65,"cut":false,"hidden":true,"merged":[]}
[null,null,{"$f":"COUNTIF(C2:C420,\"=1\")","v":0},"IA-svar",{"$f":"+Forside!B2","v":0},{"$f":"+Forside!B3","v":2021},"Kommentarer"]
[{"$f":"+'Sjekkliste formelle forhold'!A11","v":3},{"$f":"IF('Sjekkliste formelle forhold'!G11<>\"\",1,0)","v":0},{"$f":"SUM(B2:B2)","v":0},{"$f":"IF($C2=1,'Sjekkliste formelle forhold'!A11,\"\")","v":""},{"$f":"IF($C2=1,'Sjekkliste formelle forhold'!B11,\"\")","v":""},null,{"$f":"IF($C2=1,'Sjekkliste formelle forhold'!H11,\"\")","v":""}]
[{"$f":"+'Sjekkliste formelle forhold'!A9","v":1},{"$f":"IF('Sjekkliste formelle forhold'!G9<>\"\",1,0)","v":0},0,{"$f":"IF($C3=1,'Sjekkliste formelle forhold'!A9,\"\")","v":""},{"$f":"IF($C3=1,'Sjekkliste formelle forhold'!B9,\"\")","v":""},null,{"$f":"IF($C3=1,'Sjekkliste formelle forhold'!H9,\"\")","v":""}]
[{"$f":"+'Sjekkliste formelle forhold'!A10","v":2},{"$f":"IF('Sjekkliste formelle forhold'!G10<>\"\",1,0)","v":0},0,{"$f":"IF($C4=1,'Sjekkliste formelle forhold'!A10,\"\")","v":""},{"$f":"IF($C4=1,'Sjekkliste formelle forhold'!B10,\"\")","v":""},null,{"$f":"IF($C4=1,'Sjekkliste formelle forhold'!H10,\"\")","v":""}]
[{"$f":"+'Sjekkliste formelle forhold'!A12","v":4},{"$f":"IF('Sjekkliste formelle forhold'!G12<>\"\",1,0)","v":0},0,{"$f":"IF($C5=1,'Sjekkliste formelle forhold'!A12,\"\")","v":""},{"$f":"IF($C5=1,'Sjekkliste formelle forhold'!B12,\"\")","v":""},null,{"$f":"IF($C5=1,'Sjekkliste formelle forhold'!H12,\"\")","v":""}]
[{"$f":"+'Sjekkliste formelle forhold'!A13","v":5},{"$f":"IF('Sjekkliste formelle forhold'!G13<>\"\",1,0)","v":0},0,{"$f":"IF($C6=1,'Sjekkliste formelle forhold'!A13,\"\")","v":""},{"$f":"IF($C6=1,'Sjekkliste formelle forhold'!B13,\"\")","v":""},null,{"$f":"IF($C6=1,'Sjekkliste formelle forhold'!H13,\"\")","v":""}]
[{"$f":"+'Sjekkliste formelle forhold'!A14","v":6},{"$f":"IF('Sjekkliste formelle forhold'!G14<>\"\",1,0)","v":0},0,{"$f":"IF($C7=1,'Sjekkliste formelle forhold'!A14,\"\")","v":""},{"$f":"IF($C7=1,'Sjekkliste formelle forhold'!B14,\"\")","v":""},null,{"$f":"IF($C7=1,'Sjekkliste formelle forhold'!H14,\"\")","v":""}]
[{"$f":"+'Sjekkliste formelle forhold'!A15","v":7},{"$f":"IF('Sjekkliste formelle forhold'!G15<>\"\",1,0)","v":0},0,{"$f":"IF($C8=1,'Sjekkliste formelle forhold'!A15,\"\")","v":""},{"$f":"IF($C8=1,'Sjekkliste formelle forhold'!B15,\"\")","v":""},null,{"$f":"IF($C8=1,'Sjekkliste formelle forhold'!H15,\"\")","v":""}]
[{"$f":"+'Sjekkliste formelle forhold'!A17","v":8},{"$f":"IF('Sjekkliste formelle forhold'!G17<>\"\",1,0)","v":0},0,{"$f":"IF($C9=1,'Sjekkliste formelle forhold'!A17,\"\")","v":""},{"$f":"IF($C9=1,'Sjekkliste formelle forhold'!B17,\"\")","v":""},null,{"$f":"IF($C9=1,'Sjekkliste formelle forhold'!H17,\"\")","v":""}]
[{"$f":"+'Sjekkliste formelle forhold'!A19","v":9},{"$f":"IF('Sjekkliste formelle forhold'!G19<>\"\",1,0)","v":0},0,{"$f":"IF($C10=1,'Sjekkliste formelle forhold'!A19,\"\")","v":""},{"$f":"IF($C10=1,'Sjekkliste formelle forhold'!B19,\"\")","v":""},null,{"$f":"IF($C10=1,'Sjekkliste formelle forhold'!H19,\"\")","v":""}]
[{"$f":"+'Sjekkliste formelle forhold'!A21","v":10},{"$f":"IF('Sjekkliste formelle forhold'!G21<>\"\",1,0)","v":0},0,{"$f":"IF($C11=1,'Sjekkliste formelle forhold'!A21,\"\")","v":""},{"$f":"IF($C11=1,'Sjekkliste formelle forhold'!B21,\"\")","v":""},null,{"$f":"IF($C11=1,'Sjekkliste formelle forhold'!H21,\"\")","v":""}]
[{"$f":"+'Sjekkliste formelle forhold'!A22","v":11},{"$f":"IF('Sjekkliste formelle forhold'!G22<>\"\",1,0)","v":0},0,{"$f":"IF($C12=1,'Sjekkliste formelle forhold'!A22,\"\")","v":""},{"$f":"IF($C12=1,'Sjekkliste formelle forhold'!B22,\"\")","v":""},null,{"$f":"IF($C12=1,'Sjekkliste formelle forhold'!H22,\"\")","v":""}]
[{"$f":"+'Sjekkliste formelle forhold'!A23","v":12},{"$f":"IF('Sjekkliste formelle forhold'!G23<>\"\",1,0)","v":0},0,{"$f":"IF($C13=1,'Sjekkliste formelle forhold'!A23,\"\")","v":""},{"$f":"IF($C13=1,'Sjekkliste formelle forhold'!B23,\"\")","v":""},null,{"$f":"IF($C13=1,'Sjekkliste formelle forhold'!H23,\"\")","v":""}]
[{"$f":"+'Sjekkliste formelle forhold'!A26","v":13},{"$f":"IF('Sjekkliste formelle forhold'!G26<>\"\",1,0)","v":0},0,{"$f":"IF($C14=1,'Sjekkliste formelle forhold'!A26,\"\")","v":""},{"$f":"IF($C14=1,'Sjekkliste formelle forhold'!B26,\"\")","v":""},null,{"$f":"IF($C14=1,'Sjekkliste formelle forhold'!H26,\"\")","v":""}]
[{"$f":"+'Sjekkliste formelle forhold'!A27","v":14},{"$f":"IF('Sjekkliste formelle forhold'!G27<>\"\",1,0)","v":0},0,{"$f":"IF($C15=1,'Sjekkliste formelle forhold'!A27,\"\")","v":""},{"$f":"IF($C15=1,'Sjekkliste formelle forhold'!B27,\"\")","v":""},null,{"$f":"IF($C15=1,'Sjekkliste formelle forhold'!H27,\"\")","v":""}]
[{"$f":"+'Sjekkliste formelle forhold'!A28","v":15},{"$f":"IF('Sjekkliste formelle forhold'!G28<>\"\",1,0)","v":0},0,{"$f":"IF($C16=1,'Sjekkliste formelle forhold'!A28,\"\")","v":""},{"$f":"IF($C16=1,'Sjekkliste formelle forhold'!B28,\"\")","v":""},null,{"$f":"IF($C16=1,'Sjekkliste formelle forhold'!H28,\"\")","v":""}]
[{"$f":"+'Sjekkliste formelle forhold'!A29","v":16},{"$f":"IF('Sjekkliste formelle forhold'!G29<>\"\",1,0)","v":0},0,{"$f":"IF($C17=1,'Sjekkliste formelle forhold'!A29,\"\")","v":""},{"$f":"IF($C17=1,'Sjekkliste formelle forhold'!B29,\"\")","v":""},null,{"$f":"IF($C17=1,'Sjekkliste formelle forhold'!H29,\"\")","v":""}]
[{"$f":"+'Sjekkliste formelle forhold'!A33","v":17},{"$f":"IF('Sjekkliste formelle forhold'!G33<>\"\",1,0)","v":0},0,{"$f":"IF($C18=1,'Sjekkliste formelle forhold'!A33,\"\")","v":""},{"$f":"IF($C18=1,'Sjekkliste formelle forhold'!B33,\"\")","v":""},null,{"$f":"IF($C18=1,'Sjekkliste formelle forhold'!H33,\"\")","v":""}]
[{"$f":"+'Sjekkliste formelle forhold'!A37","v":18},{"$f":"IF('Sjekkliste formelle forhold'!G37<>\"\",1,0)","v":0},0,{"$f":"IF($C19=1,'Sjekkliste formelle forhold'!A37,\"\")","v":""},{"$f":"IF($C19=1,'Sjekkliste formelle forhold'!B37,\"\")","v":""},null,{"$f":"IF($C19=1,'Sjekkliste formelle forhold'!H37,\"\")","v":""}]
[{"$f":"+'Sjekkliste formelle forhold'!A38","v":19},{"$f":"IF('Sjekkliste formelle forhold'!G38<>\"\",1,0)","v":0},0,{"$f":"IF($C20=1,'Sjekkliste formelle forhold'!A38,\"\")","v":""},{"$f":"IF($C20=1,'Sjekkliste formelle forhold'!B38,\"\")","v":""},null,{"$f":"IF($C20=1,'Sjekkliste formelle forhold'!H38,\"\")","v":""}]
[{"$f":"+'Sjekkliste formelle forhold'!A40","v":20},{"$f":"IF('Sjekkliste formelle forhold'!G40<>\"\",1,0)","v":0},0,{"$f":"IF($C21=1,'Sjekkliste formelle forhold'!A40,\"\")","v":""},{"$f":"IF($C21=1,'Sjekkliste formelle forhold'!B40,\"\")","v":""},null,{"$f":"IF($C21=1,'Sjekkliste formelle forhold'!H40,\"\")","v":""}]
[{"$f":"+'Sjekkliste formelle forhold'!A41","v":21},{"$f":"IF('Sjekkliste formelle forhold'!G41<>\"\",1,0)","v":0},0,{"$f":"IF($C22=1,'Sjekkliste formelle forhold'!A41,\"\")","v":""},{"$f":"IF($C22=1,'Sjekkliste formelle forhold'!B41,\"\")","v":""},null,{"$f":"IF($C22=1,'Sjekkliste formelle forhold'!H41,\"\")","v":""}]
[{"$f":"+'Sjekkliste formelle forhold'!A42","v":22},{"$f":"IF('Sjekkliste formelle forhold'!G42<>\"\",1,0)","v":0},0,{"$f":"IF($C23=1,'Sjekkliste formelle forhold'!A42,\"\")","v":""},{"$f":"IF($C23=1,'Sjekkliste formelle forhold'!B42,\"\")","v":""},null,{"$f":"IF($C23=1,'Sjekkliste formelle forhold'!H42,\"\")","v":""}]
[{"$f":"+'Sjekkliste formelle forhold'!A44","v":23},{"$f":"IF('Sjekkliste formelle forhold'!G44<>\"\",1,0)","v":0},0,{"$f":"IF($C24=1,'Sjekkliste formelle forhold'!A44,\"\")","v":""},{"$f":"IF($C24=1,'Sjekkliste formelle forhold'!B44,\"\")","v":""},null,{"$f":"IF($C24=1,'Sjekkliste formelle forhold'!H44,\"\")","v":""}]
[{"$f":"+'Sjekkliste formelle forhold'!A45","v":24},{"$f":"IF('Sjekkliste formelle forhold'!G45<>\"\",1,0)","v":0},0,{"$f":"IF($C25=1,'Sjekkliste formelle forhold'!A45,\"\")","v":""},{"$f":"IF($C25=1,'Sjekkliste formelle forhold'!B45,\"\")","v":""},null,{"$f":"IF($C25=1,'Sjekkliste formelle forhold'!H45,\"\")","v":""}]
[{"$f":"+'Sjekkliste formelle forhold'!A46","v":25},{"$f":"IF('Sjekkliste formelle forhold'!G46<>\"\",1,0)","v":0},0,{"$f":"IF($C26=1,'Sjekkliste formelle forhold'!A46,\"\")","v":""},{"$f":"IF($C26=1,'Sjekkliste formelle forhold'!B46,\"\")","v":""},null,{"$f":"IF($C26=1,'Sjekkliste formelle forhold'!H46,\"\")","v":""}]
[{"$f":"+'Sjekkliste formelle forhold'!A47","v":26},{"$f":"IF('Sjekkliste formelle forhold'!G47<>\"\",1,0)","v":0},0,{"$f":"IF($C27=1,'Sjekkliste formelle forhold'!A47,\"\")","v":""},{"$f":"IF($C27=1,'Sjekkliste formelle forhold'!B47,\"\")","v":""},null,{"$f":"IF($C27=1,'Sjekkliste formelle forhold'!H47,\"\")","v":""}]
[{"$f":"+'Sjekkliste formelle forhold'!A49","v":27},{"$f":"IF('Sjekkliste formelle forhold'!G49<>\"\",1,0)","v":0},0,{"$f":"IF($C28=1,'Sjekkliste formelle forhold'!A49,\"\")","v":""},{"$f":"IF($C28=1,'Sjekkliste formelle forhold'!B49,\"\")","v":""},null,{"$f":"IF($C28=1,'Sjekkliste formelle forhold'!H49,\"\")","v":""}]
[{"$f":"+'Sjekkliste formelle forhold'!A51","v":28},{"$f":"IF('Sjekkliste formelle forhold'!G51<>\"\",1,0)","v":0},0,{"$f":"IF($C29=1,'Sjekkliste formelle forhold'!A51,\"\")","v":""},{"$f":"IF($C29=1,'Sjekkliste formelle forhold'!B51,\"\")","v":""},null,{"$f":"IF($C29=1,'Sjekkliste formelle forhold'!H51,\"\")","v":""}]
[{"$f":"+'Sjekkliste formelle forhold'!A52","v":29},{"$f":"IF('Sjekkliste formelle forhold'!G52<>\"\",1,0)","v":0},0,{"$f":"IF($C30=1,'Sjekkliste formelle forhold'!A52,\"\")","v":""},{"$f":"IF($C30=1,'Sjekkliste formelle forhold'!B52,\"\")","v":""},null,{"$f":"IF($C30=1,'Sjekkliste formelle forhold'!H52,\"\")","v":""}]
[{"$f":"+'Sjekkliste formelle forhold'!A55","v":30},{"$f":"IF('Sjekkliste formelle forhold'!G55<>\"\",1,0)","v":0},0,{"$f":"IF($C31=1,'Sjekkliste formelle forhold'!A55,\"\")","v":""},{"$f":"IF($C31=1,'Sjekkliste formelle forhold'!B55,\"\")","v":""},null,{"$f":"IF($C31=1,'Sjekkliste formelle forhold'!H55,\"\")","v":""}]
[{"$f":"+'Sjekkliste formelle forhold'!A56","v":31},{"$f":"IF('Sjekkliste formelle forhold'!G56<>\"\",1,0)","v":0},0,{"$f":"IF($C32=1,'Sjekkliste formelle forhold'!A56,\"\")","v":""},{"$f":"IF($C32=1,'Sjekkliste formelle forhold'!B56,\"\")","v":""},null,{"$f":"IF($C32=1,'Sjekkliste formelle forhold'!H56,\"\")","v":""}]
[{"$f":"+'Sjekkliste formelle forhold'!A58","v":32},{"$f":"IF('Sjekkliste formelle forhold'!G58<>\"\",1,0)","v":0},0,{"$f":"IF($C33=1,'Sjekkliste formelle forhold'!A58,\"\")","v":""},{"$f":"IF($C33=1,'Sjekkliste formelle forhold'!B58,\"\")","v":""},null,{"$f":"IF($C33=1,'Sjekkliste formelle forhold'!H58,\"\")","v":""}]
[{"$f":"+'Sjekkliste formelle forhold'!A59","v":33},{"$f":"IF('Sjekkliste formelle forhold'!G59<>\"\",1,0)","v":0},{"$f":"SUM(B34:B34)","v":0},{"$f":"IF($C34=1,'Sjekkliste formelle forhold'!A59,\"\")","v":""},{"$f":"IF($C34=1,'Sjekkliste formelle forhold'!B59,\"\")","v":""},null,{"$f":"IF($C34=1,'Sjekkliste formelle forhold'!H59,\"\")","v":""}]
[{"$f":"+'Sjekkliste formelle forhold'!A61","v":34},{"$f":"IF('Sjekkliste formelle forhold'!G61<>\"\",1,0)","v":0},0,{"$f":"IF($C35=1,'Sjekkliste formelle forhold'!A61,\"\")","v":""},{"$f":"IF($C35=1,'Sjekkliste formelle forhold'!B61,\"\")","v":""},null,{"$f":"IF($C35=1,'Sjekkliste formelle forhold'!H61,\"\")","v":""}]
[{"$f":"+'Sjekkliste formelle forhold'!A68","v":35},{"$f":"IF('Sjekkliste formelle forhold'!G68<>\"\",1,0)","v":0},0,{"$f":"IF($C36=1,'Sjekkliste formelle forhold'!A68,\"\")","v":""},{"$f":"IF($C36=1,'Sjekkliste formelle forhold'!B68,\"\")","v":""},null,{"$f":"IF($C36=1,'Sjekkliste formelle forhold'!H68,\"\")","v":""}]
[{"$f":"+'Sjekkliste formelle forhold'!A70","v":36},{"$f":"IF('Sjekkliste formelle forhold'!G70<>\"\",1,0)","v":0},0,{"$f":"IF($C37=1,'Sjekkliste formelle forhold'!A70,\"\")","v":""},{"$f":"IF($C37=1,'Sjekkliste formelle forhold'!B70,\"\")","v":""},null,{"$f":"IF($C37=1,'Sjekkliste formelle forhold'!H70,\"\")","v":""}]
[{"$f":"+'Sjekkliste formelle forhold'!A72","v":37},{"$f":"IF('Sjekkliste formelle forhold'!G72<>\"\",1,0)","v":0},0,{"$f":"IF($C38=1,'Sjekkliste formelle forhold'!A72,\"\")","v":""},{"$f":"IF($C38=1,'Sjekkliste formelle forhold'!B72,\"\")","v":""},null,{"$f":"IF($C38=1,'Sjekkliste formelle forhold'!H72,\"\")","v":""}]
[{"$f":"+'Sjekkliste formelle forhold'!A73","v":38},{"$f":"IF('Sjekkliste formelle forhold'!G73<>\"\",1,0)","v":0},0,{"$f":"IF($C39=1,'Sjekkliste formelle forhold'!A73,\"\")","v":""},{"$f":"IF($C39=1,'Sjekkliste formelle forhold'!B73,\"\")","v":""},null,{"$f":"IF($C39=1,'Sjekkliste formelle forhold'!H73,\"\")","v":""}]
[{"$f":"+'Sjekkliste formelle forhold'!A74","v":39},{"$f":"IF('Sjekkliste formelle forhold'!G74<>\"\",1,0)","v":0},0,{"$f":"IF($C40=1,'Sjekkliste formelle forhold'!A74,\"\")","v":""},{"$f":"IF($C40=1,'Sjekkliste formelle forhold'!B74,\"\")","v":""},null,{"$f":"IF($C40=1,'Sjekkliste formelle forhold'!H74,\"\")","v":""}]
[{"$f":"+'Sjekkliste formelle forhold'!A75","v":40},{"$f":"IF('Sjekkliste formelle forhold'!G75<>\"\",1,0)","v":0},0,{"$f":"IF($C41=1,'Sjekkliste formelle forhold'!A75,\"\")","v":""},{"$f":"IF($C41=1,'Sjekkliste formelle forhold'!B75,\"\")","v":""},null,{"$f":"IF($C41=1,'Sjekkliste formelle forhold'!H75,\"\")","v":""}]
[{"$f":"+'Sjekkliste formelle forhold'!A79","v":41},{"$f":"IF('Sjekkliste formelle forhold'!G79<>\"\",1,0)","v":0},0,{"$f":"IF($C42=1,'Sjekkliste formelle forhold'!A79,\"\")","v":""},{"$f":"IF($C42=1,'Sjekkliste formelle forhold'!B79,\"\")","v":""},null,{"$f":"IF($C42=1,'Sjekkliste formelle forhold'!H79,\"\")","v":""}]
[{"$f":"+'Sjekkliste formelle forhold'!A81","v":42},{"$f":"IF('Sjekkliste formelle forhold'!G81<>\"\",1,0)","v":0},0,{"$f":"IF($C43=1,'Sjekkliste formelle forhold'!A81,\"\")","v":""},{"$f":"IF($C43=1,'Sjekkliste formelle forhold'!B81,\"\")","v":""},null,{"$f":"IF($C43=1,'Sjekkliste formelle forhold'!H81,\"\")","v":""}]
[{"$f":"+'Sjekkliste formelle forhold'!A83","v":43},{"$f":"IF('Sjekkliste formelle forhold'!G83<>\"\",1,0)","v":0},0,{"$f":"IF($C44=1,'Sjekkliste formelle forhold'!A83,\"\")","v":""},{"$f":"IF($C44=1,'Sjekkliste formelle forhold'!B83,\"\")","v":""},null,{"$f":"IF($C44=1,'Sjekkliste formelle forhold'!H83,\"\")","v":""}]
[{"$f":"+'Sjekkliste formelle forhold'!A85","v":44},{"$f":"IF('Sjekkliste formelle forhold'!G85<>\"\",1,0)","v":0},0,{"$f":"IF($C45=1,'Sjekkliste formelle forhold'!A85,\"\")","v":""},{"$f":"IF($C45=1,'Sjekkliste formelle forhold'!B85,\"\")","v":""},null,{"$f":"IF($C45=1,'Sjekkliste formelle forhold'!H85,\"\")","v":""}]
[{"$f":"+'Sjekkliste formelle forhold'!A87","v":45},{"$f":"IF('Sjekkliste formelle forhold'!G87<>\"\",1,0)","v":0},0,{"$f":"IF($C46=1,'Sjekkliste formelle forhold'!A87,\"\")","v":""},{"$f":"IF($C46=1,'Sjekkliste formelle forhold'!B87,\"\")","v":""},null,{"$f":"IF($C46=1,'Sjekkliste formelle forhold'!H87,\"\")","v":""}]
[{"$f":"+'Sjekkliste formelle forhold'!A88","v":46},{"$f":"IF('Sjekkliste formelle forhold'!G88<>\"\",1,0)","v":0},0,{"$f":"IF($C47=1,'Sjekkliste formelle forhold'!A88,\"\")","v":""},{"$f":"IF($C47=1,'Sjekkliste formelle forhold'!B88,\"\")","v":""},null,{"$f":"IF($C47=1,'Sjekkliste formelle forhold'!H88,\"\")","v":""}]
[{"$f":"+'Sjekkliste formelle forhold'!A89","v":47},{"$f":"IF('Sjekkliste formelle forhold'!G89<>\"\",1,0)","v":0},0,{"$f":"IF($C48=1,'Sjekkliste formelle forhold'!A89,\"\")","v":""},{"$f":"IF($C48=1,'Sjekkliste formelle forhold'!B89,\"\")","v":""},null,{"$f":"IF($C48=1,'Sjekkliste formelle forhold'!H89,\"\")","v":""}]
[{"$f":"+'Sjekkliste formelle forhold'!A90","v":48},{"$f":"IF('Sjekkliste formelle forhold'!G90<>\"\",1,0)","v":0},0,{"$f":"IF($C49=1,'Sjekkliste formelle forhold'!A90,\"\")","v":""},{"$f":"IF($C49=1,'Sjekkliste formelle forhold'!B90,\"\")","v":""},null,{"$f":"IF($C49=1,'Sjekkliste formelle forhold'!H90,\"\")","v":""}]
[{"$f":"+'Sjekkliste formelle forhold'!A91","v":49},{"$f":"IF('Sjekkliste formelle forhold'!G91<>\"\",1,0)","v":0},0,{"$f":"IF($C50=1,'Sjekkliste formelle forhold'!A91,\"\")","v":""},{"$f":"IF($C50=1,'Sjekkliste formelle forhold'!B91,\"\")","v":""},null,{"$f":"IF($C50=1,'Sjekkliste formelle forhold'!H91,\"\")","v":""}]
[{"$f":"+'Sjekkliste formelle forhold'!A93","v":50},{"$f":"IF('Sjekkliste formelle forhold'!G93<>\"\",1,0)","v":0},0,{"$f":"IF($C51=1,'Sjekkliste formelle forhold'!A93,\"\")","v":""},{"$f":"IF($C51=1,'Sjekkliste formelle forhold'!B93,\"\")","v":""},null,{"$f":"IF($C51=1,'Sjekkliste formelle forhold'!H93,\"\")","v":""}]
[{"$f":"+'Sjekkliste formelle forhold'!A94","v":51},{"$f":"IF('Sjekkliste formelle forhold'!G94<>\"\",1,0)","v":0},0,{"$f":"IF($C52=1,'Sjekkliste formelle forhold'!A94,\"\")","v":""},{"$f":"IF($C52=1,'Sjekkliste formelle forhold'!B94,\"\")","v":""},null,{"$f":"IF($C52=1,'Sjekkliste formelle forhold'!H94,\"\")","v":""}]
[{"$f":"+'Sjekkliste formelle forhold'!A95","v":52},{"$f":"IF('Sjekkliste formelle forhold'!G95<>\"\",1,0)","v":0},0,{"$f":"IF($C53=1,'Sjekkliste formelle forhold'!A95,\"\")","v":""},{"$f":"IF($C53=1,'Sjekkliste formelle forhold'!B95,\"\")","v":""},null,{"$f":"IF($C53=1,'Sjekkliste formelle forhold'!H95,\"\")","v":""}]
[{"$f":"+'Sjekkliste formelle forhold'!A96","v":53},{"$f":"IF('Sjekkliste formelle forhold'!G96<>\"\",1,0)","v":0},0,{"$f":"IF($C54=1,'Sjekkliste formelle forhold'!A96,\"\")","v":""},{"$f":"IF($C54=1,'Sjekkliste formelle forhold'!B96,\"\")","v":""},null,{"$f":"IF($C54=1,'Sjekkliste formelle forhold'!H96,\"\")","v":""}]
[{"$f":"+'Sjekkliste formelle forhold'!A97","v":54},{"$f":"IF('Sjekkliste formelle forhold'!G97<>\"\",1,0)","v":0},0,{"$f":"IF($C55=1,'Sjekkliste formelle forhold'!A97,\"\")","v":""},{"$f":"IF($C55=1,'Sjekkliste formelle forhold'!B97,\"\")","v":""},null,{"$f":"IF($C55=1,'Sjekkliste formelle forhold'!H97,\"\")","v":""}]
[{"$f":"+'Sjekkliste formelle forhold'!A98","v":55},{"$f":"IF('Sjekkliste formelle forhold'!G98<>\"\",1,0)","v":0},0,{"$f":"IF($C56=1,'Sjekkliste formelle forhold'!A98,\"\")","v":""},{"$f":"IF($C56=1,'Sjekkliste formelle forhold'!B98,\"\")","v":""},null,{"$f":"IF($C56=1,'Sjekkliste formelle forhold'!H98,\"\")","v":""}]
[{"$f":"+'Sjekkliste formelle forhold'!A99","v":56},{"$f":"IF('Sjekkliste formelle forhold'!G99<>\"\",1,0)","v":0},0,{"$f":"IF($C57=1,'Sjekkliste formelle forhold'!A99,\"\")","v":""},{"$f":"IF($C57=1,'Sjekkliste formelle forhold'!B99,\"\")","v":""},null,{"$f":"IF($C57=1,'Sjekkliste formelle forhold'!H99,\"\")","v":""}]
[{"$f":"+'Sjekkliste formelle forhold'!A100","v":57},{"$f":"IF('Sjekkliste formelle forhold'!G100<>\"\",1,0)","v":0},0,{"$f":"IF($C58=1,'Sjekkliste formelle forhold'!A100,\"\")","v":""},{"$f":"IF($C58=1,'Sjekkliste formelle forhold'!B100,\"\")","v":""},null,{"$f":"IF($C58=1,'Sjekkliste formelle forhold'!H100,\"\")","v":""}]
[{"$f":"+'Sjekkliste formelle forhold'!A101","v":58},{"$f":"IF('Sjekkliste formelle forhold'!G101<>\"\",1,0)","v":0},0,{"$f":"IF($C59=1,'Sjekkliste formelle forhold'!A101,\"\")","v":""},{"$f":"IF($C59=1,'Sjekkliste formelle forhold'!B101,\"\")","v":""},null,{"$f":"IF($C59=1,'Sjekkliste formelle forhold'!H101,\"\")","v":""}]
[{"$f":"+'Sjekkliste formelle forhold'!A105","v":59},{"$f":"IF('Sjekkliste formelle forhold'!G105<>\"\",1,0)","v":0},0,{"$f":"IF($C60=1,'Sjekkliste formelle forhold'!A105,\"\")","v":""},{"$f":"IF($C60=1,'Sjekkliste formelle forhold'!B105,\"\")","v":""},null,{"$f":"IF($C60=1,'Sjekkliste formelle forhold'!H105,\"\")","v":""}]
[{"$f":"+'Sjekkliste formelle forhold'!A106","v":60},{"$f":"IF('Sjekkliste formelle forhold'!G106<>\"\",1,0)","v":0},0,{"$f":"IF($C61=1,'Sjekkliste formelle forhold'!A106,\"\")","v":""},{"$f":"IF($C61=1,'Sjekkliste formelle forhold'!B106,\"\")","v":""},null,{"$f":"IF($C61=1,'Sjekkliste formelle forhold'!H106,\"\")","v":""}]
[{"$f":"+'Sjekkliste formelle forhold'!A107","v":61},{"$f":"IF('Sjekkliste formelle forhold'!G107<>\"\",1,0)","v":0},0,{"$f":"IF($C62=1,'Sjekkliste formelle forhold'!A107,\"\")","v":""},{"$f":"IF($C62=1,'Sjekkliste formelle forhold'!B107,\"\")","v":""},null,{"$f":"IF($C62=1,'Sjekkliste formelle forhold'!H107,\"\")","v":""}]
[{"$f":"+'Sjekkliste formelle forhold'!A108","v":62},{"$f":"IF('Sjekkliste formelle forhold'!G108<>\"\",1,0)","v":0},0,{"$f":"IF($C63=1,'Sjekkliste formelle forhold'!A108,\"\")","v":""},{"$f":"IF($C63=1,'Sjekkliste formelle forhold'!B108,\"\")","v":""},null,{"$f":"IF($C63=1,'Sjekkliste formelle forhold'!H108,\"\")","v":""}]
[{"$f":"+'Sjekkliste formelle forhold'!A109","v":63},{"$f":"IF('Sjekkliste formelle forhold'!G109<>\"\",1,0)","v":0},0,{"$f":"IF($C64=1,'Sjekkliste formelle forhold'!A109,\"\")","v":""},{"$f":"IF($C64=1,'Sjekkliste formelle forhold'!B109,\"\")","v":""},null,{"$f":"IF($C64=1,'Sjekkliste formelle forhold'!H109,\"\")","v":""}]
[{"$f":"+'Sjekkliste formelle forhold'!A110","v":64},{"$f":"IF('Sjekkliste formelle forhold'!G110<>\"\",1,0)","v":0},0,{"$f":"IF($C65=1,'Sjekkliste formelle forhold'!A110,\"\")","v":""},{"$f":"IF($C65=1,'Sjekkliste formelle forhold'!B110,\"\")","v":""},null,{"$f":"IF($C65=1,'Sjekkliste formelle forhold'!H110,\"\")","v":""}]